Workbook
Name MINOCO: #REF!

Sheet Secteurs
A3: N° | B3: Zone | C3: Technico-Commercial
A4: 1 | B4: Sud | C4: Frisca MPASSI
A5: 2 | B5: Centre | C5: Prince MBOUSSA
A6: 3 | B6: Nord | C6: Arnaud ITOUA

Sheet WEEK 1
A1: N° | B1: Boulangerie | C1: Type | D1: Cons/j | E1: C° heb | F1: Date Dernière Visite | G1: Période sans visite | H1: Secteur | I1: Technico Commercial | J1: %MINOCO | K1: %FANTA | L1: %GMK | M1: %SGMP | N1: %MFB | O1: %GMC | P1: MINOCO | Q1: FANTA | R1: GMK | S1: SGMP | T1: MFB | U1: GMC | V1: Total | W1: COMMENTAIRES | Z1: Week | AA1: Minoco | AB1: Fanta | AC1: GMPN | AD1: GMK | AE1: SGMP | AF1: MFB | AG1: GMC
A2: =+IF(D2>0,1,0) -> 1 | B2: Mayama( AQXA) | D2: 40 | E2: =D2*7 -> 280 | F2: 46015 | G2: =+IF(A2=1,(+TODAY())-F2,"Sans objet") -> 293 | H2: 1 | I2: =VLOOKUP(H2,Secteurs!$A$4:$C$6,3) -> Frisca MPASSI | J2: 0.5 | O2: 0.5 | P2: =+$E2*J2 -> 140 | Q2: =+$E2*K2 -> 0 | R2: =+$E2*L2 -> 0 | S2: =+$E2*M2 -> 0 | T2: =+$E2*N2 -> 0 | U2: =+$E2*O2 -> 140 | V2: =SUM(P2:U2) -> 280 | W2: Pas de compte, préfere distributeur | X2: =+V2-E2 -> 0 | Z2: 49 | AA2: 0.32 | AB2: 0.01 | AC2: 0.334 | AD2: 0.122 | AE2: 0.081 | AF2: 0.116 | AG2: 0.348 | AH2: 1
A3: =+IF(D3>0,1,0) -> 1 | B3: NOUVELLE ESPERANCE 3 | C3: Cash | D3: 50 | E3: =D3*7 -> 350 | F3: 46017 | G3: =+IF(A3=1,(+TODAY())-F3,"Sans objet") -> 291 | H3: 2 | I3: =VLOOKUP(H3,Secteurs!$A$4:$C$6,3) -> Prince MBOUSSA | L3: 0.5 | O3: 0.5 | P3: =+$E3*J3 -> 0 | Q3: =+$E3*K3 -> 0 | R3: =+$E3*L3 -> 175 | S3: =+$E3*M3 -> 0 | T3: =+$E3*N3 -> 0 | U3: =+$E3*O3 -> 175 | V3: =SUM(P3:U3) -> 350 | W3: intéressé, passage debut septembre | X3: =+V3-E3 -> 0 | Z3: 50 | AA3: 0.34090909 | AB3: 0.015734266 | AC3: 0.35664336 | AD3: 0.12237762 | AE3: 0.064685315 | AF3: 0.075174825 | AG3: 0.37762238 | AH3: 1
A4: =+IF(D4>0,1,0) -> 1 | B4: SABANA Moukondo | C4: Cash | D4: 48 | E4: =D4*7 -> 336 | F4: 46024 | G4: =+IF(A4=1,(+TODAY())-F4,"Sans objet") -> 284 | H4: 2 | I4: =VLOOKUP(H4,Secteurs!$A$4:$C$6,3) -> Prince MBOUSSA | J4: 0.25 | M4: 0.25 | O4: 0.5 | P4: =+$E4*J4 -> 84 | Q4: =+$E4*K4 -> 0 | R4: =+$E4*L4 -> 0 | S4: =+$E4*M4 -> 84 | T4: =+$E4*N4 -> 0 | U4: =+$E4*O4 -> 168 | V4: =SUM(P4:U4) -> 336 | W4: A un compte, intéréssé | X4: =+V4-E4 -> 0 | Z4: 51 | AA4: 0.36 | AB4: 0.02 | AC4: 0.381 | AD4: 0.1 | AE4: 0.062 | AF4: 0.058 | AG4: 0.399 | AH4: 1
A5: =+IF(D5>0,1,0) -> 1 | B5: YA LOLO | C5: Crédit | D5: 48 | E5: =D5*7 -> 336 | F5: 46017 | G5: =+IF(A5=1,(+TODAY())-F5,"Sans objet") -> 291 | H5: 3 | I5: =VLOOKUP(H5,Secteurs!$A$4:$C$6,3) -> Arnaud ITOUA | J5: 1 | P5: =+$E5*J5 -> 336 | Q5: =+$E5*K5 -> 0 | R5: =+$E5*L5 -> 0 | S5: =+$E5*M5 -> 0 | T5: =+$E5*N5 -> 0 | U5: =+$E5*O5 -> 0 | V5: =SUM(P5:U5) -> 336 | W5: intéressé, passage debut septembre | X5: =+V5-E5 -> 0 | Z5: 52 | AA5: 0.375 | AB5: 0.021 | AC5: 0.396 | AD5: 0.079 | AE5: 0.091 | AF5: 0.07 | AG5: 0.364 | AH5: 1
A6: =+IF(D6>0,1,0) -> 1 | B6: 58e ANNIVERSAIRE | C6: Cash | D6: 50 | E6: =D6*7 -> 350 | F6: 46021 | G6: =+IF(A6=1,(+TODAY())-F6,"Sans objet") -> 287 | H6: 3 | I6: =VLOOKUP(H6,Secteurs!$A$4:$C$6,3) -> Arnaud ITOUA | J6: 0.5 | M6: 0.25 | N6: 0.25 | P6: =+$E6*J6 -> 175 | Q6: =+$E6*K6 -> 0 | R6: =+$E6*L6 -> 0 | S6: =+$E6*M6 -> 87.5 | T6: =+$E6*N6 -> 87.5 | U6: =+$E6*O6 -> 0 | V6: =SUM(P6:U6) -> 350 | W6: intéressé, passage debut septembre | X6: =+V6-E6 -> 0 | Z6: 1 | AA6: 0.36188811 | AB6: 0.020979021 | AC6: 0.38286713 | AD6: 0.078671329 | AE6: 0.11713287 | AF6: 0.073426573 | AG6: 0.3479021 | AH6: 1
A7: =+IF(D7>0,1,0) -> 1 | B7: BECO | C7: Cash | D7: 50 | E7: =D7*7 -> 350 | F7: 46021 | G7: =+IF(A7=1,(+TODAY())-F7,"Sans objet") -> 287 | H7: 2 | I7: =VLOOKUP(H7,Secteurs!$A$4:$C$6,3) -> Prince MBOUSSA | K7: 1 | P7: =+$E7*J7 -> 0 | Q7: =+$E7*K7 -> 350 | R7: =+$E7*L7 -> 0 | S7: =+$E7*M7 -> 0 | T7: =+$E7*N7 -> 0 | U7: =+$E7*O7 -> 0 | V7: =SUM(P7:U7) -> 350 | W7: intéressé, passage debut septembre | X7: =+V7-E7 -> 0 | Z7: Variation W-1 | AC7: =+AC6-AC5 -> -0.013132867 | AD7: =+AD6-AD5 -> -0.00032867133 | AE7: =+AE6-AE5 -> 0.026132867 | AF7: =+AF6-AF5 -> 0.0034265734 | AG7: =+AG6-AG5 -> -0.016097902
A8: =+IF(D8>0,1,0) -> 1 | B8: ELVOZ INCHALAH | C8: Cash | D8: 40 | E8: =D8*7 -> 280 | F8: 46015 | G8: =+IF(A8=1,(+TODAY())-F8,"Sans objet") -> 293 | H8: 1 | I8: =VLOOKUP(H8,Secteurs!$A$4:$C$6,3) -> Frisca MPASSI | M8: 0.25 | N8: 0.25 | O8: 0.5 | P8: =+$E8*J8 -> 0 | Q8: =+$E8*K8 -> 0 | R8: =+$E8*L8 -> 0 | S8: =+$E8*M8 -> 70 | T8: =+$E8*N8 -> 70 | U8: =+$E8*O8 -> 140 | V8: =SUM(P8:U8) -> 280 | W8: intéressé, passage debut septembre | X8: =+V8-E8 -> 0
A9: =+IF(D9>0,1,0) -> 1 | B9: POTAL | C9: Cash | D9: 30 | E9: =D9*7 -> 210 | F9: 46020 | G9: =+IF(A9=1,(+TODAY())-F9,"Sans objet") -> 288 | H9: 2 | I9: =VLOOKUP(H9,Secteurs!$A$4:$C$6,3) -> Prince MBOUSSA | J9: 0.5 | M9: 0.5 | P9: =+$E9*J9 -> 105 | Q9: =+$E9*K9 -> 0 | R9: =+$E9*L9 -> 0 | S9: =+$E9*M9 -> 105 | T9: =+$E9*N9 -> 0 | U9: =+$E9*O9 -> 0 | V9: =SUM(P9:U9) -> 210 | W9: Patron absent | X9: =+V9-E9 -> 0
A10: =+IF(D10>0,1,0) -> 1 | B10: Salam ( Ex EL MABROUCK) | D10: 38 | E10: =D10*7 -> 266 | F10: 46020 | G10: =+IF(A10=1,(+TODAY())-F10,"Sans objet") -> 288 | H10: 2 | I10: =VLOOKUP(H10,Secteurs!$A$4:$C$6,3) -> Prince MBOUSSA | J10: 0.5 | O10: 0.5 | P10: =+$E10*J10 -> 133 | Q10: =+$E10*K10 -> 0 | R10: =+$E10*L10 -> 0 | S10: =+$E10*M10 -> 0 | T10: =+$E10*N10 -> 0 | U10: =+$E10*O10 -> 133 | V10: =SUM(P10:U10) -> 266 | W10: A un compte, préfere distributeur | X10: =+V10-E10 -> 0
A11: =+IF(D11>0,1,0) -> 1 | B11: BAS PRIX (ex moderne nkombo) | C11: Cash | D11: 36 | E11: =D11*7 -> 252 | F11: 46020 | G11: =+IF(A11=1,(+TODAY())-F11,"Sans objet") -> 288 | H11: 3 | I11: =VLOOKUP(H11,Secteurs!$A$4:$C$6,3) -> Arnaud ITOUA | J11: 0.5 | O11: 0.5 | P11: =+$E11*J11 -> 126 | Q11: =+$E11*K11 -> 0 | R11: =+$E11*L11 -> 0 | S11: =+$E11*M11 -> 0 | T11: =+$E11*N11 -> 0 | U11: =+$E11*O11 -> 126 | V11: =SUM(P11:U11) -> 252 | W11: intéressé, passage debut septembre | X11: =+V11-E11 -> 0
A12: =+IF(D12>0,1,0) -> 1 | B12: COMUS | D12: 26 | E12: =D12*7 -> 182 | F12: 46024 | G12: =+IF(A12=1,(+TODAY())-F12,"Sans objet") -> 284 | H12: 2 | I12: =VLOOKUP(H12,Secteurs!$A$4:$C$6,3) -> Prince MBOUSSA | J12: 0.5 | O12: 0.5 | P12: =+$E12*J12 -> 91 | Q12: =+$E12*K12 -> 0 | R12: =+$E12*L12 -> 0 | S12: =+$E12*M12 -> 0 | T12: =+$E12*N12 -> 0 | U12: =+$E12*O12 -> 91 | V12: =SUM(P12:U12) -> 182 | W12: A un compte, préfére distributeur | X12: =+V12-E12 -> 0
A13: =+IF(D13>0,1,0) -> 1 | B13: SALAM ( Ex PLAZZA ) | D13: 42 | E13: =D13*7 -> 294 | F13: 46015 | G13: =+IF(A13=1,(+TODAY())-F13,"Sans objet") -> 293 | H13: 1 | I13: =VLOOKUP(H13,Secteurs!$A$4:$C$6,3) -> Frisca MPASSI | J13: 0.5 | O13: 0.5 | P13: =+$E13*J13 -> 147 | Q13: =+$E13*K13 -> 0 | R13: =+$E13*L13 -> 0 | S13: =+$E13*M13 -> 0 | T13: =+$E13*N13 -> 0 | U13: =+$E13*O13 -> 147 | V13: =SUM(P13:U13) -> 294 | W13: A un compte, préfere distributeur | X13: =+V13-E13 -> 0
A14: =+IF(D14>0,1,0) -> 1 | B14: SID-SID | C14: Cash | D14: 50 | E14: =D14*7 -> 350 | F14: 46021 | G14: =+IF(A14=1,(+TODAY())-F14,"Sans objet") -> 287 | H14: 3 | I14: =VLOOKUP(H14,Secteurs!$A$4:$C$6,3) -> Arnaud ITOUA | J14: 0.5 | M14: 0.5 | P14: =+$E14*J14 -> 175 | Q14: =+$E14*K14 -> 0 | R14: =+$E14*L14 -> 0 | S14: =+$E14*M14 -> 175 | T14: =+$E14*N14 -> 0 | U14: =+$E14*O14 -> 0 | V14: =SUM(P14:U14) -> 350 | W14: intéressé, passage debut septembre | X14: =+V14-E14 -> 0
A15: =+IF(D15>0,1,0) -> 1 | B15: NOUVELLE ESPERANCE 4 | C15: Cash | D15: 58 | E15: =D15*7 -> 406 | F15: 46021 | G15: =+IF(A15=1,(+TODAY())-F15,"Sans objet") -> 287 | H15: 2 | I15: =VLOOKUP(H15,Secteurs!$A$4:$C$6,3) -> Prince MBOUSSA | L15: 0.5 | O15: 0.5 | P15: =+$E15*J15 -> 0 | Q15: =+$E15*K15 -> 0 | R15: =+$E15*L15 -> 203 | S15: =+$E15*M15 -> 0 | T15: =+$E15*N15 -> 0 | U15: =+$E15*O15 -> 203 | V15: =SUM(P15:U15) -> 406 | W15: intéressé, passage debut septembre | X15: =+V15-E15 -> 0
A16: =+IF(D16>0,1,0) -> 1 | B16: MODERNE & ARTISANALE 1 | C16: Cash | D16: 52 | E16: =D16*7 -> 364 | F16: 46020 | G16: =+IF(A16=1,(+TODAY())-F16,"Sans objet") -> 288 | H16: 3 | I16: =VLOOKUP(H16,Secteurs!$A$4:$C$6,3) -> Arnaud ITOUA | J16: 0.5 | M16: 0.5 | P16: =+$E16*J16 -> 182 | Q16: =+$E16*K16 -> 0 | R16: =+$E16*L16 -> 0 | S16: =+$E16*M16 -> 182 | T16: =+$E16*N16 -> 0 | U16: =+$E16*O16 -> 0 | V16: =SUM(P16:U16) -> 364 | W16: intéressé, attente ouverture de compte | X16: =+V16-E16 -> 0
A17: =+IF(D17>0,1,0) -> 1 | B17: NOUVELLE ESPERANCE 1 | C17: Cash | D17: 40 | E17: =D17*7 -> 280 | F17: 46017 | G17: =+IF(A17=1,(+TODAY())-F17,"Sans objet") -> 291 | H17: 1 | I17: =VLOOKUP(H17,Secteurs!$A$4:$C$6,3) -> Frisca MPASSI | J17: 0.5 | N17: 0.5 | P17: =+$E17*J17 -> 140 | Q17: =+$E17*K17 -> 0 | R17: =+$E17*L17 -> 0 | S17: =+$E17*M17 -> 0 | T17: =+$E17*N17 -> 140 | U17: =+$E17*O17 -> 0 | V17: =SUM(P17:U17) -> 280 | W17: intéressé, passage debut septembre | X17: =+V17-E17 -> 0
A18: =+IF(D18>0,1,0) -> 1 | B18: BEDRE NKOMBO | C18: Cash | D18: 36 | E18: =D18*7 -> 252 | F18: 46021 | G18: =+IF(A18=1,(+TODAY())-F18,"Sans objet") -> 287 | H18: 3 | I18: =VLOOKUP(H18,Secteurs!$A$4:$C$6,3) -> Arnaud ITOUA | J18: 0.5 | O18: 0.5 | P18: =+$E18*J18 -> 126 | Q18: =+$E18*K18 -> 0 | R18: =+$E18*L18 -> 0 | S18: =+$E18*M18 -> 0 | T18: =+$E18*N18 -> 0 | U18: =+$E18*O18 -> 126 | V18: =SUM(P18:U18) -> 252 | W18: A un compte, préfere distributeur( Patron absent) | X18: =+V18-E18 -> 0
A19: =+IF(D19>0,1,0) -> 1 | B19: ARTISANALE 3 ( Ex BLANCHE) | C19: Cash | D19: 38 | E19: =D19*7 -> 266 | F19: 46015 | G19: =+IF(A19=1,(+TODAY())-F19,"Sans objet") -> 293 | H19: 1 | I19: =VLOOKUP(H19,Secteurs!$A$4:$C$6,3) -> Frisca MPASSI | J19: 0.5 | O19: 0.5 | P19: =+$E19*J19 -> 133 | Q19: =+$E19*K19 -> 0 | R19: =+$E19*L19 -> 0 | S19: =+$E19*M19 -> 0 | T19: =+$E19*N19 -> 0 | U19: =+$E19*O19 -> 133 | V19: =SUM(P19:U19) -> 266 | W19: intéressé, attente ouverture de compte | X19: =+V19-E19 -> 0
A20: =+IF(D20>0,1,0) -> 1 | B20: Brazza Moderne 1 | C20: Dette | D20: 46 | E20: =D20*7 -> 322 | F20: 46015 | G20: =+IF(A20=1,(+TODAY())-F20,"Sans objet") -> 293 | H20: 3 | I20: =VLOOKUP(H20,Secteurs!$A$4:$C$6,3) -> Arnaud ITOUA | J20: 0.25 | L20: 0.25 | N20: 0.25 | O20: 0.25 | P20: =+$E20*J20 -> 80.5 | Q20: =+$E20*K20 -> 0 | R20: =+$E20*L20 -> 80.5 | S20: =+$E20*M20 -> 0 | T20: =+$E20*N20 -> 80.5 | U20: =+$E20*O20 -> 80.5 | V20: =SUM(P20:U20) -> 322 | W20: préfere distributeur | X20: =+V20-E20 -> 0
A21: =+IF(D21>0,1,0) -> 1 | B21: MODERNE & ARTISANALE 2 | C21: Cash | D21: 50 | E21: =D21*7 -> 350 | F21: 46020 | G21: =+IF(A21=1,(+TODAY())-F21,"Sans objet") -> 288 | H21: 3 | I21: =VLOOKUP(H21,Secteurs!$A$4:$C$6,3) -> Arnaud ITOUA | J21: 0.5 | M21: 0.5 | P21: =+$E21*J21 -> 175 | Q21: =+$E21*K21 -> 0 | R21: =+$E21*L21 -> 0 | S21: =+$E21*M21 -> 175 | T21: =+$E21*N21 -> 0 | U21: =+$E21*O21 -> 0 | V21: =SUM(P21:U21) -> 350 | W21: intéressé, attente ouverture de compte | X21: =+V21-E21 -> 0
A22: =+IF(D22>0,1,0) -> 1 | B22: SAHA(ex fournil) | C22: Cash | D22: 32 | E22: =D22*7 -> 224 | F22: 46017 | G22: =+IF(A22=1,(+TODAY())-F22,"Sans objet") -> 291 | H22: 1 | I22: =VLOOKUP(H22,Secteurs!$A$4:$C$6,3) -> Frisca MPASSI | J22: 0.5 | O22: 0.5 | P22: =+$E22*J22 -> 112 | Q22: =+$E22*K22 -> 0 | R22: =+$E22*L22 -> 0 | S22: =+$E22*M22 -> 0 | T22: =+$E22*N22 -> 0 | U22: =+$E22*O22 -> 112 | V22: =SUM(P22:U22) -> 224 | W22: intéressé, achat Week 33 | X22: =+V22-E22 -> 0
A23: =+IF(D23>0,1,0) -> 1 | B23: Paris Pain | D23: 48 | E23: =D23*7 -> 336 | F23: 46021 | G23: =+IF(A23=1,(+TODAY())-F23,"Sans objet") -> 287 | H23: 2 | I23: =VLOOKUP(H23,Secteurs!$A$4:$C$6,3) -> Prince MBOUSSA | J23: 0.5 | O23: 0.5 | P23: =+$E23*J23 -> 168 | Q23: =+$E23*K23 -> 0 | R23: =+$E23*L23 -> 0 | S23: =+$E23*M23 -> 0 | T23: =+$E23*N23 -> 0 | U23: =+$E23*O23 -> 168 | V23: =SUM(P23:U23) -> 336 | W23: Pas de compte, préfere distributeur | X23: =+V23-E23 -> 0
A24: =+IF(D24>0,1,0) -> 1 | B24: EL MEJID ( Ex Baraka Talangai) | C24: Crédit | D24: 38 | E24: =D24*7 -> 266 | F24: 46023 | G24: =+IF(A24=1,(+TODAY())-F24,"Sans objet") -> 285 | H24: 2 | I24: =VLOOKUP(H24,Secteurs!$A$4:$C$6,3) -> Prince MBOUSSA | J24: 0.5 | O24: 0.5 | P24: =+$E24*J24 -> 133 | Q24: =+$E24*K24 -> 0 | R24: =+$E24*L24 -> 0 | S24: =+$E24*M24 -> 0 | T24: =+$E24*N24 -> 0 | U24: =+$E24*O24 -> 133 | V24: =SUM(P24:U24) -> 266 | W24: A un compte Patron Absent | X24: =+V24-E24 -> 0
A25: =+IF(D25>0,1,0) -> 1 | B25: BRAZZA MODERNE 2 | C25: Cash | D25: 40 | E25: =D25*7 -> 280 | F25: 46017 | G25: =+IF(A25=1,(+TODAY())-F25,"Sans objet") -> 291 | H25: 1 | I25: =VLOOKUP(H25,Secteurs!$A$4:$C$6,3) -> Frisca MPASSI | J25: 0.25 | N25: 0.25 | O25: 0.5 | P25: =+$E25*J25 -> 70 | Q25: =+$E25*K25 -> 0 | R25: =+$E25*L25 -> 0 | S25: =+$E25*M25 -> 0 | T25: =+$E25*N25 -> 70 | U25: =+$E25*O25 -> 140 | V25: =SUM(P25:U25) -> 280 | W25: préfere distributeur | X25: =+V25-E25 -> 0
A26: =+IF(D26>0,1,0) -> 1 | B26: DAHI ( ex préference) | D26: 40 | E26: =D26*7 -> 280 | F26: 46023 | G26: =+IF(A26=1,(+TODAY())-F26,"Sans objet") -> 285 | H26: 2 | I26: =VLOOKUP(H26,Secteurs!$A$4:$C$6,3) -> Prince MBOUSSA | J26: 0.5 | O26: 0.5 | P26: =+$E26*J26 -> 140 | Q26: =+$E26*K26 -> 0 | R26: =+$E26*L26 -> 0 | S26: =+$E26*M26 -> 0 | T26: =+$E26*N26 -> 0 | U26: =+$E26*O26 -> 140 | V26: =SUM(P26:U26) -> 280 | W26: préfere distributeur | X26: =+V26-E26 -> 0
A27: =+IF(D27>0,1,0) -> 1 | B27: EL MANSOUR | C27: Crédit | D27: 28 | E27: =D27*7 -> 196 | F27: 46015 | G27: =+IF(A27=1,(+TODAY())-F27,"Sans objet") -> 293 | H27: 1 | I27: =VLOOKUP(H27,Secteurs!$A$4:$C$6,3) -> Frisca MPASSI | M27: 0.5 | O27: 0.5 | P27: =+$E27*J27 -> 0 | Q27: =+$E27*K27 -> 0 | R27: =+$E27*L27 -> 0 | S27: =+$E27*M27 -> 98 | T27: =+$E27*N27 -> 0 | U27: =+$E27*O27 -> 98 | V27: =SUM(P27:U27) -> 196 | W27: intéressé, passage debut septembre | X27: =+V27-E27 -> 0
A28: =+IF(D28>0,1,0) -> 1 | B28: NOUVELLE ESPERANCE 2 | C28: Cash | D28: 42 | E28: =D28*7 -> 294 | F28: 46015 | G28: =+IF(A28=1,(+TODAY())-F28,"Sans objet") -> 293 | H28: 3 | I28: =VLOOKUP(H28,Secteurs!$A$4:$C$6,3) -> Arnaud ITOUA | J28: 0.25 | L28: 0.25 | N28: 0.25 | O28: 0.25 | P28: =+$E28*J28 -> 73.5 | Q28: =+$E28*K28 -> 0 | R28: =+$E28*L28 -> 73.5 | S28: =+$E28*M28 -> 0 | T28: =+$E28*N28 -> 73.5 | U28: =+$E28*O28 -> 73.5 | V28: =SUM(P28:U28) -> 294 | W28: préfere distributeur | X28: =+V28-E28 -> 0
A29: =+IF(D29>0,1,0) -> 1 | B29: MAFOUD | D29: 30 | E29: =D29*7 -> 210 | F29: 46020 | G29: =+IF(A29=1,(+TODAY())-F29,"Sans objet") -> 288 | H29: 2 | I29: =VLOOKUP(H29,Secteurs!$A$4:$C$6,3) -> Prince MBOUSSA | K29: 0.25 | L29: 0.5 | O29: 0.25 | P29: =+$E29*J29 -> 0 | Q29: =+$E29*K29 -> 52.5 | R29: =+$E29*L29 -> 105 | S29: =+$E29*M29 -> 0 | T29: =+$E29*N29 -> 0 | U29: =+$E29*O29 -> 52.5 | V29: =SUM(P29:U29) -> 210 | W29: pas de compte, (Maman fanta) | X29: =+V29-E29 -> 0
A30: =+IF(D30>0,1,0) -> 1 | B30: MANE | D30: 32 | E30: =D30*7 -> 224 | F30: 46021 | G30: =+IF(A30=1,(+TODAY())-F30,"Sans objet") -> 287 | H30: 3 | I30: =VLOOKUP(H30,Secteurs!$A$4:$C$6,3) -> Arnaud ITOUA | M30: 0.25 | N30: 0.25 | O30: 0.5 | P30: =+$E30*J30 -> 0 | Q30: =+$E30*K30 -> 0 | R30: =+$E30*L30 -> 0 | S30: =+$E30*M30 -> 56 | T30: =+$E30*N30 -> 56 | U30: =+$E30*O30 -> 112 | V30: =SUM(P30:U30) -> 224 | W30: Pas de compte, préfere distributeur | X30: =+V30-E30 -> 0
A31: =+IF(D31>0,1,0) -> 1 | B31: REVES 2 | D31: 26 | E31: =D31*7 -> 182 | F31: 46014 | G31: =+IF(A31=1,(+TODAY())-F31,"Sans objet") -> 294 | H31: 3 | I31: =VLOOKUP(H31,Secteurs!$A$4:$C$6,3) -> Arnaud ITOUA | J31: 0.5 | O31: 0.5 | P31: =+$E31*J31 -> 91 | Q31: =+$E31*K31 -> 0 | R31: =+$E31*L31 -> 0 | S31: =+$E31*M31 -> 0 | T31: =+$E31*N31 -> 0 | U31: =+$E31*O31 -> 91 | V31: =SUM(P31:U31) -> 182 | W31: A un compte Patron Absent | X31: =+V31-E31 -> 0
A32: =+IF(D32>0,1,0) -> 1 | B32: SAVANA NKOMBO | C32: Cash | D32: 30 | E32: =D32*7 -> 210 | F32: 46021 | G32: =+IF(A32=1,(+TODAY())-F32,"Sans objet") -> 287 | H32: 3 | I32: =VLOOKUP(H32,Secteurs!$A$4:$C$6,3) -> Arnaud ITOUA | N32: 0.5 | O32: 0.5 | P32: =+$E32*J32 -> 0 | Q32: =+$E32*K32 -> 0 | R32: =+$E32*L32 -> 0 | S32: =+$E32*M32 -> 0 | T32: =+$E32*N32 -> 105 | U32: =+$E32*O32 -> 105 | V32: =SUM(P32:U32) -> 210 | W32: intéressé, courant septembre | X32: =+V32-E32 -> 0
A33: =+IF(D33>0,1,0) -> 1 | B33: SD1 CARREFOUR | C33: Crédit | D33: 42 | E33: =D33*7 -> 294 | F33: 46020 | G33: =+IF(A33=1,(+TODAY())-F33,"Sans objet") -> 288 | H33: 3 | I33: =VLOOKUP(H33,Secteurs!$A$4:$C$6,3) -> Arnaud ITOUA | J33: 0.5 | M33: 0.25 | N33: 0.25 | P33: =+$E33*J33 -> 147 | Q33: =+$E33*K33 -> 0 | R33: =+$E33*L33 -> 0 | S33: =+$E33*M33 -> 73.5 | T33: =+$E33*N33 -> 73.5 | U33: =+$E33*O33 -> 0 | V33: =SUM(P33:U33) -> 294 | W33: distributeur | X33: =+V33-E33 -> 0
A34: =+IF(D34>0,1,0) -> 1 | B34: ALMADINA (bama) | D34: 32 | E34: =D34*7 -> 224 | F34: 46015 | G34: =+IF(A34=1,(+TODAY())-F34,"Sans objet") -> 293 | H34: 1 | I34: =VLOOKUP(H34,Secteurs!$A$4:$C$6,3) -> Frisca MPASSI | J34: 0.5 | O34: 0.5 | P34: =+$E34*J34 -> 112 | Q34: =+$E34*K34 -> 0 | R34: =+$E34*L34 -> 0 | S34: =+$E34*M34 -> 0 | T34: =+$E34*N34 -> 0 | U34: =+$E34*O34 -> 112 | V34: =SUM(P34:U34) -> 224 | W34: A un compte, préfére distributeur | X34: =+V34-E34 -> 0
A35: =+IF(D35>0,1,0) -> 1 | B35: BONNE CHANCE 4 | C35: Crédit | D35: 32 | E35: =D35*7 -> 224 | F35: 46020 | G35: =+IF(A35=1,(+TODAY())-F35,"Sans objet") -> 288 | H35: 2 | I35: =VLOOKUP(H35,Secteurs!$A$4:$C$6,3) -> Prince MBOUSSA | N35: 0.5 | O35: 0.5 | P35: =+$E35*J35 -> 0 | Q35: =+$E35*K35 -> 0 | R35: =+$E35*L35 -> 0 | S35: =+$E35*M35 -> 0 | T35: =+$E35*N35 -> 112 | U35: =+$E35*O35 -> 112 | V35: =SUM(P35:U35) -> 224 | W35: intéréssé, en attente du plafond | X35: =+V35-E35 -> 0
A36: =+IF(D36>0,1,0) -> 1 | B36: DAHI (ex bab elkheire) | D36: 26 | E36: =D36*7 -> 182 | F36: 46015 | G36: =+IF(A36=1,(+TODAY())-F36,"Sans objet") -> 293 | H36: 3 | I36: =VLOOKUP(H36,Secteurs!$A$4:$C$6,3) -> Arnaud ITOUA | J36: 0.5 | N36: 0.25 | O36: 0.25 | P36: =+$E36*J36 -> 91 | Q36: =+$E36*K36 -> 0 | R36: =+$E36*L36 -> 0 | S36: =+$E36*M36 -> 0 | T36: =+$E36*N36 -> 45.5 | U36: =+$E36*O36 -> 45.5 | V36: =SUM(P36:U36) -> 182 | W36: préfere distributeur | X36: =+V36-E36 -> 0
A37: =+IF(D37>0,1,0) -> 1 | B37: ETOILE DE KINTELE 1 | D37: 28 | E37: =D37*7 -> 196 | F37: 46022 | G37: =+IF(A37=1,(+TODAY())-F37,"Sans objet") -> 286 | H37: 3 | I37: =VLOOKUP(H37,Secteurs!$A$4:$C$6,3) -> Arnaud ITOUA | O37: 1 | P37: =+$E37*J37 -> 0 | Q37: =+$E37*K37 -> 0 | R37: =+$E37*L37 -> 0 | S37: =+$E37*M37 -> 0 | T37: =+$E37*N37 -> 0 | U37: =+$E37*O37 -> 196 | V37: =SUM(P37:U37) -> 196 | W37: Pas de compte, préfere distributeur | X37: =+V37-E37 -> 0
A38: =+IF(D38>0,1,0) -> 1 | B38: ETOILE DE KINTELE 2 | D38: 24 | E38: =D38*7 -> 168 | F38: 46022 | G38: =+IF(A38=1,(+TODAY())-F38,"Sans objet") -> 286 | H38: 3 | I38: =VLOOKUP(H38,Secteurs!$A$4:$C$6,3) -> Arnaud ITOUA | J38: 0.5 | O38: 0.5 | P38: =+$E38*J38 -> 84 | Q38: =+$E38*K38 -> 0 | R38: =+$E38*L38 -> 0 | S38: =+$E38*M38 -> 0 | T38: =+$E38*N38 -> 0 | U38: =+$E38*O38 -> 84 | V38: =SUM(P38:U38) -> 168 | W38: Pas de compte, préfere distributeur | X38: =+V38-E38 -> 0
A39: =+IF(D39>0,1,0) -> 1 | B39: HOT BREAD MOUKONDO | D39: 38 | E39: =D39*7 -> 266 | F39: 46021 | G39: =+IF(A39=1,(+TODAY())-F39,"Sans objet") -> 287 | H39: 2 | I39: =VLOOKUP(H39,Secteurs!$A$4:$C$6,3) -> Prince MBOUSSA | J39: 0.5 | O39: 0.5 | P39: =+$E39*J39 -> 133 | Q39: =+$E39*K39 -> 0 | R39: =+$E39*L39 -> 0 | S39: =+$E39*M39 -> 0 | T39: =+$E39*N39 -> 0 | U39: =+$E39*O39 -> 133 | V39: =SUM(P39:U39) -> 266 | W39: A un compte, préfére distributeur | X39: =+V39-E39 -> 0
A40: =+IF(D40>0,1,0) -> 1 | B40: HOT BREAD1 ( Mbochi ) | D40: 40 | E40: =D40*7 -> 280 | F40: 46017 | G40: =+IF(A40=1,(+TODAY())-F40,"Sans objet") -> 291 | H40: 1 | I40: =VLOOKUP(H40,Secteurs!$A$4:$C$6,3) -> Frisca MPASSI | J40: 0.5 | O40: 0.5 | P40: =+$E40*J40 -> 140 | Q40: =+$E40*K40 -> 0 | R40: =+$E40*L40 -> 0 | S40: =+$E40*M40 -> 0 | T40: =+$E40*N40 -> 0 | U40: =+$E40*O40 -> 140 | V40: =SUM(P40:U40) -> 280 | W40: A un compte, préfére distributeur | X40: =+V40-E40 -> 0
A41: =+IF(D41>0,1,0) -> 1 | B41: BONNE CHANCE 5( Ex Mouvida 1) | C41: Crédit | D41: 26 | E41: =D41*7 -> 182 | F41: 46020 | G41: =+IF(A41=1,(+TODAY())-F41,"Sans objet") -> 288 | H41: 3 | I41: =VLOOKUP(H41,Secteurs!$A$4:$C$6,3) -> Arnaud ITOUA | J41: 0.5 | M41: 0.25 | N41: 0.25 | P41: =+$E41*J41 -> 91 | Q41: =+$E41*K41 -> 0 | R41: =+$E41*L41 -> 0 | S41: =+$E41*M41 -> 45.5 | T41: =+$E41*N41 -> 45.5 | U41: =+$E41*O41 -> 0 | V41: =SUM(P41:U41) -> 182 | W41: intéréssé, en attente du plafond | X41: =+V41-E41 -> 0
A42: =+IF(D42>0,1,0) -> 1 | B42: OUM EL KORA(Ex NAJAH MA) | C42: Crédit | D42: 38 | E42: =D42*7 -> 266 | F42: 46017 | G42: =+IF(A42=1,(+TODAY())-F42,"Sans objet") -> 291 | H42: 1 | I42: =VLOOKUP(H42,Secteurs!$A$4:$C$6,3) -> Frisca MPASSI | J42: 0.5 | M42: 0.5 | P42: =+$E42*J42 -> 133 | Q42: =+$E42*K42 -> 0 | R42: =+$E42*L42 -> 0 | S42: =+$E42*M42 -> 133 | T42: =+$E42*N42 -> 0 | U42: =+$E42*O42 -> 0 | V42: =SUM(P42:U42) -> 266 | W42: A un compte, intéréssé | X42: =+V42-E42 -> 0
A43: =+IF(D43>0,1,0) -> 1 | B43: NDH (ex PAIN VICTOIRE) | C43: Crédit | D43: 36 | E43: =D43*7 -> 252 | F43: 46021 | G43: =+IF(A43=1,(+TODAY())-F43,"Sans objet") -> 287 | H43: 3 | I43: =VLOOKUP(H43,Secteurs!$A$4:$C$6,3) -> Arnaud ITOUA | J43: 0.5 | O43: 0.5 | P43: =+$E43*J43 -> 126 | Q43: =+$E43*K43 -> 0 | R43: =+$E43*L43 -> 0 | S43: =+$E43*M43 -> 0 | T43: =+$E43*N43 -> 0 | U43: =+$E43*O43 -> 126 | V43: =SUM(P43:U43) -> 252 | W43: appartenant à Mazala | X43: =+V43-E43 -> 0
A44: =+IF(D44>0,1,0) -> 1 | B44: TIK-TOK | C44: Crédit | D44: 40 | E44: =D44*7 -> 280 | F44: 46020 | G44: =+IF(A44=1,(+TODAY())-F44,"Sans objet") -> 288 | H44: 2 | I44: =VLOOKUP(H44,Secteurs!$A$4:$C$6,3) -> Prince MBOUSSA | J44: 0.5 | M44: 0.5 | P44: =+$E44*J44 -> 140 | Q44: =+$E44*K44 -> 0 | R44: =+$E44*L44 -> 0 | S44: =+$E44*M44 -> 140 | T44: =+$E44*N44 -> 0 | U44: =+$E44*O44 -> 0 | V44: =SUM(P44:U44) -> 280 | W44: appartenant à Mazala | X44: =+V44-E44 -> 0
A45: =+IF(D45>0,1,0) -> 1 | B45: D.A.H ( Bon Vivre) | D45: 28 | E45: =D45*7 -> 196 | F45: 46015 | G45: =+IF(A45=1,(+TODAY())-F45,"Sans objet") -> 293 | H45: 1 | I45: =VLOOKUP(H45,Secteurs!$A$4:$C$6,3) -> Frisca MPASSI | J45: 0.5 | O45: 0.5 | P45: =+$E45*J45 -> 98 | Q45: =+$E45*K45 -> 0 | R45: =+$E45*L45 -> 0 | S45: =+$E45*M45 -> 0 | T45: =+$E45*N45 -> 0 | U45: =+$E45*O45 -> 98 | V45: =SUM(P45:U45) -> 196 | W45: pas de compte, préfére distributeur | X45: =+V45-E45 -> 0
A46: =+IF(D46>0,1,0) -> 1 | B46: FORAGE | D46: 28 | E46: =D46*7 -> 196 | F46: 46015 | G46: =+IF(A46=1,(+TODAY())-F46,"Sans objet") -> 293 | H46: 1 | I46: =VLOOKUP(H46,Secteurs!$A$4:$C$6,3) -> Frisca MPASSI | L46: 0.5 | O46: 0.5 | P46: =+$E46*J46 -> 0 | Q46: =+$E46*K46 -> 0 | R46: =+$E46*L46 -> 98 | S46: =+$E46*M46 -> 0 | T46: =+$E46*N46 -> 0 | U46: =+$E46*O46 -> 98 | V46: =SUM(P46:U46) -> 196 | W46: Pas de compte | X46: =+V46-E46 -> 0
A47: =+IF(D47>0,1,0) -> 1 | B47: BABA-EL (Nganga lingolo Djoue ) | C47: Crédit | D47: 28 | E47: =D47*7 -> 196 | F47: 46012 | G47: =+IF(A47=1,(+TODAY())-F47,"Sans objet") -> 296 | H47: 1 | I47: =VLOOKUP(H47,Secteurs!$A$4:$C$6,3) -> Frisca MPASSI | J47: 0.5 | M47: 0.25 | O47: 0.25 | P47: =+$E47*J47 -> 98 | Q47: =+$E47*K47 -> 0 | R47: =+$E47*L47 -> 0 | S47: =+$E47*M47 -> 49 | T47: =+$E47*N47 -> 0 | U47: =+$E47*O47 -> 49 | V47: =SUM(P47:U47) -> 196 | W47: Intéréssé, Achat août 1000 sacs | X47: =+V47-E47 -> 0
A48: =+IF(D48>0,1,0) -> 1 | B48: EL BARAKA 2024 | C48: Crédit | D48: 26 | E48: =D48*7 -> 182 | F48: 46022 | G48: =+IF(A48=1,(+TODAY())-F48,"Sans objet") -> 286 | H48: 3 | I48: =VLOOKUP(H48,Secteurs!$A$4:$C$6,3) -> Arnaud ITOUA | M48: 0.5 | O48: 0.5 | P48: =+$E48*J48 -> 0 | Q48: =+$E48*K48 -> 0 | R48: =+$E48*L48 -> 0 | S48: =+$E48*M48 -> 91 | T48: =+$E48*N48 -> 0 | U48: =+$E48*O48 -> 91 | V48: =SUM(P48:U48) -> 182 | W48: A un compte Patron Absent | X48: =+V48-E48 -> 0
A49: =+IF(D49>0,1,0) -> 1 | B49: DORA MAYA | C49: Crédit | D49: 48 | E49: =D49*7 -> 336 | F49: 46021 | G49: =+IF(A49=1,(+TODAY())-F49,"Sans objet") -> 287 | H49: 2 | I49: =VLOOKUP(H49,Secteurs!$A$4:$C$6,3) -> Prince MBOUSSA | J49: 0.5 | M49: 0.5 | P49: =+$E49*J49 -> 168 | Q49: =+$E49*K49 -> 0 | R49: =+$E49*L49 -> 0 | S49: =+$E49*M49 -> 168 | T49: =+$E49*N49 -> 0 | U49: =+$E49*O49 -> 0 | V49: =SUM(P49:U49) -> 336 | W49: appartenant à Mazala | X49: =+V49-E49 -> 0
A50: =+IF(D50>0,1,0) -> 1 | B50: EL BARAKA makabandilou | C50: Crédit | D50: 26 | E50: =D50*7 -> 182 | F50: 46017 | G50: =+IF(A50=1,(+TODAY())-F50,"Sans objet") -> 291 | H50: 3 | I50: =VLOOKUP(H50,Secteurs!$A$4:$C$6,3) -> Arnaud ITOUA | J50: 0.5 | M50: 0.5 | P50: =+$E50*J50 -> 91 | Q50: =+$E50*K50 -> 0 | R50: =+$E50*L50 -> 0 | S50: =+$E50*M50 -> 91 | T50: =+$E50*N50 -> 0 | U50: =+$E50*O50 -> 0 | V50: =SUM(P50:U50) -> 182 | W50: A un compte Patron Absent | X50: =+V50-E50 -> 0
A51: =+IF(D51>0,1,0) -> 1 | B51: ELWAHVA | D51: 48 | E51: =D51*7 -> 336 | F51: 46021 | G51: =+IF(A51=1,(+TODAY())-F51,"Sans objet") -> 287 | H51: 2 | I51: =VLOOKUP(H51,Secteurs!$A$4:$C$6,3) -> Prince MBOUSSA | J51: 0.25 | N51: 0.5 | O51: 0.25 | P51: =+$E51*J51 -> 84 | Q51: =+$E51*K51 -> 0 | R51: =+$E51*L51 -> 0 | S51: =+$E51*M51 -> 0 | T51: =+$E51*N51 -> 168 | U51: =+$E51*O51 -> 84 | V51: =SUM(P51:U51) -> 336 | W51: Pas de compte patron absent | X51: =+V51-E51 -> 0
A52: =+IF(D52>0,1,0) -> 1 | B52: ESCALE | C52: Crédit | D52: 28 | E52: =D52*7 -> 196 | F52: 46021 | G52: =+IF(A52=1,(+TODAY())-F52,"Sans objet") -> 287 | H52: 3 | I52: =VLOOKUP(H52,Secteurs!$A$4:$C$6,3) -> Arnaud ITOUA | M52: 0.25 | N52: 0.25 | O52: 0.5 | P52: =+$E52*J52 -> 0 | Q52: =+$E52*K52 -> 0 | R52: =+$E52*L52 -> 0 | S52: =+$E52*M52 -> 49 | T52: =+$E52*N52 -> 49 | U52: =+$E52*O52 -> 98 | V52: =SUM(P52:U52) -> 196 | W52: intéréssé, achat août 500 sacs | X52: =+V52-E52 -> 0
A53: =+IF(D53>0,1,0) -> 1 | B53: FIRDAWS 1 | C53: Crédit | D53: 24 | E53: =D53*7 -> 168 | F53: 46021 | G53: =+IF(A53=1,(+TODAY())-F53,"Sans objet") -> 287 | H53: 3 | I53: =VLOOKUP(H53,Secteurs!$A$4:$C$6,3) -> Arnaud ITOUA | M53: 0.5 | O53: 0.5 | P53: =+$E53*J53 -> 0 | Q53: =+$E53*K53 -> 0 | R53: =+$E53*L53 -> 0 | S53: =+$E53*M53 -> 84 | T53: =+$E53*N53 -> 0 | U53: =+$E53*O53 -> 84 | V53: =SUM(P53:U53) -> 168 | W53: Intéréssé, debut septembre | X53: =+V53-E53 -> 0
A54: =+IF(D54>0,1,0) -> 1 | B54: MARCHE DJIRI ( ext ESCALE ) | D54: 28 | E54: =D54*7 -> 196 | F54: 46020 | G54: =+IF(A54=1,(+TODAY())-F54,"Sans objet") -> 288 | H54: 3 | I54: =VLOOKUP(H54,Secteurs!$A$4:$C$6,3) -> Arnaud ITOUA | J54: 0.5 | M54: 0.25 | O54: 0.25 | P54: =+$E54*J54 -> 98 | Q54: =+$E54*K54 -> 0 | R54: =+$E54*L54 -> 0 | S54: =+$E54*M54 -> 49 | T54: =+$E54*N54 -> 0 | U54: =+$E54*O54 -> 49 | V54: =SUM(P54:U54) -> 196 | W54: intéréssé, (Cpte Escale) | X54: =+V54-E54 -> 0
A55: =+IF(D55>0,1,0) -> 1 | B55: SALAM( Ex MODERNE AV France) | C55: Crédit | D55: 36 | E55: =D55*7 -> 252 | F55: 46014 | G55: =+IF(A55=1,(+TODAY())-F55,"Sans objet") -> 294 | H55: 2 | I55: =VLOOKUP(H55,Secteurs!$A$4:$C$6,3) -> Prince MBOUSSA | J55: 0.5 | O55: 0.5 | P55: =+$E55*J55 -> 126 | Q55: =+$E55*K55 -> 0 | R55: =+$E55*L55 -> 0 | S55: =+$E55*M55 -> 0 | T55: =+$E55*N55 -> 0 | U55: =+$E55*O55 -> 126 | V55: =SUM(P55:U55) -> 252 | W55: A un compte, préfére distributeur | X55: =+V55-E55 -> 0
A56: =+IF(D56>0,1,0) -> 1 | B56: MSB | C56: Cash | D56: 26 | E56: =D56*7 -> 182 | F56: 46020 | G56: =+IF(A56=1,(+TODAY())-F56,"Sans objet") -> 288 | H56: 3 | I56: =VLOOKUP(H56,Secteurs!$A$4:$C$6,3) -> Arnaud ITOUA | J56: 0.5 | O56: 0.5 | P56: =+$E56*J56 -> 91 | Q56: =+$E56*K56 -> 0 | R56: =+$E56*L56 -> 0 | S56: =+$E56*M56 -> 0 | T56: =+$E56*N56 -> 0 | U56: =+$E56*O56 -> 91 | V56: =SUM(P56:U56) -> 182 | W56: Intéréssé, debut septembre | X56: =+V56-E56 -> 0
A57: =+IF(D57>0,1,0) -> 1 | B57: SABANA ( Ex PUZZLE) | C57: Crédit | D57: 38 | E57: =D57*7 -> 266 | F57: 46021 | G57: =+IF(A57=1,(+TODAY())-F57,"Sans objet") -> 287 | H57: 2 | I57: =VLOOKUP(H57,Secteurs!$A$4:$C$6,3) -> Prince MBOUSSA | J57: 0.25 | M57: 0.25 | N57: 0.25 | O57: 0.25 | P57: =+$E57*J57 -> 66.5 | Q57: =+$E57*K57 -> 0 | R57: =+$E57*L57 -> 0 | S57: =+$E57*M57 -> 66.5 | T57: =+$E57*N57 -> 66.5 | U57: =+$E57*O57 -> 66.5 | V57: =SUM(P57:U57) -> 266 | W57: préfere distributeur | X57: =+V57-E57 -> 0
A58: =+IF(D58>0,1,0) -> 1 | B58: REVES 3 | D58: 26 | E58: =D58*7 -> 182 | F58: 46017 | G58: =+IF(A58=1,(+TODAY())-F58,"Sans objet") -> 291 | H58: 3 | I58: =VLOOKUP(H58,Secteurs!$A$4:$C$6,3) -> Arnaud ITOUA | J58: 0.5 | O58: 0.5 | P58: =+$E58*J58 -> 91 | Q58: =+$E58*K58 -> 0 | R58: =+$E58*L58 -> 0 | S58: =+$E58*M58 -> 0 | T58: =+$E58*N58 -> 0 | U58: =+$E58*O58 -> 91 | V58: =SUM(P58:U58) -> 182 | W58: A un compte Patron Absent | X58: =+V58-E58 -> 0
A59: =+IF(D59>0,1,0) -> 1 | B59: TEYBA | C59: Cash | D59: 28 | E59: =D59*7 -> 196 | F59: 46012 | G59: =+IF(A59=1,(+TODAY())-F59,"Sans objet") -> 296 | H59: 1 | I59: =VLOOKUP(H59,Secteurs!$A$4:$C$6,3) -> Frisca MPASSI | L59: 0.25 | N59: 0.25 | O59: 0.5 | P59: =+$E59*J59 -> 0 | Q59: =+$E59*K59 -> 0 | R59: =+$E59*L59 -> 49 | S59: =+$E59*M59 -> 0 | T59: =+$E59*N59 -> 49 | U59: =+$E59*O59 -> 98 | V59: =SUM(P59:U59) -> 196 | W59: Intéréssé, (Cpte Elkheire) | X59: =+V59-E59 -> 0
A60: =+IF(D60>0,1,0) -> 1 | B60: Bonne Chance 1 (Digeco) | C60: Crédit | D60: 28 | E60: =D60*7 -> 196 | F60: 46020 | G60: =+IF(A60=1,(+TODAY())-F60,"Sans objet") -> 288 | H60: 2 | I60: =VLOOKUP(H60,Secteurs!$A$4:$C$6,3) -> Prince MBOUSSA | J60: 0.5 | M60: 0.5 | P60: =+$E60*J60 -> 98 | Q60: =+$E60*K60 -> 0 | R60: =+$E60*L60 -> 0 | S60: =+$E60*M60 -> 98 | T60: =+$E60*N60 -> 0 | U60: =+$E60*O60 -> 0 | V60: =SUM(P60:U60) -> 196 | W60: Intéréssé | X60: =+V60-E60 -> 0
A61: =+IF(D61>0,1,0) -> 1 | B61: ND 2 BIFOUITI | C61: Crédit | D61: 28 | E61: =D61*7 -> 196 | F61: 46012 | G61: =+IF(A61=1,(+TODAY())-F61,"Sans objet") -> 296 | H61: 1 | I61: =VLOOKUP(H61,Secteurs!$A$4:$C$6,3) -> Frisca MPASSI | J61: 0.5 | O61: 0.5 | P61: =+$E61*J61 -> 98 | Q61: =+$E61*K61 -> 0 | R61: =+$E61*L61 -> 0 | S61: =+$E61*M61 -> 0 | T61: =+$E61*N61 -> 0 | U61: =+$E61*O61 -> 98 | V61: =SUM(P61:U61) -> 196 | W61: Intéréssé, debut septembre | X61: =+V61-E61 -> 0
A62: =+IF(D62>0,1,0) -> 1 | B62: ND1 | C62: Crédit | D62: 28 | E62: =D62*7 -> 196 | F62: 46015 | G62: =+IF(A62=1,(+TODAY())-F62,"Sans objet") -> 293 | H62: 1 | I62: =VLOOKUP(H62,Secteurs!$A$4:$C$6,3) -> Frisca MPASSI | J62: 0.5 | L62: 0.5 | P62: =+$E62*J62 -> 98 | Q62: =+$E62*K62 -> 0 | R62: =+$E62*L62 -> 98 | S62: =+$E62*M62 -> 0 | T62: =+$E62*N62 -> 0 | U62: =+$E62*O62 -> 0 | V62: =SUM(P62:U62) -> 196 | W62: Intéréssé, debut septembre | X62: =+V62-E62 -> 0
A63: =+IF(D63>0,1,0) -> 1 | B63: ND 3 PK | C63: Crédit | D63: 28 | E63: =D63*7 -> 196 | F63: 46015 | G63: =+IF(A63=1,(+TODAY())-F63,"Sans objet") -> 293 | H63: 1 | I63: =VLOOKUP(H63,Secteurs!$A$4:$C$6,3) -> Frisca MPASSI | J63: 0.5 | L63: 0.5 | P63: =+$E63*J63 -> 98 | Q63: =+$E63*K63 -> 0 | R63: =+$E63*L63 -> 98 | S63: =+$E63*M63 -> 0 | T63: =+$E63*N63 -> 0 | U63: =+$E63*O63 -> 0 | V63: =SUM(P63:U63) -> 196 | W63: Intéréssé, debut septembre | X63: =+V63-E63 -> 0
A64: =+IF(D64>0,1,0) -> 1 | B64: BENEDICTION NGAMAKOSSO | C64: Crédit | D64: 40 | E64: =D64*7 -> 280 | F64: 46015 | G64: =+IF(A64=1,(+TODAY())-F64,"Sans objet") -> 293 | H64: 3 | I64: =VLOOKUP(H64,Secteurs!$A$4:$C$6,3) -> Arnaud ITOUA | J64: 0.5 | O64: 0.5 | P64: =+$E64*J64 -> 140 | Q64: =+$E64*K64 -> 0 | R64: =+$E64*L64 -> 0 | S64: =+$E64*M64 -> 0 | T64: =+$E64*N64 -> 0 | U64: =+$E64*O64 -> 140 | V64: =SUM(P64:U64) -> 280 | W64: distributeur (SALECK) | X64: =+V64-E64 -> 0
A65: =+IF(D65>0,1,0) -> 1 | B65: BONNE CHANCE 2 | C65: Crédit | D65: 25 | E65: =D65*7 -> 175 | F65: 46012 | G65: =+IF(A65=1,(+TODAY())-F65,"Sans objet") -> 296 | H65: 1 | I65: =VLOOKUP(H65,Secteurs!$A$4:$C$6,3) -> Frisca MPASSI | J65: 0.5 | M65: 0.25 | O65: 0.25 | P65: =+$E65*J65 -> 87.5 | Q65: =+$E65*K65 -> 0 | R65: =+$E65*L65 -> 0 | S65: =+$E65*M65 -> 43.75 | T65: =+$E65*N65 -> 0 | U65: =+$E65*O65 -> 43.75 | V65: =SUM(P65:U65) -> 175 | W65: Intéréssé | X65: =+V65-E65 -> 0
A66: =+IF(D66>0,1,0) -> 1 | B66: BIFOUITI ( Ex BRAZZA 2005 ) | C66: Crédit | D66: 25 | E66: =D66*7 -> 175 | F66: 46012 | G66: =+IF(A66=1,(+TODAY())-F66,"Sans objet") -> 296 | H66: 1 | I66: =VLOOKUP(H66,Secteurs!$A$4:$C$6,3) -> Frisca MPASSI | J66: 0.5 | M66: 0.25 | O66: 0.25 | P66: =+$E66*J66 -> 87.5 | Q66: =+$E66*K66 -> 0 | R66: =+$E66*L66 -> 0 | S66: =+$E66*M66 -> 43.75 | T66: =+$E66*N66 -> 0 | U66: =+$E66*O66 -> 43.75 | V66: =SUM(P66:U66) -> 175 | W66: Intéréssé, Achat août 1000 sacs | X66: =+V66-E66 -> 0
A67: =+IF(D67>0,1,0) -> 1 | B67: ILYAS EX KIGOUARIE | C67: Crédit | D67: 26 | E67: =D67*7 -> 182 | F67: 46012 | G67: =+IF(A67=1,(+TODAY())-F67,"Sans objet") -> 296 | H67: 1 | I67: =VLOOKUP(H67,Secteurs!$A$4:$C$6,3) -> Frisca MPASSI | N67: 0.5 | O67: 0.5 | P67: =+$E67*J67 -> 0 | Q67: =+$E67*K67 -> 0 | R67: =+$E67*L67 -> 0 | S67: =+$E67*M67 -> 0 | T67: =+$E67*N67 -> 91 | U67: =+$E67*O67 -> 91 | V67: =SUM(P67:U67) -> 182 | W67: Intéréssé, passage septembre | X67: =+V67-E67 -> 0
A68: =+IF(D68>0,1,0) -> 1 | B68: Paris Baguette (Ex KEITA BF) | C68: Crédit | D68: 44 | E68: =D68*7 -> 308 | F68: 46022 | G68: =+IF(A68=1,(+TODAY())-F68,"Sans objet") -> 286 | H68: 2 | I68: =VLOOKUP(H68,Secteurs!$A$4:$C$6,3) -> Prince MBOUSSA | K68: 0.25 | M68: 0.25 | O68: 0.5 | P68: =+$E68*J68 -> 0 | Q68: =+$E68*K68 -> 77 | R68: =+$E68*L68 -> 0 | S68: =+$E68*M68 -> 77 | T68: =+$E68*N68 -> 0 | U68: =+$E68*O68 -> 154 | V68: =SUM(P68:U68) -> 308 | W68: Pas de compte | X68: =+V68-E68 -> 0
A69: =+IF(D69>0,1,0) -> 1 | B69: LA CONGOLAISE 1 (Ouenze) | D69: 24 | E69: =D69*7 -> 168 | F69: 46014 | G69: =+IF(A69=1,(+TODAY())-F69,"Sans objet") -> 294 | H69: 2 | I69: =VLOOKUP(H69,Secteurs!$A$4:$C$6,3) -> Prince MBOUSSA | O69: 1 | P69: =+$E69*J69 -> 0 | Q69: =+$E69*K69 -> 0 | R69: =+$E69*L69 -> 0 | S69: =+$E69*M69 -> 0 | T69: =+$E69*N69 -> 0 | U69: =+$E69*O69 -> 168 | V69: =SUM(P69:U69) -> 168 | W69: Pas de compte, en discussion | X69: =+V69-E69 -> 0
A70: =+IF(D70>0,1,0) -> 1 | B70: LA GLOIRE MAYANGA B52 | D70: 28 | E70: =D70*7 -> 196 | F70: 46017 | G70: =+IF(A70=1,(+TODAY())-F70,"Sans objet") -> 291 | H70: 1 | I70: =VLOOKUP(H70,Secteurs!$A$4:$C$6,3) -> Frisca MPASSI | J70: 0.5 | M70: 0.25 | O70: 0.25 | P70: =+$E70*J70 -> 98 | Q70: =+$E70*K70 -> 0 | R70: =+$E70*L70 -> 0 | S70: =+$E70*M70 -> 49 | T70: =+$E70*N70 -> 0 | U70: =+$E70*O70 -> 49 | V70: =SUM(P70:U70) -> 196 | W70: intéréssé, achat août 1000 sacs | X70: =+V70-E70 -> 0
A71: =+IF(D71>0,1,0) -> 1 | B71: Bonne Chance 6 (Ex MOUVIDA 2 ) | D71: 25 | E71: =D71*7 -> 175 | F71: 46012 | G71: =+IF(A71=1,(+TODAY())-F71,"Sans objet") -> 296 | H71: 1 | I71: =VLOOKUP(H71,Secteurs!$A$4:$C$6,3) -> Frisca MPASSI | J71: 0.5 | O71: 0.5 | P71: =+$E71*J71 -> 87.5 | Q71: =+$E71*K71 -> 0 | R71: =+$E71*L71 -> 0 | S71: =+$E71*M71 -> 0 | T71: =+$E71*N71 -> 0 | U71: =+$E71*O71 -> 87.5 | V71: =SUM(P71:U71) -> 175 | W71: Intéréssé | X71: =+V71-E71 -> 0
A72: =+IF(D72>0,1,0) -> 1 | B72: Takwa ( Ex Nationale Mkdo) | D72: 28 | E72: =D72*7 -> 196 | F72: 46021 | G72: =+IF(A72=1,(+TODAY())-F72,"Sans objet") -> 287 | H72: 2 | I72: =VLOOKUP(H72,Secteurs!$A$4:$C$6,3) -> Prince MBOUSSA | J72: 0.5 | O72: 0.5 | P72: =+$E72*J72 -> 98 | Q72: =+$E72*K72 -> 0 | R72: =+$E72*L72 -> 0 | S72: =+$E72*M72 -> 0 | T72: =+$E72*N72 -> 0 | U72: =+$E72*O72 -> 98 | V72: =SUM(P72:U72) -> 196 | W72: préfere distributeur | X72: =+V72-E72 -> 0
A73: =+IF(D73>0,1,0) -> 1 | B73: RIM D'OR 1 | C73: Cash | D73: 28 | E73: =D73*7 -> 196 | F73: 46017 | G73: =+IF(A73=1,(+TODAY())-F73,"Sans objet") -> 291 | H73: 1 | I73: =VLOOKUP(H73,Secteurs!$A$4:$C$6,3) -> Frisca MPASSI | J73: 0.5 | M73: 0.5 | P73: =+$E73*J73 -> 98 | Q73: =+$E73*K73 -> 0 | R73: =+$E73*L73 -> 0 | S73: =+$E73*M73 -> 98 | T73: =+$E73*N73 -> 0 | U73: =+$E73*O73 -> 0 | V73: =SUM(P73:U73) -> 196 | W73: intéréssé, courant septembre | X73: =+V73-E73 -> 0
A74: =+IF(D74>0,1,0) -> 1 | B74: RIM D'OR 2 | D74: 28 | E74: =D74*7 -> 196 | F74: 46017 | G74: =+IF(A74=1,(+TODAY())-F74,"Sans objet") -> 291 | H74: 1 | I74: =VLOOKUP(H74,Secteurs!$A$4:$C$6,3) -> Frisca MPASSI | J74: 0.5 | M74: 0.5 | P74: =+$E74*J74 -> 98 | Q74: =+$E74*K74 -> 0 | R74: =+$E74*L74 -> 0 | S74: =+$E74*M74 -> 98 | T74: =+$E74*N74 -> 0 | U74: =+$E74*O74 -> 0 | V74: =SUM(P74:U74) -> 196 | W74: intéréssé, courant septembre | X74: =+V74-E74 -> 0
A75: =+IF(D75>0,1,0) -> 1 | B75: SD MASSENGO | C75: Crédit | D75: 26 | E75: =D75*7 -> 182 | F75: 46021 | G75: =+IF(A75=1,(+TODAY())-F75,"Sans objet") -> 287 | H75: 3 | I75: =VLOOKUP(H75,Secteurs!$A$4:$C$6,3) -> Arnaud ITOUA | J75: 0.25 | L75: 0.25 | M75: 0.25 | N75: 0.25 | P75: =+$E75*J75 -> 45.5 | Q75: =+$E75*K75 -> 0 | R75: =+$E75*L75 -> 45.5 | S75: =+$E75*M75 -> 45.5 | T75: =+$E75*N75 -> 45.5 | U75: =+$E75*O75 -> 0 | V75: =SUM(P75:U75) -> 182 | W75: distributeur Saleck | X75: =+V75-E75 -> 0
A76: =+IF(D76>0,1,0) -> 1 | B76: SUPER CAFE | D76: 36 | E76: =D76*7 -> 252 | F76: 46021 | G76: =+IF(A76=1,(+TODAY())-F76,"Sans objet") -> 287 | H76: 2 | I76: =VLOOKUP(H76,Secteurs!$A$4:$C$6,3) -> Prince MBOUSSA | L76: 0.5 | O76: 0.5 | P76: =+$E76*J76 -> 0 | Q76: =+$E76*K76 -> 0 | R76: =+$E76*L76 -> 126 | S76: =+$E76*M76 -> 0 | T76: =+$E76*N76 -> 0 | U76: =+$E76*O76 -> 126 | V76: =SUM(P76:U76) -> 252 | W76: intéréssé, pour septembre | X76: =+V76-E76 -> 0
A77: =+IF(D77>0,1,0) -> 1 | B77: LE BON CHOIX (Ex YESLEM) | C77: Dette | D77: 36 | E77: =D77*7 -> 252 | F77: 46020 | G77: =+IF(A77=1,(+TODAY())-F77,"Sans objet") -> 288 | H77: 3 | I77: =VLOOKUP(H77,Secteurs!$A$4:$C$6,3) -> Arnaud ITOUA | J77: 0.5 | M77: 0.5 | P77: =+$E77*J77 -> 126 | Q77: =+$E77*K77 -> 0 | R77: =+$E77*L77 -> 0 | S77: =+$E77*M77 -> 126 | T77: =+$E77*N77 -> 0 | U77: =+$E77*O77 -> 0 | V77: =SUM(P77:U77) -> 252 | W77: A un compte, en discussion avec le client | X77: =+V77-E77 -> 0
A78: =+IF(D78>0,1,0) -> 1 | B78: LA PERLE MAYANGA | D78: 25 | E78: =D78*7 -> 175 | F78: 46017 | G78: =+IF(A78=1,(+TODAY())-F78,"Sans objet") -> 291 | H78: 1 | I78: =VLOOKUP(H78,Secteurs!$A$4:$C$6,3) -> Frisca MPASSI | J78: 0.5 | M78: 0.25 | O78: 0.25 | P78: =+$E78*J78 -> 87.5 | Q78: =+$E78*K78 -> 0 | R78: =+$E78*L78 -> 0 | S78: =+$E78*M78 -> 43.75 | T78: =+$E78*N78 -> 0 | U78: =+$E78*O78 -> 43.75 | V78: =SUM(P78:U78) -> 175 | W78: Intéréssé, (cpte la Gloire) | X78: =+V78-E78 -> 0
A79: =+IF(D79>0,1,0) -> 1 | B79: LA PLAINE | C79: Crédit | D79: 28 | E79: =D79*7 -> 196 | F79: 46015 | G79: =+IF(A79=1,(+TODAY())-F79,"Sans objet") -> 293 | H79: 1 | I79: =VLOOKUP(H79,Secteurs!$A$4:$C$6,3) -> Frisca MPASSI | J79: 0.5 | O79: 0.5 | P79: =+$E79*J79 -> 98 | Q79: =+$E79*K79 -> 0 | R79: =+$E79*L79 -> 0 | S79: =+$E79*M79 -> 0 | T79: =+$E79*N79 -> 0 | U79: =+$E79*O79 -> 98 | V79: =SUM(P79:U79) -> 196 | W79: intéréssé Achat août 450 sacs | X79: =+V79-E79 -> 0
A80: =+IF(D80>0,1,0) -> 1 | B80: Bani kheire Total | D80: 28 | E80: =D80*7 -> 196 | F80: 46012 | G80: =+IF(A80=1,(+TODAY())-F80,"Sans objet") -> 296 | H80: 1 | I80: =VLOOKUP(H80,Secteurs!$A$4:$C$6,3) -> Frisca MPASSI | L80: 0.5 | O80: 0.5 | P80: =+$E80*J80 -> 0 | Q80: =+$E80*K80 -> 0 | R80: =+$E80*L80 -> 98 | S80: =+$E80*M80 -> 0 | T80: =+$E80*N80 -> 0 | U80: =+$E80*O80 -> 98 | V80: =SUM(P80:U80) -> 196 | W80: pas de compte, préfére distributeur | X80: =+V80-E80 -> 0
A81: =+IF(D81>0,1,0) -> 1 | B81: BACO PAIN | C81: Dette | D81: 28 | E81: =D81*7 -> 196 | F81: 46017 | G81: =+IF(A81=1,(+TODAY())-F81,"Sans objet") -> 291 | H81: 1 | I81: =VLOOKUP(H81,Secteurs!$A$4:$C$6,3) -> Frisca MPASSI | J81: 0.5 | O81: 0.5 | P81: =+$E81*J81 -> 98 | Q81: =+$E81*K81 -> 0 | R81: =+$E81*L81 -> 0 | S81: =+$E81*M81 -> 0 | T81: =+$E81*N81 -> 0 | U81: =+$E81*O81 -> 98 | V81: =SUM(P81:U81) -> 196 | W81: A un compte , préfére distributeur | X81: =+V81-E81 -> 0
A82: =+IF(D82>0,1,0) -> 1 | B82: BLG EL MOURAD | D82: 25 | E82: 196 | F82: 46013 | G82: =+IF(A82=1,(+TODAY())-F82,"Sans objet") -> 295 | H82: 1 | I82: =VLOOKUP(H82,Secteurs!$A$4:$C$6,3) -> Frisca MPASSI | J82: 0.5 | O82: 0.5 | P82: =+$E82*J82 -> 98 | Q82: =+$E82*K82 -> 0 | R82: =+$E82*L82 -> 0 | S82: =+$E82*M82 -> 0 | T82: =+$E82*N82 -> 0 | U82: =+$E82*O82 -> 98 | V82: =SUM(P82:U82) -> 196 | W82: A un compte, préfere distributeur | X82: =+V82-E82 -> 0
A83: =+IF(D83>0,1,0) -> 1 | B83: DIGNITE 1 | D83: 26 | E83: =D83*7 -> 182 | F83: 46020 | G83: =+IF(A83=1,(+TODAY())-F83,"Sans objet") -> 288 | H83: 3 | I83: =VLOOKUP(H83,Secteurs!$A$4:$C$6,3) -> Arnaud ITOUA | J83: 0.25 | N83: 0.25 | O83: 0.5 | P83: =+$E83*J83 -> 45.5 | Q83: =+$E83*K83 -> 0 | R83: =+$E83*L83 -> 0 | S83: =+$E83*M83 -> 0 | T83: =+$E83*N83 -> 45.5 | U83: =+$E83*O83 -> 91 | V83: =SUM(P83:U83) -> 182 | W83: Distributeue Mazala | X83: =+V83-E83 -> 0
A84: =+IF(D84>0,1,0) -> 1 | B84: EFFRAKATA 2 | D84: 28 | E84: =D84*7 -> 196 | F84: 46015 | G84: =+IF(A84=1,(+TODAY())-F84,"Sans objet") -> 293 | H84: 1 | I84: =VLOOKUP(H84,Secteurs!$A$4:$C$6,3) -> Frisca MPASSI | J84: 0.5 | L84: 0.5 | P84: =+$E84*J84 -> 98 | Q84: =+$E84*K84 -> 0 | R84: =+$E84*L84 -> 98 | S84: =+$E84*M84 -> 0 | T84: =+$E84*N84 -> 0 | U84: =+$E84*O84 -> 0 | V84: =SUM(P84:U84) -> 196 | W84: Intéréssé, debut septembre | X84: =+V84-E84 -> 0
A85: =+IF(D85>0,1,0) -> 1 | B85: EFFRAKATA 1 | D85: 28 | E85: =D85*7 -> 196 | F85: 46017 | G85: =+IF(A85=1,(+TODAY())-F85,"Sans objet") -> 291 | H85: 1 | I85: =VLOOKUP(H85,Secteurs!$A$4:$C$6,3) -> Frisca MPASSI | J85: 0.5 | L85: 0.5 | P85: =+$E85*J85 -> 98 | Q85: =+$E85*K85 -> 0 | R85: =+$E85*L85 -> 98 | S85: =+$E85*M85 -> 0 | T85: =+$E85*N85 -> 0 | U85: =+$E85*O85 -> 0 | V85: =SUM(P85:U85) -> 196 | W85: Intéréssé, debut septembre | X85: =+V85-E85 -> 0
A86: =+IF(D86>0,1,0) -> 1 | B86: SAM 2 ( Ex ESPOIR) | C86: Dette | D86: 28 | E86: =D86*7 -> 196 | F86: 46017 | G86: =+IF(A86=1,(+TODAY())-F86,"Sans objet") -> 291 | H86: 1 | I86: =VLOOKUP(H86,Secteurs!$A$4:$C$6,3) -> Frisca MPASSI | J86: 0.5 | O86: 0.5 | P86: =+$E86*J86 -> 98 | Q86: =+$E86*K86 -> 0 | R86: =+$E86*L86 -> 0 | S86: =+$E86*M86 -> 0 | T86: =+$E86*N86 -> 0 | U86: =+$E86*O86 -> 98 | V86: =SUM(P86:U86) -> 196 | W86: Intérésse, achat août 510 sacs | X86: =+V86-E86 -> 0
A87: =+IF(D87>0,1,0) -> 1 | B87: GRANDE BLG DE DIATA (ML) | D87: 48 | E87: =D87*7 -> 336 | F87: 46013 | G87: =+IF(A87=1,(+TODAY())-F87,"Sans objet") -> 295 | H87: 1 | I87: =VLOOKUP(H87,Secteurs!$A$4:$C$6,3) -> Frisca MPASSI | J87: 0.5 | O87: 0.5 | P87: =+$E87*J87 -> 168 | Q87: =+$E87*K87 -> 0 | R87: =+$E87*L87 -> 0 | S87: =+$E87*M87 -> 0 | T87: =+$E87*N87 -> 0 | U87: =+$E87*O87 -> 168 | V87: =SUM(P87:U87) -> 336 | W87: A un compte, préfére distributeur | X87: =+V87-E87 -> 0
A88: =+IF(D88>0,1,0) -> 1 | B88: MAMPASSI | D88: 24 | E88: =D88*7 -> 168 | F88: 46020 | G88: =+IF(A88=1,(+TODAY())-F88,"Sans objet") -> 288 | H88: 2 | I88: =VLOOKUP(H88,Secteurs!$A$4:$C$6,3) -> Prince MBOUSSA | J88: 0.5 | O88: 0.5 | P88: =+$E88*J88 -> 84 | Q88: =+$E88*K88 -> 0 | R88: =+$E88*L88 -> 0 | S88: =+$E88*M88 -> 0 | T88: =+$E88*N88 -> 0 | U88: =+$E88*O88 -> 84 | V88: =SUM(P88:U88) -> 168 | W88: préfere distributeur | X88: =+V88-E88 -> 0
A89: =+IF(D89>0,1,0) -> 1 | B89: MOUHOUMI | D89: 28 | E89: =D89*7 -> 196 | F89: 46015 | G89: =+IF(A89=1,(+TODAY())-F89,"Sans objet") -> 293 | H89: 1 | I89: =VLOOKUP(H89,Secteurs!$A$4:$C$6,3) -> Frisca MPASSI | L89: 0.5 | O89: 0.5 | P89: =+$E89*J89 -> 0 | Q89: =+$E89*K89 -> 0 | R89: =+$E89*L89 -> 98 | S89: =+$E89*M89 -> 0 | T89: =+$E89*N89 -> 0 | U89: =+$E89*O89 -> 98 | V89: =SUM(P89:U89) -> 196 | W89: préfere distributeur | X89: =+V89-E89 -> 0
A90: =+IF(D90>0,1,0) -> 1 | B90: MR KINTELE | C90: Cash | D90: 34 | E90: =D90*7 -> 238 | F90: 46017 | G90: =+IF(A90=1,(+TODAY())-F90,"Sans objet") -> 291 | H90: 3 | I90: =VLOOKUP(H90,Secteurs!$A$4:$C$6,3) -> Arnaud ITOUA | N90: 0.5 | O90: 0.5 | P90: =+$E90*J90 -> 0 | Q90: =+$E90*K90 -> 0 | R90: =+$E90*L90 -> 0 | S90: =+$E90*M90 -> 0 | T90: =+$E90*N90 -> 119 | U90: =+$E90*O90 -> 119 | V90: =SUM(P90:U90) -> 238 | W90: Saleck | X90: =+V90-E90 -> 0
A91: =+IF(D91>0,1,0) -> 1 | B91: NOUR 2 | D91: 38 | E91: 308 | F91: 46020 | G91: =+IF(A91=1,(+TODAY())-F91,"Sans objet") -> 288 | H91: 2 | I91: =VLOOKUP(H91,Secteurs!$A$4:$C$6,3) -> Prince MBOUSSA | J91: 0.25 | O91: 0.75 | P91: =+$E91*J91 -> 77 | Q91: =+$E91*K91 -> 0 | R91: =+$E91*L91 -> 0 | S91: =+$E91*M91 -> 0 | T91: =+$E91*N91 -> 0 | U91: =+$E91*O91 -> 231 | V91: =SUM(P91:U91) -> 308 | W91: préfere distributeur | X91: =+V91-E91 -> 0
A92: =+IF(D92>0,1,0) -> 1 | B92: JUNIOR ( Ex Iphone) | D92: 16 | E92: =D92*7 -> 112 | F92: 46024 | G92: =+IF(A92=1,(+TODAY())-F92,"Sans objet") -> 284 | H92: 2 | I92: =VLOOKUP(H92,Secteurs!$A$4:$C$6,3) -> Prince MBOUSSA | N92: 0.5 | O92: 0.5 | P92: =+$E92*J92 -> 0 | Q92: =+$E92*K92 -> 0 | R92: =+$E92*L92 -> 0 | S92: =+$E92*M92 -> 0 | T92: =+$E92*N92 -> 56 | U92: =+$E92*O92 -> 56 | V92: =SUM(P92:U92) -> 112 | W92: A un compte, préfére distributeur
A93: =+IF(D93>0,1,0) -> 1 | B93: SS TOTAL | C93: Crédit | D93: 28 | E93: =D93*7 -> 196 | F93: 46012 | G93: =+IF(A93=1,(+TODAY())-F93,"Sans objet") -> 296 | H93: 1 | I93: =VLOOKUP(H93,Secteurs!$A$4:$C$6,3) -> Frisca MPASSI | J93: 0.5 | L93: 0.5 | P93: =+$E93*J93 -> 98 | Q93: =+$E93*K93 -> 0 | R93: =+$E93*L93 -> 98 | S93: =+$E93*M93 -> 0 | T93: =+$E93*N93 -> 0 | U93: =+$E93*O93 -> 0 | V93: =SUM(P93:U93) -> 196 | W93: intéréssé, achat aout 520 sacs | X93: =+V93-E93 -> 0
A94: =+IF(D94>0,1,0) -> 1 | B94: TSOUEKE (ex Congo Pain) | D94: 20 | E94: =D94*7 -> 140 | F94: 46017 | G94: =+IF(A94=1,(+TODAY())-F94,"Sans objet") -> 291 | H94: 3 | I94: =VLOOKUP(H94,Secteurs!$A$4:$C$6,3) -> Arnaud ITOUA | J94: 0.5 | O94: 0.5 | P94: =+$E94*J94 -> 70 | Q94: =+$E94*K94 -> 0 | R94: =+$E94*L94 -> 0 | S94: =+$E94*M94 -> 0 | T94: =+$E94*N94 -> 0 | U94: =+$E94*O94 -> 70 | V94: =SUM(P94:U94) -> 140 | W94: intéréssé, (Cpte Brazza 05) | X94: =+V94-E94 -> 0
A95: =+IF(D95>0,1,0) -> 1 | B95: POUR TOUS | C95: Cash | D95: 46 | E95: =D95*7 -> 322 | F95: 46021 | G95: =+IF(A95=1,(+TODAY())-F95,"Sans objet") -> 287 | H95: 2 | I95: =VLOOKUP(H95,Secteurs!$A$4:$C$6,3) -> Prince MBOUSSA | J95: 0.5 | N95: 0.5 | P95: =+$E95*J95 -> 161 | Q95: =+$E95*K95 -> 0 | R95: =+$E95*L95 -> 0 | S95: =+$E95*M95 -> 0 | T95: =+$E95*N95 -> 161 | U95: =+$E95*O95 -> 0 | V95: =SUM(P95:U95) -> 322 | W95: intéréssé, attendre retour patron | X95: =+V95-E95 -> 0
A96: =+IF(D96>0,1,0) -> 1 | B96: BONNE CHANCE 3 | D96: 25 | E96: =D96*7 -> 175 | F96: 46014 | G96: =+IF(A96=1,(+TODAY())-F96,"Sans objet") -> 294 | H96: 1 | I96: =VLOOKUP(H96,Secteurs!$A$4:$C$6,3) -> Frisca MPASSI | J96: 0.5 | M96: 0.25 | O96: 0.25 | P96: =+$E96*J96 -> 87.5 | Q96: =+$E96*K96 -> 0 | R96: =+$E96*L96 -> 0 | S96: =+$E96*M96 -> 43.75 | T96: =+$E96*N96 -> 0 | U96: =+$E96*O96 -> 43.75 | V96: =SUM(P96:U96) -> 175 | W96: Intérésse | X96: =+V96-E96 -> 0
A97: =+IF(D97>0,1,0) -> 1 | B97: DIAMOND | C97: Dette | D97: 24 | E97: =D97*7 -> 168 | F97: 46015 | G97: =+IF(A97=1,(+TODAY())-F97,"Sans objet") -> 293 | H97: 3 | I97: =VLOOKUP(H97,Secteurs!$A$4:$C$6,3) -> Arnaud ITOUA | J97: 0.5 | N97: 0.5 | P97: =+$E97*J97 -> 84 | Q97: =+$E97*K97 -> 0 | R97: =+$E97*L97 -> 0 | S97: =+$E97*M97 -> 0 | T97: =+$E97*N97 -> 84 | U97: =+$E97*O97 -> 0 | V97: =SUM(P97:U97) -> 168 | W97: Pas de compte , préfere distributeur | X97: =+V97-E97 -> 0
A98: =+IF(D98>0,1,0) -> 1 | B98: DIGNITE 2 | D98: 34 | E98: =D98*7 -> 238 | F98: 46020 | G98: =+IF(A98=1,(+TODAY())-F98,"Sans objet") -> 288 | H98: 3 | I98: =VLOOKUP(H98,Secteurs!$A$4:$C$6,3) -> Arnaud ITOUA | J98: 0.5 | O98: 0.5 | P98: =+$E98*J98 -> 119 | Q98: =+$E98*K98 -> 0 | R98: =+$E98*L98 -> 0 | S98: =+$E98*M98 -> 0 | T98: =+$E98*N98 -> 0 | U98: =+$E98*O98 -> 119 | V98: =SUM(P98:U98) -> 238 | W98: distributeur Mazala | X98: =+V98-E98 -> 0
A99: =+IF(D99>0,1,0) -> 1 | B99: TYBE ( Ex ELKERATT PK) | D99: 28 | E99: =D99*7 -> 196 | F99: 46015 | G99: =+IF(A99=1,(+TODAY())-F99,"Sans objet") -> 293 | H99: 1 | I99: =VLOOKUP(H99,Secteurs!$A$4:$C$6,3) -> Frisca MPASSI | J99: 0.5 | O99: 0.5 | P99: =+$E99*J99 -> 98 | Q99: =+$E99*K99 -> 0 | R99: =+$E99*L99 -> 0 | S99: =+$E99*M99 -> 0 | T99: =+$E99*N99 -> 0 | U99: =+$E99*O99 -> 98 | V99: =SUM(P99:U99) -> 196 | W99: Intéréssé,(Cpte Elkheire) | X99: =+V99-E99 -> 0
A100: =+IF(D100>0,1,0) -> 1 | B100: EL MANSOUR 2 ( New Boulangerie) | D100: 7 | E100: =D100*7 -> 49 | F100: 46020 | G100: =+IF(A100=1,(+TODAY())-F100,"Sans objet") -> 288 | H100: 3 | I100: =VLOOKUP(H100,Secteurs!$A$4:$C$6,3) -> Arnaud ITOUA | O100: 1 | P100: =+$E100*J100 -> 0 | Q100: =+$E100*K100 -> 0 | R100: =+$E100*L100 -> 0 | S100: =+$E100*M100 -> 0 | T100: =+$E100*N100 -> 0 | U100: =+$E100*O100 -> 49 | V100: =SUM(P100:U100) -> 49 | W100: Intéréssé, effort en septembre | X100: =+V100-E100 -> 0
...

Sheet WEEK 2
A1: N° | B1: Boulangerie | C1: Type | D1: Cons/j | E1: C° heb | F1: Date Dernière Visite | G1: Période sans visite | H1: Secteur | I1: Technico Commercial | J1: %MINOCO | K1: %FANTA | L1: %GMK | M1: %SGMP | N1: %MFB | O1: %GMC | P1: MINOCO | Q1: FANTA | R1: GMK | S1: SGMP | T1: MFB | U1: GMC | V1: Total | W1: COMMENTAIRES | Z1: Week | AA1: Minoco | AB1: Fanta | AC1: GMPN | AD1: GMK | AE1: SGMP | AF1: MFB | AG1: GMC
A2: =+IF(D2>0,1,0) -> 1 | B2: Mayama( AQXA) | D2: 40 | E2: =D2*7 -> 280 | F2: 46030 | G2: =+IF(A2=1,(+TODAY())-F2,"Sans objet") -> 278 | H2: 1 | I2: =VLOOKUP(H2,Secteurs!$A$4:$C$6,3) -> Frisca MPASSI | J2: 0.5 | O2: 0.5 | P2: =+$E2*J2 -> 140 | Q2: =+$E2*K2 -> 0 | R2: =+$E2*L2 -> 0 | S2: =+$E2*M2 -> 0 | T2: =+$E2*N2 -> 0 | U2: =+$E2*O2 -> 140 | V2: =SUM(P2:U2) -> 280 | W2: Pas de compte, préfere distributeur | X2: =+V2-E2 -> 0
A3: =+IF(D3>0,1,0) -> 1 | B3: NOUVELLE ESPERANCE 3 | C3: Cash | D3: 66 | E3: =D3*7 -> 462 | F3: 46031 | G3: =+IF(A3=1,(+TODAY())-F3,"Sans objet") -> 277 | H3: 2 | I3: =VLOOKUP(H3,Secteurs!$A$4:$C$6,3) -> Prince MBOUSSA | J3: 0.5 | L3: 0.25 | O3: 0.25 | P3: =+$E3*J3 -> 231 | Q3: =+$E3*K3 -> 0 | R3: =+$E3*L3 -> 115.5 | S3: =+$E3*M3 -> 0 | T3: =+$E3*N3 -> 0 | U3: =+$E3*O3 -> 115.5 | V3: =SUM(P3:U3) -> 462 | W3: intéressé, passage debut septembre | X3: =+V3-E3 -> 0 | Z3: 51 | AA3: 0.36 | AB3: 0.02 | AC3: 0.381 | AD3: 0.1 | AE3: 0.062 | AF3: 0.058 | AG3: 0.399 | AH3: 1
A4: =+IF(D4>0,1,0) -> 1 | B4: SABANA Moukondo | C4: Cash | D4: 48 | E4: =D4*7 -> 336 | F4: 46031 | G4: =+IF(A4=1,(+TODAY())-F4,"Sans objet") -> 277 | H4: 2 | I4: =VLOOKUP(H4,Secteurs!$A$4:$C$6,3) -> Prince MBOUSSA | J4: 0.25 | M4: 0.25 | O4: 0.5 | P4: =+$E4*J4 -> 84 | Q4: =+$E4*K4 -> 0 | R4: =+$E4*L4 -> 0 | S4: =+$E4*M4 -> 84 | T4: =+$E4*N4 -> 0 | U4: =+$E4*O4 -> 168 | V4: =SUM(P4:U4) -> 336 | W4: A un compte, intéréssé | X4: =+V4-E4 -> 0 | Z4: 52 | AA4: 0.375 | AB4: 0.021 | AC4: 0.396 | AD4: 0.079 | AE4: 0.091 | AF4: 0.07 | AG4: 0.364 | AH4: 1
A5: =+IF(D5>0,1,0) -> 1 | B5: YA LOLO | C5: Crédit | D5: 48 | E5: =D5*7 -> 336 | F5: 46030 | G5: =+IF(A5=1,(+TODAY())-F5,"Sans objet") -> 278 | H5: 3 | I5: =VLOOKUP(H5,Secteurs!$A$4:$C$6,3) -> Arnaud ITOUA | J5: 1 | P5: =+$E5*J5 -> 336 | Q5: =+$E5*K5 -> 0 | R5: =+$E5*L5 -> 0 | S5: =+$E5*M5 -> 0 | T5: =+$E5*N5 -> 0 | U5: =+$E5*O5 -> 0 | V5: =SUM(P5:U5) -> 336 | W5: intéressé, passage debut septembre | X5: =+V5-E5 -> 0 | Z5: 1 | AA5: 0.36188811 | AB5: 0.020979021 | AC5: 0.38286713 | AD5: 0.078671329 | AE5: 0.11713287 | AF5: 0.073426573 | AG5: 0.3479021 | AH5: 1
A6: =+IF(D6>0,1,0) -> 1 | B6: 58e ANNIVERSAIRE | C6: Cash | D6: 52 | E6: =D6*7 -> 364 | F6: 46027 | G6: =+IF(A6=1,(+TODAY())-F6,"Sans objet") -> 281 | H6: 3 | I6: =VLOOKUP(H6,Secteurs!$A$4:$C$6,3) -> Arnaud ITOUA | J6: 0.5 | M6: 0.5 | P6: =+$E6*J6 -> 182 | Q6: =+$E6*K6 -> 0 | R6: =+$E6*L6 -> 0 | S6: =+$E6*M6 -> 182 | T6: =+$E6*N6 -> 0 | U6: =+$E6*O6 -> 0 | V6: =SUM(P6:U6) -> 364 | W6: intéressé, passage debut septembre | X6: =+V6-E6 -> 0 | Z6: 2 | AA6: 0.374 | AB6: 0.021 | AC6: 0.394 | AD6: 0.056 | AE6: 0.092 | AF6: 0.102 | AG6: 0.356 | AH6: 1
A7: =+IF(D7>0,1,0) -> 1 | B7: BECO | C7: Cash | D7: 50 | E7: =D7*7 -> 350 | F7: 46030 | G7: =+IF(A7=1,(+TODAY())-F7,"Sans objet") -> 278 | H7: 2 | I7: =VLOOKUP(H7,Secteurs!$A$4:$C$6,3) -> Prince MBOUSSA | K7: 1 | P7: =+$E7*J7 -> 0 | Q7: =+$E7*K7 -> 350 | R7: =+$E7*L7 -> 0 | S7: =+$E7*M7 -> 0 | T7: =+$E7*N7 -> 0 | U7: =+$E7*O7 -> 0 | V7: =SUM(P7:U7) -> 350 | W7: intéressé, passage debut septembre | X7: =+V7-E7 -> 0 | Z7: Variation W-1 | AC7: =+AC6-AC5 -> 0.011132867 | AD7: =+AD6-AD5 -> -0.022671329 | AE7: =+AE6-AE5 -> -0.025132867 | AF7: =+AF6-AF5 -> 0.028573427 | AG7: =+AG6-AG5 -> 0.0080979021
A8: =+IF(D8>0,1,0) -> 1 | B8: ELVOZ INCHALAH | C8: Cash | D8: 40 | E8: =D8*7 -> 280 | F8: 46027 | G8: =+IF(A8=1,(+TODAY())-F8,"Sans objet") -> 281 | H8: 1 | I8: =VLOOKUP(H8,Secteurs!$A$4:$C$6,3) -> Frisca MPASSI | M8: 0.25 | N8: 0.25 | O8: 0.5 | P8: =+$E8*J8 -> 0 | Q8: =+$E8*K8 -> 0 | R8: =+$E8*L8 -> 0 | S8: =+$E8*M8 -> 70 | T8: =+$E8*N8 -> 70 | U8: =+$E8*O8 -> 140 | V8: =SUM(P8:U8) -> 280 | W8: intéressé, passage debut septembre | X8: =+V8-E8 -> 0
A9: =+IF(D9>0,1,0) -> 1 | B9: POTAL | C9: Cash | D9: 29 | E9: =D9*7 -> 203 | F9: 46029 | G9: =+IF(A9=1,(+TODAY())-F9,"Sans objet") -> 279 | H9: 2 | I9: =VLOOKUP(H9,Secteurs!$A$4:$C$6,3) -> Prince MBOUSSA | J9: 0.5 | O9: 0.5 | P9: =+$E9*J9 -> 101.5 | Q9: =+$E9*K9 -> 0 | R9: =+$E9*L9 -> 0 | S9: =+$E9*M9 -> 0 | T9: =+$E9*N9 -> 0 | U9: =+$E9*O9 -> 101.5 | V9: =SUM(P9:U9) -> 203 | W9: Patron absent | X9: =+V9-E9 -> 0
A10: =+IF(D10>0,1,0) -> 1 | B10: Salam ( Ex EL MABROUCK) | D10: 38 | E10: =D10*7 -> 266 | F10: 46029 | G10: =+IF(A10=1,(+TODAY())-F10,"Sans objet") -> 279 | H10: 2 | I10: =VLOOKUP(H10,Secteurs!$A$4:$C$6,3) -> Prince MBOUSSA | J10: 0.5 | O10: 0.5 | P10: =+$E10*J10 -> 133 | Q10: =+$E10*K10 -> 0 | R10: =+$E10*L10 -> 0 | S10: =+$E10*M10 -> 0 | T10: =+$E10*N10 -> 0 | U10: =+$E10*O10 -> 133 | V10: =SUM(P10:U10) -> 266 | W10: A un compte, préfere distributeur | X10: =+V10-E10 -> 0
A11: =+IF(D11>0,1,0) -> 1 | B11: BAS PRIX (ex moderne nkombo) | C11: Cash | D11: 36 | E11: =D11*7 -> 252 | F11: 46027 | G11: =+IF(A11=1,(+TODAY())-F11,"Sans objet") -> 281 | H11: 3 | I11: =VLOOKUP(H11,Secteurs!$A$4:$C$6,3) -> Arnaud ITOUA | J11: 0.5 | O11: 0.5 | P11: =+$E11*J11 -> 126 | Q11: =+$E11*K11 -> 0 | R11: =+$E11*L11 -> 0 | S11: =+$E11*M11 -> 0 | T11: =+$E11*N11 -> 0 | U11: =+$E11*O11 -> 126 | V11: =SUM(P11:U11) -> 252 | W11: intéressé, passage debut septembre | X11: =+V11-E11 -> 0
A12: =+IF(D12>0,1,0) -> 1 | B12: COMUS | D12: 26 | E12: =D12*7 -> 182 | F12: 46031 | G12: =+IF(A12=1,(+TODAY())-F12,"Sans objet") -> 277 | H12: 2 | I12: =VLOOKUP(H12,Secteurs!$A$4:$C$6,3) -> Prince MBOUSSA | J12: 0.5 | O12: 0.5 | P12: =+$E12*J12 -> 91 | Q12: =+$E12*K12 -> 0 | R12: =+$E12*L12 -> 0 | S12: =+$E12*M12 -> 0 | T12: =+$E12*N12 -> 0 | U12: =+$E12*O12 -> 91 | V12: =SUM(P12:U12) -> 182 | W12: A un compte, préfére distributeur | X12: =+V12-E12 -> 0
A13: =+IF(D13>0,1,0) -> 1 | B13: SALAM ( Ex PLAZZA ) | D13: 40 | E13: =D13*7 -> 280 | F13: 46028 | G13: =+IF(A13=1,(+TODAY())-F13,"Sans objet") -> 280 | H13: 1 | I13: =VLOOKUP(H13,Secteurs!$A$4:$C$6,3) -> Frisca MPASSI | J13: 0.5 | O13: 0.5 | P13: =+$E13*J13 -> 140 | Q13: =+$E13*K13 -> 0 | R13: =+$E13*L13 -> 0 | S13: =+$E13*M13 -> 0 | T13: =+$E13*N13 -> 0 | U13: =+$E13*O13 -> 140 | V13: =SUM(P13:U13) -> 280 | W13: A un compte, préfere distributeur | X13: =+V13-E13 -> 0
A14: =+IF(D14>0,1,0) -> 1 | B14: SID-SID | C14: Cash | D14: 48 | E14: =D14*7 -> 336 | F14: 46027 | G14: =+IF(A14=1,(+TODAY())-F14,"Sans objet") -> 281 | H14: 3 | I14: =VLOOKUP(H14,Secteurs!$A$4:$C$6,3) -> Arnaud ITOUA | J14: 0.5 | M14: 0.25 | O14: 0.25 | P14: =+$E14*J14 -> 168 | Q14: =+$E14*K14 -> 0 | R14: =+$E14*L14 -> 0 | S14: =+$E14*M14 -> 84 | T14: =+$E14*N14 -> 0 | U14: =+$E14*O14 -> 84 | V14: =SUM(P14:U14) -> 336 | W14: intéressé, passage debut septembre | X14: =+V14-E14 -> 0
A15: =+IF(D15>0,1,0) -> 1 | B15: NOUVELLE ESPERANCE 4 | C15: Cash | D15: 64 | E15: =D15*7 -> 448 | F15: 46031 | G15: =+IF(A15=1,(+TODAY())-F15,"Sans objet") -> 277 | H15: 2 | I15: =VLOOKUP(H15,Secteurs!$A$4:$C$6,3) -> Prince MBOUSSA | L15: 0.5 | O15: 0.5 | P15: =+$E15*J15 -> 0 | Q15: =+$E15*K15 -> 0 | R15: =+$E15*L15 -> 224 | S15: =+$E15*M15 -> 0 | T15: =+$E15*N15 -> 0 | U15: =+$E15*O15 -> 224 | V15: =SUM(P15:U15) -> 448 | W15: intéressé, passage debut septembre | X15: =+V15-E15 -> 0
A16: =+IF(D16>0,1,0) -> 1 | B16: MODERNE & ARTISANALE 1 | C16: Cash | D16: 48 | E16: =D16*7 -> 336 | F16: 46028 | G16: =+IF(A16=1,(+TODAY())-F16,"Sans objet") -> 280 | H16: 3 | I16: =VLOOKUP(H16,Secteurs!$A$4:$C$6,3) -> Arnaud ITOUA | J16: 1 | P16: =+$E16*J16 -> 336 | Q16: =+$E16*K16 -> 0 | R16: =+$E16*L16 -> 0 | S16: =+$E16*M16 -> 0 | T16: =+$E16*N16 -> 0 | U16: =+$E16*O16 -> 0 | V16: =SUM(P16:U16) -> 336 | W16: intéressé, attente ouverture de compte | X16: =+V16-E16 -> 0
A17: =+IF(D17>0,1,0) -> 1 | B17: NOUVELLE ESPERANCE 1 | C17: Cash | D17: 40 | E17: =D17*7 -> 280 | F17: 46031 | G17: =+IF(A17=1,(+TODAY())-F17,"Sans objet") -> 277 | H17: 1 | I17: =VLOOKUP(H17,Secteurs!$A$4:$C$6,3) -> Frisca MPASSI | J17: 0.5 | N17: 0.5 | P17: =+$E17*J17 -> 140 | Q17: =+$E17*K17 -> 0 | R17: =+$E17*L17 -> 0 | S17: =+$E17*M17 -> 0 | T17: =+$E17*N17 -> 140 | U17: =+$E17*O17 -> 0 | V17: =SUM(P17:U17) -> 280 | W17: intéressé, passage debut septembre | X17: =+V17-E17 -> 0
A18: =+IF(D18>0,1,0) -> 1 | B18: BEDRE NKOMBO | C18: Cash | D18: 36 | E18: =D18*7 -> 252 | F18: 46030 | G18: =+IF(A18=1,(+TODAY())-F18,"Sans objet") -> 278 | H18: 3 | I18: =VLOOKUP(H18,Secteurs!$A$4:$C$6,3) -> Arnaud ITOUA | J18: 0.5 | O18: 0.5 | P18: =+$E18*J18 -> 126 | Q18: =+$E18*K18 -> 0 | R18: =+$E18*L18 -> 0 | S18: =+$E18*M18 -> 0 | T18: =+$E18*N18 -> 0 | U18: =+$E18*O18 -> 126 | V18: =SUM(P18:U18) -> 252 | W18: A un compte, préfere distributeur( Patron absent) | X18: =+V18-E18 -> 0
A19: =+IF(D19>0,1,0) -> 1 | B19: ARTISANALE 3 ( Ex BLANCHE) | C19: Cash | D19: 38 | E19: =D19*7 -> 266 | F19: 46028 | G19: =+IF(A19=1,(+TODAY())-F19,"Sans objet") -> 280 | H19: 1 | I19: =VLOOKUP(H19,Secteurs!$A$4:$C$6,3) -> Frisca MPASSI | J19: 0.5 | O19: 0.5 | P19: =+$E19*J19 -> 133 | Q19: =+$E19*K19 -> 0 | R19: =+$E19*L19 -> 0 | S19: =+$E19*M19 -> 0 | T19: =+$E19*N19 -> 0 | U19: =+$E19*O19 -> 133 | V19: =SUM(P19:U19) -> 266 | W19: intéressé, attente ouverture de compte | X19: =+V19-E19 -> 0
A20: =+IF(D20>0,1,0) -> 1 | B20: Brazza Moderne 1 | C20: Dette | D20: 46 | E20: =D20*7 -> 322 | F20: 46031 | G20: =+IF(A20=1,(+TODAY())-F20,"Sans objet") -> 277 | H20: 3 | I20: =VLOOKUP(H20,Secteurs!$A$4:$C$6,3) -> Arnaud ITOUA | J20: 0.5 | N20: 0.25 | O20: 0.25 | P20: =+$E20*J20 -> 161 | Q20: =+$E20*K20 -> 0 | R20: =+$E20*L20 -> 0 | S20: =+$E20*M20 -> 0 | T20: =+$E20*N20 -> 80.5 | U20: =+$E20*O20 -> 80.5 | V20: =SUM(P20:U20) -> 322 | W20: préfere distributeur | X20: =+V20-E20 -> 0
A21: =+IF(D21>0,1,0) -> 1 | B21: MODERNE & ARTISANALE 2 | C21: Cash | D21: 50 | E21: =D21*7 -> 350 | F21: 46028 | G21: =+IF(A21=1,(+TODAY())-F21,"Sans objet") -> 280 | H21: 3 | I21: =VLOOKUP(H21,Secteurs!$A$4:$C$6,3) -> Arnaud ITOUA | J21: 1 | P21: =+$E21*J21 -> 350 | Q21: =+$E21*K21 -> 0 | R21: =+$E21*L21 -> 0 | S21: =+$E21*M21 -> 0 | T21: =+$E21*N21 -> 0 | U21: =+$E21*O21 -> 0 | V21: =SUM(P21:U21) -> 350 | W21: intéressé, attente ouverture de compte | X21: =+V21-E21 -> 0
A22: =+IF(D22>0,1,0) -> 1 | B22: SAHA(ex fournil) | C22: Cash | D22: 32 | E22: =D22*7 -> 224 | F22: 46031 | G22: =+IF(A22=1,(+TODAY())-F22,"Sans objet") -> 277 | H22: 1 | I22: =VLOOKUP(H22,Secteurs!$A$4:$C$6,3) -> Frisca MPASSI | J22: 0.5 | O22: 0.5 | P22: =+$E22*J22 -> 112 | Q22: =+$E22*K22 -> 0 | R22: =+$E22*L22 -> 0 | S22: =+$E22*M22 -> 0 | T22: =+$E22*N22 -> 0 | U22: =+$E22*O22 -> 112 | V22: =SUM(P22:U22) -> 224 | W22: intéressé, achat Week 33 | X22: =+V22-E22 -> 0
A23: =+IF(D23>0,1,0) -> 1 | B23: Paris Pain | D23: 48 | E23: =D23*7 -> 336 | F23: 46031 | G23: =+IF(A23=1,(+TODAY())-F23,"Sans objet") -> 277 | H23: 2 | I23: =VLOOKUP(H23,Secteurs!$A$4:$C$6,3) -> Prince MBOUSSA | J23: 0.5 | O23: 0.5 | P23: =+$E23*J23 -> 168 | Q23: =+$E23*K23 -> 0 | R23: =+$E23*L23 -> 0 | S23: =+$E23*M23 -> 0 | T23: =+$E23*N23 -> 0 | U23: =+$E23*O23 -> 168 | V23: =SUM(P23:U23) -> 336 | W23: Pas de compte, préfere distributeur | X23: =+V23-E23 -> 0
A24: =+IF(D24>0,1,0) -> 1 | B24: EL MEJID ( Ex Baraka Talangai) | C24: Crédit | D24: 38 | E24: =D24*7 -> 266 | F24: 46028 | G24: =+IF(A24=1,(+TODAY())-F24,"Sans objet") -> 280 | H24: 2 | I24: =VLOOKUP(H24,Secteurs!$A$4:$C$6,3) -> Prince MBOUSSA | J24: 0.5 | O24: 0.5 | P24: =+$E24*J24 -> 133 | Q24: =+$E24*K24 -> 0 | R24: =+$E24*L24 -> 0 | S24: =+$E24*M24 -> 0 | T24: =+$E24*N24 -> 0 | U24: =+$E24*O24 -> 133 | V24: =SUM(P24:U24) -> 266 | W24: A un compte Patron Absent | X24: =+V24-E24 -> 0
A25: =+IF(D25>0,1,0) -> 1 | B25: BRAZZA MODERNE 2 | C25: Cash | D25: 40 | E25: =D25*7 -> 280 | F25: 46027 | G25: =+IF(A25=1,(+TODAY())-F25,"Sans objet") -> 281 | H25: 1 | I25: =VLOOKUP(H25,Secteurs!$A$4:$C$6,3) -> Frisca MPASSI | J25: 0.25 | N25: 0.25 | O25: 0.5 | P25: =+$E25*J25 -> 70 | Q25: =+$E25*K25 -> 0 | R25: =+$E25*L25 -> 0 | S25: =+$E25*M25 -> 0 | T25: =+$E25*N25 -> 70 | U25: =+$E25*O25 -> 140 | V25: =SUM(P25:U25) -> 280 | W25: préfere distributeur | X25: =+V25-E25 -> 0
A26: =+IF(D26>0,1,0) -> 1 | B26: DAHI ( ex préference) | D26: 40 | E26: =D26*7 -> 280 | F26: 46028 | G26: =+IF(A26=1,(+TODAY())-F26,"Sans objet") -> 280 | H26: 2 | I26: =VLOOKUP(H26,Secteurs!$A$4:$C$6,3) -> Prince MBOUSSA | J26: 0.5 | O26: 0.5 | P26: =+$E26*J26 -> 140 | Q26: =+$E26*K26 -> 0 | R26: =+$E26*L26 -> 0 | S26: =+$E26*M26 -> 0 | T26: =+$E26*N26 -> 0 | U26: =+$E26*O26 -> 140 | V26: =SUM(P26:U26) -> 280 | W26: préfere distributeur | X26: =+V26-E26 -> 0
A27: =+IF(D27>0,1,0) -> 1 | B27: EL MANSOUR | C27: Crédit | D27: 28 | E27: =D27*7 -> 196 | F27: 46030 | G27: =+IF(A27=1,(+TODAY())-F27,"Sans objet") -> 278 | H27: 1 | I27: =VLOOKUP(H27,Secteurs!$A$4:$C$6,3) -> Frisca MPASSI | M27: 0.5 | O27: 0.5 | P27: =+$E27*J27 -> 0 | Q27: =+$E27*K27 -> 0 | R27: =+$E27*L27 -> 0 | S27: =+$E27*M27 -> 98 | T27: =+$E27*N27 -> 0 | U27: =+$E27*O27 -> 98 | V27: =SUM(P27:U27) -> 196 | W27: intéressé, passage debut septembre | X27: =+V27-E27 -> 0
A28: =+IF(D28>0,1,0) -> 1 | B28: NOUVELLE ESPERANCE 2 | C28: Cash | D28: 42 | E28: =D28*7 -> 294 | F28: 46031 | G28: =+IF(A28=1,(+TODAY())-F28,"Sans objet") -> 277 | H28: 3 | I28: =VLOOKUP(H28,Secteurs!$A$4:$C$6,3) -> Arnaud ITOUA | J28: 0.5 | N28: 0.25 | O28: 0.25 | P28: =+$E28*J28 -> 147 | Q28: =+$E28*K28 -> 0 | R28: =+$E28*L28 -> 0 | S28: =+$E28*M28 -> 0 | T28: =+$E28*N28 -> 73.5 | U28: =+$E28*O28 -> 73.5 | V28: =SUM(P28:U28) -> 294 | W28: préfere distributeur | X28: =+V28-E28 -> 0
A29: =+IF(D29>0,1,0) -> 1 | B29: MAFOUD | D29: 30 | E29: =D29*7 -> 210 | F29: 46029 | G29: =+IF(A29=1,(+TODAY())-F29,"Sans objet") -> 279 | H29: 2 | I29: =VLOOKUP(H29,Secteurs!$A$4:$C$6,3) -> Prince MBOUSSA | K29: 0.25 | L29: 0.25 | O29: 0.5 | P29: =+$E29*J29 -> 0 | Q29: =+$E29*K29 -> 52.5 | R29: =+$E29*L29 -> 52.5 | S29: =+$E29*M29 -> 0 | T29: =+$E29*N29 -> 0 | U29: =+$E29*O29 -> 105 | V29: =SUM(P29:U29) -> 210 | W29: pas de compte, (Maman fanta) | X29: =+V29-E29 -> 0
A30: =+IF(D30>0,1,0) -> 1 | B30: MANE | D30: 40 | E30: =D30*7 -> 280 | F30: 46027 | G30: =+IF(A30=1,(+TODAY())-F30,"Sans objet") -> 281 | H30: 3 | I30: =VLOOKUP(H30,Secteurs!$A$4:$C$6,3) -> Arnaud ITOUA | J30: 0.5 | O30: 0.5 | P30: =+$E30*J30 -> 140 | Q30: =+$E30*K30 -> 0 | R30: =+$E30*L30 -> 0 | S30: =+$E30*M30 -> 0 | T30: =+$E30*N30 -> 0 | U30: =+$E30*O30 -> 140 | V30: =SUM(P30:U30) -> 280 | W30: Pas de compte, préfere distributeur | X30: =+V30-E30 -> 0
A31: =+IF(D31>0,1,0) -> 1 | B31: REVES 2 | D31: 26 | E31: =D31*7 -> 182 | F31: 46030 | G31: =+IF(A31=1,(+TODAY())-F31,"Sans objet") -> 278 | H31: 3 | I31: =VLOOKUP(H31,Secteurs!$A$4:$C$6,3) -> Arnaud ITOUA | J31: 0.5 | O31: 0.5 | P31: =+$E31*J31 -> 91 | Q31: =+$E31*K31 -> 0 | R31: =+$E31*L31 -> 0 | S31: =+$E31*M31 -> 0 | T31: =+$E31*N31 -> 0 | U31: =+$E31*O31 -> 91 | V31: =SUM(P31:U31) -> 182 | W31: A un compte Patron Absent | X31: =+V31-E31 -> 0
A32: =+IF(D32>0,1,0) -> 1 | B32: SAVANA NKOMBO | C32: Cash | D32: 32 | E32: =D32*7 -> 224 | F32: 46027 | G32: =+IF(A32=1,(+TODAY())-F32,"Sans objet") -> 281 | H32: 3 | I32: =VLOOKUP(H32,Secteurs!$A$4:$C$6,3) -> Arnaud ITOUA | N32: 0.5 | O32: 0.5 | P32: =+$E32*J32 -> 0 | Q32: =+$E32*K32 -> 0 | R32: =+$E32*L32 -> 0 | S32: =+$E32*M32 -> 0 | T32: =+$E32*N32 -> 112 | U32: =+$E32*O32 -> 112 | V32: =SUM(P32:U32) -> 224 | W32: intéressé, courant septembre | X32: =+V32-E32 -> 0
A33: =+IF(D33>0,1,0) -> 1 | B33: SD1 CARREFOUR | C33: Crédit | D33: 42 | E33: =D33*7 -> 294 | F33: 46028 | G33: =+IF(A33=1,(+TODAY())-F33,"Sans objet") -> 280 | H33: 3 | I33: =VLOOKUP(H33,Secteurs!$A$4:$C$6,3) -> Arnaud ITOUA | J33: 0.5 | O33: 0.5 | P33: =+$E33*J33 -> 147 | Q33: =+$E33*K33 -> 0 | R33: =+$E33*L33 -> 0 | S33: =+$E33*M33 -> 0 | T33: =+$E33*N33 -> 0 | U33: =+$E33*O33 -> 147 | V33: =SUM(P33:U33) -> 294 | W33: distributeur | X33: =+V33-E33 -> 0
A34: =+IF(D34>0,1,0) -> 1 | B34: ALMADINA (bama) | D34: 32 | E34: =D34*7 -> 224 | F34: 46030 | G34: =+IF(A34=1,(+TODAY())-F34,"Sans objet") -> 278 | H34: 1 | I34: =VLOOKUP(H34,Secteurs!$A$4:$C$6,3) -> Frisca MPASSI | J34: 0.5 | O34: 0.5 | P34: =+$E34*J34 -> 112 | Q34: =+$E34*K34 -> 0 | R34: =+$E34*L34 -> 0 | S34: =+$E34*M34 -> 0 | T34: =+$E34*N34 -> 0 | U34: =+$E34*O34 -> 112 | V34: =SUM(P34:U34) -> 224 | W34: A un compte, préfére distributeur | X34: =+V34-E34 -> 0
A35: =+IF(D35>0,1,0) -> 1 | B35: BONNE CHANCE 4 | C35: Crédit | D35: 32 | E35: =D35*7 -> 224 | F35: 46028 | G35: =+IF(A35=1,(+TODAY())-F35,"Sans objet") -> 280 | H35: 2 | I35: =VLOOKUP(H35,Secteurs!$A$4:$C$6,3) -> Prince MBOUSSA | N35: 0.5 | O35: 0.5 | P35: =+$E35*J35 -> 0 | Q35: =+$E35*K35 -> 0 | R35: =+$E35*L35 -> 0 | S35: =+$E35*M35 -> 0 | T35: =+$E35*N35 -> 112 | U35: =+$E35*O35 -> 112 | V35: =SUM(P35:U35) -> 224 | W35: intéréssé, en attente du plafond | X35: =+V35-E35 -> 0
A36: =+IF(D36>0,1,0) -> 1 | B36: DAHI (ex bab elkheire) | D36: 28 | E36: =D36*7 -> 196 | F36: 46028 | G36: =+IF(A36=1,(+TODAY())-F36,"Sans objet") -> 280 | H36: 3 | I36: =VLOOKUP(H36,Secteurs!$A$4:$C$6,3) -> Arnaud ITOUA | J36: 0.5 | O36: 0.5 | P36: =+$E36*J36 -> 98 | Q36: =+$E36*K36 -> 0 | R36: =+$E36*L36 -> 0 | S36: =+$E36*M36 -> 0 | T36: =+$E36*N36 -> 0 | U36: =+$E36*O36 -> 98 | V36: =SUM(P36:U36) -> 196 | W36: préfere distributeur | X36: =+V36-E36 -> 0
A37: =+IF(D37>0,1,0) -> 1 | B37: ETOILE DE KINTELE 1 | D37: 26 | E37: =D37*7 -> 182 | F37: 46030 | G37: =+IF(A37=1,(+TODAY())-F37,"Sans objet") -> 278 | H37: 3 | I37: =VLOOKUP(H37,Secteurs!$A$4:$C$6,3) -> Arnaud ITOUA | J37: 0.5 | O37: 0.5 | P37: =+$E37*J37 -> 91 | Q37: =+$E37*K37 -> 0 | R37: =+$E37*L37 -> 0 | S37: =+$E37*M37 -> 0 | T37: =+$E37*N37 -> 0 | U37: =+$E37*O37 -> 91 | V37: =SUM(P37:U37) -> 182 | W37: Pas de compte, préfere distributeur | X37: =+V37-E37 -> 0
A38: =+IF(D38>0,1,0) -> 1 | B38: ETOILE DE KINTELE 2 | D38: 24 | E38: =D38*7 -> 168 | F38: 46030 | G38: =+IF(A38=1,(+TODAY())-F38,"Sans objet") -> 278 | H38: 3 | I38: =VLOOKUP(H38,Secteurs!$A$4:$C$6,3) -> Arnaud ITOUA | J38: 0.5 | O38: 0.5 | P38: =+$E38*J38 -> 84 | Q38: =+$E38*K38 -> 0 | R38: =+$E38*L38 -> 0 | S38: =+$E38*M38 -> 0 | T38: =+$E38*N38 -> 0 | U38: =+$E38*O38 -> 84 | V38: =SUM(P38:U38) -> 168 | W38: Pas de compte, préfere distributeur | X38: =+V38-E38 -> 0
A39: =+IF(D39>0,1,0) -> 1 | B39: HOT BREAD MOUKONDO | D39: 38 | E39: =D39*7 -> 266 | F39: 46031 | G39: =+IF(A39=1,(+TODAY())-F39,"Sans objet") -> 277 | H39: 2 | I39: =VLOOKUP(H39,Secteurs!$A$4:$C$6,3) -> Prince MBOUSSA | J39: 0.5 | O39: 0.5 | P39: =+$E39*J39 -> 133 | Q39: =+$E39*K39 -> 0 | R39: =+$E39*L39 -> 0 | S39: =+$E39*M39 -> 0 | T39: =+$E39*N39 -> 0 | U39: =+$E39*O39 -> 133 | V39: =SUM(P39:U39) -> 266 | W39: A un compte, préfére distributeur | X39: =+V39-E39 -> 0
A40: =+IF(D40>0,1,0) -> 1 | B40: HOT BREAD1 ( Mbochi ) | D40: 40 | E40: =D40*7 -> 280 | F40: 46028 | G40: =+IF(A40=1,(+TODAY())-F40,"Sans objet") -> 280 | H40: 1 | I40: =VLOOKUP(H40,Secteurs!$A$4:$C$6,3) -> Frisca MPASSI | J40: 0.5 | O40: 0.5 | P40: =+$E40*J40 -> 140 | Q40: =+$E40*K40 -> 0 | R40: =+$E40*L40 -> 0 | S40: =+$E40*M40 -> 0 | T40: =+$E40*N40 -> 0 | U40: =+$E40*O40 -> 140 | V40: =SUM(P40:U40) -> 280 | W40: A un compte, préfére distributeur | X40: =+V40-E40 -> 0
A41: =+IF(D41>0,1,0) -> 1 | B41: BONNE CHANCE 5( Ex Mouvida 1) | C41: Crédit | D41: 26 | E41: =D41*7 -> 182 | F41: 46031 | G41: =+IF(A41=1,(+TODAY())-F41,"Sans objet") -> 277 | H41: 3 | I41: =VLOOKUP(H41,Secteurs!$A$4:$C$6,3) -> Arnaud ITOUA | J41: 0.5 | M41: 0.25 | N41: 0.25 | P41: =+$E41*J41 -> 91 | Q41: =+$E41*K41 -> 0 | R41: =+$E41*L41 -> 0 | S41: =+$E41*M41 -> 45.5 | T41: =+$E41*N41 -> 45.5 | U41: =+$E41*O41 -> 0 | V41: =SUM(P41:U41) -> 182 | W41: intéréssé, en attente du plafond | X41: =+V41-E41 -> 0
A42: =+IF(D42>0,1,0) -> 1 | B42: OUM EL KORA(Ex NAJAH MA) | C42: Crédit | D42: 36 | E42: =D42*7 -> 252 | F42: 46027 | G42: =+IF(A42=1,(+TODAY())-F42,"Sans objet") -> 281 | H42: 1 | I42: =VLOOKUP(H42,Secteurs!$A$4:$C$6,3) -> Frisca MPASSI | J42: 0.5 | O42: 0.5 | P42: =+$E42*J42 -> 126 | Q42: =+$E42*K42 -> 0 | R42: =+$E42*L42 -> 0 | S42: =+$E42*M42 -> 0 | T42: =+$E42*N42 -> 0 | U42: =+$E42*O42 -> 126 | V42: =SUM(P42:U42) -> 252 | W42: A un compte, intéréssé | X42: =+V42-E42 -> 0
A43: =+IF(D43>0,1,0) -> 1 | B43: NDH (ex PAIN VICTOIRE) | C43: Crédit | D43: 36 | E43: =D43*7 -> 252 | F43: 46027 | G43: =+IF(A43=1,(+TODAY())-F43,"Sans objet") -> 281 | H43: 3 | I43: =VLOOKUP(H43,Secteurs!$A$4:$C$6,3) -> Arnaud ITOUA | J43: 0.5 | O43: 0.5 | P43: =+$E43*J43 -> 126 | Q43: =+$E43*K43 -> 0 | R43: =+$E43*L43 -> 0 | S43: =+$E43*M43 -> 0 | T43: =+$E43*N43 -> 0 | U43: =+$E43*O43 -> 126 | V43: =SUM(P43:U43) -> 252 | W43: appartenant à Mazala | X43: =+V43-E43 -> 0
A44: =+IF(D44>0,1,0) -> 1 | B44: TIK-TOK | C44: Crédit | D44: 40 | E44: =D44*7 -> 280 | F44: 46028 | G44: =+IF(A44=1,(+TODAY())-F44,"Sans objet") -> 280 | H44: 2 | I44: =VLOOKUP(H44,Secteurs!$A$4:$C$6,3) -> Prince MBOUSSA | J44: 0.5 | M44: 0.5 | P44: =+$E44*J44 -> 140 | Q44: =+$E44*K44 -> 0 | R44: =+$E44*L44 -> 0 | S44: =+$E44*M44 -> 140 | T44: =+$E44*N44 -> 0 | U44: =+$E44*O44 -> 0 | V44: =SUM(P44:U44) -> 280 | W44: appartenant à Mazala | X44: =+V44-E44 -> 0
A45: =+IF(D45>0,1,0) -> 1 | B45: D.A.H ( Bon Vivre) | D45: 28 | E45: =D45*7 -> 196 | F45: 46030 | G45: =+IF(A45=1,(+TODAY())-F45,"Sans objet") -> 278 | H45: 1 | I45: =VLOOKUP(H45,Secteurs!$A$4:$C$6,3) -> Frisca MPASSI | J45: 0.5 | O45: 0.5 | P45: =+$E45*J45 -> 98 | Q45: =+$E45*K45 -> 0 | R45: =+$E45*L45 -> 0 | S45: =+$E45*M45 -> 0 | T45: =+$E45*N45 -> 0 | U45: =+$E45*O45 -> 98 | V45: =SUM(P45:U45) -> 196 | W45: pas de compte, préfére distributeur | X45: =+V45-E45 -> 0
A46: =+IF(D46>0,1,0) -> 1 | B46: FORAGE | D46: 28 | E46: =D46*7 -> 196 | F46: 46030 | G46: =+IF(A46=1,(+TODAY())-F46,"Sans objet") -> 278 | H46: 1 | I46: =VLOOKUP(H46,Secteurs!$A$4:$C$6,3) -> Frisca MPASSI | L46: 0.5 | O46: 0.5 | P46: =+$E46*J46 -> 0 | Q46: =+$E46*K46 -> 0 | R46: =+$E46*L46 -> 98 | S46: =+$E46*M46 -> 0 | T46: =+$E46*N46 -> 0 | U46: =+$E46*O46 -> 98 | V46: =SUM(P46:U46) -> 196 | W46: Pas de compte | X46: =+V46-E46 -> 0
A47: =+IF(D47>0,1,0) -> 1 | B47: BABA-EL (Nganga lingolo Djoue ) | C47: Crédit | D47: 28 | E47: =D47*7 -> 196 | F47: 46031 | G47: =+IF(A47=1,(+TODAY())-F47,"Sans objet") -> 277 | H47: 1 | I47: =VLOOKUP(H47,Secteurs!$A$4:$C$6,3) -> Frisca MPASSI | J47: 0.5 | M47: 0.25 | O47: 0.25 | P47: =+$E47*J47 -> 98 | Q47: =+$E47*K47 -> 0 | R47: =+$E47*L47 -> 0 | S47: =+$E47*M47 -> 49 | T47: =+$E47*N47 -> 0 | U47: =+$E47*O47 -> 49 | V47: =SUM(P47:U47) -> 196 | W47: Intéréssé, Achat août 1000 sacs | X47: =+V47-E47 -> 0
A48: =+IF(D48>0,1,0) -> 1 | B48: EL BARAKA 2024 | C48: Crédit | D48: 26 | E48: =D48*7 -> 182 | F48: 46030 | G48: =+IF(A48=1,(+TODAY())-F48,"Sans objet") -> 278 | H48: 3 | I48: =VLOOKUP(H48,Secteurs!$A$4:$C$6,3) -> Arnaud ITOUA | J48: 0.5 | O48: 0.5 | P48: =+$E48*J48 -> 91 | Q48: =+$E48*K48 -> 0 | R48: =+$E48*L48 -> 0 | S48: =+$E48*M48 -> 0 | T48: =+$E48*N48 -> 0 | U48: =+$E48*O48 -> 91 | V48: =SUM(P48:U48) -> 182 | W48: A un compte Patron Absent | X48: =+V48-E48 -> 0
A49: =+IF(D49>0,1,0) -> 1 | B49: DORA MAYA | C49: Crédit | D49: 48 | E49: =D49*7 -> 336 | F49: 46031 | G49: =+IF(A49=1,(+TODAY())-F49,"Sans objet") -> 277 | H49: 2 | I49: =VLOOKUP(H49,Secteurs!$A$4:$C$6,3) -> Prince MBOUSSA | J49: 0.5 | M49: 0.5 | P49: =+$E49*J49 -> 168 | Q49: =+$E49*K49 -> 0 | R49: =+$E49*L49 -> 0 | S49: =+$E49*M49 -> 168 | T49: =+$E49*N49 -> 0 | U49: =+$E49*O49 -> 0 | V49: =SUM(P49:U49) -> 336 | W49: appartenant à Mazala | X49: =+V49-E49 -> 0
A50: =+IF(D50>0,1,0) -> 1 | B50: EL BARAKA makabandilou | C50: Crédit | D50: 26 | E50: =D50*7 -> 182 | F50: 46030 | G50: =+IF(A50=1,(+TODAY())-F50,"Sans objet") -> 278 | H50: 3 | I50: =VLOOKUP(H50,Secteurs!$A$4:$C$6,3) -> Arnaud ITOUA | J50: 0.5 | M50: 0.5 | P50: =+$E50*J50 -> 91 | Q50: =+$E50*K50 -> 0 | R50: =+$E50*L50 -> 0 | S50: =+$E50*M50 -> 91 | T50: =+$E50*N50 -> 0 | U50: =+$E50*O50 -> 0 | V50: =SUM(P50:U50) -> 182 | W50: A un compte Patron Absent | X50: =+V50-E50 -> 0
A51: =+IF(D51>0,1,0) -> 1 | B51: ELWAHVA | D51: 48 | E51: =D51*7 -> 336 | F51: 46031 | G51: =+IF(A51=1,(+TODAY())-F51,"Sans objet") -> 277 | H51: 2 | I51: =VLOOKUP(H51,Secteurs!$A$4:$C$6,3) -> Prince MBOUSSA | J51: 0.25 | N51: 0.5 | O51: 0.25 | P51: =+$E51*J51 -> 84 | Q51: =+$E51*K51 -> 0 | R51: =+$E51*L51 -> 0 | S51: =+$E51*M51 -> 0 | T51: =+$E51*N51 -> 168 | U51: =+$E51*O51 -> 84 | V51: =SUM(P51:U51) -> 336 | W51: Pas de compte patron absent | X51: =+V51-E51 -> 0
A52: =+IF(D52>0,1,0) -> 1 | B52: ESCALE | C52: Crédit | D52: 28 | E52: =D52*7 -> 196 | F52: 46027 | G52: =+IF(A52=1,(+TODAY())-F52,"Sans objet") -> 281 | H52: 3 | I52: =VLOOKUP(H52,Secteurs!$A$4:$C$6,3) -> Arnaud ITOUA | J52: 0.5 | N52: 0.5 | P52: =+$E52*J52 -> 98 | Q52: =+$E52*K52 -> 0 | R52: =+$E52*L52 -> 0 | S52: =+$E52*M52 -> 0 | T52: =+$E52*N52 -> 98 | U52: =+$E52*O52 -> 0 | V52: =SUM(P52:U52) -> 196 | W52: intéréssé, achat août 500 sacs | X52: =+V52-E52 -> 0
A53: =+IF(D53>0,1,0) -> 1 | B53: FIRDAWS 1 | C53: Crédit | D53: 24 | E53: =D53*7 -> 168 | F53: 46027 | G53: =+IF(A53=1,(+TODAY())-F53,"Sans objet") -> 281 | H53: 3 | I53: =VLOOKUP(H53,Secteurs!$A$4:$C$6,3) -> Arnaud ITOUA | N53: 0.5 | O53: 0.5 | P53: =+$E53*J53 -> 0 | Q53: =+$E53*K53 -> 0 | R53: =+$E53*L53 -> 0 | S53: =+$E53*M53 -> 0 | T53: =+$E53*N53 -> 84 | U53: =+$E53*O53 -> 84 | V53: =SUM(P53:U53) -> 168 | W53: Intéréssé, debut septembre | X53: =+V53-E53 -> 0
A54: =+IF(D54>0,1,0) -> 1 | B54: MARCHE DJIRI ( ext ESCALE ) | D54: 28 | E54: =D54*7 -> 196 | F54: 46030 | G54: =+IF(A54=1,(+TODAY())-F54,"Sans objet") -> 278 | H54: 3 | I54: =VLOOKUP(H54,Secteurs!$A$4:$C$6,3) -> Arnaud ITOUA | J54: 0.5 | M54: 0.25 | N54: 0.25 | P54: =+$E54*J54 -> 98 | Q54: =+$E54*K54 -> 0 | R54: =+$E54*L54 -> 0 | S54: =+$E54*M54 -> 49 | T54: =+$E54*N54 -> 49 | U54: =+$E54*O54 -> 0 | V54: =SUM(P54:U54) -> 196 | W54: intéréssé, (Cpte Escale) | X54: =+V54-E54 -> 0
A55: =+IF(D55>0,1,0) -> 1 | B55: SALAM( Ex MODERNE AV France) | C55: Crédit | D55: 36 | E55: =D55*7 -> 252 | F55: 46029 | G55: =+IF(A55=1,(+TODAY())-F55,"Sans objet") -> 279 | H55: 2 | I55: =VLOOKUP(H55,Secteurs!$A$4:$C$6,3) -> Prince MBOUSSA | J55: 0.5 | O55: 0.5 | P55: =+$E55*J55 -> 126 | Q55: =+$E55*K55 -> 0 | R55: =+$E55*L55 -> 0 | S55: =+$E55*M55 -> 0 | T55: =+$E55*N55 -> 0 | U55: =+$E55*O55 -> 126 | V55: =SUM(P55:U55) -> 252 | W55: A un compte, préfére distributeur | X55: =+V55-E55 -> 0
A56: =+IF(D56>0,1,0) -> 1 | B56: MSB | C56: Cash | D56: 24 | E56: =D56*7 -> 168 | F56: 46028 | G56: =+IF(A56=1,(+TODAY())-F56,"Sans objet") -> 280 | H56: 3 | I56: =VLOOKUP(H56,Secteurs!$A$4:$C$6,3) -> Arnaud ITOUA | J56: 0.5 | O56: 0.5 | P56: =+$E56*J56 -> 84 | Q56: =+$E56*K56 -> 0 | R56: =+$E56*L56 -> 0 | S56: =+$E56*M56 -> 0 | T56: =+$E56*N56 -> 0 | U56: =+$E56*O56 -> 84 | V56: =SUM(P56:U56) -> 168 | W56: Intéréssé, debut septembre | X56: =+V56-E56 -> 0
A57: =+IF(D57>0,1,0) -> 1 | B57: SABANA ( Ex PUZZLE) | C57: Crédit | D57: 44 | E57: =D57*7 -> 308 | F57: 46031 | G57: =+IF(A57=1,(+TODAY())-F57,"Sans objet") -> 277 | H57: 2 | I57: =VLOOKUP(H57,Secteurs!$A$4:$C$6,3) -> Prince MBOUSSA | J57: 0.5 | N57: 0.25 | O57: 0.25 | P57: =+$E57*J57 -> 154 | Q57: =+$E57*K57 -> 0 | R57: =+$E57*L57 -> 0 | S57: =+$E57*M57 -> 0 | T57: =+$E57*N57 -> 77 | U57: =+$E57*O57 -> 77 | V57: =SUM(P57:U57) -> 308 | W57: préfere distributeur | X57: =+V57-E57 -> 0
A58: =+IF(D58>0,1,0) -> 1 | B58: REVES 3 | D58: 26 | E58: =D58*7 -> 182 | F58: 46030 | G58: =+IF(A58=1,(+TODAY())-F58,"Sans objet") -> 278 | H58: 3 | I58: =VLOOKUP(H58,Secteurs!$A$4:$C$6,3) -> Arnaud ITOUA | J58: 0.5 | O58: 0.5 | P58: =+$E58*J58 -> 91 | Q58: =+$E58*K58 -> 0 | R58: =+$E58*L58 -> 0 | S58: =+$E58*M58 -> 0 | T58: =+$E58*N58 -> 0 | U58: =+$E58*O58 -> 91 | V58: =SUM(P58:U58) -> 182 | W58: A un compte Patron Absent | X58: =+V58-E58 -> 0
A59: =+IF(D59>0,1,0) -> 1 | B59: TEYBA | C59: Cash | D59: 28 | E59: =D59*7 -> 196 | F59: 46030 | G59: =+IF(A59=1,(+TODAY())-F59,"Sans objet") -> 278 | H59: 1 | I59: =VLOOKUP(H59,Secteurs!$A$4:$C$6,3) -> Frisca MPASSI | L59: 0.25 | N59: 0.25 | O59: 0.5 | P59: =+$E59*J59 -> 0 | Q59: =+$E59*K59 -> 0 | R59: =+$E59*L59 -> 49 | S59: =+$E59*M59 -> 0 | T59: =+$E59*N59 -> 49 | U59: =+$E59*O59 -> 98 | V59: =SUM(P59:U59) -> 196 | W59: Intéréssé, (Cpte Elkheire) | X59: =+V59-E59 -> 0
A60: =+IF(D60>0,1,0) -> 1 | B60: Bonne Chance 1 (Digeco) | C60: Crédit | D60: 28 | E60: =D60*7 -> 196 | F60: 46031 | G60: =+IF(A60=1,(+TODAY())-F60,"Sans objet") -> 277 | H60: 2 | I60: =VLOOKUP(H60,Secteurs!$A$4:$C$6,3) -> Prince MBOUSSA | J60: 0.5 | M60: 0.5 | P60: =+$E60*J60 -> 98 | Q60: =+$E60*K60 -> 0 | R60: =+$E60*L60 -> 0 | S60: =+$E60*M60 -> 98 | T60: =+$E60*N60 -> 0 | U60: =+$E60*O60 -> 0 | V60: =SUM(P60:U60) -> 196 | W60: Intéréssé | X60: =+V60-E60 -> 0
A61: =+IF(D61>0,1,0) -> 1 | B61: ND 2 BIFOUITI | C61: Crédit | D61: 28 | E61: =D61*7 -> 196 | F61: 46031 | G61: =+IF(A61=1,(+TODAY())-F61,"Sans objet") -> 277 | H61: 1 | I61: =VLOOKUP(H61,Secteurs!$A$4:$C$6,3) -> Frisca MPASSI | N61: 0.5 | O61: 0.5 | P61: =+$E61*J61 -> 0 | Q61: =+$E61*K61 -> 0 | R61: =+$E61*L61 -> 0 | S61: =+$E61*M61 -> 0 | T61: =+$E61*N61 -> 98 | U61: =+$E61*O61 -> 98 | V61: =SUM(P61:U61) -> 196 | W61: Intéréssé, debut septembre | X61: =+V61-E61 -> 0
A62: =+IF(D62>0,1,0) -> 1 | B62: ND1 | C62: Crédit | D62: 28 | E62: =D62*7 -> 196 | F62: 46030 | G62: =+IF(A62=1,(+TODAY())-F62,"Sans objet") -> 278 | H62: 1 | I62: =VLOOKUP(H62,Secteurs!$A$4:$C$6,3) -> Frisca MPASSI | J62: 0.5 | M62: 0.25 | O62: 0.25 | P62: =+$E62*J62 -> 98 | Q62: =+$E62*K62 -> 0 | R62: =+$E62*L62 -> 0 | S62: =+$E62*M62 -> 49 | T62: =+$E62*N62 -> 0 | U62: =+$E62*O62 -> 49 | V62: =SUM(P62:U62) -> 196 | W62: Intéréssé, debut septembre | X62: =+V62-E62 -> 0
A63: =+IF(D63>0,1,0) -> 1 | B63: ND 3 PK | C63: Crédit | D63: 28 | E63: =D63*7 -> 196 | F63: 46030 | G63: =+IF(A63=1,(+TODAY())-F63,"Sans objet") -> 278 | H63: 1 | I63: =VLOOKUP(H63,Secteurs!$A$4:$C$6,3) -> Frisca MPASSI | N63: 1 | P63: =+$E63*J63 -> 0 | Q63: =+$E63*K63 -> 0 | R63: =+$E63*L63 -> 0 | S63: =+$E63*M63 -> 0 | T63: =+$E63*N63 -> 196 | U63: =+$E63*O63 -> 0 | V63: =SUM(P63:U63) -> 196 | W63: Intéréssé, debut septembre | X63: =+V63-E63 -> 0
A64: =+IF(D64>0,1,0) -> 1 | B64: BENEDICTION NGAMAKOSSO | C64: Crédit | D64: 42 | E64: =D64*7 -> 294 | F64: 46031 | G64: =+IF(A64=1,(+TODAY())-F64,"Sans objet") -> 277 | H64: 3 | I64: =VLOOKUP(H64,Secteurs!$A$4:$C$6,3) -> Arnaud ITOUA | J64: 0.5 | N64: 0.25 | O64: 0.25 | P64: =+$E64*J64 -> 147 | Q64: =+$E64*K64 -> 0 | R64: =+$E64*L64 -> 0 | S64: =+$E64*M64 -> 0 | T64: =+$E64*N64 -> 73.5 | U64: =+$E64*O64 -> 73.5 | V64: =SUM(P64:U64) -> 294 | W64: distributeur (SALECK) | X64: =+V64-E64 -> 0
A65: =+IF(D65>0,1,0) -> 1 | B65: BONNE CHANCE 2 | C65: Crédit | D65: 25 | E65: =D65*7 -> 175 | F65: 46031 | G65: =+IF(A65=1,(+TODAY())-F65,"Sans objet") -> 277 | H65: 1 | I65: =VLOOKUP(H65,Secteurs!$A$4:$C$6,3) -> Frisca MPASSI | J65: 0.5 | M65: 0.25 | O65: 0.25 | P65: =+$E65*J65 -> 87.5 | Q65: =+$E65*K65 -> 0 | R65: =+$E65*L65 -> 0 | S65: =+$E65*M65 -> 43.75 | T65: =+$E65*N65 -> 0 | U65: =+$E65*O65 -> 43.75 | V65: =SUM(P65:U65) -> 175 | W65: Intéréssé | X65: =+V65-E65 -> 0
A66: =+IF(D66>0,1,0) -> 1 | B66: BIFOUITI ( Ex BRAZZA 2005 ) | C66: Crédit | D66: 28 | E66: =D66*7 -> 196 | F66: 46031 | G66: =+IF(A66=1,(+TODAY())-F66,"Sans objet") -> 277 | H66: 1 | I66: =VLOOKUP(H66,Secteurs!$A$4:$C$6,3) -> Frisca MPASSI | J66: 0.5 | O66: 0.5 | P66: =+$E66*J66 -> 98 | Q66: =+$E66*K66 -> 0 | R66: =+$E66*L66 -> 0 | S66: =+$E66*M66 -> 0 | T66: =+$E66*N66 -> 0 | U66: =+$E66*O66 -> 98 | V66: =SUM(P66:U66) -> 196 | W66: Intéréssé, Achat août 1000 sacs | X66: =+V66-E66 -> 0
A67: =+IF(D67>0,1,0) -> 1 | B67: ILYAS EX KIGOUARIE | C67: Crédit | D67: 26 | E67: =D67*7 -> 182 | F67: 46030 | G67: =+IF(A67=1,(+TODAY())-F67,"Sans objet") -> 278 | H67: 1 | I67: =VLOOKUP(H67,Secteurs!$A$4:$C$6,3) -> Frisca MPASSI | J67: 0.5 | O67: 0.5 | P67: =+$E67*J67 -> 91 | Q67: =+$E67*K67 -> 0 | R67: =+$E67*L67 -> 0 | S67: =+$E67*M67 -> 0 | T67: =+$E67*N67 -> 0 | U67: =+$E67*O67 -> 91 | V67: =SUM(P67:U67) -> 182 | W67: Intéréssé, passage septembre | X67: =+V67-E67 -> 0
A68: =+IF(D68>0,1,0) -> 1 | B68: Paris Baguette (Ex KEITA BF) | C68: Crédit | D68: 44 | E68: =D68*7 -> 308 | F68: 46030 | G68: =+IF(A68=1,(+TODAY())-F68,"Sans objet") -> 278 | H68: 2 | I68: =VLOOKUP(H68,Secteurs!$A$4:$C$6,3) -> Prince MBOUSSA | K68: 0.25 | M68: 0.25 | O68: 0.5 | P68: =+$E68*J68 -> 0 | Q68: =+$E68*K68 -> 77 | R68: =+$E68*L68 -> 0 | S68: =+$E68*M68 -> 77 | T68: =+$E68*N68 -> 0 | U68: =+$E68*O68 -> 154 | V68: =SUM(P68:U68) -> 308 | W68: Pas de compte | X68: =+V68-E68 -> 0
A69: =+IF(D69>0,1,0) -> 1 | B69: LA CONGOLAISE 1 (Ouenze) | D69: 24 | E69: =D69*7 -> 168 | F69: 46029 | G69: =+IF(A69=1,(+TODAY())-F69,"Sans objet") -> 279 | H69: 2 | I69: =VLOOKUP(H69,Secteurs!$A$4:$C$6,3) -> Prince MBOUSSA | O69: 1 | P69: =+$E69*J69 -> 0 | Q69: =+$E69*K69 -> 0 | R69: =+$E69*L69 -> 0 | S69: =+$E69*M69 -> 0 | T69: =+$E69*N69 -> 0 | U69: =+$E69*O69 -> 168 | V69: =SUM(P69:U69) -> 168 | W69: Pas de compte, en discussion | X69: =+V69-E69 -> 0
A70: =+IF(D70>0,1,0) -> 1 | B70: LA GLOIRE MAYANGA B52 | D70: 28 | E70: =D70*7 -> 196 | F70: 46028 | G70: =+IF(A70=1,(+TODAY())-F70,"Sans objet") -> 280 | H70: 1 | I70: =VLOOKUP(H70,Secteurs!$A$4:$C$6,3) -> Frisca MPASSI | J70: 0.5 | M70: 0.25 | O70: 0.25 | P70: =+$E70*J70 -> 98 | Q70: =+$E70*K70 -> 0 | R70: =+$E70*L70 -> 0 | S70: =+$E70*M70 -> 49 | T70: =+$E70*N70 -> 0 | U70: =+$E70*O70 -> 49 | V70: =SUM(P70:U70) -> 196 | W70: intéréssé, achat août 1000 sacs | X70: =+V70-E70 -> 0
A71: =+IF(D71>0,1,0) -> 1 | B71: Bonne Chance 6 (Ex MOUVIDA 2 ) | D71: 25 | E71: =D71*7 -> 175 | F71: 46031 | G71: =+IF(A71=1,(+TODAY())-F71,"Sans objet") -> 277 | H71: 1 | I71: =VLOOKUP(H71,Secteurs!$A$4:$C$6,3) -> Frisca MPASSI | L71: 0.25 | N71: 0.25 | O71: 0.5 | P71: =+$E71*J71 -> 0 | Q71: =+$E71*K71 -> 0 | R71: =+$E71*L71 -> 43.75 | S71: =+$E71*M71 -> 0 | T71: =+$E71*N71 -> 43.75 | U71: =+$E71*O71 -> 87.5 | V71: =SUM(P71:U71) -> 175 | W71: Intéréssé | X71: =+V71-E71 -> 0
A72: =+IF(D72>0,1,0) -> 1 | B72: Takwa ( Ex Nationale Mkdo) | D72: 28 | E72: =D72*7 -> 196 | F72: 46031 | G72: =+IF(A72=1,(+TODAY())-F72,"Sans objet") -> 277 | H72: 2 | I72: =VLOOKUP(H72,Secteurs!$A$4:$C$6,3) -> Prince MBOUSSA | J72: 0.5 | O72: 0.5 | P72: =+$E72*J72 -> 98 | Q72: =+$E72*K72 -> 0 | R72: =+$E72*L72 -> 0 | S72: =+$E72*M72 -> 0 | T72: =+$E72*N72 -> 0 | U72: =+$E72*O72 -> 98 | V72: =SUM(P72:U72) -> 196 | W72: préfere distributeur | X72: =+V72-E72 -> 0
A73: =+IF(D73>0,1,0) -> 1 | B73: RIM D'OR 1 | C73: Cash | D73: 28 | E73: =D73*7 -> 196 | F73: 46031 | G73: =+IF(A73=1,(+TODAY())-F73,"Sans objet") -> 277 | H73: 1 | I73: =VLOOKUP(H73,Secteurs!$A$4:$C$6,3) -> Frisca MPASSI | M73: 0.5 | N73: 0.5 | P73: =+$E73*J73 -> 0 | Q73: =+$E73*K73 -> 0 | R73: =+$E73*L73 -> 0 | S73: =+$E73*M73 -> 98 | T73: =+$E73*N73 -> 98 | U73: =+$E73*O73 -> 0 | V73: =SUM(P73:U73) -> 196 | W73: intéréssé, courant septembre | X73: =+V73-E73 -> 0
A74: =+IF(D74>0,1,0) -> 1 | B74: RIM D'OR 2 | D74: 25 | E74: =D74*7 -> 175 | F74: 46031 | G74: =+IF(A74=1,(+TODAY())-F74,"Sans objet") -> 277 | H74: 1 | I74: =VLOOKUP(H74,Secteurs!$A$4:$C$6,3) -> Frisca MPASSI | M74: 0.5 | N74: 0.5 | P74: =+$E74*J74 -> 0 | Q74: =+$E74*K74 -> 0 | R74: =+$E74*L74 -> 0 | S74: =+$E74*M74 -> 87.5 | T74: =+$E74*N74 -> 87.5 | U74: =+$E74*O74 -> 0 | V74: =SUM(P74:U74) -> 175 | W74: intéréssé, courant septembre | X74: =+V74-E74 -> 0
A75: =+IF(D75>0,1,0) -> 1 | B75: SD MASSENGO | C75: Crédit | D75: 26 | E75: =D75*7 -> 182 | F75: 46030 | G75: =+IF(A75=1,(+TODAY())-F75,"Sans objet") -> 278 | H75: 3 | I75: =VLOOKUP(H75,Secteurs!$A$4:$C$6,3) -> Arnaud ITOUA | J75: 0.5 | L75: 0.25 | N75: 0.25 | P75: =+$E75*J75 -> 91 | Q75: =+$E75*K75 -> 0 | R75: =+$E75*L75 -> 45.5 | S75: =+$E75*M75 -> 0 | T75: =+$E75*N75 -> 45.5 | U75: =+$E75*O75 -> 0 | V75: =SUM(P75:U75) -> 182 | W75: distributeur Saleck | X75: =+V75-E75 -> 0
A76: =+IF(D76>0,1,0) -> 1 | B76: SUPER CAFE | D76: 34 | E76: =D76*7 -> 238 | F76: 46031 | G76: =+IF(A76=1,(+TODAY())-F76,"Sans objet") -> 277 | H76: 2 | I76: =VLOOKUP(H76,Secteurs!$A$4:$C$6,3) -> Prince MBOUSSA | J76: 0.5 | L76: 0.25 | O76: 0.25 | P76: =+$E76*J76 -> 119 | Q76: =+$E76*K76 -> 0 | R76: =+$E76*L76 -> 59.5 | S76: =+$E76*M76 -> 0 | T76: =+$E76*N76 -> 0 | U76: =+$E76*O76 -> 59.5 | V76: =SUM(P76:U76) -> 238 | W76: intéréssé, pour septembre | X76: =+V76-E76 -> 0
A77: =+IF(D77>0,1,0) -> 1 | B77: LE BON CHOIX (Ex YESLEM) | C77: Dette | D77: 36 | E77: =D77*7 -> 252 | F77: 46028 | G77: =+IF(A77=1,(+TODAY())-F77,"Sans objet") -> 280 | H77: 3 | I77: =VLOOKUP(H77,Secteurs!$A$4:$C$6,3) -> Arnaud ITOUA | J77: 0.5 | O77: 0.5 | P77: =+$E77*J77 -> 126 | Q77: =+$E77*K77 -> 0 | R77: =+$E77*L77 -> 0 | S77: =+$E77*M77 -> 0 | T77: =+$E77*N77 -> 0 | U77: =+$E77*O77 -> 126 | V77: =SUM(P77:U77) -> 252 | W77: A un compte, en discussion avec le client | X77: =+V77-E77 -> 0
A78: =+IF(D78>0,1,0) -> 1 | B78: LA PERLE MAYANGA | D78: 25 | E78: =D78*7 -> 175 | F78: 46028 | G78: =+IF(A78=1,(+TODAY())-F78,"Sans objet") -> 280 | H78: 1 | I78: =VLOOKUP(H78,Secteurs!$A$4:$C$6,3) -> Frisca MPASSI | J78: 0.5 | M78: 0.25 | O78: 0.25 | P78: =+$E78*J78 -> 87.5 | Q78: =+$E78*K78 -> 0 | R78: =+$E78*L78 -> 0 | S78: =+$E78*M78 -> 43.75 | T78: =+$E78*N78 -> 0 | U78: =+$E78*O78 -> 43.75 | V78: =SUM(P78:U78) -> 175 | W78: Intéréssé, (cpte la Gloire) | X78: =+V78-E78 -> 0
A79: =+IF(D79>0,1,0) -> 1 | B79: LA PLAINE | C79: Crédit | D79: 38 | E79: =D79*7 -> 266 | F79: 46028 | G79: =+IF(A79=1,(+TODAY())-F79,"Sans objet") -> 280 | H79: 1 | I79: =VLOOKUP(H79,Secteurs!$A$4:$C$6,3) -> Frisca MPASSI | J79: 0.5 | O79: 0.5 | P79: =+$E79*J79 -> 133 | Q79: =+$E79*K79 -> 0 | R79: =+$E79*L79 -> 0 | S79: =+$E79*M79 -> 0 | T79: =+$E79*N79 -> 0 | U79: =+$E79*O79 -> 133 | V79: =SUM(P79:U79) -> 266 | W79: intéréssé Achat août 450 sacs | X79: =+V79-E79 -> 0
A80: =+IF(D80>0,1,0) -> 1 | B80: Bani kheire Total | D80: 28 | E80: =D80*7 -> 196 | F80: 46027 | G80: =+IF(A80=1,(+TODAY())-F80,"Sans objet") -> 281 | H80: 1 | I80: =VLOOKUP(H80,Secteurs!$A$4:$C$6,3) -> Frisca MPASSI | L80: 0.25 | M80: 0.25 | O80: 0.5 | P80: =+$E80*J80 -> 0 | Q80: =+$E80*K80 -> 0 | R80: =+$E80*L80 -> 49 | S80: =+$E80*M80 -> 49 | T80: =+$E80*N80 -> 0 | U80: =+$E80*O80 -> 98 | V80: =SUM(P80:U80) -> 196 | W80: pas de compte, préfére distributeur | X80: =+V80-E80 -> 0
A81: =+IF(D81>0,1,0) -> 1 | B81: BACO PAIN | C81: Dette | D81: 28 | E81: =D81*7 -> 196 | F81: 46027 | G81: =+IF(A81=1,(+TODAY())-F81,"Sans objet") -> 281 | H81: 1 | I81: =VLOOKUP(H81,Secteurs!$A$4:$C$6,3) -> Frisca MPASSI | J81: 0.5 | O81: 0.5 | P81: =+$E81*J81 -> 98 | Q81: =+$E81*K81 -> 0 | R81: =+$E81*L81 -> 0 | S81: =+$E81*M81 -> 0 | T81: =+$E81*N81 -> 0 | U81: =+$E81*O81 -> 98 | V81: =SUM(P81:U81) -> 196 | W81: A un compte , préfére distributeur | X81: =+V81-E81 -> 0
A82: =+IF(D82>0,1,0) -> 1 | B82: BLG EL MOURAD | D82: 25 | E82: 196 | F82: 46030 | G82: =+IF(A82=1,(+TODAY())-F82,"Sans objet") -> 278 | H82: 1 | I82: =VLOOKUP(H82,Secteurs!$A$4:$C$6,3) -> Frisca MPASSI | J82: 0.5 | O82: 0.5 | P82: =+$E82*J82 -> 98 | Q82: =+$E82*K82 -> 0 | R82: =+$E82*L82 -> 0 | S82: =+$E82*M82 -> 0 | T82: =+$E82*N82 -> 0 | U82: =+$E82*O82 -> 98 | V82: =SUM(P82:U82) -> 196 | W82: A un compte, préfere distributeur | X82: =+V82-E82 -> 0
A83: =+IF(D83>0,1,0) -> 1 | B83: DIGNITE 1 | D83: 26 | E83: =D83*7 -> 182 | F83: 46028 | G83: =+IF(A83=1,(+TODAY())-F83,"Sans objet") -> 280 | H83: 3 | I83: =VLOOKUP(H83,Secteurs!$A$4:$C$6,3) -> Arnaud ITOUA | J83: 0.5 | O83: 0.5 | P83: =+$E83*J83 -> 91 | Q83: =+$E83*K83 -> 0 | R83: =+$E83*L83 -> 0 | S83: =+$E83*M83 -> 0 | T83: =+$E83*N83 -> 0 | U83: =+$E83*O83 -> 91 | V83: =SUM(P83:U83) -> 182 | W83: Distributeue Mazala | X83: =+V83-E83 -> 0
A84: =+IF(D84>0,1,0) -> 1 | B84: EFFRAKATA 2 | D84: 28 | E84: =D84*7 -> 196 | F84: 46030 | G84: =+IF(A84=1,(+TODAY())-F84,"Sans objet") -> 278 | H84: 1 | I84: =VLOOKUP(H84,Secteurs!$A$4:$C$6,3) -> Frisca MPASSI | J84: 0.5 | O84: 0.5 | P84: =+$E84*J84 -> 98 | Q84: =+$E84*K84 -> 0 | R84: =+$E84*L84 -> 0 | S84: =+$E84*M84 -> 0 | T84: =+$E84*N84 -> 0 | U84: =+$E84*O84 -> 98 | V84: =SUM(P84:U84) -> 196 | W84: Intéréssé, debut septembre | X84: =+V84-E84 -> 0
A85: =+IF(D85>0,1,0) -> 1 | B85: EFFRAKATA 1 | D85: 28 | E85: =D85*7 -> 196 | F85: 46027 | G85: =+IF(A85=1,(+TODAY())-F85,"Sans objet") -> 281 | H85: 1 | I85: =VLOOKUP(H85,Secteurs!$A$4:$C$6,3) -> Frisca MPASSI | J85: 0.5 | O85: 0.5 | P85: =+$E85*J85 -> 98 | Q85: =+$E85*K85 -> 0 | R85: =+$E85*L85 -> 0 | S85: =+$E85*M85 -> 0 | T85: =+$E85*N85 -> 0 | U85: =+$E85*O85 -> 98 | V85: =SUM(P85:U85) -> 196 | W85: Intéréssé, debut septembre | X85: =+V85-E85 -> 0
A86: =+IF(D86>0,1,0) -> 1 | B86: SAM 2 ( Ex ESPOIR) | C86: Dette | D86: 28 | E86: =D86*7 -> 196 | F86: 46027 | G86: =+IF(A86=1,(+TODAY())-F86,"Sans objet") -> 281 | H86: 1 | I86: =VLOOKUP(H86,Secteurs!$A$4:$C$6,3) -> Frisca MPASSI | J86: 0.5 | O86: 0.5 | P86: =+$E86*J86 -> 98 | Q86: =+$E86*K86 -> 0 | R86: =+$E86*L86 -> 0 | S86: =+$E86*M86 -> 0 | T86: =+$E86*N86 -> 0 | U86: =+$E86*O86 -> 98 | V86: =SUM(P86:U86) -> 196 | W86: Intérésse, achat août 510 sacs | X86: =+V86-E86 -> 0
A87: =+IF(D87>0,1,0) -> 1 | B87: GRANDE BLG DE DIATA (ML) | D87: 48 | E87: =D87*7 -> 336 | F87: 46027 | G87: =+IF(A87=1,(+TODAY())-F87,"Sans objet") -> 281 | H87: 1 | I87: =VLOOKUP(H87,Secteurs!$A$4:$C$6,3) -> Frisca MPASSI | J87: 0.5 | O87: 0.5 | P87: =+$E87*J87 -> 168 | Q87: =+$E87*K87 -> 0 | R87: =+$E87*L87 -> 0 | S87: =+$E87*M87 -> 0 | T87: =+$E87*N87 -> 0 | U87: =+$E87*O87 -> 168 | V87: =SUM(P87:U87) -> 336 | W87: A un compte, préfére distributeur | X87: =+V87-E87 -> 0
A88: =+IF(D88>0,1,0) -> 1 | B88: MAMPASSI | D88: 24 | E88: =D88*7 -> 168 | F88: 46029 | G88: =+IF(A88=1,(+TODAY())-F88,"Sans objet") -> 279 | H88: 2 | I88: =VLOOKUP(H88,Secteurs!$A$4:$C$6,3) -> Prince MBOUSSA | J88: 0.5 | O88: 0.5 | P88: =+$E88*J88 -> 84 | Q88: =+$E88*K88 -> 0 | R88: =+$E88*L88 -> 0 | S88: =+$E88*M88 -> 0 | T88: =+$E88*N88 -> 0 | U88: =+$E88*O88 -> 84 | V88: =SUM(P88:U88) -> 168 | W88: préfere distributeur | X88: =+V88-E88 -> 0
A89: =+IF(D89>0,1,0) -> 1 | B89: MOUHOUMI | D89: 28 | E89: =D89*7 -> 196 | F89: 46030 | G89: =+IF(A89=1,(+TODAY())-F89,"Sans objet") -> 278 | H89: 1 | I89: =VLOOKUP(H89,Secteurs!$A$4:$C$6,3) -> Frisca MPASSI | L89: 0.5 | O89: 0.5 | P89: =+$E89*J89 -> 0 | Q89: =+$E89*K89 -> 0 | R89: =+$E89*L89 -> 98 | S89: =+$E89*M89 -> 0 | T89: =+$E89*N89 -> 0 | U89: =+$E89*O89 -> 98 | V89: =SUM(P89:U89) -> 196 | W89: préfere distributeur | X89: =+V89-E89 -> 0
A90: =+IF(D90>0,1,0) -> 1 | B90: MR KINTELE | C90: Cash | D90: 34 | E90: =D90*7 -> 238 | F90: 46030 | G90: =+IF(A90=1,(+TODAY())-F90,"Sans objet") -> 278 | H90: 3 | I90: =VLOOKUP(H90,Secteurs!$A$4:$C$6,3) -> Arnaud ITOUA | N90: 0.5 | O90: 0.5 | P90: =+$E90*J90 -> 0 | Q90: =+$E90*K90 -> 0 | R90: =+$E90*L90 -> 0 | S90: =+$E90*M90 -> 0 | T90: =+$E90*N90 -> 119 | U90: =+$E90*O90 -> 119 | V90: =SUM(P90:U90) -> 238 | W90: Saleck | X90: =+V90-E90 -> 0
A91: =+IF(D91>0,1,0) -> 1 | B91: NOUR 2 | D91: 38 | E91: 308 | F91: 46028 | G91: =+IF(A91=1,(+TODAY())-F91,"Sans objet") -> 280 | H91: 2 | I91: =VLOOKUP(H91,Secteurs!$A$4:$C$6,3) -> Prince MBOUSSA | J91: 0.25 | O91: 0.75 | P91: =+$E91*J91 -> 77 | Q91: =+$E91*K91 -> 0 | R91: =+$E91*L91 -> 0 | S91: =+$E91*M91 -> 0 | T91: =+$E91*N91 -> 0 | U91: =+$E91*O91 -> 231 | V91: =SUM(P91:U91) -> 308 | W91: préfere distributeur | X91: =+V91-E91 -> 0
A92: =+IF(D92>0,1,0) -> 1 | B92: JUNIOR ( Ex Iphone) | D92: 16 | E92: =D92*7 -> 112 | F92: 46029 | G92: =+IF(A92=1,(+TODAY())-F92,"Sans objet") -> 279 | H92: 2 | I92: =VLOOKUP(H92,Secteurs!$A$4:$C$6,3) -> Prince MBOUSSA | N92: 0.5 | O92: 0.5 | P92: =+$E92*J92 -> 0 | Q92: =+$E92*K92 -> 0 | R92: =+$E92*L92 -> 0 | S92: =+$E92*M92 -> 0 | T92: =+$E92*N92 -> 56 | U92: =+$E92*O92 -> 56 | V92: =SUM(P92:U92) -> 112 | W92: A un compte, préfére distributeur
A93: =+IF(D93>0,1,0) -> 1 | B93: SS TOTAL | C93: Crédit | D93: 28 | E93: =D93*7 -> 196 | F93: 46027 | G93: =+IF(A93=1,(+TODAY())-F93,"Sans objet") -> 281 | H93: 1 | I93: =VLOOKUP(H93,Secteurs!$A$4:$C$6,3) -> Frisca MPASSI | J93: 0.5 | L93: 0.5 | P93: =+$E93*J93 -> 98 | Q93: =+$E93*K93 -> 0 | R93: =+$E93*L93 -> 98 | S93: =+$E93*M93 -> 0 | T93: =+$E93*N93 -> 0 | U93: =+$E93*O93 -> 0 | V93: =SUM(P93:U93) -> 196 | W93: intéréssé, achat aout 520 sacs | X93: =+V93-E93 -> 0
A94: =+IF(D94>0,1,0) -> 1 | B94: TSOUEKE (ex Congo Pain) | D94: 20 | E94: =D94*7 -> 140 | F94: 46030 | G94: =+IF(A94=1,(+TODAY())-F94,"Sans objet") -> 278 | H94: 3 | I94: =VLOOKUP(H94,Secteurs!$A$4:$C$6,3) -> Arnaud ITOUA | J94: 0.5 | O94: 0.5 | P94: =+$E94*J94 -> 70 | Q94: =+$E94*K94 -> 0 | R94: =+$E94*L94 -> 0 | S94: =+$E94*M94 -> 0 | T94: =+$E94*N94 -> 0 | U94: =+$E94*O94 -> 70 | V94: =SUM(P94:U94) -> 140 | W94: intéréssé, (Cpte Brazza 05) | X94: =+V94-E94 -> 0
A95: =+IF(D95>0,1,0) -> 1 | B95: POUR TOUS | C95: Cash | D95: 50 | E95: =D95*7 -> 350 | F95: 46030 | G95: =+IF(A95=1,(+TODAY())-F95,"Sans objet") -> 278 | H95: 2 | I95: =VLOOKUP(H95,Secteurs!$A$4:$C$6,3) -> Prince MBOUSSA | J95: 0.5 | N95: 0.5 | P95: =+$E95*J95 -> 175 | Q95: =+$E95*K95 -> 0 | R95: =+$E95*L95 -> 0 | S95: =+$E95*M95 -> 0 | T95: =+$E95*N95 -> 175 | U95: =+$E95*O95 -> 0 | V95: =SUM(P95:U95) -> 350 | W95: intéréssé, attendre retour patron | X95: =+V95-E95 -> 0
A96: =+IF(D96>0,1,0) -> 1 | B96: BONNE CHANCE 3 | D96: 25 | E96: =D96*7 -> 175 | F96: 46031 | G96: =+IF(A96=1,(+TODAY())-F96,"Sans objet") -> 277 | H96: 1 | I96: =VLOOKUP(H96,Secteurs!$A$4:$C$6,3) -> Frisca MPASSI | N96: 0.5 | O96: 0.5 | P96: =+$E96*J96 -> 0 | Q96: =+$E96*K96 -> 0 | R96: =+$E96*L96 -> 0 | S96: =+$E96*M96 -> 0 | T96: =+$E96*N96 -> 87.5 | U96: =+$E96*O96 -> 87.5 | V96: =SUM(P96:U96) -> 175 | W96: Intérésse | X96: =+V96-E96 -> 0
A97: =+IF(D97>0,1,0) -> 1 | B97: DIAMOND | C97: Dette | D97: 26 | E97: =D97*7 -> 182 | F97: 46028 | G97: =+IF(A97=1,(+TODAY())-F97,"Sans objet") -> 280 | H97: 3 | I97: =VLOOKUP(H97,Secteurs!$A$4:$C$6,3) -> Arnaud ITOUA | J97: 0.5 | N97: 0.5 | P97: =+$E97*J97 -> 91 | Q97: =+$E97*K97 -> 0 | R97: =+$E97*L97 -> 0 | S97: =+$E97*M97 -> 0 | T97: =+$E97*N97 -> 91 | U97: =+$E97*O97 -> 0 | V97: =SUM(P97:U97) -> 182 | W97: Pas de compte , préfere distributeur | X97: =+V97-E97 -> 0
A98: =+IF(D98>0,1,0) -> 1 | B98: DIGNITE 2 | D98: 34 | E98: =D98*7 -> 238 | F98: 46028 | G98: =+IF(A98=1,(+TODAY())-F98,"Sans objet") -> 280 | H98: 3 | I98: =VLOOKUP(H98,Secteurs!$A$4:$C$6,3) -> Arnaud ITOUA | J98: 0.5 | O98: 0.5 | P98: =+$E98*J98 -> 119 | Q98: =+$E98*K98 -> 0 | R98: =+$E98*L98 -> 0 | S98: =+$E98*M98 -> 0 | T98: =+$E98*N98 -> 0 | U98: =+$E98*O98 -> 119 | V98: =SUM(P98:U98) -> 238 | W98: distributeur Mazala | X98: =+V98-E98 -> 0
A99: =+IF(D99>0,1,0) -> 1 | B99: TYBE ( Ex ELKERATT PK) | D99: 28 | E99: =D99*7 -> 196 | F99: 46027 | G99: =+IF(A99=1,(+TODAY())-F99,"Sans objet") -> 281 | H99: 1 | I99: =VLOOKUP(H99,Secteurs!$A$4:$C$6,3) -> Frisca MPASSI | J99: 0.5 | O99: 0.5 | P99: =+$E99*J99 -> 98 | Q99: =+$E99*K99 -> 0 | R99: =+$E99*L99 -> 0 | S99: =+$E99*M99 -> 0 | T99: =+$E99*N99 -> 0 | U99: =+$E99*O99 -> 98 | V99: =SUM(P99:U99) -> 196 | W99: Intéréssé,(Cpte Elkheire) | X99: =+V99-E99 -> 0
A100: =+IF(D100>0,1,0) -> 1 | B100: EL MANSOUR 2 ( New Boulangerie) | D100: 6 | E100: =D100*7 -> 42 | F100: 46028 | G100: =+IF(A100=1,(+TODAY())-F100,"Sans objet") -> 280 | H100: 3 | I100: =VLOOKUP(H100,Secteurs!$A$4:$C$6,3) -> Arnaud ITOUA | J100: 0.5 | O100: 0.5 | P100: =+$E100*J100 -> 21 | Q100: =+$E100*K100 -> 0 | R100: =+$E100*L100 -> 0 | S100: =+$E100*M100 -> 0 | T100: =+$E100*N100 -> 0 | U100: =+$E100*O100 -> 21 | V100: =SUM(P100:U100) -> 42 | W100: Intéréssé, effort en septembre | X100: =+V100-E100 -> 0
...

Sheet Week 3
B1: WEEK 02
G3: Cons° farine par boulangerie | Q3: WEEK | R3: GMPN | S3: GMK | T3: SGMP | U3: GMC | V3: PALCO | W3: M.FANTA | X3: %
A4: N° | B4: Boulangerie | C4: Type | D4: Cons/j | E4: C° heb | F4: FARINE UTILISEE | G4: GMPN | H4: MAMA F | I4: GMK | J4: SGMP | K4: PALCO | L4: GMC | M4: Total | N4: PRIORITE | O4: MAZALA / DIRECT | Q4: 1 | R4: 0.34 | S4: 0.12 | T4: 0.15 | U4: 0.39 | V4: 0 | W4: 0 | X4: =SUM(R4:W4) -> 1
A5: 77 | B5: Mayama( AQXA) | D5: 55 | E5: =D5*7 -> 385 | F5: 50%MIN+50%GMC | G5: 192.5 | L5: 192.5 | M5: =SUM(G5:L5) -> 385 | N5: ATTAQUER GMC | Q5: 2 | R5: 0.34 | S5: 0.11 | T5: =J151/E151 -> 0.12415016 | U5: =L151/E151 -> 0.4054094 | V5: =K151/E151 -> 0 | W5: 0 | X5: =SUM(R5:W5) -> 0.97955956
A6: 54 | B6: NOUVELLE ESPERANE 3 | D6: 50 | E6: =D6*7 -> 350 | F6: 50%MIN+50%GMC | G6: 175 | L6: 175 | M6: =SUM(G6:L6) -> 350 | N6: ATTAQUER GMC | Q6: Variation | R6: =R5-R4 -> 0 | S6: =S5-S4 -> -0.01 | T6: =T5-T4 -> -0.025849837 | U6: =U5-U4 -> 0.0154094 | V6: =V5-V4 -> 0 | W6: =W5-W4 -> 0
A7: 114 | B7: SABANA Moukondo | D7: 50 | E7: =D7*7 -> 350 | F7: 50%MIN+50%GMC | G7: 175 | L7: 175 | M7: =SUM(G7:L7) -> 350 | N7: ATTAQUER GMC
A8: 133 | B8: YA LOLO | C8: Crédit | D8: 50 | E8: =D8*7 -> 350 | F8: 100%MIN | G8: 350 | M8: =SUM(G8:L8) -> 350 | N8: A PRESERVER
A9: 3 | B9: 58e ANNIVERSAIRE | D9: 42 | E9: =D9*7 -> 294 | F9: 50%MIN+50%SGMP | G9: 147 | J9: 147 | M9: =SUM(G9:L9) -> 294 | N9: ATTAQUER SGMP
A10: 13 | B10: BECO | C10: Cash | D10: 40 | E10: =D10*7 -> 280 | F10: 50%GMK+50%GMC | I10: 140 | L10: 140 | M10: =SUM(G10:L10) -> 280 | N10: A RECUPERER
A11: 45 | B11: ELVOZ INCHALAH | C11: Cash | D11: 40 | E11: =D11*7 -> 280 | F11: 25%MIN+25%GMK+50%GMC | G11: 70 | I11: 70 | L11: 140 | M11: =SUM(G11:L11) -> 280 | N11: TARGET 50%
A12: 131 | B12: POTAL | D12: 38 | E12: =D12*7 -> 266 | F12: 50%GMC+50%GMK | I12: 133 | L12: 133 | M12: =SUM(G12:L12) -> 266 | N12: A RECUPERER
A13: 42 | B13: EL MABROUCK | D13: 38 | E13: =D13*7 -> 266 | F13: 25%MIN+75%GMC | G13: 66 | L13: 199.5 | M13: =SUM(G13:L13) -> 265.5 | N13: TARGET 50%
A14: 12 | B14: BAS PRIX (ex moderne nkombo) | D14: 36 | E14: =D14*7 -> 252 | F14: 50%MIN+50%GMC | G14: 126 | L14: 126 | M14: =SUM(G14:L14) -> 252 | N14: ATTAQUER GMC
A15: 27 | B15: COMUS | D15: 36 | E15: =D15*7 -> 252 | F15: 50%MIN+50%GMC | G15: 126 | L15: 126 | M15: =SUM(G15:L15) -> 252 | N15: ATTAQUER GMC
A16: 60 | B16: HOT BREAD2 Plazza | D16: 36 | E16: =D16*7 -> 252 | F16: 50%MIN+50%GMC | G16: 126 | L16: 126 | M16: =SUM(G16:L16) -> 252 | N16: ATTAQUER GMC
A17: 120 | B17: SID-SID | D17: 36 | E17: =D17*7 -> 252 | F17: 50%MIN+50%SGMP | G17: 126 | J17: 126 | M17: =SUM(G17:L17) -> 252 | N17: ATTAQUER SGMP
A18: 55 | B18: NOUVELLE ESPERANCE 4 | D18: 34 | E18: =D18*7 -> 238 | F18: 50%MIN+50%SGMP | G18: 119 | J18: 119 | M18: =SUM(G18:L18) -> 238 | N18: ATTAQUER SGMP
A19: 80 | B19: MODERNE & ARTISANALE 1 | D19: 34 | E19: =D19*7 -> 238 | F19: 50%GMC+50%SGMP | J19: 119 | L19: 119 | M19: =SUM(G19:L19) -> 238 | N19: A RECUPERER
A20: 96 | B20: NOUVELLE ESPERANCE 1 | C20: Cash | D20: 34 | E20: =D20*7 -> 238 | F20: 50%MIN+50%GMC | G20: 119 | L20: 119 | M20: =SUM(G20:L20) -> 238 | N20: ATTAQUER GMC
A21: 15 | B21: BEDRE NKOMBO | C21: Cash | D21: 32 | E21: =D21*7 -> 224 | F21: 50%MIN+50%SGMP | G21: 112 | J21: 112 | M21: =SUM(G21:L21) -> 224 | N21: ATTAQUER SGMP
A22: 17 | B22: ARTISANALE 3 ( Ex BLANCHE) | D22: 32 | E22: =D22*7 -> 224 | F22: 50%GMC+50%GMK | I22: 112 | L22: 112 | M22: =SUM(G22:L22) -> 224 | N22: A RECUPERER
A23: 44 | B23: Brazza Moderne 1 | C23: Dette | D23: 32 | E23: =D23*7 -> 224 | F23: 100%GMC | L23: 224 | M23: =SUM(G23:L23) -> 224 | N23: A RECUPERER
A24: 81 | B24: MODERNE & ARTISANALE 2 | D24: 32 | E24: =D24*7 -> 224 | F24: 50%GMC+50%SGMP | J24: 112 | L24: 112 | M24: =SUM(G24:L24) -> 224 | N24: A RECUPERER
A25: 97 | B25: EL MOURATH | D25: 32 | E25: =D25*7 -> 224 | F25: 50%MIN+50%GMC | G25: 112 | L25: 112 | M25: =SUM(G25:L25) -> 224 | N25: ATTAQUER GMC
A26: 115 | B26: SAHA(ex fournil) | D26: 32 | E26: =D26*7 -> 224 | F26: 50%SGMP+50%GMK | I26: 112 | L26: 112 | M26: =SUM(G26:L26) -> 224 | N26: A RECUPERER
A27: 141 | B27: Paris Pain | D27: 32 | E27: =D27*7 -> 224 | F27: 50%GMC+50%GMK | I27: 112 | L27: 112 | M27: =SUM(G27:L27) -> 224 | N27: A RECUPERER
A28: 11 | B28: EL MEJID ( Ex Baraka Talangai) | D28: 30 | E28: =D28*7 -> 210 | F28: 50%MIN+50%GMC | G28: 105 | L28: 105 | M28: =SUM(G28:L28) -> 210 | N28: ATTAQUER GMC
A29: 25 | B29: BRAZZA MODERNE 2 | D29: 30 | E29: =D29*7 -> 210 | F29: 50%MIN+50%GMC | G29: 105 | L29: 105 | M29: =SUM(G29:L29) -> 210 | N29: ATTAQUER GMC
A30: 31 | B30: DAHI ( ex préference) | D30: 30 | E30: =D30*7 -> 210 | F30: 50%MIN+50%SGMP | G30: 105 | J30: 105 | M30: =SUM(G30:L30) -> 210 | N30: ATTAQUER SGMP
A31: 39 | B31: EL MANSOUR | D31: 30 | E31: =D31*7 -> 210 | F31: 50%GMC+50%GMK | I31: 105 | L31: 105 | M31: =SUM(G31:L31) -> 210 | N31: A RECUPERER
A32: 53 | B32: NOUVELLE ESPERANCE 2 | C32: Cash | D32: 30 | E32: =D32*7 -> 210 | F32: 50%GMK+50%GMC | I32: 105 | L32: 105 | M32: =SUM(G32:L32) -> 210 | N32: A RECUPERER
A33: 73 | B33: MAHFOUD | D33: 30 | E33: =D33*7 -> 210 | F33: 50%GMC+50%GMK | I33: 105 | L33: 105 | M33: =SUM(G33:L33) -> 210 | N33: A RECUPERER
A34: 75 | B34: MANE | D34: 30 | E34: =D34*7 -> 210 | F34: 50%MIN+50%GMC | G34: 105 | L34: 105 | M34: =SUM(G34:L34) -> 210 | N34: ATTAQUER GMC
A35: 110 | B35: REVES 2 | D35: 30 | E35: =D35*7 -> 210 | F35: 50%MIN+50%GMC | G35: 105 | L35: 105 | M35: =SUM(G35:L35) -> 210 | N35: ATTAQUER GMC
A36: 117 | B36: SAVANA NKOMBO | D36: 30 | E36: =D36*7 -> 210 | F36: 50%MIN+50%GMC | G36: 105 | L36: 105 | M36: =SUM(G36:L36) -> 210 | N36: ATTAQUER GMC
A37: 119 | B37: SD1 CARREFOUR | C37: Crédit | D37: 30 | E37: =D37*7 -> 210 | F37: 50%MIN+25%SGMP+25%GMC | G37: 105 | J37: 52.5 | L37: 52.5 | M37: =SUM(G37:L37) -> 210 | N37: ATTAQUER SGMP
A38: 5 | B38: ALMADINA (bama) | D38: 28 | E38: =D38*7 -> 196 | F38: 50%MIN+50%GMC | G38: 98 | J38: 98 | M38: =SUM(G38:L38) -> 196 | N38: ATTAQUER GMC
A39: 23 | B39: BONNE CHANCE 4 | D39: 28 | E39: =D39*7 -> 196 | F39: 50%MIN+50%GMC | G39: 98 | L39: 98 | M39: =SUM(G39:L39) -> 196 | N39: ATTAQUER GMC
A40: 30 | B40: DAHI (ex bab elkheire) | D40: 28 | E40: =D40*7 -> 196 | F40: 50%MIN+25%SGMP+25%GMC | G40: 98 | J40: 49 | L40: 49 | M40: =SUM(G40:L40) -> 196 | N40: ATTAQUER SGMP
A41: 49 | B41: ETOILE DE KINTELE | D41: 28 | E41: =D41*7 -> 196 | F41: 50%GMK+50%GMC | I41: 98 | L41: 98 | M41: =SUM(G41:L41) -> 196 | N41: A RECUPERER
A42: 58 | B42: HOT BREAD MOUKONDO | D42: 28 | E42: =D42*7 -> 196 | F42: 25%MIN+75%GMC | G42: 49 | L42: 147 | M42: =SUM(G42:L42) -> 196 | N42: TARGET 50%
A43: 59 | B43: HOT BREAD1 ( Mbochi ) | D43: 28 | E43: =D43*7 -> 196 | F43: 50%MIN+50%GMC | G43: 98 | L43: 98 | M43: =SUM(G43:L43) -> 196 | N43: ATTAQUER GMC
A44: 84 | B44: BONNE CHANCE 5( Ex Mouvida 1) | C44: Crédit | D44: 28 | E44: =D44*7 -> 196 | F44: 50%MIN+50%SGMP | G44: 98 | J44: 98 | M44: =SUM(G44:L44) -> 196 | N44: ATTAQUER SGMP
A45: 89 | B45: OUM EL KORA(Ex NAJAH MA) | D45: 28 | E45: =D45*7 -> 196 | F45: 50%MIN+50%GMC | G45: 98 | L45: 98 | M45: =SUM(G45:L45) -> 196 | N45: ATTAQUER GMC
A46: 99 | B46: PAIN VICTOIRE (Ex Sidina) | C46: Dette | D46: 28 | E46: =D46*7 -> 196 | F46: 50%SGMP+50%GMC | J46: 98 | L46: 98 | M46: =SUM(G46:L46) -> 196 | N46: A RECUPERER
A47: 127 | B47: TIK-TOK | D47: 28 | E47: =D47*7 -> 196 | F47: 50%MIN+50%SGMP | G47: 98 | J47: 98 | M47: =SUM(G47:L47) -> 196 | N47: ATTAQUER SGMP
A48: 137 | B48: D.A.H ( Bon Vivre) | D48: 28 | E48: =D48*7 -> 196 | F48: 50%MIN+50%GMC | G48: 98 | L48: 98 | M48: =SUM(G48:L48) -> 196 | N48: ATTAQUER GMC
A49: 142 | B49: FORAGE | D49: 28 | E49: =D49*7 -> 196 | F49: 50%GMC+50%GMK | I49: 98 | L49: 98 | M49: =SUM(G49:L49) -> 196 | N49: A RECUPERER
A50: 6 | B50: BABA-EL (Nganga lingolo Djoue ) | D50: 26 | E50: =D50*7 -> 182 | F50: 50%MIN+50%GMK | G50: 91 | I50: 91 | M50: =SUM(G50:L50) -> 182 | N50: ATTAQUER GMK
A51: 10 | B51: EL BARAKA 2024 | D51: 26 | E51: =D51*7 -> 182 | F51: 50%MIN+50%GMC | G51: 91 | L51: 91 | M51: =SUM(G51:L51) -> 182 | N51: ATTAQUER GMC
A52: 35 | B52: DORA MAYA | C52: Crédit | D52: 26 | E52: =D52*7 -> 182 | F52: 50%MIN+50%SGMP | G52: 91 | J52: 91 | M52: =SUM(G52:L52) -> 182 | N52: ATTAQUER SGMP
A53: 43 | B53: EL MEJED 1 makabandilou | D53: 26 | E53: =D53*7 -> 182 | F53: 50%MIN+25%GMC+25%GMK | G53: 91 | J53: 45.5 | L53: 45.5 | M53: =SUM(G53:L53) -> 182 | N53: ATTAQUER GMK
A54: 46 | B54: ELWEVA | D54: 26 | E54: =D54*7 -> 182 | F54: 50%MIN+50%GMC | G54: 91 | L54: 91 | M54: =SUM(G54:L54) -> 182 | N54: ATTAQUER GMC
A55: 47 | B55: ESCALE | C55: Crédit | D55: 26 | E55: =D55*7 -> 182 | F55: 50%MIN+50%SGMP | G55: 91 | J55: 91 | M55: =SUM(G55:L55) -> 182 | N55: ATTAQUER SGMP
A56: 52 | B56: FIRDAWS 1 | C56: Crédit | D56: 26 | E56: =D56*7 -> 182 | F56: 50%SGMP+50%GMC | J56: 91 | L56: 91 | M56: =SUM(G56:L56) -> 182 | N56: A RECUPERER
A57: 76 | B57: MARCHE DJIRI ext ESCALE | D57: 26 | E57: =D57*7 -> 182 | F57: 50%MIN+50%GMC | G57: 91 | L57: 91 | M57: =SUM(G57:L57) -> 182 | N57: ATTAQUER GMC
A58: 82 | B58: SALAM( Ex MODERNE AV France) | D58: 26 | E58: =D58*7 -> 182 | F58: 50%MIN+50%GMC | G58: 91 | L58: 91 | M58: =SUM(G58:L58) -> 182 | N58: ATTAQUER GMC
A59: 87 | B59: MSB EX FIRDAWS2 | D59: 26 | E59: =D59*7 -> 182 | F59: 50%MIN+50%SGMP | G59: 91 | J59: 91 | M59: =SUM(G59:L59) -> 182 | N59: ATTAQUER SGMP
A60: 105 | B60: SABANA ( Ex PUZZLE) | C60: Crédit | D60: 26 | E60: =D60*7 -> 182 | F60: 50%MIN+50%GMC | G60: 91 | L60: 91 | M60: =SUM(G60:L60) -> 182 | N60: ATTAQUER GMC
A61: 111 | B61: REVES 3 | D61: 26 | E61: =D61*7 -> 182 | F61: 50%MIN+50%GMC | G61: 91 | L61: 91 | M61: =SUM(G61:L61) -> 182 | N61: ATTAQUER GMC
A62: 126 | B62: TEYiBA | D62: 26 | E62: =D62*7 -> 182 | F62: 50%GMC+50%GMK | I62: 91 | L62: 91 | M62: =SUM(G62:L62) -> 182 | N62: A RECUPERER
A63: 140 | B63: Bonne Chance 1 (Digeco) | D63: 26 | E63: =D63*7 -> 182 | F63: 50%MIN+50%SGMP | G63: 91 | L63: 91 | M63: =SUM(G63:L63) -> 182 | N63: ATTAQUER SGMP
A64: 91 | B64: ND 2 BIFOUITI | D64: 25 | E64: =D64*7 -> 175 | F64: 50%SGMP+50%GMK | J64: 87.5 | L64: 87.5 | M64: =SUM(G64:L64) -> 175 | N64: A RECUPERER
A65: 92 | B65: ND1 | C65: Crédit | D65: 25 | E65: =D65*7 -> 175 | F65: 50%SGMP+50%GMC | I65: 87.5 | L65: 87.5 | M65: =SUM(G65:L65) -> 175 | N65: A RECUPERER
A66: 93 | B66: ND 3 PK | D66: 25 | E66: =D66*7 -> 175 | F66: 50%MIN+50%GMC | G66: 87.5 | L66: 87.5 | M66: =SUM(G66:L66) -> 175 | N66: ATTAQUER GMC
A67: 16 | B67: BENEDICTION NGAMAKOSSO | D67: 24 | E67: =D67*7 -> 168 | F67: 50%MIN+50%GMC | G67: 84 | L67: 84 | M67: =SUM(G67:L67) -> 168 | N67: ATTAQUER GMC
A68: 21 | B68: BONNE CHANCE 2 | D68: 24 | E68: =D68*7 -> 168 | F68: 50%MIN+50%GMC | G68: 84 | L68: 84 | M68: =SUM(G68:L68) -> 168 | N68: ATTAQUER GMC
A69: 24 | B69: BIFOUITI ( Ex BRAZZA 2005 ) | C69: Crédit | D69: 24 | E69: =D69*7 -> 168 | F69: 50%MIN+50%GMC | G69: 84 | L69: 84 | M69: =SUM(G69:L69) -> 168 | N69: ATTAQUER GMC
A70: 61 | B70: ILYAS EX KIGOUARIE | C70: Crédit | D70: 24 | E70: =D70*7 -> 168 | F70: 50%MIN+50%GMC | G70: 84 | L70: 84 | M70: =SUM(G70:L70) -> 168 | N70: ATTAQUER GMC
A71: 66 | B71: Paris Baguette (Ex KEITA BF) | D71: 24 | E71: =D71*7 -> 168 | F71: 50%GMC+50%SGMP | J71: 84 | L71: 84 | M71: =SUM(G71:L71) -> 168 | N71: A RECUPERER
A72: 68 | B72: LA CONGOLAISE 1 (Ouenze) | D72: 24 | E72: =D72*7 -> 168 | F72: 100%GMK | I72: 168 | M72: =SUM(G72:L72) -> 168 | N72: A RECUPERER
A73: 70 | B73: LA GLOIRE MAYANGA B52 | D73: 24 | E73: =D73*7 -> 168 | F73: 50%SGMP+50%GMC | J73: 84 | L73: 84 | M73: =SUM(G73:L73) -> 168 | N73: A RECUPERER
A74: 85 | B74: MOUVIDA 2 | D74: 24 | E74: =D74*7 -> 168 | F74: 50%MIN+50%GMC | G74: 84 | L74: 84 | M74: =SUM(G74:L74) -> 168 | N74: ATTAQUER GMC
A75: 90 | B75: NATIONALE ( Moukondo) | D75: 24 | E75: =D75*7 -> 168 | F75: 50%MIN+50%GMK | G75: 84 | L75: 84 | M75: =SUM(G75:L75) -> 168 | N75: ATTAQUER GMK
A76: 112 | B76: RIM D'OR 1 | C76: Cash | D76: 24 | E76: =D76*7 -> 168 | F76: 50%MIN+50%GMC | G76: 84 | L76: 84 | M76: =SUM(G76:L76) -> 168 | N76: ATTAQUER GMC
A77: 113 | B77: RIM D'OR 2 | D77: 24 | E77: =D77*7 -> 168 | F77: 50%MIN+50%GMC | G77: 84 | L77: 84 | M77: =SUM(G77:L77) -> 168 | N77: ATTAQUER GMC
A78: 118 | B78: SD MASSENGO | D78: 24 | E78: =D78*7 -> 168 | F78: 50%MIN+50%GMK | G78: 84 | I78: 84 | M78: =SUM(G78:L78) -> 168 | N78: ATTAQUER GMK
A79: 123 | B79: SUPER CAFE | D79: 24 | E79: =D79*7 -> 168 | F79: 50%GMC+50%GMK | I79: 84 | L79: 84 | M79: =SUM(G79:L79) -> 168 | N79: A RECUPERER
A80: 134 | B80: LE BON CHOIX (Ex YESLEM) | C80: Dette | D80: 24 | E80: =D80*7 -> 168 | F80: 50%MIN+50%GMC | G80: 84 | L80: 84 | M80: =SUM(G80:L80) -> 168 | N80: ATTAQUER GMC
A81: 71 | B81: LA PERLE MAYANGA | D81: 23 | E81: =D81*7 -> 161 | F81: 50%SGMP+50%GMC | J81: 80.5 | L81: 80.5 | M81: =SUM(G81:L81) -> 161 | N81: A RECUPERER
A82: 72 | B82: LA PLAINE | C82: Crédit | D82: 23 | E82: =D82*7 -> 161 | F82: 50%MIN+50%SGMP | G82: 80.5 | J82: 80.5 | M82: =SUM(G82:L82) -> 161 | N82: ATTAQUER SGMP
A83: 7 | B83: Babe Elkheire Total | D83: 22 | E83: =D83*7 -> 154 | F83: 25%MIN+25%GMK+50%GMC | G83: 38.5 | I83: 38.5 | L83: 77 | M83: =SUM(G83:L83) -> 154 | N83: TARGET 50%
A84: 8 | B84: BACO PAIN | C84: Dette | D84: 22 | E84: =D84*7 -> 154 | F84: 50%MIN+50%GMC | G84: 77 | L84: 77 | M84: =SUM(G84:L84) -> 154 | N84: ATTAQUER GMC
A85: 19 | B85: BLG EL MOURAD | D85: 22 | E85: =D85*7 -> 154 | F85: 50%MIN+50%GMC | G85: 77 | L85: 77 | M85: =SUM(G85:L85) -> 154 | N85: ATTAQUER GMC
A86: 33 | B86: DIGNITE 1 | D86: 22 | E86: =D86*7 -> 154 | F86: 50%MIN+50%GMC | G86: 77 | L86: 77 | M86: =SUM(G86:L86) -> 154 | N86: ATTAQUER GMC
A87: 37 | B87: EFFRAKATA 2 | D87: 22 | E87: =D87*7 -> 154 | F87: 50%MIN+50%GMC | G87: 77 | L87: 77 | M87: =SUM(G87:L87) -> 154 | N87: ATTAQUER GMC
A88: 38 | B88: BAB (EX EFFRAKATA1) | D88: 22 | E88: =D88*7 -> 154 | F88: 50%MIN+50%GMC | G88: 77 | L88: 77 | M88: =SUM(G88:L88) -> 154 | N88: ATTAQUER GMC
A89: 48 | B89: SAM 2 ( Ex ESPOIR) | C89: Dette | D89: 22 | E89: =D89*7 -> 154 | F89: 50%MIN+50%GMC | G89: 77 | L89: 77 | M89: =SUM(G89:L89) -> 154 | N89: ATTAQUER GMC
A90: 57 | B90: GRANDE BLG DE DIATA (ML) | D90: 22 | E90: =D90*7 -> 154 | F90: 50%MIN+50%GMC | G90: 77 | L90: 77 | M90: =SUM(G90:L90) -> 154 | N90: ATTAQUER GMC
A91: 74 | B91: MAMPASSI | D91: 22 | E91: =D91*7 -> 154 | F91: 50%MIN+50%GMC | G91: 77 | L91: 77 | M91: =SUM(G91:L91) -> 154 | N91: ATTAQUER GMC
A92: 83 | B92: MOUHOUMI | D92: 22 | E92: =D92*7 -> 154 | F92: 50%MIN+50%SGMP | G92: 77 | J92: 77 | M92: =SUM(G92:L92) -> 154 | N92: ATTAQUER SGMP
A93: 86 | B93: MR KINTELE | C93: Cash | D93: 22 | E93: =D93*7 -> 154 | F93: 50%MIN+50%GMC | G93: 77 | L93: 77 | M93: =SUM(G93:L93) -> 154 | N93: ATTAQUER GMC
A94: 95 | B94: NOUR 2 | D94: 22 | E94: =D94*7 -> 154 | F94: 100%GMC | L94: 154 | M94: =SUM(G94:L94) -> 154 | N94: A RECUPERER
A95: 106 | B95: RECONCILIATION ex iphone | D95: 22 | E95: =D95*7 -> 154 | F95: 50%MIN+50%GMC | G95: 77 | L95: 77 | M95: =SUM(G95:L95) -> 154 | N95: ATTAQUER GMC
A96: 121 | B96: SS TOTAL | C96: Crédit | D96: 22 | E96: =D96*7 -> 154 | F96: 50%MIN+50%GMK | G96: 77 | I96: 77 | M96: =SUM(G96:L96) -> 154 | N96: ATTAQUER GMK
A97: 130 | B97: TSOUEKE (ex Congo Pain) | D97: 22 | E97: =D97*7 -> 154 | F97: 50%MIN+50%GMC | G97: 77 | L97: 77 | M97: =SUM(G97:L97) -> 154 | N97: ATTAQUER GMC
A98: 135 | B98: POUR TOUS | D98: 22 | E98: =D98*7 -> 154 | F98: 100%GMC | L98: 154 | M98: =SUM(G98:L98) -> 154 | N98: A RECUPERER
A99: 22 | B99: BONNE CHANCE 3 | D99: 20 | E99: =D99*7 -> 140 | F99: 50%MIN+50%GMC | G99: 70 | L99: 70 | M99: =SUM(G99:L99) -> 140 | N99: ATTAQUER GMC
A100: 32 | B100: DIAMOND | C100: Dette | D100: 20 | E100: =D100*7 -> 140 | F100: 50%MIN+50%GMC | G100: 70 | L100: 70 | M100: =SUM(G100:L100) -> 140 | N100: ATTAQUER GMC
A101: 34 | B101: DIGNITE 2 | D101: 20 | E101: =D101*7 -> 140 | F101: 50%MIN+50%GMC | G101: 70 | L101: 70 | M101: =SUM(G101:L101) -> 140 | N101: ATTAQUER GMC
...

Sheet WEEK 03
A1: N° | B1: Boulangerie | C1: Type | D1: Cons/j | E1: C° heb | F1: Date Dernière Visite | G1: Période sans visite | H1: Secteur | I1: Technico Commercial | J1: %MINOCO | K1: %FANTA | L1: %GMK | M1: %SGMP | N1: %MFB | O1: %GMC | P1: MINOCO | Q1: FANTA | R1: GMK | S1: SGMP | T1: MFB | U1: GMC | V1: Total | W1: COMMENTAIRES | Z1: Week | AA1: Minoco | AB1: Fanta | AC1: GMPN | AD1: GMK | AE1: SGMP | AF1: MFB | AG1: GMC
A2: =+IF(D2>0,1,0) -> 1 | B2: Mayama( AQXA) | D2: 32 | E2: =D2*7 -> 224 | F2: 46035 | G2: =+IF(A2=1,(+TODAY())-F2,"Sans objet") -> 273 | H2: 1 | I2: =VLOOKUP(H2,Secteurs!$A$4:$C$6,3) -> Frisca MPASSI | J2: 1 | P2: =+$E2*J2 -> 224 | Q2: =+$E2*K2 -> 0 | R2: =+$E2*L2 -> 0 | S2: =+$E2*M2 -> 0 | T2: =+$E2*N2 -> 0 | U2: =+$E2*O2 -> 0 | V2: =SUM(P2:U2) -> 224 | W2: Pas de compte, préfere distributeur | X2: =+V2-E2 -> 0 | Z2: 51 | AA2: 0.36 | AB2: 0.02 | AC2: 0.381 | AD2: 0.1 | AE2: 0.062 | AF2: 0.058 | AG2: 0.399 | AH2: 1
A3: =+IF(D3>0,1,0) -> 1 | B3: NOUVELLE ESPERANCE 3 | C3: Cash | D3: 72 | E3: =D3*7 -> 504 | F3: 46038 | G3: =+IF(A3=1,(+TODAY())-F3,"Sans objet") -> 270 | H3: 2 | I3: =VLOOKUP(H3,Secteurs!$A$4:$C$6,3) -> Prince MBOUSSA | J3: 0.5 | O3: 0.5 | P3: =+$E3*J3 -> 252 | Q3: =+$E3*K3 -> 0 | R3: =+$E3*L3 -> 0 | S3: =+$E3*M3 -> 0 | T3: =+$E3*N3 -> 0 | U3: =+$E3*O3 -> 252 | V3: =SUM(P3:U3) -> 504 | W3: intéressé, passage debut septembre | X3: =+V3-E3 -> 0 | Z3: 52 | AA3: 0.375 | AB3: 0.021 | AC3: 0.396 | AD3: 0.079 | AE3: 0.091 | AF3: 0.07 | AG3: 0.364 | AH3: 1
A4: =+IF(D4>0,1,0) -> 1 | B4: SABANA Moukondo | C4: Cash | D4: 48 | E4: =D4*7 -> 336 | F4: 46038 | G4: =+IF(A4=1,(+TODAY())-F4,"Sans objet") -> 270 | H4: 2 | I4: =VLOOKUP(H4,Secteurs!$A$4:$C$6,3) -> Prince MBOUSSA | J4: 0.25 | M4: 0.25 | O4: 0.5 | P4: =+$E4*J4 -> 84 | Q4: =+$E4*K4 -> 0 | R4: =+$E4*L4 -> 0 | S4: =+$E4*M4 -> 84 | T4: =+$E4*N4 -> 0 | U4: =+$E4*O4 -> 168 | V4: =SUM(P4:U4) -> 336 | W4: A un compte, intéréssé | X4: =+V4-E4 -> 0 | Z4: 1 | AA4: 0.36188811 | AB4: 0.020979021 | AC4: 0.38286713 | AD4: 0.078671329 | AE4: 0.11713287 | AF4: 0.073426573 | AG4: 0.3479021 | AH4: 1
A5: =+IF(D5>0,1,0) -> 1 | B5: YA LOLO | C5: Crédit | D5: 50 | E5: =D5*7 -> 350 | F5: 46037 | G5: =+IF(A5=1,(+TODAY())-F5,"Sans objet") -> 271 | H5: 3 | I5: =VLOOKUP(H5,Secteurs!$A$4:$C$6,3) -> Arnaud ITOUA | J5: 1 | P5: =+$E5*J5 -> 350 | Q5: =+$E5*K5 -> 0 | R5: =+$E5*L5 -> 0 | S5: =+$E5*M5 -> 0 | T5: =+$E5*N5 -> 0 | U5: =+$E5*O5 -> 0 | V5: =SUM(P5:U5) -> 350 | W5: intéressé, passage debut septembre | X5: =+V5-E5 -> 0 | Z5: 2 | AA5: 0.374 | AB5: 0.021 | AC5: 0.394 | AD5: 0.056 | AE5: 0.092 | AF5: 0.102 | AG5: 0.356 | AH5: 1
A6: =+IF(D6>0,1,0) -> 1 | B6: 58e ANNIVERSAIRE | C6: Cash | D6: 50 | E6: =D6*7 -> 350 | F6: 46036 | G6: =+IF(A6=1,(+TODAY())-F6,"Sans objet") -> 272 | H6: 3 | I6: =VLOOKUP(H6,Secteurs!$A$4:$C$6,3) -> Arnaud ITOUA | J6: 0.5 | M6: 0.5 | P6: =+$E6*J6 -> 175 | Q6: =+$E6*K6 -> 0 | R6: =+$E6*L6 -> 0 | S6: =+$E6*M6 -> 175 | T6: =+$E6*N6 -> 0 | U6: =+$E6*O6 -> 0 | V6: =SUM(P6:U6) -> 350 | W6: intéressé, passage debut septembre | X6: =+V6-E6 -> 0 | Z6: 3 | AA6: 0.41 | AB6: 0.02 | AC6: 0.432 | AD6: 0.062 | AE6: 0.089 | AF6: 0.097 | AG6: 0.319 | AH6: 1
A7: =+IF(D7>0,1,0) -> 1 | B7: BECO | C7: Cash | D7: 50 | E7: =D7*7 -> 350 | F7: 46035 | G7: =+IF(A7=1,(+TODAY())-F7,"Sans objet") -> 273 | H7: 2 | I7: =VLOOKUP(H7,Secteurs!$A$4:$C$6,3) -> Prince MBOUSSA | K7: 1 | P7: =+$E7*J7 -> 0 | Q7: =+$E7*K7 -> 350 | R7: =+$E7*L7 -> 0 | S7: =+$E7*M7 -> 0 | T7: =+$E7*N7 -> 0 | U7: =+$E7*O7 -> 0 | V7: =SUM(P7:U7) -> 350 | W7: intéressé, passage debut septembre | X7: =+V7-E7 -> 0 | Z7: Variation W-1 | AC7: =+AC6-AC5 -> 0.038 | AD7: =+AD6-AD5 -> 0.006 | AE7: =+AE6-AE5 -> -0.003 | AF7: =+AF6-AF5 -> -0.005 | AG7: =+AG6-AG5 -> -0.037
A8: =+IF(D8>0,1,0) -> 1 | B8: ELVOZ INCHALAH | C8: Cash | D8: 40 | E8: =D8*7 -> 280 | F8: 46036 | G8: =+IF(A8=1,(+TODAY())-F8,"Sans objet") -> 272 | H8: 1 | I8: =VLOOKUP(H8,Secteurs!$A$4:$C$6,3) -> Frisca MPASSI | L8: 0.25 | N8: 0.25 | O8: 0.5 | P8: =+$E8*J8 -> 0 | Q8: =+$E8*K8 -> 0 | R8: =+$E8*L8 -> 70 | S8: =+$E8*M8 -> 0 | T8: =+$E8*N8 -> 70 | U8: =+$E8*O8 -> 140 | V8: =SUM(P8:U8) -> 280 | W8: intéressé, passage debut septembre | X8: =+V8-E8 -> 0
A9: =+IF(D9>0,1,0) -> 1 | B9: POTAL | C9: Cash | D9: 30 | E9: =D9*7 -> 210 | F9: 46035 | G9: =+IF(A9=1,(+TODAY())-F9,"Sans objet") -> 273 | H9: 2 | I9: =VLOOKUP(H9,Secteurs!$A$4:$C$6,3) -> Prince MBOUSSA | J9: 0.5 | M9: 0.25 | O9: 0.25 | P9: =+$E9*J9 -> 105 | Q9: =+$E9*K9 -> 0 | R9: =+$E9*L9 -> 0 | S9: =+$E9*M9 -> 52.5 | T9: =+$E9*N9 -> 0 | U9: =+$E9*O9 -> 52.5 | V9: =SUM(P9:U9) -> 210 | W9: Patron absent | X9: =+V9-E9 -> 0
A10: =+IF(D10>0,1,0) -> 1 | B10: Salam ( Ex EL MABROUCK) | D10: 38 | E10: =D10*7 -> 266 | F10: 46035 | G10: =+IF(A10=1,(+TODAY())-F10,"Sans objet") -> 273 | H10: 2 | I10: =VLOOKUP(H10,Secteurs!$A$4:$C$6,3) -> Prince MBOUSSA | J10: 0.5 | K10: 0.25 | O10: 0.25 | P10: =+$E10*J10 -> 133 | Q10: =+$E10*K10 -> 66.5 | R10: =+$E10*L10 -> 0 | S10: =+$E10*M10 -> 0 | T10: =+$E10*N10 -> 0 | U10: =+$E10*O10 -> 66.5 | V10: =SUM(P10:U10) -> 266 | W10: A un compte, préfere distributeur | X10: =+V10-E10 -> 0
A11: =+IF(D11>0,1,0) -> 1 | B11: BAS PRIX (ex moderne nkombo) | C11: Cash | D11: 38 | E11: =D11*7 -> 266 | F11: 46036 | G11: =+IF(A11=1,(+TODAY())-F11,"Sans objet") -> 272 | H11: 3 | I11: =VLOOKUP(H11,Secteurs!$A$4:$C$6,3) -> Arnaud ITOUA | J11: 0.5 | O11: 0.5 | P11: =+$E11*J11 -> 133 | Q11: =+$E11*K11 -> 0 | R11: =+$E11*L11 -> 0 | S11: =+$E11*M11 -> 0 | T11: =+$E11*N11 -> 0 | U11: =+$E11*O11 -> 133 | V11: =SUM(P11:U11) -> 266 | W11: intéressé, passage debut septembre | X11: =+V11-E11 -> 0
A12: =+IF(D12>0,1,0) -> 1 | B12: COMUS | D12: 26 | E12: =D12*7 -> 182 | F12: 46038 | G12: =+IF(A12=1,(+TODAY())-F12,"Sans objet") -> 270 | H12: 2 | I12: =VLOOKUP(H12,Secteurs!$A$4:$C$6,3) -> Prince MBOUSSA | J12: 0.5 | O12: 0.5 | P12: =+$E12*J12 -> 91 | Q12: =+$E12*K12 -> 0 | R12: =+$E12*L12 -> 0 | S12: =+$E12*M12 -> 0 | T12: =+$E12*N12 -> 0 | U12: =+$E12*O12 -> 91 | V12: =SUM(P12:U12) -> 182 | W12: A un compte, préfére distributeur | X12: =+V12-E12 -> 0
A13: =+IF(D13>0,1,0) -> 1 | B13: SALAM ( Ex PLAZZA ) | D13: 40 | E13: =D13*7 -> 280 | F13: 46036 | G13: =+IF(A13=1,(+TODAY())-F13,"Sans objet") -> 272 | H13: 1 | I13: =VLOOKUP(H13,Secteurs!$A$4:$C$6,3) -> Frisca MPASSI | J13: 0.5 | O13: 0.5 | P13: =+$E13*J13 -> 140 | Q13: =+$E13*K13 -> 0 | R13: =+$E13*L13 -> 0 | S13: =+$E13*M13 -> 0 | T13: =+$E13*N13 -> 0 | U13: =+$E13*O13 -> 140 | V13: =SUM(P13:U13) -> 280 | W13: A un compte, préfere distributeur | X13: =+V13-E13 -> 0
A14: =+IF(D14>0,1,0) -> 1 | B14: SID-SID | C14: Cash | D14: 48 | E14: =D14*7 -> 336 | F14: 46036 | G14: =+IF(A14=1,(+TODAY())-F14,"Sans objet") -> 272 | H14: 3 | I14: =VLOOKUP(H14,Secteurs!$A$4:$C$6,3) -> Arnaud ITOUA | J14: 0.5 | M14: 0.25 | N14: 0.25 | P14: =+$E14*J14 -> 168 | Q14: =+$E14*K14 -> 0 | R14: =+$E14*L14 -> 0 | S14: =+$E14*M14 -> 84 | T14: =+$E14*N14 -> 84 | U14: =+$E14*O14 -> 0 | V14: =SUM(P14:U14) -> 336 | W14: intéressé, passage debut septembre | X14: =+V14-E14 -> 0
A15: =+IF(D15>0,1,0) -> 1 | B15: NOUVELLE ESPERANCE 4 | C15: Cash | D15: 64 | E15: =D15*7 -> 448 | F15: 46038 | G15: =+IF(A15=1,(+TODAY())-F15,"Sans objet") -> 270 | H15: 2 | I15: =VLOOKUP(H15,Secteurs!$A$4:$C$6,3) -> Prince MBOUSSA | L15: 0.5 | O15: 0.5 | P15: =+$E15*J15 -> 0 | Q15: =+$E15*K15 -> 0 | R15: =+$E15*L15 -> 224 | S15: =+$E15*M15 -> 0 | T15: =+$E15*N15 -> 0 | U15: =+$E15*O15 -> 224 | V15: =SUM(P15:U15) -> 448 | W15: intéressé, passage debut septembre | X15: =+V15-E15 -> 0
A16: =+IF(D16>0,1,0) -> 1 | B16: MODERNE & ARTISANALE 1 | C16: Cash | D16: 46 | E16: =D16*7 -> 322 | F16: 46035 | G16: =+IF(A16=1,(+TODAY())-F16,"Sans objet") -> 273 | H16: 3 | I16: =VLOOKUP(H16,Secteurs!$A$4:$C$6,3) -> Arnaud ITOUA | J16: 1 | P16: =+$E16*J16 -> 322 | Q16: =+$E16*K16 -> 0 | R16: =+$E16*L16 -> 0 | S16: =+$E16*M16 -> 0 | T16: =+$E16*N16 -> 0 | U16: =+$E16*O16 -> 0 | V16: =SUM(P16:U16) -> 322 | W16: intéressé, attente ouverture de compte | X16: =+V16-E16 -> 0
A17: =+IF(D17>0,1,0) -> 1 | B17: NOUVELLE ESPERANCE 1 | C17: Cash | D17: 40 | E17: =D17*7 -> 280 | F17: 46038 | G17: =+IF(A17=1,(+TODAY())-F17,"Sans objet") -> 270 | H17: 1 | I17: =VLOOKUP(H17,Secteurs!$A$4:$C$6,3) -> Frisca MPASSI | J17: 0.5 | O17: 0.5 | P17: =+$E17*J17 -> 140 | Q17: =+$E17*K17 -> 0 | R17: =+$E17*L17 -> 0 | S17: =+$E17*M17 -> 0 | T17: =+$E17*N17 -> 0 | U17: =+$E17*O17 -> 140 | V17: =SUM(P17:U17) -> 280 | W17: intéressé, passage debut septembre | X17: =+V17-E17 -> 0
A18: =+IF(D18>0,1,0) -> 1 | B18: BEDRE NKOMBO | C18: Cash | D18: 36 | E18: =D18*7 -> 252 | F18: 46037 | G18: =+IF(A18=1,(+TODAY())-F18,"Sans objet") -> 271 | H18: 3 | I18: =VLOOKUP(H18,Secteurs!$A$4:$C$6,3) -> Arnaud ITOUA | J18: 0.5 | O18: 0.5 | P18: =+$E18*J18 -> 126 | Q18: =+$E18*K18 -> 0 | R18: =+$E18*L18 -> 0 | S18: =+$E18*M18 -> 0 | T18: =+$E18*N18 -> 0 | U18: =+$E18*O18 -> 126 | V18: =SUM(P18:U18) -> 252 | W18: A un compte, préfere distributeur( Patron absent) | X18: =+V18-E18 -> 0
A19: =+IF(D19>0,1,0) -> 1 | B19: ARTISANALE 3 ( Ex BLANCHE) | C19: Cash | D19: 38 | E19: =D19*7 -> 266 | F19: 46037 | G19: =+IF(A19=1,(+TODAY())-F19,"Sans objet") -> 271 | H19: 1 | I19: =VLOOKUP(H19,Secteurs!$A$4:$C$6,3) -> Frisca MPASSI | J19: 0.5 | O19: 0.5 | P19: =+$E19*J19 -> 133 | Q19: =+$E19*K19 -> 0 | R19: =+$E19*L19 -> 0 | S19: =+$E19*M19 -> 0 | T19: =+$E19*N19 -> 0 | U19: =+$E19*O19 -> 133 | V19: =SUM(P19:U19) -> 266 | W19: intéressé, attente ouverture de compte | X19: =+V19-E19 -> 0
A20: =+IF(D20>0,1,0) -> 1 | B20: Brazza Moderne 1 | C20: Dette | D20: 46 | E20: =D20*7 -> 322 | F20: 46038 | G20: =+IF(A20=1,(+TODAY())-F20,"Sans objet") -> 270 | H20: 3 | I20: =VLOOKUP(H20,Secteurs!$A$4:$C$6,3) -> Arnaud ITOUA | J20: 0.5 | L20: 0.5 | P20: =+$E20*J20 -> 161 | Q20: =+$E20*K20 -> 0 | R20: =+$E20*L20 -> 161 | S20: =+$E20*M20 -> 0 | T20: =+$E20*N20 -> 0 | U20: =+$E20*O20 -> 0 | V20: =SUM(P20:U20) -> 322 | W20: préfere distributeur | X20: =+V20-E20 -> 0
A21: =+IF(D21>0,1,0) -> 1 | B21: MODERNE & ARTISANALE 2 | C21: Cash | D21: 50 | E21: =D21*7 -> 350 | F21: 46035 | G21: =+IF(A21=1,(+TODAY())-F21,"Sans objet") -> 273 | H21: 3 | I21: =VLOOKUP(H21,Secteurs!$A$4:$C$6,3) -> Arnaud ITOUA | J21: 0.5 | O21: 0.5 | P21: =+$E21*J21 -> 175 | Q21: =+$E21*K21 -> 0 | R21: =+$E21*L21 -> 0 | S21: =+$E21*M21 -> 0 | T21: =+$E21*N21 -> 0 | U21: =+$E21*O21 -> 175 | V21: =SUM(P21:U21) -> 350 | W21: intéressé, attente ouverture de compte | X21: =+V21-E21 -> 0
A22: =+IF(D22>0,1,0) -> 1 | B22: SAHA(ex fournil) | C22: Cash | D22: 32 | E22: =D22*7 -> 224 | F22: 46036 | G22: =+IF(A22=1,(+TODAY())-F22,"Sans objet") -> 272 | H22: 1 | I22: =VLOOKUP(H22,Secteurs!$A$4:$C$6,3) -> Frisca MPASSI | J22: 0.5 | O22: 0.5 | P22: =+$E22*J22 -> 112 | Q22: =+$E22*K22 -> 0 | R22: =+$E22*L22 -> 0 | S22: =+$E22*M22 -> 0 | T22: =+$E22*N22 -> 0 | U22: =+$E22*O22 -> 112 | V22: =SUM(P22:U22) -> 224 | W22: intéressé, achat Week 33 | X22: =+V22-E22 -> 0
A23: =+IF(D23>0,1,0) -> 1 | B23: Paris Pain | D23: 48 | E23: =D23*7 -> 336 | F23: 46038 | G23: =+IF(A23=1,(+TODAY())-F23,"Sans objet") -> 270 | H23: 2 | I23: =VLOOKUP(H23,Secteurs!$A$4:$C$6,3) -> Prince MBOUSSA | J23: 0.5 | O23: 0.5 | P23: =+$E23*J23 -> 168 | Q23: =+$E23*K23 -> 0 | R23: =+$E23*L23 -> 0 | S23: =+$E23*M23 -> 0 | T23: =+$E23*N23 -> 0 | U23: =+$E23*O23 -> 168 | V23: =SUM(P23:U23) -> 336 | W23: Pas de compte, préfere distributeur | X23: =+V23-E23 -> 0
A24: =+IF(D24>0,1,0) -> 1 | B24: EL MEJID ( Ex Baraka Talangai) | C24: Crédit | D24: 44 | E24: =D24*7 -> 308 | F24: 46035 | G24: =+IF(A24=1,(+TODAY())-F24,"Sans objet") -> 273 | H24: 2 | I24: =VLOOKUP(H24,Secteurs!$A$4:$C$6,3) -> Prince MBOUSSA | M24: 0.5 | N24: 0.5 | P24: =+$E24*J24 -> 0 | Q24: =+$E24*K24 -> 0 | R24: =+$E24*L24 -> 0 | S24: =+$E24*M24 -> 154 | T24: =+$E24*N24 -> 154 | U24: =+$E24*O24 -> 0 | V24: =SUM(P24:U24) -> 308 | W24: A un compte Patron Absent | X24: =+V24-E24 -> 0
A25: =+IF(D25>0,1,0) -> 1 | B25: BRAZZA MODERNE 2 | C25: Cash | D25: 40 | E25: =D25*7 -> 280 | F25: 46038 | G25: =+IF(A25=1,(+TODAY())-F25,"Sans objet") -> 270 | H25: 1 | I25: =VLOOKUP(H25,Secteurs!$A$4:$C$6,3) -> Frisca MPASSI | J25: 0.5 | N25: 0.25 | O25: 0.25 | P25: =+$E25*J25 -> 140 | Q25: =+$E25*K25 -> 0 | R25: =+$E25*L25 -> 0 | S25: =+$E25*M25 -> 0 | T25: =+$E25*N25 -> 70 | U25: =+$E25*O25 -> 70 | V25: =SUM(P25:U25) -> 280 | W25: préfere distributeur | X25: =+V25-E25 -> 0
A26: =+IF(D26>0,1,0) -> 1 | B26: DAHI ( ex préference) | D26: 42 | E26: =D26*7 -> 294 | F26: 46035 | G26: =+IF(A26=1,(+TODAY())-F26,"Sans objet") -> 273 | H26: 2 | I26: =VLOOKUP(H26,Secteurs!$A$4:$C$6,3) -> Prince MBOUSSA | J26: 0.5 | O26: 0.5 | P26: =+$E26*J26 -> 147 | Q26: =+$E26*K26 -> 0 | R26: =+$E26*L26 -> 0 | S26: =+$E26*M26 -> 0 | T26: =+$E26*N26 -> 0 | U26: =+$E26*O26 -> 147 | V26: =SUM(P26:U26) -> 294 | W26: préfere distributeur | X26: =+V26-E26 -> 0
A27: =+IF(D27>0,1,0) -> 1 | B27: EL MANSOUR | C27: Crédit | D27: 30 | E27: =D27*7 -> 210 | F27: 46035 | G27: =+IF(A27=1,(+TODAY())-F27,"Sans objet") -> 273 | H27: 1 | I27: =VLOOKUP(H27,Secteurs!$A$4:$C$6,3) -> Frisca MPASSI | J27: 1 | P27: =+$E27*J27 -> 210 | Q27: =+$E27*K27 -> 0 | R27: =+$E27*L27 -> 0 | S27: =+$E27*M27 -> 0 | T27: =+$E27*N27 -> 0 | U27: =+$E27*O27 -> 0 | V27: =SUM(P27:U27) -> 210 | W27: intéressé, passage debut septembre | X27: =+V27-E27 -> 0
A28: =+IF(D28>0,1,0) -> 1 | B28: NOUVELLE ESPERANCE 2 | C28: Cash | D28: 42 | E28: =D28*7 -> 294 | F28: 46038 | G28: =+IF(A28=1,(+TODAY())-F28,"Sans objet") -> 270 | H28: 3 | I28: =VLOOKUP(H28,Secteurs!$A$4:$C$6,3) -> Arnaud ITOUA | J28: 0.5 | N28: 0.25 | O28: 0.25 | P28: =+$E28*J28 -> 147 | Q28: =+$E28*K28 -> 0 | R28: =+$E28*L28 -> 0 | S28: =+$E28*M28 -> 0 | T28: =+$E28*N28 -> 73.5 | U28: =+$E28*O28 -> 73.5 | V28: =SUM(P28:U28) -> 294 | W28: préfere distributeur | X28: =+V28-E28 -> 0
A29: =+IF(D29>0,1,0) -> 1 | B29: MAFOUD | D29: 32 | E29: =D29*7 -> 224 | F29: 46035 | G29: =+IF(A29=1,(+TODAY())-F29,"Sans objet") -> 273 | H29: 2 | I29: =VLOOKUP(H29,Secteurs!$A$4:$C$6,3) -> Prince MBOUSSA | K29: 0.5 | O29: 0.5 | P29: =+$E29*J29 -> 0 | Q29: =+$E29*K29 -> 112 | R29: =+$E29*L29 -> 0 | S29: =+$E29*M29 -> 0 | T29: =+$E29*N29 -> 0 | U29: =+$E29*O29 -> 112 | V29: =SUM(P29:U29) -> 224 | W29: pas de compte, (Maman fanta) | X29: =+V29-E29 -> 0
A30: =+IF(D30>0,1,0) -> 1 | B30: MANE | D30: 40 | E30: =D30*7 -> 280 | F30: 46036 | G30: =+IF(A30=1,(+TODAY())-F30,"Sans objet") -> 272 | H30: 3 | I30: =VLOOKUP(H30,Secteurs!$A$4:$C$6,3) -> Arnaud ITOUA | N30: 0.5 | O30: 0.5 | P30: =+$E30*J30 -> 0 | Q30: =+$E30*K30 -> 0 | R30: =+$E30*L30 -> 0 | S30: =+$E30*M30 -> 0 | T30: =+$E30*N30 -> 140 | U30: =+$E30*O30 -> 140 | V30: =SUM(P30:U30) -> 280 | W30: Pas de compte, préfere distributeur | X30: =+V30-E30 -> 0
A31: =+IF(D31>0,1,0) -> 1 | B31: REVES 2 | D31: 26 | E31: =D31*7 -> 182 | F31: 46037 | G31: =+IF(A31=1,(+TODAY())-F31,"Sans objet") -> 271 | H31: 3 | I31: =VLOOKUP(H31,Secteurs!$A$4:$C$6,3) -> Arnaud ITOUA | J31: 0.5 | O31: 0.5 | P31: =+$E31*J31 -> 91 | Q31: =+$E31*K31 -> 0 | R31: =+$E31*L31 -> 0 | S31: =+$E31*M31 -> 0 | T31: =+$E31*N31 -> 0 | U31: =+$E31*O31 -> 91 | V31: =SUM(P31:U31) -> 182 | W31: A un compte Patron Absent | X31: =+V31-E31 -> 0
A32: =+IF(D32>0,1,0) -> 1 | B32: SAVANA NKOMBO | C32: Cash | D32: 32 | E32: =D32*7 -> 224 | F32: 46036 | G32: =+IF(A32=1,(+TODAY())-F32,"Sans objet") -> 272 | H32: 3 | I32: =VLOOKUP(H32,Secteurs!$A$4:$C$6,3) -> Arnaud ITOUA | J32: 0.25 | N32: 0.25 | O32: 0.5 | P32: =+$E32*J32 -> 56 | Q32: =+$E32*K32 -> 0 | R32: =+$E32*L32 -> 0 | S32: =+$E32*M32 -> 0 | T32: =+$E32*N32 -> 56 | U32: =+$E32*O32 -> 112 | V32: =SUM(P32:U32) -> 224 | W32: intéressé, courant septembre | X32: =+V32-E32 -> 0
A33: =+IF(D33>0,1,0) -> 1 | B33: SD1 CARREFOUR | C33: Crédit | D33: 42 | E33: =D33*7 -> 294 | F33: 46035 | G33: =+IF(A33=1,(+TODAY())-F33,"Sans objet") -> 273 | H33: 3 | I33: =VLOOKUP(H33,Secteurs!$A$4:$C$6,3) -> Arnaud ITOUA | J33: 0.5 | M33: 0.25 | N33: 0.25 | P33: =+$E33*J33 -> 147 | Q33: =+$E33*K33 -> 0 | R33: =+$E33*L33 -> 0 | S33: =+$E33*M33 -> 73.5 | T33: =+$E33*N33 -> 73.5 | U33: =+$E33*O33 -> 0 | V33: =SUM(P33:U33) -> 294 | W33: distributeur | X33: =+V33-E33 -> 0
A34: =+IF(D34>0,1,0) -> 1 | B34: ALMADINA (bama) | D34: 32 | E34: =D34*7 -> 224 | F34: 46035 | G34: =+IF(A34=1,(+TODAY())-F34,"Sans objet") -> 273 | H34: 1 | I34: =VLOOKUP(H34,Secteurs!$A$4:$C$6,3) -> Frisca MPASSI | J34: 1 | P34: =+$E34*J34 -> 224 | Q34: =+$E34*K34 -> 0 | R34: =+$E34*L34 -> 0 | S34: =+$E34*M34 -> 0 | T34: =+$E34*N34 -> 0 | U34: =+$E34*O34 -> 0 | V34: =SUM(P34:U34) -> 224 | W34: A un compte, préfére distributeur | X34: =+V34-E34 -> 0
A35: =+IF(D35>0,1,0) -> 1 | B35: BONNE CHANCE 4 | C35: Crédit | D35: 44 | E35: =D35*7 -> 308 | F35: 46035 | G35: =+IF(A35=1,(+TODAY())-F35,"Sans objet") -> 273 | H35: 2 | I35: =VLOOKUP(H35,Secteurs!$A$4:$C$6,3) -> Prince MBOUSSA | J35: 0.25 | M35: 0.25 | O35: 0.5 | P35: =+$E35*J35 -> 77 | Q35: =+$E35*K35 -> 0 | R35: =+$E35*L35 -> 0 | S35: =+$E35*M35 -> 77 | T35: =+$E35*N35 -> 0 | U35: =+$E35*O35 -> 154 | V35: =SUM(P35:U35) -> 308 | W35: intéréssé, en attente du plafond | X35: =+V35-E35 -> 0
A36: =+IF(D36>0,1,0) -> 1 | B36: DAHI (ex bab elkheire) | D36: 26 | E36: =D36*7 -> 182 | F36: 46038 | G36: =+IF(A36=1,(+TODAY())-F36,"Sans objet") -> 270 | H36: 3 | I36: =VLOOKUP(H36,Secteurs!$A$4:$C$6,3) -> Arnaud ITOUA | J36: 0.5 | N36: 0.5 | P36: =+$E36*J36 -> 91 | Q36: =+$E36*K36 -> 0 | R36: =+$E36*L36 -> 0 | S36: =+$E36*M36 -> 0 | T36: =+$E36*N36 -> 91 | U36: =+$E36*O36 -> 0 | V36: =SUM(P36:U36) -> 182 | W36: préfere distributeur | X36: =+V36-E36 -> 0
A37: =+IF(D37>0,1,0) -> 1 | B37: ETOILE DE KINTELE 1 | D37: 24 | E37: =D37*7 -> 168 | F37: 46037 | G37: =+IF(A37=1,(+TODAY())-F37,"Sans objet") -> 271 | H37: 3 | I37: =VLOOKUP(H37,Secteurs!$A$4:$C$6,3) -> Arnaud ITOUA | J37: 0.5 | O37: 0.5 | P37: =+$E37*J37 -> 84 | Q37: =+$E37*K37 -> 0 | R37: =+$E37*L37 -> 0 | S37: =+$E37*M37 -> 0 | T37: =+$E37*N37 -> 0 | U37: =+$E37*O37 -> 84 | V37: =SUM(P37:U37) -> 168 | W37: Pas de compte, préfere distributeur | X37: =+V37-E37 -> 0
A38: =+IF(D38>0,1,0) -> 1 | B38: ETOILE DE KINTELE 2 | D38: 28 | E38: =D38*7 -> 196 | F38: 46037 | G38: =+IF(A38=1,(+TODAY())-F38,"Sans objet") -> 271 | H38: 3 | I38: =VLOOKUP(H38,Secteurs!$A$4:$C$6,3) -> Arnaud ITOUA | J38: 0.5 | O38: 0.5 | P38: =+$E38*J38 -> 98 | Q38: =+$E38*K38 -> 0 | R38: =+$E38*L38 -> 0 | S38: =+$E38*M38 -> 0 | T38: =+$E38*N38 -> 0 | U38: =+$E38*O38 -> 98 | V38: =SUM(P38:U38) -> 196 | W38: Pas de compte, préfere distributeur | X38: =+V38-E38 -> 0
A39: =+IF(D39>0,1,0) -> 1 | B39: HOT BREAD MOUKONDO | D39: 38 | E39: =D39*7 -> 266 | F39: 46038 | G39: =+IF(A39=1,(+TODAY())-F39,"Sans objet") -> 270 | H39: 2 | I39: =VLOOKUP(H39,Secteurs!$A$4:$C$6,3) -> Prince MBOUSSA | J39: 0.5 | O39: 0.5 | P39: =+$E39*J39 -> 133 | Q39: =+$E39*K39 -> 0 | R39: =+$E39*L39 -> 0 | S39: =+$E39*M39 -> 0 | T39: =+$E39*N39 -> 0 | U39: =+$E39*O39 -> 133 | V39: =SUM(P39:U39) -> 266 | W39: A un compte, préfére distributeur | X39: =+V39-E39 -> 0
A40: =+IF(D40>0,1,0) -> 1 | B40: HOT BREAD1 ( Mbochi ) | D40: 40 | E40: =D40*7 -> 280 | F40: 46037 | G40: =+IF(A40=1,(+TODAY())-F40,"Sans objet") -> 271 | H40: 1 | I40: =VLOOKUP(H40,Secteurs!$A$4:$C$6,3) -> Frisca MPASSI | J40: 0.5 | O40: 0.5 | P40: =+$E40*J40 -> 140 | Q40: =+$E40*K40 -> 0 | R40: =+$E40*L40 -> 0 | S40: =+$E40*M40 -> 0 | T40: =+$E40*N40 -> 0 | U40: =+$E40*O40 -> 140 | V40: =SUM(P40:U40) -> 280 | W40: A un compte, préfére distributeur | X40: =+V40-E40 -> 0
A41: =+IF(D41>0,1,0) -> 1 | B41: BONNE CHANCE 5( Ex Mouvida 1) | C41: Crédit | D41: 26 | E41: =D41*7 -> 182 | F41: 46036 | G41: =+IF(A41=1,(+TODAY())-F41,"Sans objet") -> 272 | H41: 3 | I41: =VLOOKUP(H41,Secteurs!$A$4:$C$6,3) -> Arnaud ITOUA | J41: 0.5 | O41: 0.5 | P41: =+$E41*J41 -> 91 | Q41: =+$E41*K41 -> 0 | R41: =+$E41*L41 -> 0 | S41: =+$E41*M41 -> 0 | T41: =+$E41*N41 -> 0 | U41: =+$E41*O41 -> 91 | V41: =SUM(P41:U41) -> 182 | W41: intéréssé, en attente du plafond | X41: =+V41-E41 -> 0
A42: =+IF(D42>0,1,0) -> 1 | B42: OUM EL KORA(Ex NAJAH MA) | C42: Crédit | D42: 36 | E42: =D42*7 -> 252 | F42: 46036 | G42: =+IF(A42=1,(+TODAY())-F42,"Sans objet") -> 272 | H42: 1 | I42: =VLOOKUP(H42,Secteurs!$A$4:$C$6,3) -> Frisca MPASSI | J42: 0.5 | O42: 0.5 | P42: =+$E42*J42 -> 126 | Q42: =+$E42*K42 -> 0 | R42: =+$E42*L42 -> 0 | S42: =+$E42*M42 -> 0 | T42: =+$E42*N42 -> 0 | U42: =+$E42*O42 -> 126 | V42: =SUM(P42:U42) -> 252 | W42: A un compte, intéréssé | X42: =+V42-E42 -> 0
A43: =+IF(D43>0,1,0) -> 1 | B43: NDH (ex PAIN VICTOIRE) | C43: Crédit | D43: 36 | E43: =D43*7 -> 252 | F43: 46037 | G43: =+IF(A43=1,(+TODAY())-F43,"Sans objet") -> 271 | H43: 3 | I43: =VLOOKUP(H43,Secteurs!$A$4:$C$6,3) -> Arnaud ITOUA | J43: 0.5 | M43: 0.5 | P43: =+$E43*J43 -> 126 | Q43: =+$E43*K43 -> 0 | R43: =+$E43*L43 -> 0 | S43: =+$E43*M43 -> 126 | T43: =+$E43*N43 -> 0 | U43: =+$E43*O43 -> 0 | V43: =SUM(P43:U43) -> 252 | W43: appartenant à Mazala | X43: =+V43-E43 -> 0
A44: =+IF(D44>0,1,0) -> 1 | B44: TIK-TOK | C44: Crédit | D44: 40 | E44: =D44*7 -> 280 | F44: 46035 | G44: =+IF(A44=1,(+TODAY())-F44,"Sans objet") -> 273 | H44: 2 | I44: =VLOOKUP(H44,Secteurs!$A$4:$C$6,3) -> Prince MBOUSSA | J44: 0.5 | M44: 0.5 | P44: =+$E44*J44 -> 140 | Q44: =+$E44*K44 -> 0 | R44: =+$E44*L44 -> 0 | S44: =+$E44*M44 -> 140 | T44: =+$E44*N44 -> 0 | U44: =+$E44*O44 -> 0 | V44: =SUM(P44:U44) -> 280 | W44: appartenant à Mazala | X44: =+V44-E44 -> 0
A45: =+IF(D45>0,1,0) -> 1 | B45: D.A.H ( Bon Vivre) | D45: 28 | E45: =D45*7 -> 196 | F45: 46035 | G45: =+IF(A45=1,(+TODAY())-F45,"Sans objet") -> 273 | H45: 1 | I45: =VLOOKUP(H45,Secteurs!$A$4:$C$6,3) -> Frisca MPASSI | J45: 0.5 | O45: 0.5 | P45: =+$E45*J45 -> 98 | Q45: =+$E45*K45 -> 0 | R45: =+$E45*L45 -> 0 | S45: =+$E45*M45 -> 0 | T45: =+$E45*N45 -> 0 | U45: =+$E45*O45 -> 98 | V45: =SUM(P45:U45) -> 196 | W45: pas de compte, préfére distributeur | X45: =+V45-E45 -> 0
A46: =+IF(D46>0,1,0) -> 1 | B46: FORAGE | D46: 25 | E46: =D46*7 -> 175 | F46: 46035 | G46: =+IF(A46=1,(+TODAY())-F46,"Sans objet") -> 273 | H46: 1 | I46: =VLOOKUP(H46,Secteurs!$A$4:$C$6,3) -> Frisca MPASSI | L46: 0.5 | N46: 0.5 | P46: =+$E46*J46 -> 0 | Q46: =+$E46*K46 -> 0 | R46: =+$E46*L46 -> 87.5 | S46: =+$E46*M46 -> 0 | T46: =+$E46*N46 -> 87.5 | U46: =+$E46*O46 -> 0 | V46: =SUM(P46:U46) -> 175 | W46: Pas de compte | X46: =+V46-E46 -> 0
A47: =+IF(D47>0,1,0) -> 1 | B47: BABA-EL (Nganga lingolo Djoue ) | C47: Crédit | D47: 28 | E47: =D47*7 -> 196 | F47: 46034 | G47: =+IF(A47=1,(+TODAY())-F47,"Sans objet") -> 274 | H47: 1 | I47: =VLOOKUP(H47,Secteurs!$A$4:$C$6,3) -> Frisca MPASSI | J47: 0.5 | M47: 0.25 | O47: 0.25 | P47: =+$E47*J47 -> 98 | Q47: =+$E47*K47 -> 0 | R47: =+$E47*L47 -> 0 | S47: =+$E47*M47 -> 49 | T47: =+$E47*N47 -> 0 | U47: =+$E47*O47 -> 49 | V47: =SUM(P47:U47) -> 196 | W47: Intéréssé, Achat août 1000 sacs | X47: =+V47-E47 -> 0
A48: =+IF(D48>0,1,0) -> 1 | B48: EL BARAKA 2024 | C48: Crédit | D48: 26 | E48: =D48*7 -> 182 | F48: 46038 | G48: =+IF(A48=1,(+TODAY())-F48,"Sans objet") -> 270 | H48: 3 | I48: =VLOOKUP(H48,Secteurs!$A$4:$C$6,3) -> Arnaud ITOUA | J48: 0.5 | O48: 0.5 | P48: =+$E48*J48 -> 91 | Q48: =+$E48*K48 -> 0 | R48: =+$E48*L48 -> 0 | S48: =+$E48*M48 -> 0 | T48: =+$E48*N48 -> 0 | U48: =+$E48*O48 -> 91 | V48: =SUM(P48:U48) -> 182 | W48: A un compte Patron Absent | X48: =+V48-E48 -> 0
A49: =+IF(D49>0,1,0) -> 1 | B49: DORA MAYA | C49: Crédit | D49: 48 | E49: =D49*7 -> 336 | F49: 46038 | G49: =+IF(A49=1,(+TODAY())-F49,"Sans objet") -> 270 | H49: 2 | I49: =VLOOKUP(H49,Secteurs!$A$4:$C$6,3) -> Prince MBOUSSA | J49: 0.5 | M49: 0.5 | P49: =+$E49*J49 -> 168 | Q49: =+$E49*K49 -> 0 | R49: =+$E49*L49 -> 0 | S49: =+$E49*M49 -> 168 | T49: =+$E49*N49 -> 0 | U49: =+$E49*O49 -> 0 | V49: =SUM(P49:U49) -> 336 | W49: appartenant à Mazala | X49: =+V49-E49 -> 0
A50: =+IF(D50>0,1,0) -> 1 | B50: EL BARAKA makabandilou | C50: Crédit | D50: 26 | E50: =D50*7 -> 182 | F50: 46037 | G50: =+IF(A50=1,(+TODAY())-F50,"Sans objet") -> 271 | H50: 3 | I50: =VLOOKUP(H50,Secteurs!$A$4:$C$6,3) -> Arnaud ITOUA | L50: 0.25 | N50: 0.25 | O50: 0.5 | P50: =+$E50*J50 -> 0 | Q50: =+$E50*K50 -> 0 | R50: =+$E50*L50 -> 45.5 | S50: =+$E50*M50 -> 0 | T50: =+$E50*N50 -> 45.5 | U50: =+$E50*O50 -> 91 | V50: =SUM(P50:U50) -> 182 | W50: A un compte Patron Absent | X50: =+V50-E50 -> 0
A51: =+IF(D51>0,1,0) -> 1 | B51: ELWAHVA | D51: 48 | E51: =D51*7 -> 336 | F51: 46038 | G51: =+IF(A51=1,(+TODAY())-F51,"Sans objet") -> 270 | H51: 2 | I51: =VLOOKUP(H51,Secteurs!$A$4:$C$6,3) -> Prince MBOUSSA | J51: 0.5 | O51: 0.5 | P51: =+$E51*J51 -> 168 | Q51: =+$E51*K51 -> 0 | R51: =+$E51*L51 -> 0 | S51: =+$E51*M51 -> 0 | T51: =+$E51*N51 -> 0 | U51: =+$E51*O51 -> 168 | V51: =SUM(P51:U51) -> 336 | W51: Pas de compte patron absent | X51: =+V51-E51 -> 0
A52: =+IF(D52>0,1,0) -> 1 | B52: ESCALE | C52: Crédit | D52: 24 | E52: =D52*7 -> 168 | F52: 46036 | G52: =+IF(A52=1,(+TODAY())-F52,"Sans objet") -> 272 | H52: 3 | I52: =VLOOKUP(H52,Secteurs!$A$4:$C$6,3) -> Arnaud ITOUA | N52: 0.5 | O52: 0.5 | P52: =+$E52*J52 -> 0 | Q52: =+$E52*K52 -> 0 | R52: =+$E52*L52 -> 0 | S52: =+$E52*M52 -> 0 | T52: =+$E52*N52 -> 84 | U52: =+$E52*O52 -> 84 | V52: =SUM(P52:U52) -> 168 | W52: intéréssé, achat août 500 sacs | X52: =+V52-E52 -> 0
A53: =+IF(D53>0,1,0) -> 1 | B53: FIRDAWS 1 | C53: Crédit | D53: 26 | E53: =D53*7 -> 182 | F53: 46036 | G53: =+IF(A53=1,(+TODAY())-F53,"Sans objet") -> 272 | H53: 3 | I53: =VLOOKUP(H53,Secteurs!$A$4:$C$6,3) -> Arnaud ITOUA | J53: 0.5 | O53: 0.5 | P53: =+$E53*J53 -> 91 | Q53: =+$E53*K53 -> 0 | R53: =+$E53*L53 -> 0 | S53: =+$E53*M53 -> 0 | T53: =+$E53*N53 -> 0 | U53: =+$E53*O53 -> 91 | V53: =SUM(P53:U53) -> 182 | W53: Intéréssé, debut septembre | X53: =+V53-E53 -> 0
A54: =+IF(D54>0,1,0) -> 1 | B54: MARCHE DJIRI ( ext ESCALE ) | D54: 28 | E54: =D54*7 -> 196 | F54: 46037 | G54: =+IF(A54=1,(+TODAY())-F54,"Sans objet") -> 271 | H54: 3 | I54: =VLOOKUP(H54,Secteurs!$A$4:$C$6,3) -> Arnaud ITOUA | J54: 0.5 | M54: 0.5 | P54: =+$E54*J54 -> 98 | Q54: =+$E54*K54 -> 0 | R54: =+$E54*L54 -> 0 | S54: =+$E54*M54 -> 98 | T54: =+$E54*N54 -> 0 | U54: =+$E54*O54 -> 0 | V54: =SUM(P54:U54) -> 196 | W54: intéréssé, (Cpte Escale) | X54: =+V54-E54 -> 0
A55: =+IF(D55>0,1,0) -> 1 | B55: SALAM( Ex MODERNE AV France) | C55: Crédit | D55: 36 | E55: =D55*7 -> 252 | F55: 46038 | G55: =+IF(A55=1,(+TODAY())-F55,"Sans objet") -> 270 | H55: 2 | I55: =VLOOKUP(H55,Secteurs!$A$4:$C$6,3) -> Prince MBOUSSA | J55: 0.5 | O55: 0.5 | P55: =+$E55*J55 -> 126 | Q55: =+$E55*K55 -> 0 | R55: =+$E55*L55 -> 0 | S55: =+$E55*M55 -> 0 | T55: =+$E55*N55 -> 0 | U55: =+$E55*O55 -> 126 | V55: =SUM(P55:U55) -> 252 | W55: A un compte, préfére distributeur | X55: =+V55-E55 -> 0
A56: =+IF(D56>0,1,0) -> 1 | B56: MSB | C56: Cash | D56: 22 | E56: =D56*7 -> 154 | F56: 46035 | G56: =+IF(A56=1,(+TODAY())-F56,"Sans objet") -> 273 | H56: 3 | I56: =VLOOKUP(H56,Secteurs!$A$4:$C$6,3) -> Arnaud ITOUA | J56: 0.5 | O56: 0.5 | P56: =+$E56*J56 -> 77 | Q56: =+$E56*K56 -> 0 | R56: =+$E56*L56 -> 0 | S56: =+$E56*M56 -> 0 | T56: =+$E56*N56 -> 0 | U56: =+$E56*O56 -> 77 | V56: =SUM(P56:U56) -> 154 | W56: Intéréssé, debut septembre | X56: =+V56-E56 -> 0
A57: =+IF(D57>0,1,0) -> 1 | B57: SABANA ( Ex PUZZLE) | C57: Crédit | D57: 44 | E57: =D57*7 -> 308 | F57: 46038 | G57: =+IF(A57=1,(+TODAY())-F57,"Sans objet") -> 270 | H57: 2 | I57: =VLOOKUP(H57,Secteurs!$A$4:$C$6,3) -> Prince MBOUSSA | J57: 0.5 | N57: 0.25 | O57: 0.25 | P57: =+$E57*J57 -> 154 | Q57: =+$E57*K57 -> 0 | R57: =+$E57*L57 -> 0 | S57: =+$E57*M57 -> 0 | T57: =+$E57*N57 -> 77 | U57: =+$E57*O57 -> 77 | V57: =SUM(P57:U57) -> 308 | W57: préfere distributeur | X57: =+V57-E57 -> 0
A58: =+IF(D58>0,1,0) -> 1 | B58: REVES 3 | D58: 26 | E58: =D58*7 -> 182 | F58: 46037 | G58: =+IF(A58=1,(+TODAY())-F58,"Sans objet") -> 271 | H58: 3 | I58: =VLOOKUP(H58,Secteurs!$A$4:$C$6,3) -> Arnaud ITOUA | J58: 0.5 | O58: 0.5 | P58: =+$E58*J58 -> 91 | Q58: =+$E58*K58 -> 0 | R58: =+$E58*L58 -> 0 | S58: =+$E58*M58 -> 0 | T58: =+$E58*N58 -> 0 | U58: =+$E58*O58 -> 91 | V58: =SUM(P58:U58) -> 182 | W58: A un compte Patron Absent | X58: =+V58-E58 -> 0
A59: =+IF(D59>0,1,0) -> 1 | B59: TEYBA | C59: Cash | D59: 28 | E59: =D59*7 -> 196 | F59: 46036 | G59: =+IF(A59=1,(+TODAY())-F59,"Sans objet") -> 272 | H59: 1 | I59: =VLOOKUP(H59,Secteurs!$A$4:$C$6,3) -> Frisca MPASSI | J59: 0.5 | O59: 0.5 | P59: =+$E59*J59 -> 98 | Q59: =+$E59*K59 -> 0 | R59: =+$E59*L59 -> 0 | S59: =+$E59*M59 -> 0 | T59: =+$E59*N59 -> 0 | U59: =+$E59*O59 -> 98 | V59: =SUM(P59:U59) -> 196 | W59: Intéréssé, (Cpte Elkheire) | X59: =+V59-E59 -> 0
A60: =+IF(D60>0,1,0) -> 1 | B60: Bonne Chance 1 (Digeco) | C60: Crédit | D60: 36 | E60: =D60*7 -> 252 | F60: 46038 | G60: =+IF(A60=1,(+TODAY())-F60,"Sans objet") -> 270 | H60: 2 | I60: =VLOOKUP(H60,Secteurs!$A$4:$C$6,3) -> Prince MBOUSSA | M60: 0.5 | O60: 0.5 | P60: =+$E60*J60 -> 0 | Q60: =+$E60*K60 -> 0 | R60: =+$E60*L60 -> 0 | S60: =+$E60*M60 -> 126 | T60: =+$E60*N60 -> 0 | U60: =+$E60*O60 -> 126 | V60: =SUM(P60:U60) -> 252 | W60: Intéréssé | X60: =+V60-E60 -> 0
A61: =+IF(D61>0,1,0) -> 1 | B61: ND 2 BIFOUITI | C61: Crédit | D61: 28 | E61: =D61*7 -> 196 | F61: 46037 | G61: =+IF(A61=1,(+TODAY())-F61,"Sans objet") -> 271 | H61: 1 | I61: =VLOOKUP(H61,Secteurs!$A$4:$C$6,3) -> Frisca MPASSI | J61: 0.5 | N61: 0.25 | O61: 0.25 | P61: =+$E61*J61 -> 98 | Q61: =+$E61*K61 -> 0 | R61: =+$E61*L61 -> 0 | S61: =+$E61*M61 -> 0 | T61: =+$E61*N61 -> 49 | U61: =+$E61*O61 -> 49 | V61: =SUM(P61:U61) -> 196 | W61: Intéréssé, debut septembre | X61: =+V61-E61 -> 0
A62: =+IF(D62>0,1,0) -> 1 | B62: ND1 | C62: Crédit | D62: 28 | E62: =D62*7 -> 196 | F62: 46035 | G62: =+IF(A62=1,(+TODAY())-F62,"Sans objet") -> 273 | H62: 1 | I62: =VLOOKUP(H62,Secteurs!$A$4:$C$6,3) -> Frisca MPASSI | L62: 0.5 | N62: 0.5 | P62: =+$E62*J62 -> 0 | Q62: =+$E62*K62 -> 0 | R62: =+$E62*L62 -> 98 | S62: =+$E62*M62 -> 0 | T62: =+$E62*N62 -> 98 | U62: =+$E62*O62 -> 0 | V62: =SUM(P62:U62) -> 196 | W62: Intéréssé, debut septembre | X62: =+V62-E62 -> 0
A63: =+IF(D63>0,1,0) -> 1 | B63: ND 3 PK | C63: Crédit | D63: 28 | E63: =D63*7 -> 196 | F63: 46035 | G63: =+IF(A63=1,(+TODAY())-F63,"Sans objet") -> 273 | H63: 1 | I63: =VLOOKUP(H63,Secteurs!$A$4:$C$6,3) -> Frisca MPASSI | L63: 0.5 | N63: 0.5 | P63: =+$E63*J63 -> 0 | Q63: =+$E63*K63 -> 0 | R63: =+$E63*L63 -> 98 | S63: =+$E63*M63 -> 0 | T63: =+$E63*N63 -> 98 | U63: =+$E63*O63 -> 0 | V63: =SUM(P63:U63) -> 196 | W63: Intéréssé, debut septembre | X63: =+V63-E63 -> 0
A64: =+IF(D64>0,1,0) -> 1 | B64: BENEDICTION NGAMAKOSSO | C64: Crédit | D64: 42 | E64: =D64*7 -> 294 | F64: 46038 | G64: =+IF(A64=1,(+TODAY())-F64,"Sans objet") -> 270 | H64: 3 | I64: =VLOOKUP(H64,Secteurs!$A$4:$C$6,3) -> Arnaud ITOUA | J64: 0.5 | O64: 0.5 | P64: =+$E64*J64 -> 147 | Q64: =+$E64*K64 -> 0 | R64: =+$E64*L64 -> 0 | S64: =+$E64*M64 -> 0 | T64: =+$E64*N64 -> 0 | U64: =+$E64*O64 -> 147 | V64: =SUM(P64:U64) -> 294 | W64: distributeur (SALECK) | X64: =+V64-E64 -> 0
A65: =+IF(D65>0,1,0) -> 1 | B65: BONNE CHANCE 2 | C65: Crédit | D65: 25 | E65: =D65*7 -> 175 | F65: 46034 | G65: =+IF(A65=1,(+TODAY())-F65,"Sans objet") -> 274 | H65: 1 | I65: =VLOOKUP(H65,Secteurs!$A$4:$C$6,3) -> Frisca MPASSI | J65: 0.5 | N65: 0.25 | O65: 0.25 | P65: =+$E65*J65 -> 87.5 | Q65: =+$E65*K65 -> 0 | R65: =+$E65*L65 -> 0 | S65: =+$E65*M65 -> 0 | T65: =+$E65*N65 -> 43.75 | U65: =+$E65*O65 -> 43.75 | V65: =SUM(P65:U65) -> 175 | W65: Intéréssé | X65: =+V65-E65 -> 0
A66: =+IF(D66>0,1,0) -> 1 | B66: BIFOUITI ( Ex BRAZZA 2005 ) | C66: Crédit | D66: 28 | E66: =D66*7 -> 196 | F66: 46036 | G66: =+IF(A66=1,(+TODAY())-F66,"Sans objet") -> 272 | H66: 1 | I66: =VLOOKUP(H66,Secteurs!$A$4:$C$6,3) -> Frisca MPASSI | J66: 0.5 | O66: 0.5 | P66: =+$E66*J66 -> 98 | Q66: =+$E66*K66 -> 0 | R66: =+$E66*L66 -> 0 | S66: =+$E66*M66 -> 0 | T66: =+$E66*N66 -> 0 | U66: =+$E66*O66 -> 98 | V66: =SUM(P66:U66) -> 196 | W66: Intéréssé, Achat août 1000 sacs | X66: =+V66-E66 -> 0
A67: =+IF(D67>0,1,0) -> 1 | B67: ILYAS EX KIGOUARIE | C67: Crédit | D67: 26 | E67: =D67*7 -> 182 | F67: 46036 | G67: =+IF(A67=1,(+TODAY())-F67,"Sans objet") -> 272 | H67: 1 | I67: =VLOOKUP(H67,Secteurs!$A$4:$C$6,3) -> Frisca MPASSI | J67: 0.5 | O67: 0.5 | P67: =+$E67*J67 -> 91 | Q67: =+$E67*K67 -> 0 | R67: =+$E67*L67 -> 0 | S67: =+$E67*M67 -> 0 | T67: =+$E67*N67 -> 0 | U67: =+$E67*O67 -> 91 | V67: =SUM(P67:U67) -> 182 | W67: Intéréssé, passage septembre | X67: =+V67-E67 -> 0
A68: =+IF(D68>0,1,0) -> 1 | B68: Paris Baguette (Ex KEITA BF) | C68: Crédit | D68: 46 | E68: =D68*7 -> 322 | F68: 46038 | G68: =+IF(A68=1,(+TODAY())-F68,"Sans objet") -> 270 | H68: 2 | I68: =VLOOKUP(H68,Secteurs!$A$4:$C$6,3) -> Prince MBOUSSA | J68: 0.5 | M68: 0.5 | P68: =+$E68*J68 -> 161 | Q68: =+$E68*K68 -> 0 | R68: =+$E68*L68 -> 0 | S68: =+$E68*M68 -> 161 | T68: =+$E68*N68 -> 0 | U68: =+$E68*O68 -> 0 | V68: =SUM(P68:U68) -> 322 | W68: Pas de compte | X68: =+V68-E68 -> 0
A69: =+IF(D69>0,1,0) -> 1 | B69: LA CONGOLAISE 1 (Ouenze) | D69: 24 | E69: =D69*7 -> 168 | F69: 46035 | G69: =+IF(A69=1,(+TODAY())-F69,"Sans objet") -> 273 | H69: 2 | I69: =VLOOKUP(H69,Secteurs!$A$4:$C$6,3) -> Prince MBOUSSA | O69: 1 | P69: =+$E69*J69 -> 0 | Q69: =+$E69*K69 -> 0 | R69: =+$E69*L69 -> 0 | S69: =+$E69*M69 -> 0 | T69: =+$E69*N69 -> 0 | U69: =+$E69*O69 -> 168 | V69: =SUM(P69:U69) -> 168 | W69: Pas de compte, en discussion | X69: =+V69-E69 -> 0
A70: =+IF(D70>0,1,0) -> 1 | B70: LA GLOIRE MAYANGA B52 | D70: 28 | E70: =D70*7 -> 196 | F70: 46036 | G70: =+IF(A70=1,(+TODAY())-F70,"Sans objet") -> 272 | H70: 1 | I70: =VLOOKUP(H70,Secteurs!$A$4:$C$6,3) -> Frisca MPASSI | J70: 0.5 | M70: 0.25 | O70: 0.25 | P70: =+$E70*J70 -> 98 | Q70: =+$E70*K70 -> 0 | R70: =+$E70*L70 -> 0 | S70: =+$E70*M70 -> 49 | T70: =+$E70*N70 -> 0 | U70: =+$E70*O70 -> 49 | V70: =SUM(P70:U70) -> 196 | W70: intéréssé, achat août 1000 sacs | X70: =+V70-E70 -> 0
A71: =+IF(D71>0,1,0) -> 1 | B71: Bonne Chance 6 (Ex MOUVIDA 2 ) | D71: 22 | E71: =D71*7 -> 154 | F71: 46034 | G71: =+IF(A71=1,(+TODAY())-F71,"Sans objet") -> 274 | H71: 1 | I71: =VLOOKUP(H71,Secteurs!$A$4:$C$6,3) -> Frisca MPASSI | N71: 0.5 | O71: 0.5 | P71: =+$E71*J71 -> 0 | Q71: =+$E71*K71 -> 0 | R71: =+$E71*L71 -> 0 | S71: =+$E71*M71 -> 0 | T71: =+$E71*N71 -> 77 | U71: =+$E71*O71 -> 77 | V71: =SUM(P71:U71) -> 154 | W71: Intéréssé | X71: =+V71-E71 -> 0
A72: =+IF(D72>0,1,0) -> 1 | B72: Takwa ( Ex Nationale Mkdo) | D72: 28 | E72: =D72*7 -> 196 | F72: 46038 | G72: =+IF(A72=1,(+TODAY())-F72,"Sans objet") -> 270 | H72: 2 | I72: =VLOOKUP(H72,Secteurs!$A$4:$C$6,3) -> Prince MBOUSSA | J72: 0.5 | O72: 0.5 | P72: =+$E72*J72 -> 98 | Q72: =+$E72*K72 -> 0 | R72: =+$E72*L72 -> 0 | S72: =+$E72*M72 -> 0 | T72: =+$E72*N72 -> 0 | U72: =+$E72*O72 -> 98 | V72: =SUM(P72:U72) -> 196 | W72: préfere distributeur | X72: =+V72-E72 -> 0
A73: =+IF(D73>0,1,0) -> 1 | B73: RIM D'OR 1 | C73: Cash | D73: 28 | E73: =D73*7 -> 196 | F73: 46038 | G73: =+IF(A73=1,(+TODAY())-F73,"Sans objet") -> 270 | H73: 1 | I73: =VLOOKUP(H73,Secteurs!$A$4:$C$6,3) -> Frisca MPASSI | M73: 0.5 | N73: 0.5 | P73: =+$E73*J73 -> 0 | Q73: =+$E73*K73 -> 0 | R73: =+$E73*L73 -> 0 | S73: =+$E73*M73 -> 98 | T73: =+$E73*N73 -> 98 | U73: =+$E73*O73 -> 0 | V73: =SUM(P73:U73) -> 196 | W73: intéréssé, courant septembre | X73: =+V73-E73 -> 0
A74: =+IF(D74>0,1,0) -> 1 | B74: RIM D'OR 2 | D74: 25 | E74: =D74*7 -> 175 | F74: 46038 | G74: =+IF(A74=1,(+TODAY())-F74,"Sans objet") -> 270 | H74: 1 | I74: =VLOOKUP(H74,Secteurs!$A$4:$C$6,3) -> Frisca MPASSI | M74: 0.5 | N74: 0.5 | P74: =+$E74*J74 -> 0 | Q74: =+$E74*K74 -> 0 | R74: =+$E74*L74 -> 0 | S74: =+$E74*M74 -> 87.5 | T74: =+$E74*N74 -> 87.5 | U74: =+$E74*O74 -> 0 | V74: =SUM(P74:U74) -> 175 | W74: intéréssé, courant septembre | X74: =+V74-E74 -> 0
A75: =+IF(D75>0,1,0) -> 1 | B75: SD MASSENGO | C75: Crédit | D75: 26 | E75: =D75*7 -> 182 | F75: 46037 | G75: =+IF(A75=1,(+TODAY())-F75,"Sans objet") -> 271 | H75: 3 | I75: =VLOOKUP(H75,Secteurs!$A$4:$C$6,3) -> Arnaud ITOUA | J75: 0.5 | L75: 0.25 | N75: 0.25 | P75: =+$E75*J75 -> 91 | Q75: =+$E75*K75 -> 0 | R75: =+$E75*L75 -> 45.5 | S75: =+$E75*M75 -> 0 | T75: =+$E75*N75 -> 45.5 | U75: =+$E75*O75 -> 0 | V75: =SUM(P75:U75) -> 182 | W75: distributeur Saleck | X75: =+V75-E75 -> 0
A76: =+IF(D76>0,1,0) -> 1 | B76: SUPER CAFE | D76: 34 | E76: =D76*7 -> 238 | F76: 46038 | G76: =+IF(A76=1,(+TODAY())-F76,"Sans objet") -> 270 | H76: 2 | I76: =VLOOKUP(H76,Secteurs!$A$4:$C$6,3) -> Prince MBOUSSA | J76: 0.5 | L76: 0.25 | O76: 0.25 | P76: =+$E76*J76 -> 119 | Q76: =+$E76*K76 -> 0 | R76: =+$E76*L76 -> 59.5 | S76: =+$E76*M76 -> 0 | T76: =+$E76*N76 -> 0 | U76: =+$E76*O76 -> 59.5 | V76: =SUM(P76:U76) -> 238 | W76: intéréssé, pour septembre | X76: =+V76-E76 -> 0
A77: =+IF(D77>0,1,0) -> 1 | B77: LE BON CHOIX (Ex YESLEM) | C77: Dette | D77: 40 | E77: =D77*7 -> 280 | F77: 46035 | G77: =+IF(A77=1,(+TODAY())-F77,"Sans objet") -> 273 | H77: 3 | I77: =VLOOKUP(H77,Secteurs!$A$4:$C$6,3) -> Arnaud ITOUA | J77: 0.5 | N77: 0.25 | O77: 0.25 | P77: =+$E77*J77 -> 140 | Q77: =+$E77*K77 -> 0 | R77: =+$E77*L77 -> 0 | S77: =+$E77*M77 -> 0 | T77: =+$E77*N77 -> 70 | U77: =+$E77*O77 -> 70 | V77: =SUM(P77:U77) -> 280 | W77: A un compte, en discussion avec le client | X77: =+V77-E77 -> 0
A78: =+IF(D78>0,1,0) -> 1 | B78: LA PERLE MAYANGA | D78: 25 | E78: =D78*7 -> 175 | F78: 46034 | G78: =+IF(A78=1,(+TODAY())-F78,"Sans objet") -> 274 | H78: 1 | I78: =VLOOKUP(H78,Secteurs!$A$4:$C$6,3) -> Frisca MPASSI | J78: 0.5 | O78: 0.5 | P78: =+$E78*J78 -> 87.5 | Q78: =+$E78*K78 -> 0 | R78: =+$E78*L78 -> 0 | S78: =+$E78*M78 -> 0 | T78: =+$E78*N78 -> 0 | U78: =+$E78*O78 -> 87.5 | V78: =SUM(P78:U78) -> 175 | W78: Intéréssé, (cpte la Gloire) | X78: =+V78-E78 -> 0
A79: =+IF(D79>0,1,0) -> 1 | B79: LA PLAINE | C79: Crédit | D79: 38 | E79: =D79*7 -> 266 | F79: 46037 | G79: =+IF(A79=1,(+TODAY())-F79,"Sans objet") -> 271 | H79: 1 | I79: =VLOOKUP(H79,Secteurs!$A$4:$C$6,3) -> Frisca MPASSI | J79: 0.5 | O79: 0.5 | P79: =+$E79*J79 -> 133 | Q79: =+$E79*K79 -> 0 | R79: =+$E79*L79 -> 0 | S79: =+$E79*M79 -> 0 | T79: =+$E79*N79 -> 0 | U79: =+$E79*O79 -> 133 | V79: =SUM(P79:U79) -> 266 | W79: intéréssé Achat août 450 sacs | X79: =+V79-E79 -> 0
A80: =+IF(D80>0,1,0) -> 1 | B80: Bani kheire Total | D80: 28 | E80: =D80*7 -> 196 | F80: 46036 | G80: =+IF(A80=1,(+TODAY())-F80,"Sans objet") -> 272 | H80: 1 | I80: =VLOOKUP(H80,Secteurs!$A$4:$C$6,3) -> Frisca MPASSI | L80: 0.5 | N80: 0.5 | P80: =+$E80*J80 -> 0 | Q80: =+$E80*K80 -> 0 | R80: =+$E80*L80 -> 98 | S80: =+$E80*M80 -> 0 | T80: =+$E80*N80 -> 98 | U80: =+$E80*O80 -> 0 | V80: =SUM(P80:U80) -> 196 | W80: pas de compte, préfére distributeur | X80: =+V80-E80 -> 0
A81: =+IF(D81>0,1,0) -> 1 | B81: BACO PAIN | C81: Dette | D81: 28 | E81: =D81*7 -> 196 | F81: 46036 | G81: =+IF(A81=1,(+TODAY())-F81,"Sans objet") -> 272 | H81: 1 | I81: =VLOOKUP(H81,Secteurs!$A$4:$C$6,3) -> Frisca MPASSI | J81: 0.5 | O81: 0.5 | P81: =+$E81*J81 -> 98 | Q81: =+$E81*K81 -> 0 | R81: =+$E81*L81 -> 0 | S81: =+$E81*M81 -> 0 | T81: =+$E81*N81 -> 0 | U81: =+$E81*O81 -> 98 | V81: =SUM(P81:U81) -> 196 | W81: A un compte , préfére distributeur | X81: =+V81-E81 -> 0
A82: =+IF(D82>0,1,0) -> 1 | B82: BLG EL MOURAD | D82: 22 | E82: 196 | F82: 46035 | G82: =+IF(A82=1,(+TODAY())-F82,"Sans objet") -> 273 | H82: 1 | I82: =VLOOKUP(H82,Secteurs!$A$4:$C$6,3) -> Frisca MPASSI | J82: 0.5 | O82: 0.5 | P82: =+$E82*J82 -> 98 | Q82: =+$E82*K82 -> 0 | R82: =+$E82*L82 -> 0 | S82: =+$E82*M82 -> 0 | T82: =+$E82*N82 -> 0 | U82: =+$E82*O82 -> 98 | V82: =SUM(P82:U82) -> 196 | W82: A un compte, préfere distributeur | X82: =+V82-E82 -> 0
A83: =+IF(D83>0,1,0) -> 1 | B83: DIGNITE 1 | D83: 26 | E83: =D83*7 -> 182 | F83: 46036 | G83: =+IF(A83=1,(+TODAY())-F83,"Sans objet") -> 272 | H83: 3 | I83: =VLOOKUP(H83,Secteurs!$A$4:$C$6,3) -> Arnaud ITOUA | J83: 0.5 | O83: 0.5 | P83: =+$E83*J83 -> 91 | Q83: =+$E83*K83 -> 0 | R83: =+$E83*L83 -> 0 | S83: =+$E83*M83 -> 0 | T83: =+$E83*N83 -> 0 | U83: =+$E83*O83 -> 91 | V83: =SUM(P83:U83) -> 182 | W83: Distributeue Mazala | X83: =+V83-E83 -> 0
A84: =+IF(D84>0,1,0) -> 1 | B84: EFFRAKATA 2 | D84: 28 | E84: =D84*7 -> 196 | F84: 46035 | G84: =+IF(A84=1,(+TODAY())-F84,"Sans objet") -> 273 | H84: 1 | I84: =VLOOKUP(H84,Secteurs!$A$4:$C$6,3) -> Frisca MPASSI | J84: 0.5 | O84: 0.5 | P84: =+$E84*J84 -> 98 | Q84: =+$E84*K84 -> 0 | R84: =+$E84*L84 -> 0 | S84: =+$E84*M84 -> 0 | T84: =+$E84*N84 -> 0 | U84: =+$E84*O84 -> 98 | V84: =SUM(P84:U84) -> 196 | W84: Intéréssé, debut septembre | X84: =+V84-E84 -> 0
A85: =+IF(D85>0,1,0) -> 1 | B85: EFFRAKATA 1 | D85: 28 | E85: =D85*7 -> 196 | F85: 46036 | G85: =+IF(A85=1,(+TODAY())-F85,"Sans objet") -> 272 | H85: 1 | I85: =VLOOKUP(H85,Secteurs!$A$4:$C$6,3) -> Frisca MPASSI | J85: 0.5 | O85: 0.5 | P85: =+$E85*J85 -> 98 | Q85: =+$E85*K85 -> 0 | R85: =+$E85*L85 -> 0 | S85: =+$E85*M85 -> 0 | T85: =+$E85*N85 -> 0 | U85: =+$E85*O85 -> 98 | V85: =SUM(P85:U85) -> 196 | W85: Intéréssé, debut septembre | X85: =+V85-E85 -> 0
A86: =+IF(D86>0,1,0) -> 1 | B86: SAM 2 ( Ex ESPOIR) | C86: Dette | D86: 28 | E86: =D86*7 -> 196 | F86: 46036 | G86: =+IF(A86=1,(+TODAY())-F86,"Sans objet") -> 272 | H86: 1 | I86: =VLOOKUP(H86,Secteurs!$A$4:$C$6,3) -> Frisca MPASSI | J86: 0.5 | O86: 0.5 | P86: =+$E86*J86 -> 98 | Q86: =+$E86*K86 -> 0 | R86: =+$E86*L86 -> 0 | S86: =+$E86*M86 -> 0 | T86: =+$E86*N86 -> 0 | U86: =+$E86*O86 -> 98 | V86: =SUM(P86:U86) -> 196 | W86: Intérésse, achat août 510 sacs | X86: =+V86-E86 -> 0
A87: =+IF(D87>0,1,0) -> 1 | B87: GRANDE BLG DE DIATA (ML) | D87: 28 | E87: =D87*7 -> 196 | F87: 46038 | G87: =+IF(A87=1,(+TODAY())-F87,"Sans objet") -> 270 | H87: 1 | I87: =VLOOKUP(H87,Secteurs!$A$4:$C$6,3) -> Frisca MPASSI | J87: 0.5 | L87: 0.5 | P87: =+$E87*J87 -> 98 | Q87: =+$E87*K87 -> 0 | R87: =+$E87*L87 -> 98 | S87: =+$E87*M87 -> 0 | T87: =+$E87*N87 -> 0 | U87: =+$E87*O87 -> 0 | V87: =SUM(P87:U87) -> 196 | W87: A un compte, préfére distributeur | X87: =+V87-E87 -> 0
A88: =+IF(D88>0,1,0) -> 1 | B88: MAMPASSI | D88: 24 | E88: =D88*7 -> 168 | F88: 46035 | G88: =+IF(A88=1,(+TODAY())-F88,"Sans objet") -> 273 | H88: 2 | I88: =VLOOKUP(H88,Secteurs!$A$4:$C$6,3) -> Prince MBOUSSA | J88: 0.5 | N88: 0.25 | O88: 0.25 | P88: =+$E88*J88 -> 84 | Q88: =+$E88*K88 -> 0 | R88: =+$E88*L88 -> 0 | S88: =+$E88*M88 -> 0 | T88: =+$E88*N88 -> 42 | U88: =+$E88*O88 -> 42 | V88: =SUM(P88:U88) -> 168 | W88: préfere distributeur | X88: =+V88-E88 -> 0
A89: =+IF(D89>0,1,0) -> 1 | B89: MOUHOUMI | D89: 28 | E89: =D89*7 -> 196 | F89: 46035 | G89: =+IF(A89=1,(+TODAY())-F89,"Sans objet") -> 273 | H89: 1 | I89: =VLOOKUP(H89,Secteurs!$A$4:$C$6,3) -> Frisca MPASSI | J89: 0.5 | O89: 0.5 | P89: =+$E89*J89 -> 98 | Q89: =+$E89*K89 -> 0 | R89: =+$E89*L89 -> 0 | S89: =+$E89*M89 -> 0 | T89: =+$E89*N89 -> 0 | U89: =+$E89*O89 -> 98 | V89: =SUM(P89:U89) -> 196 | W89: préfere distributeur | X89: =+V89-E89 -> 0
A90: =+IF(D90>0,1,0) -> 1 | B90: MR KINTELE | C90: Cash | D90: 32 | E90: =D90*7 -> 224 | F90: 46037 | G90: =+IF(A90=1,(+TODAY())-F90,"Sans objet") -> 271 | H90: 3 | I90: =VLOOKUP(H90,Secteurs!$A$4:$C$6,3) -> Arnaud ITOUA | N90: 0.5 | O90: 0.5 | P90: =+$E90*J90 -> 0 | Q90: =+$E90*K90 -> 0 | R90: =+$E90*L90 -> 0 | S90: =+$E90*M90 -> 0 | T90: =+$E90*N90 -> 112 | U90: =+$E90*O90 -> 112 | V90: =SUM(P90:U90) -> 224 | W90: Saleck | X90: =+V90-E90 -> 0
A91: =+IF(D91>0,1,0) -> 1 | B91: NOUR 2 | D91: 40 | E91: 308 | F91: 46035 | G91: =+IF(A91=1,(+TODAY())-F91,"Sans objet") -> 273 | H91: 2 | I91: =VLOOKUP(H91,Secteurs!$A$4:$C$6,3) -> Prince MBOUSSA | J91: 0.5 | O91: 0.5 | P91: =+$E91*J91 -> 154 | Q91: =+$E91*K91 -> 0 | R91: =+$E91*L91 -> 0 | S91: =+$E91*M91 -> 0 | T91: =+$E91*N91 -> 0 | U91: =+$E91*O91 -> 154 | V91: =SUM(P91:U91) -> 308 | W91: préfere distributeur | X91: =+V91-E91 -> 0
A92: =+IF(D92>0,1,0) -> 1 | B92: JUNIOR ( Ex Iphone) | D92: 16 | E92: =D92*7 -> 112 | F92: 46038 | G92: =+IF(A92=1,(+TODAY())-F92,"Sans objet") -> 270 | H92: 2 | I92: =VLOOKUP(H92,Secteurs!$A$4:$C$6,3) -> Prince MBOUSSA | N92: 0.5 | O92: 0.5 | P92: =+$E92*J92 -> 0 | Q92: =+$E92*K92 -> 0 | R92: =+$E92*L92 -> 0 | S92: =+$E92*M92 -> 0 | T92: =+$E92*N92 -> 56 | U92: =+$E92*O92 -> 56 | V92: =SUM(P92:U92) -> 112 | W92: A un compte, préfére distributeur
A93: =+IF(D93>0,1,0) -> 1 | B93: SS TOTAL | C93: Crédit | D93: 28 | E93: =D93*7 -> 196 | F93: 46036 | G93: =+IF(A93=1,(+TODAY())-F93,"Sans objet") -> 272 | H93: 1 | I93: =VLOOKUP(H93,Secteurs!$A$4:$C$6,3) -> Frisca MPASSI | J93: 0.75 | L93: 0.25 | P93: =+$E93*J93 -> 147 | Q93: =+$E93*K93 -> 0 | R93: =+$E93*L93 -> 49 | S93: =+$E93*M93 -> 0 | T93: =+$E93*N93 -> 0 | U93: =+$E93*O93 -> 0 | V93: =SUM(P93:U93) -> 196 | W93: intéréssé, achat aout 520 sacs | X93: =+V93-E93 -> 0
A94: =+IF(D94>0,1,0) -> 1 | B94: TSOUEKE (ex Congo Pain) | D94: 20 | E94: =D94*7 -> 140 | F94: 46037 | G94: =+IF(A94=1,(+TODAY())-F94,"Sans objet") -> 271 | H94: 3 | I94: =VLOOKUP(H94,Secteurs!$A$4:$C$6,3) -> Arnaud ITOUA | J94: 0.5 | O94: 0.5 | P94: =+$E94*J94 -> 70 | Q94: =+$E94*K94 -> 0 | R94: =+$E94*L94 -> 0 | S94: =+$E94*M94 -> 0 | T94: =+$E94*N94 -> 0 | U94: =+$E94*O94 -> 70 | V94: =SUM(P94:U94) -> 140 | W94: intéréssé, (Cpte Brazza 05) | X94: =+V94-E94 -> 0
A95: =+IF(D95>0,1,0) -> 1 | B95: POUR TOUS | C95: Cash | D95: 48 | E95: =D95*7 -> 336 | F95: 46035 | G95: =+IF(A95=1,(+TODAY())-F95,"Sans objet") -> 273 | H95: 2 | I95: =VLOOKUP(H95,Secteurs!$A$4:$C$6,3) -> Prince MBOUSSA | J95: 0.5 | N95: 0.5 | P95: =+$E95*J95 -> 168 | Q95: =+$E95*K95 -> 0 | R95: =+$E95*L95 -> 0 | S95: =+$E95*M95 -> 0 | T95: =+$E95*N95 -> 168 | U95: =+$E95*O95 -> 0 | V95: =SUM(P95:U95) -> 336 | W95: intéréssé, attendre retour patron | X95: =+V95-E95 -> 0
A96: =+IF(D96>0,1,0) -> 1 | B96: BONNE CHANCE 3 | D96: 25 | E96: =D96*7 -> 175 | F96: 46034 | G96: =+IF(A96=1,(+TODAY())-F96,"Sans objet") -> 274 | H96: 1 | I96: =VLOOKUP(H96,Secteurs!$A$4:$C$6,3) -> Frisca MPASSI | J96: 0.5 | N96: 0.25 | O96: 0.25 | P96: =+$E96*J96 -> 87.5 | Q96: =+$E96*K96 -> 0 | R96: =+$E96*L96 -> 0 | S96: =+$E96*M96 -> 0 | T96: =+$E96*N96 -> 43.75 | U96: =+$E96*O96 -> 43.75 | V96: =SUM(P96:U96) -> 175 | W96: Intérésse | X96: =+V96-E96 -> 0
A97: =+IF(D97>0,1,0) -> 1 | B97: DIAMOND | C97: Dette | D97: 26 | E97: =D97*7 -> 182 | F97: 46038 | G97: =+IF(A97=1,(+TODAY())-F97,"Sans objet") -> 270 | H97: 3 | I97: =VLOOKUP(H97,Secteurs!$A$4:$C$6,3) -> Arnaud ITOUA | J97: 0.5 | N97: 0.5 | P97: =+$E97*J97 -> 91 | Q97: =+$E97*K97 -> 0 | R97: =+$E97*L97 -> 0 | S97: =+$E97*M97 -> 0 | T97: =+$E97*N97 -> 91 | U97: =+$E97*O97 -> 0 | V97: =SUM(P97:U97) -> 182 | W97: Pas de compte , préfere distributeur | X97: =+V97-E97 -> 0
A98: =+IF(D98>0,1,0) -> 1 | B98: DIGNITE 2 | D98: 38 | E98: =D98*7 -> 266 | F98: 46035 | G98: =+IF(A98=1,(+TODAY())-F98,"Sans objet") -> 273 | H98: 3 | I98: =VLOOKUP(H98,Secteurs!$A$4:$C$6,3) -> Arnaud ITOUA | J98: 0.5 | O98: 0.5 | P98: =+$E98*J98 -> 133 | Q98: =+$E98*K98 -> 0 | R98: =+$E98*L98 -> 0 | S98: =+$E98*M98 -> 0 | T98: =+$E98*N98 -> 0 | U98: =+$E98*O98 -> 133 | V98: =SUM(P98:U98) -> 266 | W98: distributeur Mazala | X98: =+V98-E98 -> 0
A99: =+IF(D99>0,1,0) -> 1 | B99: TYBE ( Ex ELKERATT PK) | D99: 28 | E99: =D99*7 -> 196 | F99: 46035 | G99: =+IF(A99=1,(+TODAY())-F99,"Sans objet") -> 273 | H99: 1 | I99: =VLOOKUP(H99,Secteurs!$A$4:$C$6,3) -> Frisca MPASSI | J99: 0.5 | O99: 0.5 | P99: =+$E99*J99 -> 98 | Q99: =+$E99*K99 -> 0 | R99: =+$E99*L99 -> 0 | S99: =+$E99*M99 -> 0 | T99: =+$E99*N99 -> 0 | U99: =+$E99*O99 -> 98 | V99: =SUM(P99:U99) -> 196 | W99: Intéréssé,(Cpte Elkheire) | X99: =+V99-E99 -> 0
A100: =+IF(D100>0,1,0) -> 1 | B100: EL MANSOUR 2 ( New Boulangerie) | D100: 7 | E100: =D100*7 -> 49 | F100: 46035 | G100: =+IF(A100=1,(+TODAY())-F100,"Sans objet") -> 273 | H100: 3 | I100: =VLOOKUP(H100,Secteurs!$A$4:$C$6,3) -> Arnaud ITOUA | J100: 0.5 | O100: 0.5 | P100: =+$E100*J100 -> 24.5 | Q100: =+$E100*K100 -> 0 | R100: =+$E100*L100 -> 0 | S100: =+$E100*M100 -> 0 | T100: =+$E100*N100 -> 0 | U100: =+$E100*O100 -> 24.5 | V100: =SUM(P100:U100) -> 49 | W100: Intéréssé, effort en septembre | X100: =+V100-E100 -> 0
...

Sheet WEEK 4
A1: N° | B1: Boulangerie | C1: Type | D1: Cons/j | E1: C° heb | F1: Date Dernière Visite | G1: Période sans visite | H1: Secteur | I1: Technico Commercial | J1: %MINOCO | K1: %FANTA | L1: %GMK | M1: %SGMP | N1: %MFB | O1: %GMC | P1: MINOCO | Q1: FANTA | R1: GMK | S1: SGMP | T1: MFB | U1: GMC | V1: Total | W1: COMMENTAIRES | Z1: Week | AA1: Minoco | AB1: Fanta | AC1: GMPN | AD1: GMK | AE1: SGMP | AF1: MFB | AG1: GMC
A2: =+IF(D2>0,1,0) -> 1 | B2: Mayama( AQXA) | D2: 40 | E2: =D2*7 -> 280 | F2: 46041 | G2: =+IF(A2=1,(+TODAY())-F2,"Sans objet") -> 267 | H2: 1 | I2: =VLOOKUP(H2,Secteurs!$A$4:$C$6,3) -> Frisca MPASSI | J2: 0.5 | O2: 0.5 | P2: =+$E2*J2 -> 140 | Q2: =+$E2*K2 -> 0 | R2: =+$E2*L2 -> 0 | S2: =+$E2*M2 -> 0 | T2: =+$E2*N2 -> 0 | U2: =+$E2*O2 -> 140 | V2: =SUM(P2:U2) -> 280 | W2: Pas de compte, préfere distributeur | X2: =+V2-E2 -> 0 | Z2: 52 | AA2: 0.375 | AB2: 0.021 | AC2: 0.396 | AD2: 0.079 | AE2: 0.091 | AF2: 0.07 | AG2: 0.364 | AH2: 1
A3: =+IF(D3>0,1,0) -> 1 | B3: NOUVELLE ESPERANCE 3 | C3: Cash | D3: 72 | E3: =D3*7 -> 504 | F3: 46044 | G3: =+IF(A3=1,(+TODAY())-F3,"Sans objet") -> 264 | H3: 2 | I3: =VLOOKUP(H3,Secteurs!$A$4:$C$6,3) -> Prince MBOUSSA | J3: 0.5 | O3: 0.5 | P3: =+$E3*J3 -> 252 | Q3: =+$E3*K3 -> 0 | R3: =+$E3*L3 -> 0 | S3: =+$E3*M3 -> 0 | T3: =+$E3*N3 -> 0 | U3: =+$E3*O3 -> 252 | V3: =SUM(P3:U3) -> 504 | W3: intéressé, passage debut septembre | X3: =+V3-E3 -> 0 | Z3: 1 | AA3: 0.36188811 | AB3: 0.020979021 | AC3: 0.38286713 | AD3: 0.078671329 | AE3: 0.11713287 | AF3: 0.073426573 | AG3: 0.3479021 | AH3: 1
A4: =+IF(D4>0,1,0) -> 1 | B4: SABANA Moukondo | C4: Cash | D4: 48 | E4: =D4*7 -> 336 | F4: 46048 | G4: =+IF(A4=1,(+TODAY())-F4,"Sans objet") -> 260 | H4: 2 | I4: =VLOOKUP(H4,Secteurs!$A$4:$C$6,3) -> Prince MBOUSSA | M4: 0.25 | N4: 0.25 | O4: 0.5 | P4: =+$E4*J4 -> 0 | Q4: =+$E4*K4 -> 0 | R4: =+$E4*L4 -> 0 | S4: =+$E4*M4 -> 84 | T4: =+$E4*N4 -> 84 | U4: =+$E4*O4 -> 168 | V4: =SUM(P4:U4) -> 336 | W4: A un compte, intéréssé | X4: =+V4-E4 -> 0 | Z4: 2 | AA4: 0.374 | AB4: 0.021 | AC4: 0.394 | AD4: 0.056 | AE4: 0.092 | AF4: 0.102 | AG4: 0.356 | AH4: 1
A5: =+IF(D5>0,1,0) -> 1 | B5: YA LOLO | C5: Crédit | D5: 50 | E5: =D5*7 -> 350 | F5: 46043 | G5: =+IF(A5=1,(+TODAY())-F5,"Sans objet") -> 265 | H5: 3 | I5: =VLOOKUP(H5,Secteurs!$A$4:$C$6,3) -> Arnaud ITOUA | J5: 1 | P5: =+$E5*J5 -> 350 | Q5: =+$E5*K5 -> 0 | R5: =+$E5*L5 -> 0 | S5: =+$E5*M5 -> 0 | T5: =+$E5*N5 -> 0 | U5: =+$E5*O5 -> 0 | V5: =SUM(P5:U5) -> 350 | W5: intéressé, passage debut septembre | X5: =+V5-E5 -> 0 | Z5: 3 | AA5: 0.41 | AB5: 0.02 | AC5: 0.432 | AD5: 0.062 | AE5: 0.089 | AF5: 0.097 | AG5: 0.319 | AH5: 1
A6: =+IF(D6>0,1,0) -> 1 | B6: 58e ANNIVERSAIRE | C6: Cash | D6: 50 | E6: =D6*7 -> 350 | F6: 46041 | G6: =+IF(A6=1,(+TODAY())-F6,"Sans objet") -> 267 | H6: 3 | I6: =VLOOKUP(H6,Secteurs!$A$4:$C$6,3) -> Arnaud ITOUA | J6: 0.5 | M6: 0.5 | P6: =+$E6*J6 -> 175 | Q6: =+$E6*K6 -> 0 | R6: =+$E6*L6 -> 0 | S6: =+$E6*M6 -> 175 | T6: =+$E6*N6 -> 0 | U6: =+$E6*O6 -> 0 | V6: =SUM(P6:U6) -> 350 | W6: intéressé, passage debut septembre | X6: =+V6-E6 -> 0 | Z6: 4 | AA6: 0.4 | AB6: 0.02 | AC6: 0.42 | AD6: 0.058 | AE6: 0.091 | AF6: 0.117 | AG6: 0.314 | AH6: 1
A7: =+IF(D7>0,1,0) -> 1 | B7: BECO | C7: Cash | D7: 50 | E7: =D7*7 -> 350 | F7: 46048 | G7: =+IF(A7=1,(+TODAY())-F7,"Sans objet") -> 260 | H7: 2 | I7: =VLOOKUP(H7,Secteurs!$A$4:$C$6,3) -> Prince MBOUSSA | K7: 1 | P7: =+$E7*J7 -> 0 | Q7: =+$E7*K7 -> 350 | R7: =+$E7*L7 -> 0 | S7: =+$E7*M7 -> 0 | T7: =+$E7*N7 -> 0 | U7: =+$E7*O7 -> 0 | V7: =SUM(P7:U7) -> 350 | W7: intéressé, passage debut septembre | X7: =+V7-E7 -> 0 | Z7: Variation W-1 | AC7: =+AC6-AC5 -> -0.012 | AD7: =+AD6-AD5 -> -0.004 | AE7: =+AE6-AE5 -> 0.002 | AF7: =+AF6-AF5 -> 0.02 | AG7: =+AG6-AG5 -> -0.005
A8: =+IF(D8>0,1,0) -> 1 | B8: ELVOZ INCHALAH | C8: Cash | D8: 40 | E8: =D8*7 -> 280 | F8: 46042 | G8: =+IF(A8=1,(+TODAY())-F8,"Sans objet") -> 266 | H8: 1 | I8: =VLOOKUP(H8,Secteurs!$A$4:$C$6,3) -> Frisca MPASSI | L8: 0.25 | N8: 0.5 | O8: 0.25 | P8: =+$E8*J8 -> 0 | Q8: =+$E8*K8 -> 0 | R8: =+$E8*L8 -> 70 | S8: =+$E8*M8 -> 0 | T8: =+$E8*N8 -> 140 | U8: =+$E8*O8 -> 70 | V8: =SUM(P8:U8) -> 280 | W8: intéressé, passage debut septembre | X8: =+V8-E8 -> 0
A9: =+IF(D9>0,1,0) -> 1 | B9: POTAL | C9: Cash | D9: 32 | E9: =D9*7 -> 224 | F9: 46050 | G9: =+IF(A9=1,(+TODAY())-F9,"Sans objet") -> 258 | H9: 2 | I9: =VLOOKUP(H9,Secteurs!$A$4:$C$6,3) -> Prince MBOUSSA | J9: 0.5 | M9: 0.25 | O9: 0.25 | P9: =+$E9*J9 -> 112 | Q9: =+$E9*K9 -> 0 | R9: =+$E9*L9 -> 0 | S9: =+$E9*M9 -> 56 | T9: =+$E9*N9 -> 0 | U9: =+$E9*O9 -> 56 | V9: =SUM(P9:U9) -> 224 | W9: Patron absent | X9: =+V9-E9 -> 0
A10: =+IF(D10>0,1,0) -> 1 | B10: Salam ( Ex EL MABROUCK) | D10: 38 | E10: =D10*7 -> 266 | F10: 46049 | G10: =+IF(A10=1,(+TODAY())-F10,"Sans objet") -> 259 | H10: 2 | I10: =VLOOKUP(H10,Secteurs!$A$4:$C$6,3) -> Prince MBOUSSA | J10: 0.5 | O10: 0.5 | P10: =+$E10*J10 -> 133 | Q10: =+$E10*K10 -> 0 | R10: =+$E10*L10 -> 0 | S10: =+$E10*M10 -> 0 | T10: =+$E10*N10 -> 0 | U10: =+$E10*O10 -> 133 | V10: =SUM(P10:U10) -> 266 | W10: A un compte, préfere distributeur | X10: =+V10-E10 -> 0
A11: =+IF(D11>0,1,0) -> 1 | B11: BAS PRIX (ex moderne nkombo) | C11: Cash | D11: 38 | E11: =D11*7 -> 266 | F11: 46041 | G11: =+IF(A11=1,(+TODAY())-F11,"Sans objet") -> 267 | H11: 3 | I11: =VLOOKUP(H11,Secteurs!$A$4:$C$6,3) -> Arnaud ITOUA | J11: 0.5 | O11: 0.5 | P11: =+$E11*J11 -> 133 | Q11: =+$E11*K11 -> 0 | R11: =+$E11*L11 -> 0 | S11: =+$E11*M11 -> 0 | T11: =+$E11*N11 -> 0 | U11: =+$E11*O11 -> 133 | V11: =SUM(P11:U11) -> 266 | W11: intéressé, passage debut septembre | X11: =+V11-E11 -> 0
A12: =+IF(D12>0,1,0) -> 1 | B12: COMUS | D12: 24 | E12: =D12*7 -> 168 | F12: 46048 | G12: =+IF(A12=1,(+TODAY())-F12,"Sans objet") -> 260 | H12: 2 | I12: =VLOOKUP(H12,Secteurs!$A$4:$C$6,3) -> Prince MBOUSSA | J12: 0.75 | N12: 0.25 | P12: =+$E12*J12 -> 126 | Q12: =+$E12*K12 -> 0 | R12: =+$E12*L12 -> 0 | S12: =+$E12*M12 -> 0 | T12: =+$E12*N12 -> 42 | U12: =+$E12*O12 -> 0 | V12: =SUM(P12:U12) -> 168 | W12: A un compte, préfére distributeur | X12: =+V12-E12 -> 0
A13: =+IF(D13>0,1,0) -> 1 | B13: SALAM ( Ex PLAZZA ) | D13: 40 | E13: =D13*7 -> 280 | F13: 46041 | G13: =+IF(A13=1,(+TODAY())-F13,"Sans objet") -> 267 | H13: 1 | I13: =VLOOKUP(H13,Secteurs!$A$4:$C$6,3) -> Frisca MPASSI | J13: 0.75 | O13: 0.25 | P13: =+$E13*J13 -> 210 | Q13: =+$E13*K13 -> 0 | R13: =+$E13*L13 -> 0 | S13: =+$E13*M13 -> 0 | T13: =+$E13*N13 -> 0 | U13: =+$E13*O13 -> 70 | V13: =SUM(P13:U13) -> 280 | W13: A un compte, préfere distributeur | X13: =+V13-E13 -> 0
A14: =+IF(D14>0,1,0) -> 1 | B14: SID-SID | C14: Cash | D14: 50 | E14: =D14*7 -> 350 | F14: 46041 | G14: =+IF(A14=1,(+TODAY())-F14,"Sans objet") -> 267 | H14: 3 | I14: =VLOOKUP(H14,Secteurs!$A$4:$C$6,3) -> Arnaud ITOUA | J14: 0.5 | M14: 0.5 | P14: =+$E14*J14 -> 175 | Q14: =+$E14*K14 -> 0 | R14: =+$E14*L14 -> 0 | S14: =+$E14*M14 -> 175 | T14: =+$E14*N14 -> 0 | U14: =+$E14*O14 -> 0 | V14: =SUM(P14:U14) -> 350 | W14: intéressé, passage debut septembre | X14: =+V14-E14 -> 0
A15: =+IF(D15>0,1,0) -> 1 | B15: NOUVELLE ESPERANCE 4 | C15: Cash | D15: 60 | E15: =D15*7 -> 420 | F15: 46048 | G15: =+IF(A15=1,(+TODAY())-F15,"Sans objet") -> 260 | H15: 2 | I15: =VLOOKUP(H15,Secteurs!$A$4:$C$6,3) -> Prince MBOUSSA | L15: 0.5 | M15: 0.5 | P15: =+$E15*J15 -> 0 | Q15: =+$E15*K15 -> 0 | R15: =+$E15*L15 -> 210 | S15: =+$E15*M15 -> 210 | T15: =+$E15*N15 -> 0 | U15: =+$E15*O15 -> 0 | V15: =SUM(P15:U15) -> 420 | W15: intéressé, passage debut septembre | X15: =+V15-E15 -> 0
A16: =+IF(D16>0,1,0) -> 1 | B16: MODERNE & ARTISANALE 1 | C16: Cash | D16: 46 | E16: =D16*7 -> 322 | F16: 46048 | G16: =+IF(A16=1,(+TODAY())-F16,"Sans objet") -> 260 | H16: 3 | I16: =VLOOKUP(H16,Secteurs!$A$4:$C$6,3) -> Arnaud ITOUA | J16: 1 | P16: =+$E16*J16 -> 322 | Q16: =+$E16*K16 -> 0 | R16: =+$E16*L16 -> 0 | S16: =+$E16*M16 -> 0 | T16: =+$E16*N16 -> 0 | U16: =+$E16*O16 -> 0 | V16: =SUM(P16:U16) -> 322 | W16: intéressé, attente ouverture de compte | X16: =+V16-E16 -> 0
A17: =+IF(D17>0,1,0) -> 1 | B17: NOUVELLE ESPERANCE 1 | C17: Cash | D17: 40 | E17: =D17*7 -> 280 | F17: 46045 | G17: =+IF(A17=1,(+TODAY())-F17,"Sans objet") -> 263 | H17: 1 | I17: =VLOOKUP(H17,Secteurs!$A$4:$C$6,3) -> Frisca MPASSI | J17: 0.5 | L17: 0.25 | O17: 0.25 | P17: =+$E17*J17 -> 140 | Q17: =+$E17*K17 -> 0 | R17: =+$E17*L17 -> 70 | S17: =+$E17*M17 -> 0 | T17: =+$E17*N17 -> 0 | U17: =+$E17*O17 -> 70 | V17: =SUM(P17:U17) -> 280 | W17: intéressé, passage debut septembre | X17: =+V17-E17 -> 0
A18: =+IF(D18>0,1,0) -> 1 | B18: BEDRE NKOMBO | C18: Cash | D18: 34 | E18: =D18*7 -> 238 | F18: 46041 | G18: =+IF(A18=1,(+TODAY())-F18,"Sans objet") -> 267 | H18: 3 | I18: =VLOOKUP(H18,Secteurs!$A$4:$C$6,3) -> Arnaud ITOUA | J18: 0.5 | O18: 0.5 | P18: =+$E18*J18 -> 119 | Q18: =+$E18*K18 -> 0 | R18: =+$E18*L18 -> 0 | S18: =+$E18*M18 -> 0 | T18: =+$E18*N18 -> 0 | U18: =+$E18*O18 -> 119 | V18: =SUM(P18:U18) -> 238 | W18: A un compte, préfere distributeur( Patron absent) | X18: =+V18-E18 -> 0
A19: =+IF(D19>0,1,0) -> 1 | B19: ARTISANALE 3 ( Ex BLANCHE) | C19: Cash | D19: 40 | E19: =D19*7 -> 280 | F19: 46042 | G19: =+IF(A19=1,(+TODAY())-F19,"Sans objet") -> 266 | H19: 1 | I19: =VLOOKUP(H19,Secteurs!$A$4:$C$6,3) -> Frisca MPASSI | J19: 0.5 | O19: 0.5 | P19: =+$E19*J19 -> 140 | Q19: =+$E19*K19 -> 0 | R19: =+$E19*L19 -> 0 | S19: =+$E19*M19 -> 0 | T19: =+$E19*N19 -> 0 | U19: =+$E19*O19 -> 140 | V19: =SUM(P19:U19) -> 280 | W19: intéressé, attente ouverture de compte | X19: =+V19-E19 -> 0
A20: =+IF(D20>0,1,0) -> 1 | B20: Brazza Moderne 1 | C20: Dette | D20: 48 | E20: =D20*7 -> 336 | F20: 46045 | G20: =+IF(A20=1,(+TODAY())-F20,"Sans objet") -> 263 | H20: 3 | I20: =VLOOKUP(H20,Secteurs!$A$4:$C$6,3) -> Arnaud ITOUA | J20: 0.5 | L20: 0.5 | P20: =+$E20*J20 -> 168 | Q20: =+$E20*K20 -> 0 | R20: =+$E20*L20 -> 168 | S20: =+$E20*M20 -> 0 | T20: =+$E20*N20 -> 0 | U20: =+$E20*O20 -> 0 | V20: =SUM(P20:U20) -> 336 | W20: préfere distributeur | X20: =+V20-E20 -> 0
A21: =+IF(D21>0,1,0) -> 1 | B21: MODERNE & ARTISANALE 2 | C21: Cash | D21: 46 | E21: =D21*7 -> 322 | F21: 46048 | G21: =+IF(A21=1,(+TODAY())-F21,"Sans objet") -> 260 | H21: 3 | I21: =VLOOKUP(H21,Secteurs!$A$4:$C$6,3) -> Arnaud ITOUA | J21: 0.5 | N21: 0.5 | P21: =+$E21*J21 -> 161 | Q21: =+$E21*K21 -> 0 | R21: =+$E21*L21 -> 0 | S21: =+$E21*M21 -> 0 | T21: =+$E21*N21 -> 161 | U21: =+$E21*O21 -> 0 | V21: =SUM(P21:U21) -> 322 | W21: intéressé, attente ouverture de compte | X21: =+V21-E21 -> 0
A22: =+IF(D22>0,1,0) -> 1 | B22: SAHA(ex fournil) | C22: Cash | D22: 40 | E22: =D22*7 -> 280 | F22: 46045 | G22: =+IF(A22=1,(+TODAY())-F22,"Sans objet") -> 263 | H22: 1 | I22: =VLOOKUP(H22,Secteurs!$A$4:$C$6,3) -> Frisca MPASSI | J22: 0.5 | O22: 0.5 | P22: =+$E22*J22 -> 140 | Q22: =+$E22*K22 -> 0 | R22: =+$E22*L22 -> 0 | S22: =+$E22*M22 -> 0 | T22: =+$E22*N22 -> 0 | U22: =+$E22*O22 -> 140 | V22: =SUM(P22:U22) -> 280 | W22: intéressé, achat Week 33 | X22: =+V22-E22 -> 0
A23: =+IF(D23>0,1,0) -> 1 | B23: Paris Pain | D23: 48 | E23: =D23*7 -> 336 | F23: 46048 | G23: =+IF(A23=1,(+TODAY())-F23,"Sans objet") -> 260 | H23: 2 | I23: =VLOOKUP(H23,Secteurs!$A$4:$C$6,3) -> Prince MBOUSSA | J23: 0.5 | O23: 0.5 | P23: =+$E23*J23 -> 168 | Q23: =+$E23*K23 -> 0 | R23: =+$E23*L23 -> 0 | S23: =+$E23*M23 -> 0 | T23: =+$E23*N23 -> 0 | U23: =+$E23*O23 -> 168 | V23: =SUM(P23:U23) -> 336 | W23: Pas de compte, préfere distributeur | X23: =+V23-E23 -> 0 | Z23: Prix Sac de Farine Boulangère 50 KG
A24: =+IF(D24>0,1,0) -> 1 | B24: EL MEJID ( Ex Baraka Talangai) | C24: Crédit | D24: 44 | E24: =D24*7 -> 308 | F24: 46050 | G24: =+IF(A24=1,(+TODAY())-F24,"Sans objet") -> 258 | H24: 2 | I24: =VLOOKUP(H24,Secteurs!$A$4:$C$6,3) -> Prince MBOUSSA | M24: 0.25 | N24: 0.25 | O24: 0.5 | P24: =+$E24*J24 -> 0 | Q24: =+$E24*K24 -> 0 | R24: =+$E24*L24 -> 0 | S24: =+$E24*M24 -> 77 | T24: =+$E24*N24 -> 77 | U24: =+$E24*O24 -> 154 | V24: =SUM(P24:U24) -> 308 | W24: A un compte Patron Absent | X24: =+V24-E24 -> 0
A25: =+IF(D25>0,1,0) -> 1 | B25: BRAZZA MODERNE 2 | C25: Cash | D25: 40 | E25: =D25*7 -> 280 | F25: 46045 | G25: =+IF(A25=1,(+TODAY())-F25,"Sans objet") -> 263 | H25: 1 | I25: =VLOOKUP(H25,Secteurs!$A$4:$C$6,3) -> Frisca MPASSI | J25: 0.5 | O25: 0.5 | P25: =+$E25*J25 -> 140 | Q25: =+$E25*K25 -> 0 | R25: =+$E25*L25 -> 0 | S25: =+$E25*M25 -> 0 | T25: =+$E25*N25 -> 0 | U25: =+$E25*O25 -> 140 | V25: =SUM(P25:U25) -> 280 | W25: préfere distributeur | X25: =+V25-E25 -> 0 | AC25: GMPN | AD25: GMK | AE25: SGMP | AF25: MFB | AG25: GMC
A26: =+IF(D26>0,1,0) -> 1 | B26: DAHI ( ex préference) | D26: 42 | E26: =D26*7 -> 294 | F26: 46050 | G26: =+IF(A26=1,(+TODAY())-F26,"Sans objet") -> 258 | H26: 2 | I26: =VLOOKUP(H26,Secteurs!$A$4:$C$6,3) -> Prince MBOUSSA | J26: 0.5 | O26: 0.5 | P26: =+$E26*J26 -> 147 | Q26: =+$E26*K26 -> 0 | R26: =+$E26*L26 -> 0 | S26: =+$E26*M26 -> 0 | T26: =+$E26*N26 -> 0 | U26: =+$E26*O26 -> 147 | V26: =SUM(P26:U26) -> 294 | W26: préfere distributeur | X26: =+V26-E26 -> 0 | AB26: Prix affiché | AC26: 18500 | AD26: 18000 | AE26: 18000 | AF26: 18000 | AG26: 18000
A27: =+IF(D27>0,1,0) -> 1 | B27: EL MANSOUR | C27: Crédit | D27: 30 | E27: =D27*7 -> 210 | F27: 46041 | G27: =+IF(A27=1,(+TODAY())-F27,"Sans objet") -> 267 | H27: 1 | I27: =VLOOKUP(H27,Secteurs!$A$4:$C$6,3) -> Frisca MPASSI | O27: 1 | P27: =+$E27*J27 -> 0 | Q27: =+$E27*K27 -> 0 | R27: =+$E27*L27 -> 0 | S27: =+$E27*M27 -> 0 | T27: =+$E27*N27 -> 0 | U27: =+$E27*O27 -> 210 | V27: =SUM(P27:U27) -> 210 | W27: intéressé, passage debut septembre | X27: =+V27-E27 -> 0 | AB27: Prix pour 1.000 sacs | AC27: 18137 | AD27: 17750 | AE27: 17600 | AF27: 17750 | AG27: 17750
A28: =+IF(D28>0,1,0) -> 1 | B28: NOUVELLE ESPERANCE 2 | C28: Cash | D28: 46 | E28: =D28*7 -> 322 | F28: 46045 | G28: =+IF(A28=1,(+TODAY())-F28,"Sans objet") -> 263 | H28: 3 | I28: =VLOOKUP(H28,Secteurs!$A$4:$C$6,3) -> Arnaud ITOUA | J28: 0.5 | L28: 0.5 | P28: =+$E28*J28 -> 161 | Q28: =+$E28*K28 -> 0 | R28: =+$E28*L28 -> 161 | S28: =+$E28*M28 -> 0 | T28: =+$E28*N28 -> 0 | U28: =+$E28*O28 -> 0 | V28: =SUM(P28:U28) -> 322 | W28: préfere distributeur | X28: =+V28-E28 -> 0 | AB28: Meilleur Prix après Ristourne
A29: =+IF(D29>0,1,0) -> 1 | B29: MAFOUD | D29: 32 | E29: =D29*7 -> 224 | F29: 46049 | G29: =+IF(A29=1,(+TODAY())-F29,"Sans objet") -> 259 | H29: 2 | I29: =VLOOKUP(H29,Secteurs!$A$4:$C$6,3) -> Prince MBOUSSA | K29: 0.5 | L29: 0.5 | P29: =+$E29*J29 -> 0 | Q29: =+$E29*K29 -> 112 | R29: =+$E29*L29 -> 112 | S29: =+$E29*M29 -> 0 | T29: =+$E29*N29 -> 0 | U29: =+$E29*O29 -> 0 | V29: =SUM(P29:U29) -> 224 | W29: pas de compte, (Maman fanta) | X29: =+V29-E29 -> 0
A30: =+IF(D30>0,1,0) -> 1 | B30: MANE | D30: 40 | E30: =D30*7 -> 280 | F30: 46041 | G30: =+IF(A30=1,(+TODAY())-F30,"Sans objet") -> 267 | H30: 3 | I30: =VLOOKUP(H30,Secteurs!$A$4:$C$6,3) -> Arnaud ITOUA | J30: 0.25 | N30: 0.5 | O30: 0.25 | P30: =+$E30*J30 -> 70 | Q30: =+$E30*K30 -> 0 | R30: =+$E30*L30 -> 0 | S30: =+$E30*M30 -> 0 | T30: =+$E30*N30 -> 140 | U30: =+$E30*O30 -> 70 | V30: =SUM(P30:U30) -> 280 | W30: Pas de compte, préfere distributeur | X30: =+V30-E30 -> 0
A31: =+IF(D31>0,1,0) -> 1 | B31: REVES 2 | D31: 26 | E31: =D31*7 -> 182 | F31: 46043 | G31: =+IF(A31=1,(+TODAY())-F31,"Sans objet") -> 265 | H31: 3 | I31: =VLOOKUP(H31,Secteurs!$A$4:$C$6,3) -> Arnaud ITOUA | J31: 0.5 | O31: 0.5 | P31: =+$E31*J31 -> 91 | Q31: =+$E31*K31 -> 0 | R31: =+$E31*L31 -> 0 | S31: =+$E31*M31 -> 0 | T31: =+$E31*N31 -> 0 | U31: =+$E31*O31 -> 91 | V31: =SUM(P31:U31) -> 182 | W31: A un compte Patron Absent | X31: =+V31-E31 -> 0
A32: =+IF(D32>0,1,0) -> 1 | B32: SAVANA NKOMBO | C32: Cash | D32: 32 | E32: =D32*7 -> 224 | F32: 46041 | G32: =+IF(A32=1,(+TODAY())-F32,"Sans objet") -> 267 | H32: 3 | I32: =VLOOKUP(H32,Secteurs!$A$4:$C$6,3) -> Arnaud ITOUA | J32: 0.25 | N32: 0.25 | O32: 0.5 | P32: =+$E32*J32 -> 56 | Q32: =+$E32*K32 -> 0 | R32: =+$E32*L32 -> 0 | S32: =+$E32*M32 -> 0 | T32: =+$E32*N32 -> 56 | U32: =+$E32*O32 -> 112 | V32: =SUM(P32:U32) -> 224 | W32: intéressé, courant septembre | X32: =+V32-E32 -> 0
A33: =+IF(D33>0,1,0) -> 1 | B33: SD1 CARREFOUR | C33: Crédit | D33: 42 | E33: =D33*7 -> 294 | F33: 46045 | G33: =+IF(A33=1,(+TODAY())-F33,"Sans objet") -> 263 | H33: 3 | I33: =VLOOKUP(H33,Secteurs!$A$4:$C$6,3) -> Arnaud ITOUA | J33: 0.5 | N33: 0.5 | P33: =+$E33*J33 -> 147 | Q33: =+$E33*K33 -> 0 | R33: =+$E33*L33 -> 0 | S33: =+$E33*M33 -> 0 | T33: =+$E33*N33 -> 147 | U33: =+$E33*O33 -> 0 | V33: =SUM(P33:U33) -> 294 | W33: distributeur | X33: =+V33-E33 -> 0
A34: =+IF(D34>0,1,0) -> 1 | B34: ALMADINA (bama) | D34: 32 | E34: =D34*7 -> 224 | F34: 46041 | G34: =+IF(A34=1,(+TODAY())-F34,"Sans objet") -> 267 | H34: 1 | I34: =VLOOKUP(H34,Secteurs!$A$4:$C$6,3) -> Frisca MPASSI | J34: 0.5 | O34: 0.5 | P34: =+$E34*J34 -> 112 | Q34: =+$E34*K34 -> 0 | R34: =+$E34*L34 -> 0 | S34: =+$E34*M34 -> 0 | T34: =+$E34*N34 -> 0 | U34: =+$E34*O34 -> 112 | V34: =SUM(P34:U34) -> 224 | W34: A un compte, préfére distributeur | X34: =+V34-E34 -> 0
A35: =+IF(D35>0,1,0) -> 1 | B35: BONNE CHANCE 4 | C35: Crédit | D35: 42 | E35: =D35*7 -> 294 | F35: 46049 | G35: =+IF(A35=1,(+TODAY())-F35,"Sans objet") -> 259 | H35: 2 | I35: =VLOOKUP(H35,Secteurs!$A$4:$C$6,3) -> Prince MBOUSSA | M35: 0.25 | N35: 0.25 | O35: 0.5 | P35: =+$E35*J35 -> 0 | Q35: =+$E35*K35 -> 0 | R35: =+$E35*L35 -> 0 | S35: =+$E35*M35 -> 73.5 | T35: =+$E35*N35 -> 73.5 | U35: =+$E35*O35 -> 147 | V35: =SUM(P35:U35) -> 294 | W35: intéréssé, en attente du plafond | X35: =+V35-E35 -> 0
A36: =+IF(D36>0,1,0) -> 1 | B36: DAHI (ex bab elkheire) | D36: 28 | E36: =D36*7 -> 196 | F36: 46045 | G36: =+IF(A36=1,(+TODAY())-F36,"Sans objet") -> 263 | H36: 3 | I36: =VLOOKUP(H36,Secteurs!$A$4:$C$6,3) -> Arnaud ITOUA | J36: 0.5 | N36: 0.25 | O36: 0.25 | P36: =+$E36*J36 -> 98 | Q36: =+$E36*K36 -> 0 | R36: =+$E36*L36 -> 0 | S36: =+$E36*M36 -> 0 | T36: =+$E36*N36 -> 49 | U36: =+$E36*O36 -> 49 | V36: =SUM(P36:U36) -> 196 | W36: préfere distributeur | X36: =+V36-E36 -> 0
A37: =+IF(D37>0,1,0) -> 1 | B37: ETOILE DE KINTELE 1 | D37: 30 | E37: =D37*7 -> 210 | F37: 46043 | G37: =+IF(A37=1,(+TODAY())-F37,"Sans objet") -> 265 | H37: 3 | I37: =VLOOKUP(H37,Secteurs!$A$4:$C$6,3) -> Arnaud ITOUA | J37: 0.5 | O37: 0.5 | P37: =+$E37*J37 -> 105 | Q37: =+$E37*K37 -> 0 | R37: =+$E37*L37 -> 0 | S37: =+$E37*M37 -> 0 | T37: =+$E37*N37 -> 0 | U37: =+$E37*O37 -> 105 | V37: =SUM(P37:U37) -> 210 | W37: Pas de compte, préfere distributeur | X37: =+V37-E37 -> 0
A38: =+IF(D38>0,1,0) -> 1 | B38: ETOILE DE KINTELE 2 | D38: 26 | E38: =D38*7 -> 182 | F38: 46043 | G38: =+IF(A38=1,(+TODAY())-F38,"Sans objet") -> 265 | H38: 3 | I38: =VLOOKUP(H38,Secteurs!$A$4:$C$6,3) -> Arnaud ITOUA | J38: 0.5 | O38: 0.5 | P38: =+$E38*J38 -> 91 | Q38: =+$E38*K38 -> 0 | R38: =+$E38*L38 -> 0 | S38: =+$E38*M38 -> 0 | T38: =+$E38*N38 -> 0 | U38: =+$E38*O38 -> 91 | V38: =SUM(P38:U38) -> 182 | W38: Pas de compte, préfere distributeur | X38: =+V38-E38 -> 0
A39: =+IF(D39>0,1,0) -> 1 | B39: HOT BREAD MOUKONDO | D39: 42 | E39: =D39*7 -> 294 | F39: 46048 | G39: =+IF(A39=1,(+TODAY())-F39,"Sans objet") -> 260 | H39: 2 | I39: =VLOOKUP(H39,Secteurs!$A$4:$C$6,3) -> Prince MBOUSSA | J39: 0.25 | N39: 0.25 | O39: 0.5 | P39: =+$E39*J39 -> 73.5 | Q39: =+$E39*K39 -> 0 | R39: =+$E39*L39 -> 0 | S39: =+$E39*M39 -> 0 | T39: =+$E39*N39 -> 73.5 | U39: =+$E39*O39 -> 147 | V39: =SUM(P39:U39) -> 294 | W39: A un compte, préfére distributeur | X39: =+V39-E39 -> 0
A40: =+IF(D40>0,1,0) -> 1 | B40: HOT BREAD1 ( Mbochi ) | D40: 40 | E40: =D40*7 -> 280 | F40: 46041 | G40: =+IF(A40=1,(+TODAY())-F40,"Sans objet") -> 267 | H40: 1 | I40: =VLOOKUP(H40,Secteurs!$A$4:$C$6,3) -> Frisca MPASSI | J40: 0.5 | O40: 0.5 | P40: =+$E40*J40 -> 140 | Q40: =+$E40*K40 -> 0 | R40: =+$E40*L40 -> 0 | S40: =+$E40*M40 -> 0 | T40: =+$E40*N40 -> 0 | U40: =+$E40*O40 -> 140 | V40: =SUM(P40:U40) -> 280 | W40: A un compte, préfére distributeur | X40: =+V40-E40 -> 0
A41: =+IF(D41>0,1,0) -> 1 | B41: BONNE CHANCE 5( Ex Mouvida 1) | C41: Crédit | D41: 26 | E41: =D41*7 -> 182 | F41: 46045 | G41: =+IF(A41=1,(+TODAY())-F41,"Sans objet") -> 263 | H41: 3 | I41: =VLOOKUP(H41,Secteurs!$A$4:$C$6,3) -> Arnaud ITOUA | J41: 0.5 | O41: 0.5 | P41: =+$E41*J41 -> 91 | Q41: =+$E41*K41 -> 0 | R41: =+$E41*L41 -> 0 | S41: =+$E41*M41 -> 0 | T41: =+$E41*N41 -> 0 | U41: =+$E41*O41 -> 91 | V41: =SUM(P41:U41) -> 182 | W41: intéréssé, en attente du plafond | X41: =+V41-E41 -> 0
A42: =+IF(D42>0,1,0) -> 1 | B42: OUM EL KORA(Ex NAJAH MA) | C42: Crédit | D42: 32 | E42: =D42*7 -> 224 | F42: 46045 | G42: =+IF(A42=1,(+TODAY())-F42,"Sans objet") -> 263 | H42: 1 | I42: =VLOOKUP(H42,Secteurs!$A$4:$C$6,3) -> Frisca MPASSI | J42: 0.5 | O42: 0.5 | P42: =+$E42*J42 -> 112 | Q42: =+$E42*K42 -> 0 | R42: =+$E42*L42 -> 0 | S42: =+$E42*M42 -> 0 | T42: =+$E42*N42 -> 0 | U42: =+$E42*O42 -> 112 | V42: =SUM(P42:U42) -> 224 | W42: A un compte, intéréssé | X42: =+V42-E42 -> 0
A43: =+IF(D43>0,1,0) -> 1 | B43: NDH (ex PAIN VICTOIRE) | C43: Crédit | D43: 36 | E43: =D43*7 -> 252 | F43: 46041 | G43: =+IF(A43=1,(+TODAY())-F43,"Sans objet") -> 267 | H43: 3 | I43: =VLOOKUP(H43,Secteurs!$A$4:$C$6,3) -> Arnaud ITOUA | J43: 0.5 | M43: 0.25 | O43: 0.25 | P43: =+$E43*J43 -> 126 | Q43: =+$E43*K43 -> 0 | R43: =+$E43*L43 -> 0 | S43: =+$E43*M43 -> 63 | T43: =+$E43*N43 -> 0 | U43: =+$E43*O43 -> 63 | V43: =SUM(P43:U43) -> 252 | W43: appartenant à Mazala | X43: =+V43-E43 -> 0
A44: =+IF(D44>0,1,0) -> 1 | B44: TIK-TOK | C44: Crédit | D44: 42 | E44: =D44*7 -> 294 | F44: 46049 | G44: =+IF(A44=1,(+TODAY())-F44,"Sans objet") -> 259 | H44: 2 | I44: =VLOOKUP(H44,Secteurs!$A$4:$C$6,3) -> Prince MBOUSSA | J44: 0.5 | M44: 0.5 | P44: =+$E44*J44 -> 147 | Q44: =+$E44*K44 -> 0 | R44: =+$E44*L44 -> 0 | S44: =+$E44*M44 -> 147 | T44: =+$E44*N44 -> 0 | U44: =+$E44*O44 -> 0 | V44: =SUM(P44:U44) -> 294 | W44: appartenant à Mazala | X44: =+V44-E44 -> 0
A45: =+IF(D45>0,1,0) -> 1 | B45: D.A.H ( Bon Vivre) | D45: 28 | E45: =D45*7 -> 196 | F45: 46041 | G45: =+IF(A45=1,(+TODAY())-F45,"Sans objet") -> 267 | H45: 1 | I45: =VLOOKUP(H45,Secteurs!$A$4:$C$6,3) -> Frisca MPASSI | J45: 0.5 | O45: 0.5 | P45: =+$E45*J45 -> 98 | Q45: =+$E45*K45 -> 0 | R45: =+$E45*L45 -> 0 | S45: =+$E45*M45 -> 0 | T45: =+$E45*N45 -> 0 | U45: =+$E45*O45 -> 98 | V45: =SUM(P45:U45) -> 196 | W45: pas de compte, préfére distributeur | X45: =+V45-E45 -> 0
A46: =+IF(D46>0,1,0) -> 1 | B46: FORAGE | D46: 25 | E46: =D46*7 -> 175 | F46: 46041 | G46: =+IF(A46=1,(+TODAY())-F46,"Sans objet") -> 267 | H46: 1 | I46: =VLOOKUP(H46,Secteurs!$A$4:$C$6,3) -> Frisca MPASSI | N46: 0.5 | O46: 0.5 | P46: =+$E46*J46 -> 0 | Q46: =+$E46*K46 -> 0 | R46: =+$E46*L46 -> 0 | S46: =+$E46*M46 -> 0 | T46: =+$E46*N46 -> 87.5 | U46: =+$E46*O46 -> 87.5 | V46: =SUM(P46:U46) -> 175 | W46: Pas de compte | X46: =+V46-E46 -> 0
A47: =+IF(D47>0,1,0) -> 1 | B47: BABA-EL (Nganga lingolo Djoue ) | C47: Crédit | D47: 28 | E47: =D47*7 -> 196 | F47: 46045 | G47: =+IF(A47=1,(+TODAY())-F47,"Sans objet") -> 263 | H47: 1 | I47: =VLOOKUP(H47,Secteurs!$A$4:$C$6,3) -> Frisca MPASSI | J47: 0.5 | M47: 0.25 | O47: 0.25 | P47: =+$E47*J47 -> 98 | Q47: =+$E47*K47 -> 0 | R47: =+$E47*L47 -> 0 | S47: =+$E47*M47 -> 49 | T47: =+$E47*N47 -> 0 | U47: =+$E47*O47 -> 49 | V47: =SUM(P47:U47) -> 196 | W47: Intéréssé, Achat août 1000 sacs | X47: =+V47-E47 -> 0
A48: =+IF(D48>0,1,0) -> 1 | B48: EL BARAKA 2024 | C48: Crédit | D48: 26 | E48: =D48*7 -> 182 | F48: 46043 | G48: =+IF(A48=1,(+TODAY())-F48,"Sans objet") -> 265 | H48: 3 | I48: =VLOOKUP(H48,Secteurs!$A$4:$C$6,3) -> Arnaud ITOUA | N48: 0.5 | O48: 0.5 | P48: =+$E48*J48 -> 0 | Q48: =+$E48*K48 -> 0 | R48: =+$E48*L48 -> 0 | S48: =+$E48*M48 -> 0 | T48: =+$E48*N48 -> 91 | U48: =+$E48*O48 -> 91 | V48: =SUM(P48:U48) -> 182 | W48: A un compte Patron Absent | X48: =+V48-E48 -> 0
A49: =+IF(D49>0,1,0) -> 1 | B49: DORA MAYA | C49: Crédit | D49: 50 | E49: =D49*7 -> 350 | F49: 46048 | G49: =+IF(A49=1,(+TODAY())-F49,"Sans objet") -> 260 | H49: 2 | I49: =VLOOKUP(H49,Secteurs!$A$4:$C$6,3) -> Prince MBOUSSA | J49: 0.5 | M49: 0.5 | P49: =+$E49*J49 -> 175 | Q49: =+$E49*K49 -> 0 | R49: =+$E49*L49 -> 0 | S49: =+$E49*M49 -> 175 | T49: =+$E49*N49 -> 0 | U49: =+$E49*O49 -> 0 | V49: =SUM(P49:U49) -> 350 | W49: appartenant à Mazala | X49: =+V49-E49 -> 0
A50: =+IF(D50>0,1,0) -> 1 | B50: EL BARAKA makabandilou | C50: Crédit | D50: 24 | E50: =D50*7 -> 168 | F50: 46043 | G50: =+IF(A50=1,(+TODAY())-F50,"Sans objet") -> 265 | H50: 3 | I50: =VLOOKUP(H50,Secteurs!$A$4:$C$6,3) -> Arnaud ITOUA | N50: 0.5 | O50: 0.5 | P50: =+$E50*J50 -> 0 | Q50: =+$E50*K50 -> 0 | R50: =+$E50*L50 -> 0 | S50: =+$E50*M50 -> 0 | T50: =+$E50*N50 -> 84 | U50: =+$E50*O50 -> 84 | V50: =SUM(P50:U50) -> 168 | W50: A un compte Patron Absent | X50: =+V50-E50 -> 0
A51: =+IF(D51>0,1,0) -> 1 | B51: ELWAHVA | D51: 50 | E51: =D51*7 -> 350 | F51: 46048 | G51: =+IF(A51=1,(+TODAY())-F51,"Sans objet") -> 260 | H51: 2 | I51: =VLOOKUP(H51,Secteurs!$A$4:$C$6,3) -> Prince MBOUSSA | J51: 0.25 | N51: 0.25 | O51: 0.5 | P51: =+$E51*J51 -> 87.5 | Q51: =+$E51*K51 -> 0 | R51: =+$E51*L51 -> 0 | S51: =+$E51*M51 -> 0 | T51: =+$E51*N51 -> 87.5 | U51: =+$E51*O51 -> 175 | V51: =SUM(P51:U51) -> 350 | W51: Pas de compte patron absent | X51: =+V51-E51 -> 0
A52: =+IF(D52>0,1,0) -> 1 | B52: ESCALE | C52: Crédit | D52: 28 | E52: =D52*7 -> 196 | F52: 46041 | G52: =+IF(A52=1,(+TODAY())-F52,"Sans objet") -> 267 | H52: 3 | I52: =VLOOKUP(H52,Secteurs!$A$4:$C$6,3) -> Arnaud ITOUA | J52: 0.75 | M52: 0.25 | P52: =+$E52*J52 -> 147 | Q52: =+$E52*K52 -> 0 | R52: =+$E52*L52 -> 0 | S52: =+$E52*M52 -> 49 | T52: =+$E52*N52 -> 0 | U52: =+$E52*O52 -> 0 | V52: =SUM(P52:U52) -> 196 | W52: intéréssé, achat août 500 sacs | X52: =+V52-E52 -> 0
A53: =+IF(D53>0,1,0) -> 1 | B53: FIRDAWS 1 | C53: Crédit | D53: 26 | E53: =D53*7 -> 182 | F53: 46041 | G53: =+IF(A53=1,(+TODAY())-F53,"Sans objet") -> 267 | H53: 3 | I53: =VLOOKUP(H53,Secteurs!$A$4:$C$6,3) -> Arnaud ITOUA | J53: 0.5 | O53: 0.5 | P53: =+$E53*J53 -> 91 | Q53: =+$E53*K53 -> 0 | R53: =+$E53*L53 -> 0 | S53: =+$E53*M53 -> 0 | T53: =+$E53*N53 -> 0 | U53: =+$E53*O53 -> 91 | V53: =SUM(P53:U53) -> 182 | W53: Intéréssé, debut septembre | X53: =+V53-E53 -> 0
A54: =+IF(D54>0,1,0) -> 1 | B54: MARCHE DJIRI ( ext ESCALE ) | D54: 28 | E54: =D54*7 -> 196 | F54: 46043 | G54: =+IF(A54=1,(+TODAY())-F54,"Sans objet") -> 265 | H54: 3 | I54: =VLOOKUP(H54,Secteurs!$A$4:$C$6,3) -> Arnaud ITOUA | J54: 1 | P54: =+$E54*J54 -> 196 | Q54: =+$E54*K54 -> 0 | R54: =+$E54*L54 -> 0 | S54: =+$E54*M54 -> 0 | T54: =+$E54*N54 -> 0 | U54: =+$E54*O54 -> 0 | V54: =SUM(P54:U54) -> 196 | W54: intéréssé, (Cpte Escale) | X54: =+V54-E54 -> 0
A55: =+IF(D55>0,1,0) -> 1 | B55: SALAM( Ex MODERNE AV France) | C55: Crédit | D55: 36 | E55: =D55*7 -> 252 | F55: 46048 | G55: =+IF(A55=1,(+TODAY())-F55,"Sans objet") -> 260 | H55: 2 | I55: =VLOOKUP(H55,Secteurs!$A$4:$C$6,3) -> Prince MBOUSSA | J55: 0.5 | O55: 0.5 | P55: =+$E55*J55 -> 126 | Q55: =+$E55*K55 -> 0 | R55: =+$E55*L55 -> 0 | S55: =+$E55*M55 -> 0 | T55: =+$E55*N55 -> 0 | U55: =+$E55*O55 -> 126 | V55: =SUM(P55:U55) -> 252 | W55: A un compte, préfére distributeur | X55: =+V55-E55 -> 0
A56: =+IF(D56>0,1,0) -> 1 | B56: MSB | C56: Cash | D56: 20 | E56: =D56*7 -> 140 | F56: 46048 | G56: =+IF(A56=1,(+TODAY())-F56,"Sans objet") -> 260 | H56: 3 | I56: =VLOOKUP(H56,Secteurs!$A$4:$C$6,3) -> Arnaud ITOUA | J56: 0.5 | L56: 0.5 | P56: =+$E56*J56 -> 70 | Q56: =+$E56*K56 -> 0 | R56: =+$E56*L56 -> 70 | S56: =+$E56*M56 -> 0 | T56: =+$E56*N56 -> 0 | U56: =+$E56*O56 -> 0 | V56: =SUM(P56:U56) -> 140 | W56: Intéréssé, debut septembre | X56: =+V56-E56 -> 0
A57: =+IF(D57>0,1,0) -> 1 | B57: SABANA ( Ex PUZZLE) | C57: Crédit | D57: 46 | E57: =D57*7 -> 322 | F57: 46048 | G57: =+IF(A57=1,(+TODAY())-F57,"Sans objet") -> 260 | H57: 2 | I57: =VLOOKUP(H57,Secteurs!$A$4:$C$6,3) -> Prince MBOUSSA | J57: 0.5 | M57: 0.5 | P57: =+$E57*J57 -> 161 | Q57: =+$E57*K57 -> 0 | R57: =+$E57*L57 -> 0 | S57: =+$E57*M57 -> 161 | T57: =+$E57*N57 -> 0 | U57: =+$E57*O57 -> 0 | V57: =SUM(P57:U57) -> 322 | W57: préfere distributeur | X57: =+V57-E57 -> 0
A58: =+IF(D58>0,1,0) -> 1 | B58: REVES 3 | D58: 28 | E58: =D58*7 -> 196 | F58: 46043 | G58: =+IF(A58=1,(+TODAY())-F58,"Sans objet") -> 265 | H58: 3 | I58: =VLOOKUP(H58,Secteurs!$A$4:$C$6,3) -> Arnaud ITOUA | J58: 0.5 | O58: 0.5 | P58: =+$E58*J58 -> 98 | Q58: =+$E58*K58 -> 0 | R58: =+$E58*L58 -> 0 | S58: =+$E58*M58 -> 0 | T58: =+$E58*N58 -> 0 | U58: =+$E58*O58 -> 98 | V58: =SUM(P58:U58) -> 196 | W58: A un compte Patron Absent | X58: =+V58-E58 -> 0
A59: =+IF(D59>0,1,0) -> 1 | B59: TEYBA | C59: Cash | D59: 28 | E59: =D59*7 -> 196 | F59: 46042 | G59: =+IF(A59=1,(+TODAY())-F59,"Sans objet") -> 266 | H59: 1 | I59: =VLOOKUP(H59,Secteurs!$A$4:$C$6,3) -> Frisca MPASSI | J59: 0.5 | N59: 0.25 | O59: 0.25 | P59: =+$E59*J59 -> 98 | Q59: =+$E59*K59 -> 0 | R59: =+$E59*L59 -> 0 | S59: =+$E59*M59 -> 0 | T59: =+$E59*N59 -> 49 | U59: =+$E59*O59 -> 49 | V59: =SUM(P59:U59) -> 196 | W59: Intéréssé, (Cpte Elkheire) | X59: =+V59-E59 -> 0
A60: =+IF(D60>0,1,0) -> 1 | B60: Bonne Chance 1 (Digeco) | C60: Crédit | D60: 38 | E60: =D60*7 -> 266 | F60: 46049 | G60: =+IF(A60=1,(+TODAY())-F60,"Sans objet") -> 259 | H60: 2 | I60: =VLOOKUP(H60,Secteurs!$A$4:$C$6,3) -> Prince MBOUSSA | M60: 0.5 | N60: 0.5 | P60: =+$E60*J60 -> 0 | Q60: =+$E60*K60 -> 0 | R60: =+$E60*L60 -> 0 | S60: =+$E60*M60 -> 133 | T60: =+$E60*N60 -> 133 | U60: =+$E60*O60 -> 0 | V60: =SUM(P60:U60) -> 266 | W60: Intéréssé | X60: =+V60-E60 -> 0
A61: =+IF(D61>0,1,0) -> 1 | B61: ND 2 BIFOUITI | C61: Crédit | D61: 26 | E61: =D61*7 -> 182 | F61: 46041 | G61: =+IF(A61=1,(+TODAY())-F61,"Sans objet") -> 267 | H61: 1 | I61: =VLOOKUP(H61,Secteurs!$A$4:$C$6,3) -> Frisca MPASSI | N61: 0.5 | O61: 0.5 | P61: =+$E61*J61 -> 0 | Q61: =+$E61*K61 -> 0 | R61: =+$E61*L61 -> 0 | S61: =+$E61*M61 -> 0 | T61: =+$E61*N61 -> 91 | U61: =+$E61*O61 -> 91 | V61: =SUM(P61:U61) -> 182 | W61: Intéréssé, debut septembre | X61: =+V61-E61 -> 0
A62: =+IF(D62>0,1,0) -> 1 | B62: ND1 | C62: Crédit | D62: 28 | E62: =D62*7 -> 196 | F62: 46041 | G62: =+IF(A62=1,(+TODAY())-F62,"Sans objet") -> 267 | H62: 1 | I62: =VLOOKUP(H62,Secteurs!$A$4:$C$6,3) -> Frisca MPASSI | L62: 0.5 | N62: 0.5 | P62: =+$E62*J62 -> 0 | Q62: =+$E62*K62 -> 0 | R62: =+$E62*L62 -> 98 | S62: =+$E62*M62 -> 0 | T62: =+$E62*N62 -> 98 | U62: =+$E62*O62 -> 0 | V62: =SUM(P62:U62) -> 196 | W62: Intéréssé, debut septembre | X62: =+V62-E62 -> 0
A63: =+IF(D63>0,1,0) -> 1 | B63: ND 3 PK | C63: Crédit | D63: 28 | E63: =D63*7 -> 196 | F63: 46041 | G63: =+IF(A63=1,(+TODAY())-F63,"Sans objet") -> 267 | H63: 1 | I63: =VLOOKUP(H63,Secteurs!$A$4:$C$6,3) -> Frisca MPASSI | L63: 0.5 | N63: 0.5 | P63: =+$E63*J63 -> 0 | Q63: =+$E63*K63 -> 0 | R63: =+$E63*L63 -> 98 | S63: =+$E63*M63 -> 0 | T63: =+$E63*N63 -> 98 | U63: =+$E63*O63 -> 0 | V63: =SUM(P63:U63) -> 196 | W63: Intéréssé, debut septembre | X63: =+V63-E63 -> 0
A64: =+IF(D64>0,1,0) -> 1 | B64: BENEDICTION NGAMAKOSSO | C64: Crédit | D64: 42 | E64: =D64*7 -> 294 | F64: 46045 | G64: =+IF(A64=1,(+TODAY())-F64,"Sans objet") -> 263 | H64: 3 | I64: =VLOOKUP(H64,Secteurs!$A$4:$C$6,3) -> Arnaud ITOUA | J64: 0.5 | N64: 0.5 | P64: =+$E64*J64 -> 147 | Q64: =+$E64*K64 -> 0 | R64: =+$E64*L64 -> 0 | S64: =+$E64*M64 -> 0 | T64: =+$E64*N64 -> 147 | U64: =+$E64*O64 -> 0 | V64: =SUM(P64:U64) -> 294 | W64: distributeur (SALECK) | X64: =+V64-E64 -> 0
A65: =+IF(D65>0,1,0) -> 1 | B65: BONNE CHANCE 2 | C65: Crédit | D65: 25 | E65: =D65*7 -> 175 | F65: 46045 | G65: =+IF(A65=1,(+TODAY())-F65,"Sans objet") -> 263 | H65: 1 | I65: =VLOOKUP(H65,Secteurs!$A$4:$C$6,3) -> Frisca MPASSI | J65: 0.5 | N65: 0.25 | O65: 0.25 | P65: =+$E65*J65 -> 87.5 | Q65: =+$E65*K65 -> 0 | R65: =+$E65*L65 -> 0 | S65: =+$E65*M65 -> 0 | T65: =+$E65*N65 -> 43.75 | U65: =+$E65*O65 -> 43.75 | V65: =SUM(P65:U65) -> 175 | W65: Intéréssé | X65: =+V65-E65 -> 0
A66: =+IF(D66>0,1,0) -> 1 | B66: BIFOUITI ( Ex BRAZZA 2005 ) | C66: Crédit | D66: 28 | E66: =D66*7 -> 196 | F66: 46045 | G66: =+IF(A66=1,(+TODAY())-F66,"Sans objet") -> 263 | H66: 1 | I66: =VLOOKUP(H66,Secteurs!$A$4:$C$6,3) -> Frisca MPASSI | J66: 0.5 | O66: 0.5 | P66: =+$E66*J66 -> 98 | Q66: =+$E66*K66 -> 0 | R66: =+$E66*L66 -> 0 | S66: =+$E66*M66 -> 0 | T66: =+$E66*N66 -> 0 | U66: =+$E66*O66 -> 98 | V66: =SUM(P66:U66) -> 196 | W66: Intéréssé, Achat août 1000 sacs | X66: =+V66-E66 -> 0
A67: =+IF(D67>0,1,0) -> 1 | B67: ILYAS EX KIGOUARIE | C67: Crédit | D67: 26 | E67: =D67*7 -> 182 | F67: 46042 | G67: =+IF(A67=1,(+TODAY())-F67,"Sans objet") -> 266 | H67: 1 | I67: =VLOOKUP(H67,Secteurs!$A$4:$C$6,3) -> Frisca MPASSI | J67: 0.5 | O67: 0.5 | P67: =+$E67*J67 -> 91 | Q67: =+$E67*K67 -> 0 | R67: =+$E67*L67 -> 0 | S67: =+$E67*M67 -> 0 | T67: =+$E67*N67 -> 0 | U67: =+$E67*O67 -> 91 | V67: =SUM(P67:U67) -> 182 | W67: Intéréssé, passage septembre | X67: =+V67-E67 -> 0
A68: =+IF(D68>0,1,0) -> 1 | B68: Paris Baguette (Ex KEITA BF) | C68: Crédit | D68: 46 | E68: =D68*7 -> 322 | F68: 46048 | G68: =+IF(A68=1,(+TODAY())-F68,"Sans objet") -> 260 | H68: 2 | I68: =VLOOKUP(H68,Secteurs!$A$4:$C$6,3) -> Prince MBOUSSA | J68: 0.5 | M68: 0.5 | P68: =+$E68*J68 -> 161 | Q68: =+$E68*K68 -> 0 | R68: =+$E68*L68 -> 0 | S68: =+$E68*M68 -> 161 | T68: =+$E68*N68 -> 0 | U68: =+$E68*O68 -> 0 | V68: =SUM(P68:U68) -> 322 | W68: Pas de compte | X68: =+V68-E68 -> 0
A69: =+IF(D69>0,1,0) -> 1 | B69: LA CONGOLAISE 1 (Ouenze) | D69: 24 | E69: =D69*7 -> 168 | F69: 46049 | G69: =+IF(A69=1,(+TODAY())-F69,"Sans objet") -> 259 | H69: 2 | I69: =VLOOKUP(H69,Secteurs!$A$4:$C$6,3) -> Prince MBOUSSA | O69: 1 | P69: =+$E69*J69 -> 0 | Q69: =+$E69*K69 -> 0 | R69: =+$E69*L69 -> 0 | S69: =+$E69*M69 -> 0 | T69: =+$E69*N69 -> 0 | U69: =+$E69*O69 -> 168 | V69: =SUM(P69:U69) -> 168 | W69: Pas de compte, en discussion | X69: =+V69-E69 -> 0
A70: =+IF(D70>0,1,0) -> 1 | B70: LA GLOIRE MAYANGA B52 | D70: 28 | E70: =D70*7 -> 196 | F70: 46042 | G70: =+IF(A70=1,(+TODAY())-F70,"Sans objet") -> 266 | H70: 1 | I70: =VLOOKUP(H70,Secteurs!$A$4:$C$6,3) -> Frisca MPASSI | J70: 0.5 | M70: 0.25 | O70: 0.25 | P70: =+$E70*J70 -> 98 | Q70: =+$E70*K70 -> 0 | R70: =+$E70*L70 -> 0 | S70: =+$E70*M70 -> 49 | T70: =+$E70*N70 -> 0 | U70: =+$E70*O70 -> 49 | V70: =SUM(P70:U70) -> 196 | W70: intéréssé, achat août 1000 sacs | X70: =+V70-E70 -> 0
A71: =+IF(D71>0,1,0) -> 1 | B71: Bonne Chance 6 (Ex MOUVIDA 2 ) | D71: 22 | E71: =D71*7 -> 154 | F71: 46042 | G71: =+IF(A71=1,(+TODAY())-F71,"Sans objet") -> 266 | H71: 1 | I71: =VLOOKUP(H71,Secteurs!$A$4:$C$6,3) -> Frisca MPASSI | N71: 0.5 | O71: 0.5 | P71: =+$E71*J71 -> 0 | Q71: =+$E71*K71 -> 0 | R71: =+$E71*L71 -> 0 | S71: =+$E71*M71 -> 0 | T71: =+$E71*N71 -> 77 | U71: =+$E71*O71 -> 77 | V71: =SUM(P71:U71) -> 154 | W71: Intéréssé | X71: =+V71-E71 -> 0
A72: =+IF(D72>0,1,0) -> 1 | B72: Takwa ( Ex Nationale Mkdo) | D72: 24 | E72: =D72*7 -> 168 | F72: 46048 | G72: =+IF(A72=1,(+TODAY())-F72,"Sans objet") -> 260 | H72: 2 | I72: =VLOOKUP(H72,Secteurs!$A$4:$C$6,3) -> Prince MBOUSSA | J72: 0.5 | O72: 0.5 | P72: =+$E72*J72 -> 84 | Q72: =+$E72*K72 -> 0 | R72: =+$E72*L72 -> 0 | S72: =+$E72*M72 -> 0 | T72: =+$E72*N72 -> 0 | U72: =+$E72*O72 -> 84 | V72: =SUM(P72:U72) -> 168 | W72: préfere distributeur | X72: =+V72-E72 -> 0
A73: =+IF(D73>0,1,0) -> 1 | B73: RIM D'OR 1 | C73: Cash | D73: 28 | E73: =D73*7 -> 196 | F73: 46045 | G73: =+IF(A73=1,(+TODAY())-F73,"Sans objet") -> 263 | H73: 1 | I73: =VLOOKUP(H73,Secteurs!$A$4:$C$6,3) -> Frisca MPASSI | J73: 0.25 | N73: 0.25 | O73: 0.5 | P73: =+$E73*J73 -> 49 | Q73: =+$E73*K73 -> 0 | R73: =+$E73*L73 -> 0 | S73: =+$E73*M73 -> 0 | T73: =+$E73*N73 -> 49 | U73: =+$E73*O73 -> 98 | V73: =SUM(P73:U73) -> 196 | W73: intéréssé, courant septembre | X73: =+V73-E73 -> 0
A74: =+IF(D74>0,1,0) -> 1 | B74: RIM D'OR 2 | D74: 25 | E74: =D74*7 -> 175 | F74: 46045 | G74: =+IF(A74=1,(+TODAY())-F74,"Sans objet") -> 263 | H74: 1 | I74: =VLOOKUP(H74,Secteurs!$A$4:$C$6,3) -> Frisca MPASSI | M74: 0.25 | N74: 0.25 | O74: 0.5 | P74: =+$E74*J74 -> 0 | Q74: =+$E74*K74 -> 0 | R74: =+$E74*L74 -> 0 | S74: =+$E74*M74 -> 43.75 | T74: =+$E74*N74 -> 43.75 | U74: =+$E74*O74 -> 87.5 | V74: =SUM(P74:U74) -> 175 | W74: intéréssé, courant septembre | X74: =+V74-E74 -> 0
A75: =+IF(D75>0,1,0) -> 1 | B75: SD MASSENGO | C75: Crédit | D75: 26 | E75: =D75*7 -> 182 | F75: 46043 | G75: =+IF(A75=1,(+TODAY())-F75,"Sans objet") -> 265 | H75: 3 | I75: =VLOOKUP(H75,Secteurs!$A$4:$C$6,3) -> Arnaud ITOUA | J75: 0.5 | L75: 0.25 | N75: 0.25 | P75: =+$E75*J75 -> 91 | Q75: =+$E75*K75 -> 0 | R75: =+$E75*L75 -> 45.5 | S75: =+$E75*M75 -> 0 | T75: =+$E75*N75 -> 45.5 | U75: =+$E75*O75 -> 0 | V75: =SUM(P75:U75) -> 182 | W75: distributeur Saleck | X75: =+V75-E75 -> 0
A76: =+IF(D76>0,1,0) -> 1 | B76: SUPER CAFE | D76: 32 | E76: =D76*7 -> 224 | F76: 46048 | G76: =+IF(A76=1,(+TODAY())-F76,"Sans objet") -> 260 | H76: 2 | I76: =VLOOKUP(H76,Secteurs!$A$4:$C$6,3) -> Prince MBOUSSA | L76: 1 | P76: =+$E76*J76 -> 0 | Q76: =+$E76*K76 -> 0 | R76: =+$E76*L76 -> 224 | S76: =+$E76*M76 -> 0 | T76: =+$E76*N76 -> 0 | U76: =+$E76*O76 -> 0 | V76: =SUM(P76:U76) -> 224 | W76: intéréssé, pour septembre | X76: =+V76-E76 -> 0
A77: =+IF(D77>0,1,0) -> 1 | B77: LE BON CHOIX (Ex YESLEM) | C77: Dette | D77: 40 | E77: =D77*7 -> 280 | F77: 46041 | G77: =+IF(A77=1,(+TODAY())-F77,"Sans objet") -> 267 | H77: 3 | I77: =VLOOKUP(H77,Secteurs!$A$4:$C$6,3) -> Arnaud ITOUA | J77: 0.5 | N77: 0.25 | O77: 0.25 | P77: =+$E77*J77 -> 140 | Q77: =+$E77*K77 -> 0 | R77: =+$E77*L77 -> 0 | S77: =+$E77*M77 -> 0 | T77: =+$E77*N77 -> 70 | U77: =+$E77*O77 -> 70 | V77: =SUM(P77:U77) -> 280 | W77: A un compte, en discussion avec le client | X77: =+V77-E77 -> 0
A78: =+IF(D78>0,1,0) -> 1 | B78: LA PERLE MAYANGA | D78: 25 | E78: =D78*7 -> 175 | F78: 46042 | G78: =+IF(A78=1,(+TODAY())-F78,"Sans objet") -> 266 | H78: 1 | I78: =VLOOKUP(H78,Secteurs!$A$4:$C$6,3) -> Frisca MPASSI | J78: 0.5 | M78: 0.25 | O78: 0.25 | P78: =+$E78*J78 -> 87.5 | Q78: =+$E78*K78 -> 0 | R78: =+$E78*L78 -> 0 | S78: =+$E78*M78 -> 43.75 | T78: =+$E78*N78 -> 0 | U78: =+$E78*O78 -> 43.75 | V78: =SUM(P78:U78) -> 175 | W78: Intéréssé, (cpte la Gloire) | X78: =+V78-E78 -> 0
A79: =+IF(D79>0,1,0) -> 1 | B79: LA PLAINE | C79: Crédit | D79: 28 | E79: =D79*7 -> 196 | F79: 46042 | G79: =+IF(A79=1,(+TODAY())-F79,"Sans objet") -> 266 | H79: 1 | I79: =VLOOKUP(H79,Secteurs!$A$4:$C$6,3) -> Frisca MPASSI | J79: 0.5 | O79: 0.5 | P79: =+$E79*J79 -> 98 | Q79: =+$E79*K79 -> 0 | R79: =+$E79*L79 -> 0 | S79: =+$E79*M79 -> 0 | T79: =+$E79*N79 -> 0 | U79: =+$E79*O79 -> 98 | V79: =SUM(P79:U79) -> 196 | W79: intéréssé Achat août 450 sacs | X79: =+V79-E79 -> 0
A80: =+IF(D80>0,1,0) -> 1 | B80: Bani kheire Total | D80: 28 | E80: =D80*7 -> 196 | F80: 46042 | G80: =+IF(A80=1,(+TODAY())-F80,"Sans objet") -> 266 | H80: 1 | I80: =VLOOKUP(H80,Secteurs!$A$4:$C$6,3) -> Frisca MPASSI | N80: 0.5 | O80: 0.5 | P80: =+$E80*J80 -> 0 | Q80: =+$E80*K80 -> 0 | R80: =+$E80*L80 -> 0 | S80: =+$E80*M80 -> 0 | T80: =+$E80*N80 -> 98 | U80: =+$E80*O80 -> 98 | V80: =SUM(P80:U80) -> 196 | W80: pas de compte, préfére distributeur | X80: =+V80-E80 -> 0
A81: =+IF(D81>0,1,0) -> 1 | B81: BACO PAIN | C81: Dette | D81: 28 | E81: =D81*7 -> 196 | F81: 46045 | G81: =+IF(A81=1,(+TODAY())-F81,"Sans objet") -> 263 | H81: 1 | I81: =VLOOKUP(H81,Secteurs!$A$4:$C$6,3) -> Frisca MPASSI | J81: 0.5 | O81: 0.5 | P81: =+$E81*J81 -> 98 | Q81: =+$E81*K81 -> 0 | R81: =+$E81*L81 -> 0 | S81: =+$E81*M81 -> 0 | T81: =+$E81*N81 -> 0 | U81: =+$E81*O81 -> 98 | V81: =SUM(P81:U81) -> 196 | W81: A un compte , préfére distributeur | X81: =+V81-E81 -> 0
A82: =+IF(D82>0,1,0) -> 1 | B82: BLG EL MOURAD | D82: 25 | E82: 196 | F82: 46041 | G82: =+IF(A82=1,(+TODAY())-F82,"Sans objet") -> 267 | H82: 1 | I82: =VLOOKUP(H82,Secteurs!$A$4:$C$6,3) -> Frisca MPASSI | J82: 0.5 | O82: 0.5 | P82: =+$E82*J82 -> 98 | Q82: =+$E82*K82 -> 0 | R82: =+$E82*L82 -> 0 | S82: =+$E82*M82 -> 0 | T82: =+$E82*N82 -> 0 | U82: =+$E82*O82 -> 98 | V82: =SUM(P82:U82) -> 196 | W82: A un compte, préfere distributeur | X82: =+V82-E82 -> 0
A83: =+IF(D83>0,1,0) -> 1 | B83: DIGNITE 1 | D83: 28 | E83: =D83*7 -> 196 | F83: 46048 | G83: =+IF(A83=1,(+TODAY())-F83,"Sans objet") -> 260 | H83: 3 | I83: =VLOOKUP(H83,Secteurs!$A$4:$C$6,3) -> Arnaud ITOUA | J83: 0.5 | O83: 0.5 | P83: =+$E83*J83 -> 98 | Q83: =+$E83*K83 -> 0 | R83: =+$E83*L83 -> 0 | S83: =+$E83*M83 -> 0 | T83: =+$E83*N83 -> 0 | U83: =+$E83*O83 -> 98 | V83: =SUM(P83:U83) -> 196 | W83: Distributeue Mazala | X83: =+V83-E83 -> 0
A84: =+IF(D84>0,1,0) -> 1 | B84: EFFRAKATA 2 | D84: 28 | E84: =D84*7 -> 196 | F84: 46045 | G84: =+IF(A84=1,(+TODAY())-F84,"Sans objet") -> 263 | H84: 1 | I84: =VLOOKUP(H84,Secteurs!$A$4:$C$6,3) -> Frisca MPASSI | J84: 0.5 | O84: 0.5 | P84: =+$E84*J84 -> 98 | Q84: =+$E84*K84 -> 0 | R84: =+$E84*L84 -> 0 | S84: =+$E84*M84 -> 0 | T84: =+$E84*N84 -> 0 | U84: =+$E84*O84 -> 98 | V84: =SUM(P84:U84) -> 196 | W84: Intéréssé, debut septembre | X84: =+V84-E84 -> 0
