Workbook
Name MINOCO: #REF!

Sheet Secteurs
A3: N° | B3: Zone | C3: Technico-Commercial
A4: 1 | B4: Sud | C4: Frisca MPASSI
A5: 2 | B5: Centre | C5: Prince MBOUSSA
A6: 3 | B6: Nord | C6: Arnaud ITOUA

Sheet WEEK 1
A1: N° | B1: Boulangerie | C1: Type | D1: Cons/j | E1: C° heb | F1: Date Dernière Visite | G1: Période sans visite | H1: Secteur | I1: Technico Commercial | J1: %MINOCO | K1: %FANTA | L1: %GMK | M1: %SGMP | N1: %MFB | O1: %GMC | P1: MINOCO | Q1: FANTA | R1: GMK | S1: SGMP | T1: MFB | U1: GMC | V1: Total | W1: COMMENTAIRES | Z1: Week | AA1: Minoco | AB1: Fanta | AC1: GMPN | AD1: GMK | AE1: SGMP | AF1: MFB | AG1: GMC
A2: =+IF(D2>0,1,0) -> 1 | B2: Mayama( AQXA) | D2: 40 | E2: =D2*7 -> 280 | F2: 46015 | G2: =+IF(A2=1,(+TODAY())-F2,"Sans objet") -> 293 | H2: 1 | I2: =VLOOKUP(H2,Secteurs!$A$4:$C$6,3) -> Frisca MPASSI | J2: 0.5 | O2: 0.5 | P2: =+$E2*J2 -> 140 | Q2: =+$E2*K2 -> 0 | R2: =+$E2*L2 -> 0 | S2: =+$E2*M2 -> 0 | T2: =+$E2*N2 -> 0 | U2: =+$E2*O2 -> 140 | V2: =SUM(P2:U2) -> 280 | W2: Pas de compte, préfere distributeur | X2: =+V2-E2 -> 0 | Z2: 49 | AA2: 0.32 | AB2: 0.01 | AC2: 0.334 | AD2: 0.122 | AE2: 0.081 | AF2: 0.116 | AG2: 0.348 | AH2: 1
A3: =+IF(D3>0,1,0) -> 1 | B3: NOUVELLE ESPERANCE 3 | C3: Cash | D3: 50 | E3: =D3*7 -> 350 | F3: 46017 | G3: =+IF(A3=1,(+TODAY())-F3,"Sans objet") -> 291 | H3: 2 | I3: =VLOOKUP(H3,Secteurs!$A$4:$C$6,3) -> Prince MBOUSSA | L3: 0.5 | O3: 0.5 | P3: =+$E3*J3 -> 0 | Q3: =+$E3*K3 -> 0 | R3: =+$E3*L3 -> 175 | S3: =+$E3*M3 -> 0 | T3: =+$E3*N3 -> 0 | U3: =+$E3*O3 -> 175 | V3: =SUM(P3:U3) -> 350 | W3: intéressé, passage debut septembre | X3: =+V3-E3 -> 0 | Z3: 50 | AA3: 0.34090909 | AB3: 0.015734266 | AC3: 0.35664336 | AD3: 0.12237762 | AE3: 0.064685315 | AF3: 0.075174825 | AG3: 0.37762238 | AH3: 1
A4: =+IF(D4>0,1,0) -> 1 | B4: SABANA Moukondo | C4: Cash | D4: 48 | E4: =D4*7 -> 336 | F4: 46024 | G4: =+IF(A4=1,(+TODAY())-F4,"Sans objet") -> 284 | H4: 2 | I4: =VLOOKUP(H4,Secteurs!$A$4:$C$6,3) -> Prince MBOUSSA | J4: 0.25 | M4: 0.25 | O4: 0.5 | P4: =+$E4*J4 -> 84 | Q4: =+$E4*K4 -> 0 | R4: =+$E4*L4 -> 0 | S4: =+$E4*M4 -> 84 | T4: =+$E4*N4 -> 0 | U4: =+$E4*O4 -> 168 | V4: =SUM(P4:U4) -> 336 | W4: A un compte, intéréssé | X4: =+V4-E4 -> 0 | Z4: 51 | AA4: 0.36 | AB4: 0.02 | AC4: 0.381 | AD4: 0.1 | AE4: 0.062 | AF4: 0.058 | AG4: 0.399 | AH4: 1
A5: =+IF(D5>0,1,0) -> 1 | B5: YA LOLO | C5: Crédit | D5: 48 | E5: =D5*7 -> 336 | F5: 46017 | G5: =+IF(A5=1,(+TODAY())-F5,"Sans objet") -> 291 | H5: 3 | I5: =VLOOKUP(H5,Secteurs!$A$4:$C$6,3) -> Arnaud ITOUA | J5: 1 | P5: =+$E5*J5 -> 336 | Q5: =+$E5*K5 -> 0 | R5: =+$E5*L5 -> 0 | S5: =+$E5*M5 -> 0 | T5: =+$E5*N5 -> 0 | U5: =+$E5*O5 -> 0 | V5: =SUM(P5:U5) -> 336 | W5: intéressé, passage debut septembre | X5: =+V5-E5 -> 0 | Z5: 52 | AA5: 0.375 | AB5: 0.021 | AC5: 0.396 | AD5: 0.079 | AE5: 0.091 | AF5: 0.07 | AG5: 0.364 | AH5: 1
A6: =+IF(D6>0,1,0) -> 1 | B6: 58e ANNIVERSAIRE | C6: Cash | D6: 50 | E6: =D6*7 -> 350 | F6: 46021 | G6: =+IF(A6=1,(+TODAY())-F6,"Sans objet") -> 287 | H6: 3 | I6: =VLOOKUP(H6,Secteurs!$A$4:$C$6,3) -> Arnaud ITOUA | J6: 0.5 | M6: 0.25 | N6: 0.25 | P6: =+$E6*J6 -> 175 | Q6: =+$E6*K6 -> 0 | R6: =+$E6*L6 -> 0 | S6: =+$E6*M6 -> 87.5 | T6: =+$E6*N6 -> 87.5 | U6: =+$E6*O6 -> 0 | V6: =SUM(P6:U6) -> 350 | W6: intéressé, passage debut septembre | X6: =+V6-E6 -> 0 | Z6: 1 | AA6: 0.36188811 | AB6: 0.020979021 | AC6: 0.38286713 | AD6: 0.078671329 | AE6: 0.11713287 | AF6: 0.073426573 | AG6: 0.3479021 | AH6: 1
A7: =+IF(D7>0,1,0) -> 1 | B7: BECO | C7: Cash | D7: 50 | E7: =D7*7 -> 350 | F7: 46021 | G7: =+IF(A7=1,(+TODAY())-F7,"Sans objet") -> 287 | H7: 2 | I7: =VLOOKUP(H7,Secteurs!$A$4:$C$6,3) -> Prince MBOUSSA | K7: 1 | P7: =+$E7*J7 -> 0 | Q7: =+$E7*K7 -> 350 | R7: =+$E7*L7 -> 0 | S7: =+$E7*M7 -> 0 | T7: =+$E7*N7 -> 0 | U7: =+$E7*O7 -> 0 | V7: =SUM(P7:U7) -> 350 | W7: intéressé, passage debut septembre | X7: =+V7-E7 -> 0 | Z7: Variation W-1 | AC7: =+AC6-AC5 -> -0.013132867 | AD7: =+AD6-AD5 -> -0.00032867133 | AE7: =+AE6-AE5 -> 0.026132867 | AF7: =+AF6-AF5 -> 0.0034265734 | AG7: =+AG6-AG5 -> -0.016097902
A8: =+IF(D8>0,1,0) -> 1 | B8: ELVOZ INCHALAH | C8: Cash | D8: 40 | E8: =D8*7 -> 280 | F8: 46015 | G8: =+IF(A8=1,(+TODAY())-F8,"Sans objet") -> 293 | H8: 1 | I8: =VLOOKUP(H8,Secteurs!$A$4:$C$6,3) -> Frisca MPASSI | M8: 0.25 | N8: 0.25 | O8: 0.5 | P8: =+$E8*J8 -> 0 | Q8: =+$E8*K8 -> 0 | R8: =+$E8*L8 -> 0 | S8: =+$E8*M8 -> 70 | T8: =+$E8*N8 -> 70 | U8: =+$E8*O8 -> 140 | V8: =SUM(P8:U8) -> 280 | W8: intéressé, passage debut septembre | X8: =+V8-E8 -> 0
A9: =+IF(D9>0,1,0) -> 1 | B9: POTAL | C9: Cash | D9: 30 | E9: =D9*7 -> 210 | F9: 46020 | G9: =+IF(A9=1,(+TODAY())-F9,"Sans objet") -> 288 | H9: 2 | I9: =VLOOKUP(H9,Secteurs!$A$4:$C$6,3) -> Prince MBOUSSA | J9: 0.5 | M9: 0.5 | P9: =+$E9*J9 -> 105 | Q9: =+$E9*K9 -> 0 | R9: =+$E9*L9 -> 0 | S9: =+$E9*M9 -> 105 | T9: =+$E9*N9 -> 0 | U9: =+$E9*O9 -> 0 | V9: =SUM(P9:U9) -> 210 | W9: Patron absent | X9: =+V9-E9 -> 0
A10: =+IF(D10>0,1,0) -> 1 | B10: Salam ( Ex EL MABROUCK) | D10: 38 | E10: =D10*7 -> 266 | F10: 46020 | G10: =+IF(A10=1,(+TODAY())-F10,"Sans objet") -> 288 | H10: 2 | I10: =VLOOKUP(H10,Secteurs!$A$4:$C$6,3) -> Prince MBOUSSA | J10: 0.5 | O10: 0.5 | P10: =+$E10*J10 -> 133 | Q10: =+$E10*K10 -> 0 | R10: =+$E10*L10 -> 0 | S10: =+$E10*M10 -> 0 | T10: =+$E10*N10 -> 0 | U10: =+$E10*O10 -> 133 | V10: =SUM(P10:U10) -> 266 | W10: A un compte, préfere distributeur | X10: =+V10-E10 -> 0
A11: =+IF(D11>0,1,0) -> 1 | B11: BAS PRIX (ex moderne nkombo) | C11: Cash | D11: 36 | E11: =D11*7 -> 252 | F11: 46020 | G11: =+IF(A11=1,(+TODAY())-F11,"Sans objet") -> 288 | H11: 3 | I11: =VLOOKUP(H11,Secteurs!$A$4:$C$6,3) -> Arnaud ITOUA | J11: 0.5 | O11: 0.5 | P11: =+$E11*J11 -> 126 | Q11: =+$E11*K11 -> 0 | R11: =+$E11*L11 -> 0 | S11: =+$E11*M11 -> 0 | T11: =+$E11*N11 -> 0 | U11: =+$E11*O11 -> 126 | V11: =SUM(P11:U11) -> 252 | W11: intéressé, passage debut septembre | X11: =+V11-E11 -> 0
A12: =+IF(D12>0,1,0) -> 1 | B12: COMUS | D12: 26 | E12: =D12*7 -> 182 | F12: 46024 | G12: =+IF(A12=1,(+TODAY())-F12,"Sans objet") -> 284 | H12: 2 | I12: =VLOOKUP(H12,Secteurs!$A$4:$C$6,3) -> Prince MBOUSSA | J12: 0.5 | O12: 0.5 | P12: =+$E12*J12 -> 91 | Q12: =+$E12*K12 -> 0 | R12: =+$E12*L12 -> 0 | S12: =+$E12*M12 -> 0 | T12: =+$E12*N12 -> 0 | U12: =+$E12*O12 -> 91 | V12: =SUM(P12:U12) -> 182 | W12: A un compte, préfére distributeur | X12: =+V12-E12 -> 0
A13: =+IF(D13>0,1,0) -> 1 | B13: SALAM ( Ex PLAZZA ) | D13: 42 | E13: =D13*7 -> 294 | F13: 46015 | G13: =+IF(A13=1,(+TODAY())-F13,"Sans objet") -> 293 | H13: 1 | I13: =VLOOKUP(H13,Secteurs!$A$4:$C$6,3) -> Frisca MPASSI | J13: 0.5 | O13: 0.5 | P13: =+$E13*J13 -> 147 | Q13: =+$E13*K13 -> 0 | R13: =+$E13*L13 -> 0 | S13: =+$E13*M13 -> 0 | T13: =+$E13*N13 -> 0 | U13: =+$E13*O13 -> 147 | V13: =SUM(P13:U13) -> 294 | W13: A un compte, préfere distributeur | X13: =+V13-E13 -> 0
A14: =+IF(D14>0,1,0) -> 1 | B14: SID-SID | C14: Cash | D14: 50 | E14: =D14*7 -> 350 | F14: 46021 | G14: =+IF(A14=1,(+TODAY())-F14,"Sans objet") -> 287 | H14: 3 | I14: =VLOOKUP(H14,Secteurs!$A$4:$C$6,3) -> Arnaud ITOUA | J14: 0.5 | M14: 0.5 | P14: =+$E14*J14 -> 175 | Q14: =+$E14*K14 -> 0 | R14: =+$E14*L14 -> 0 | S14: =+$E14*M14 -> 175 | T14: =+$E14*N14 -> 0 | U14: =+$E14*O14 -> 0 | V14: =SUM(P14:U14) -> 350 | W14: intéressé, passage debut septembre | X14: =+V14-E14 -> 0
A15: =+IF(D15>0,1,0) -> 1 | B15: NOUVELLE ESPERANCE 4 | C15: Cash | D15: 58 | E15: =D15*7 -> 406 | F15: 46021 | G15: =+IF(A15=1,(+TODAY())-F15,"Sans objet") -> 287 | H15: 2 | I15: =VLOOKUP(H15,Secteurs!$A$4:$C$6,3) -> Prince MBOUSSA | L15: 0.5 | O15: 0.5 | P15: =+$E15*J15 -> 0 | Q15: =+$E15*K15 -> 0 | R15: =+$E15*L15 -> 203 | S15: =+$E15*M15 -> 0 | T15: =+$E15*N15 -> 0 | U15: =+$E15*O15 -> 203 | V15: =SUM(P15:U15) -> 406 | W15: intéressé, passage debut septembre | X15: =+V15-E15 -> 0
A16: =+IF(D16>0,1,0) -> 1 | B16: MODERNE & ARTISANALE 1 | C16: Cash | D16: 52 | E16: =D16*7 -> 364 | F16: 46020 | G16: =+IF(A16=1,(+TODAY())-F16,"Sans objet") -> 288 | H16: 3 | I16: =VLOOKUP(H16,Secteurs!$A$4:$C$6,3) -> Arnaud ITOUA | J16: 0.5 | M16: 0.5 | P16: =+$E16*J16 -> 182 | Q16: =+$E16*K16 -> 0 | R16: =+$E16*L16 -> 0 | S16: =+$E16*M16 -> 182 | T16: =+$E16*N16 -> 0 | U16: =+$E16*O16 -> 0 | V16: =SUM(P16:U16) -> 364 | W16: intéressé, attente ouverture de compte | X16: =+V16-E16 -> 0
A17: =+IF(D17>0,1,0) -> 1 | B17: NOUVELLE ESPERANCE 1 | C17: Cash | D17: 40 | E17: =D17*7 -> 280 | F17: 46017 | G17: =+IF(A17=1,(+TODAY())-F17,"Sans objet") -> 291 | H17: 1 | I17: =VLOOKUP(H17,Secteurs!$A$4:$C$6,3) -> Frisca MPASSI | J17: 0.5 | N17: 0.5 | P17: =+$E17*J17 -> 140 | Q17: =+$E17*K17 -> 0 | R17: =+$E17*L17 -> 0 | S17: =+$E17*M17 -> 0 | T17: =+$E17*N17 -> 140 | U17: =+$E17*O17 -> 0 | V17: =SUM(P17:U17) -> 280 | W17: intéressé, passage debut septembre | X17: =+V17-E17 -> 0
A18: =+IF(D18>0,1,0) -> 1 | B18: BEDRE NKOMBO | C18: Cash | D18: 36 | E18: =D18*7 -> 252 | F18: 46021 | G18: =+IF(A18=1,(+TODAY())-F18,"Sans objet") -> 287 | H18: 3 | I18: =VLOOKUP(H18,Secteurs!$A$4:$C$6,3) -> Arnaud ITOUA | J18: 0.5 | O18: 0.5 | P18: =+$E18*J18 -> 126 | Q18: =+$E18*K18 -> 0 | R18: =+$E18*L18 -> 0 | S18: =+$E18*M18 -> 0 | T18: =+$E18*N18 -> 0 | U18: =+$E18*O18 -> 126 | V18: =SUM(P18:U18) -> 252 | W18: A un compte, préfere distributeur( Patron absent) | X18: =+V18-E18 -> 0
A19: =+IF(D19>0,1,0) -> 1 | B19: ARTISANALE 3 ( Ex BLANCHE) | C19: Cash | D19: 38 | E19: =D19*7 -> 266 | F19: 46015 | G19: =+IF(A19=1,(+TODAY())-F19,"Sans objet") -> 293 | H19: 1 | I19: =VLOOKUP(H19,Secteurs!$A$4:$C$6,3) -> Frisca MPASSI | J19: 0.5 | O19: 0.5 | P19: =+$E19*J19 -> 133 | Q19: =+$E19*K19 -> 0 | R19: =+$E19*L19 -> 0 | S19: =+$E19*M19 -> 0 | T19: =+$E19*N19 -> 0 | U19: =+$E19*O19 -> 133 | V19: =SUM(P19:U19) -> 266 | W19: intéressé, attente ouverture de compte | X19: =+V19-E19 -> 0
A20: =+IF(D20>0,1,0) -> 1 | B20: Brazza Moderne 1 | C20: Dette | D20: 46 | E20: =D20*7 -> 322 | F20: 46015 | G20: =+IF(A20=1,(+TODAY())-F20,"Sans objet") -> 293 | H20: 3 | I20: =VLOOKUP(H20,Secteurs!$A$4:$C$6,3) -> Arnaud ITOUA | J20: 0.25 | L20: 0.25 | N20: 0.25 | O20: 0.25 | P20: =+$E20*J20 -> 80.5 | Q20: =+$E20*K20 -> 0 | R20: =+$E20*L20 -> 80.5 | S20: =+$E20*M20 -> 0 | T20: =+$E20*N20 -> 80.5 | U20: =+$E20*O20 -> 80.5 | V20: =SUM(P20:U20) -> 322 | W20: préfere distributeur | X20: =+V20-E20 -> 0
A21: =+IF(D21>0,1,0) -> 1 | B21: MODERNE & ARTISANALE 2 | C21: Cash | D21: 50 | E21: =D21*7 -> 350 | F21: 46020 | G21: =+IF(A21=1,(+TODAY())-F21,"Sans objet") -> 288 | H21: 3 | I21: =VLOOKUP(H21,Secteurs!$A$4:$C$6,3) -> Arnaud ITOUA | J21: 0.5 | M21: 0.5 | P21: =+$E21*J21 -> 175 | Q21: =+$E21*K21 -> 0 | R21: =+$E21*L21 -> 0 | S21: =+$E21*M21 -> 175 | T21: =+$E21*N21 -> 0 | U21: =+$E21*O21 -> 0 | V21: =SUM(P21:U21) -> 350 | W21: intéressé, attente ouverture de compte | X21: =+V21-E21 -> 0
A22: =+IF(D22>0,1,0) -> 1 | B22: SAHA(ex fournil) | C22: Cash | D22: 32 | E22: =D22*7 -> 224 | F22: 46017 | G22: =+IF(A22=1,(+TODAY())-F22,"Sans objet") -> 291 | H22: 1 | I22: =VLOOKUP(H22,Secteurs!$A$4:$C$6,3) -> Frisca MPASSI | J22: 0.5 | O22: 0.5 | P22: =+$E22*J22 -> 112 | Q22: =+$E22*K22 -> 0 | R22: =+$E22*L22 -> 0 | S22: =+$E22*M22 -> 0 | T22: =+$E22*N22 -> 0 | U22: =+$E22*O22 -> 112 | V22: =SUM(P22:U22) -> 224 | W22: intéressé, achat Week 33 | X22: =+V22-E22 -> 0
A23: =+IF(D23>0,1,0) -> 1 | B23: Paris Pain | D23: 48 | E23: =D23*7 -> 336 | F23: 46021 | G23: =+IF(A23=1,(+TODAY())-F23,"Sans objet") -> 287 | H23: 2 | I23: =VLOOKUP(H23,Secteurs!$A$4:$C$6,3) -> Prince MBOUSSA | J23: 0.5 | O23: 0.5 | P23: =+$E23*J23 -> 168 | Q23: =+$E23*K23 -> 0 | R23: =+$E23*L23 -> 0 | S23: =+$E23*M23 -> 0 | T23: =+$E23*N23 -> 0 | U23: =+$E23*O23 -> 168 | V23: =SUM(P23:U23) -> 336 | W23: Pas de compte, préfere distributeur | X23: =+V23-E23 -> 0
A24: =+IF(D24>0,1,0) -> 1 | B24: EL MEJID ( Ex Baraka Talangai) | C24: Crédit | D24: 38 | E24: =D24*7 -> 266 | F24: 46023 | G24: =+IF(A24=1,(+TODAY())-F24,"Sans objet") -> 285 | H24: 2 | I24: =VLOOKUP(H24,Secteurs!$A$4:$C$6,3) -> Prince MBOUSSA | J24: 0.5 | O24: 0.5 | P24: =+$E24*J24 -> 133 | Q24: =+$E24*K24 -> 0 | R24: =+$E24*L24 -> 0 | S24: =+$E24*M24 -> 0 | T24: =+$E24*N24 -> 0 | U24: =+$E24*O24 -> 133 | V24: =SUM(P24:U24) -> 266 | W24: A un compte Patron Absent | X24: =+V24-E24 -> 0
A25: =+IF(D25>0,1,0) -> 1 | B25: BRAZZA MODERNE 2 | C25: Cash | D25: 40 | E25: =D25*7 -> 280 | F25: 46017 | G25: =+IF(A25=1,(+TODAY())-F25,"Sans objet") -> 291 | H25: 1 | I25: =VLOOKUP(H25,Secteurs!$A$4:$C$6,3) -> Frisca MPASSI | J25: 0.25 | N25: 0.25 | O25: 0.5 | P25: =+$E25*J25 -> 70 | Q25: =+$E25*K25 -> 0 | R25: =+$E25*L25 -> 0 | S25: =+$E25*M25 -> 0 | T25: =+$E25*N25 -> 70 | U25: =+$E25*O25 -> 140 | V25: =SUM(P25:U25) -> 280 | W25: préfere distributeur | X25: =+V25-E25 -> 0
A26: =+IF(D26>0,1,0) -> 1 | B26: DAHI ( ex préference) | D26: 40 | E26: =D26*7 -> 280 | F26: 46023 | G26: =+IF(A26=1,(+TODAY())-F26,"Sans objet") -> 285 | H26: 2 | I26: =VLOOKUP(H26,Secteurs!$A$4:$C$6,3) -> Prince MBOUSSA | J26: 0.5 | O26: 0.5 | P26: =+$E26*J26 -> 140 | Q26: =+$E26*K26 -> 0 | R26: =+$E26*L26 -> 0 | S26: =+$E26*M26 -> 0 | T26: =+$E26*N26 -> 0 | U26: =+$E26*O26 -> 140 | V26: =SUM(P26:U26) -> 280 | W26: préfere distributeur | X26: =+V26-E26 -> 0
A27: =+IF(D27>0,1,0) -> 1 | B27: EL MANSOUR | C27: Crédit | D27: 28 | E27: =D27*7 -> 196 | F27: 46015 | G27: =+IF(A27=1,(+TODAY())-F27,"Sans objet") -> 293 | H27: 1 | I27: =VLOOKUP(H27,Secteurs!$A$4:$C$6,3) -> Frisca MPASSI | M27: 0.5 | O27: 0.5 | P27: =+$E27*J27 -> 0 | Q27: =+$E27*K27 -> 0 | R27: =+$E27*L27 -> 0 | S27: =+$E27*M27 -> 98 | T27: =+$E27*N27 -> 0 | U27: =+$E27*O27 -> 98 | V27: =SUM(P27:U27) -> 196 | W27: intéressé, passage debut septembre | X27: =+V27-E27 -> 0
A28: =+IF(D28>0,1,0) -> 1 | B28: NOUVELLE ESPERANCE 2 | C28: Cash | D28: 42 | E28: =D28*7 -> 294 | F28: 46015 | G28: =+IF(A28=1,(+TODAY())-F28,"Sans objet") -> 293 | H28: 3 | I28: =VLOOKUP(H28,Secteurs!$A$4:$C$6,3) -> Arnaud ITOUA | J28: 0.25 | L28: 0.25 | N28: 0.25 | O28: 0.25 | P28: =+$E28*J28 -> 73.5 | Q28: =+$E28*K28 -> 0 | R28: =+$E28*L28 -> 73.5 | S28: =+$E28*M28 -> 0 | T28: =+$E28*N28 -> 73.5 | U28: =+$E28*O28 -> 73.5 | V28: =SUM(P28:U28) -> 294 | W28: préfere distributeur | X28: =+V28-E28 -> 0
A29: =+IF(D29>0,1,0) -> 1 | B29: MAFOUD | D29: 30 | E29: =D29*7 -> 210 | F29: 46020 | G29: =+IF(A29=1,(+TODAY())-F29,"Sans objet") -> 288 | H29: 2 | I29: =VLOOKUP(H29,Secteurs!$A$4:$C$6,3) -> Prince MBOUSSA | K29: 0.25 | L29: 0.5 | O29: 0.25 | P29: =+$E29*J29 -> 0 | Q29: =+$E29*K29 -> 52.5 | R29: =+$E29*L29 -> 105 | S29: =+$E29*M29 -> 0 | T29: =+$E29*N29 -> 0 | U29: =+$E29*O29 -> 52.5 | V29: =SUM(P29:U29) -> 210 | W29: pas de compte, (Maman fanta) | X29: =+V29-E29 -> 0
A30: =+IF(D30>0,1,0) -> 1 | B30: MANE | D30: 32 | E30: =D30*7 -> 224 | F30: 46021 | G30: =+IF(A30=1,(+TODAY())-F30,"Sans objet") -> 287 | H30: 3 | I30: =VLOOKUP(H30,Secteurs!$A$4:$C$6,3) -> Arnaud ITOUA | M30: 0.25 | N30: 0.25 | O30: 0.5 | P30: =+$E30*J30 -> 0 | Q30: =+$E30*K30 -> 0 | R30: =+$E30*L30 -> 0 | S30: =+$E30*M30 -> 56 | T30: =+$E30*N30 -> 56 | U30: =+$E30*O30 -> 112 | V30: =SUM(P30:U30) -> 224 | W30: Pas de compte, préfere distributeur | X30: =+V30-E30 -> 0
A31: =+IF(D31>0,1,0) -> 1 | B31: REVES 2 | D31: 26 | E31: =D31*7 -> 182 | F31: 46014 | G31: =+IF(A31=1,(+TODAY())-F31,"Sans objet") -> 294 | H31: 3 | I31: =VLOOKUP(H31,Secteurs!$A$4:$C$6,3) -> Arnaud ITOUA | J31: 0.5 | O31: 0.5 | P31: =+$E31*J31 -> 91 | Q31: =+$E31*K31 -> 0 | R31: =+$E31*L31 -> 0 | S31: =+$E31*M31 -> 0 | T31: =+$E31*N31 -> 0 | U31: =+$E31*O31 -> 91 | V31: =SUM(P31:U31) -> 182 | W31: A un compte Patron Absent | X31: =+V31-E31 -> 0
A32: =+IF(D32>0,1,0) -> 1 | B32: SAVANA NKOMBO | C32: Cash | D32: 30 | E32: =D32*7 -> 210 | F32: 46021 | G32: =+IF(A32=1,(+TODAY())-F32,"Sans objet") -> 287 | H32: 3 | I32: =VLOOKUP(H32,Secteurs!$A$4:$C$6,3) -> Arnaud ITOUA | N32: 0.5 | O32: 0.5 | P32: =+$E32*J32 -> 0 | Q32: =+$E32*K32 -> 0 | R32: =+$E32*L32 -> 0 | S32: =+$E32*M32 -> 0 | T32: =+$E32*N32 -> 105 | U32: =+$E32*O32 -> 105 | V32: =SUM(P32:U32) -> 210 | W32: intéressé, courant septembre | X32: =+V32-E32 -> 0
A33: =+IF(D33>0,1,0) -> 1 | B33: SD1 CARREFOUR | C33: Crédit | D33: 42 | E33: =D33*7 -> 294 | F33: 46020 | G33: =+IF(A33=1,(+TODAY())-F33,"Sans objet") -> 288 | H33: 3 | I33: =VLOOKUP(H33,Secteurs!$A$4:$C$6,3) -> Arnaud ITOUA | J33: 0.5 | M33: 0.25 | N33: 0.25 | P33: =+$E33*J33 -> 147 | Q33: =+$E33*K33 -> 0 | R33: =+$E33*L33 -> 0 | S33: =+$E33*M33 -> 73.5 | T33: =+$E33*N33 -> 73.5 | U33: =+$E33*O33 -> 0 | V33: =SUM(P33:U33) -> 294 | W33: distributeur | X33: =+V33-E33 -> 0
A34: =+IF(D34>0,1,0) -> 1 | B34: ALMADINA (bama) | D34: 32 | E34: =D34*7 -> 224 | F34: 46015 | G34: =+IF(A34=1,(+TODAY())-F34,"Sans objet") -> 293 | H34: 1 | I34: =VLOOKUP(H34,Secteurs!$A$4:$C$6,3) -> Frisca MPASSI | J34: 0.5 | O34: 0.5 | P34: =+$E34*J34 -> 112 | Q34: =+$E34*K34 -> 0 | R34: =+$E34*L34 -> 0 | S34: =+$E34*M34 -> 0 | T34: =+$E34*N34 -> 0 | U34: =+$E34*O34 -> 112 | V34: =SUM(P34:U34) -> 224 | W34: A un compte, préfére distributeur | X34: =+V34-E34 -> 0
A35: =+IF(D35>0,1,0) -> 1 | B35: BONNE CHANCE 4 | C35: Crédit | D35: 32 | E35: =D35*7 -> 224 | F35: 46020 | G35: =+IF(A35=1,(+TODAY())-F35,"Sans objet") -> 288 | H35: 2 | I35: =VLOOKUP(H35,Secteurs!$A$4:$C$6,3) -> Prince MBOUSSA | N35: 0.5 | O35: 0.5 | P35: =+$E35*J35 -> 0 | Q35: =+$E35*K35 -> 0 | R35: =+$E35*L35 -> 0 | S35: =+$E35*M35 -> 0 | T35: =+$E35*N35 -> 112 | U35: =+$E35*O35 -> 112 | V35: =SUM(P35:U35) -> 224 | W35: intéréssé, en attente du plafond | X35: =+V35-E35 -> 0
A36: =+IF(D36>0,1,0) -> 1 | B36: DAHI (ex bab elkheire) | D36: 26 | E36: =D36*7 -> 182 | F36: 46015 | G36: =+IF(A36=1,(+TODAY())-F36,"Sans objet") -> 293 | H36: 3 | I36: =VLOOKUP(H36,Secteurs!$A$4:$C$6,3) -> Arnaud ITOUA | J36: 0.5 | N36: 0.25 | O36: 0.25 | P36: =+$E36*J36 -> 91 | Q36: =+$E36*K36 -> 0 | R36: =+$E36*L36 -> 0 | S36: =+$E36*M36 -> 0 | T36: =+$E36*N36 -> 45.5 | U36: =+$E36*O36 -> 45.5 | V36: =SUM(P36:U36) -> 182 | W36: préfere distributeur | X36: =+V36-E36 -> 0
A37: =+IF(D37>0,1,0) -> 1 | B37: ETOILE DE KINTELE 1 | D37: 28 | E37: =D37*7 -> 196 | F37: 46022 | G37: =+IF(A37=1,(+TODAY())-F37,"Sans objet") -> 286 | H37: 3 | I37: =VLOOKUP(H37,Secteurs!$A$4:$C$6,3) -> Arnaud ITOUA | O37: 1 | P37: =+$E37*J37 -> 0 | Q37: =+$E37*K37 -> 0 | R37: =+$E37*L37 -> 0 | S37: =+$E37*M37 -> 0 | T37: =+$E37*N37 -> 0 | U37: =+$E37*O37 -> 196 | V37: =SUM(P37:U37) -> 196 | W37: Pas de compte, préfere distributeur | X37: =+V37-E37 -> 0
A38: =+IF(D38>0,1,0) -> 1 | B38: ETOILE DE KINTELE 2 | D38: 24 | E38: =D38*7 -> 168 | F38: 46022 | G38: =+IF(A38=1,(+TODAY())-F38,"Sans objet") -> 286 | H38: 3 | I38: =VLOOKUP(H38,Secteurs!$A$4:$C$6,3) -> Arnaud ITOUA | J38: 0.5 | O38: 0.5 | P38: =+$E38*J38 -> 84 | Q38: =+$E38*K38 -> 0 | R38: =+$E38*L38 -> 0 | S38: =+$E38*M38 -> 0 | T38: =+$E38*N38 -> 0 | U38: =+$E38*O38 -> 84 | V38: =SUM(P38:U38) -> 168 | W38: Pas de compte, préfere distributeur | X38: =+V38-E38 -> 0
A39: =+IF(D39>0,1,0) -> 1 | B39: HOT BREAD MOUKONDO | D39: 38 | E39: =D39*7 -> 266 | F39: 46021 | G39: =+IF(A39=1,(+TODAY())-F39,"Sans objet") -> 287 | H39: 2 | I39: =VLOOKUP(H39,Secteurs!$A$4:$C$6,3) -> Prince MBOUSSA | J39: 0.5 | O39: 0.5 | P39: =+$E39*J39 -> 133 | Q39: =+$E39*K39 -> 0 | R39: =+$E39*L39 -> 0 | S39: =+$E39*M39 -> 0 | T39: =+$E39*N39 -> 0 | U39: =+$E39*O39 -> 133 | V39: =SUM(P39:U39) -> 266 | W39: A un compte, préfére distributeur | X39: =+V39-E39 -> 0
A40: =+IF(D40>0,1,0) -> 1 | B40: HOT BREAD1 ( Mbochi ) | D40: 40 | E40: =D40*7 -> 280 | F40: 46017 | G40: =+IF(A40=1,(+TODAY())-F40,"Sans objet") -> 291 | H40: 1 | I40: =VLOOKUP(H40,Secteurs!$A$4:$C$6,3) -> Frisca MPASSI | J40: 0.5 | O40: 0.5 | P40: =+$E40*J40 -> 140 | Q40: =+$E40*K40 -> 0 | R40: =+$E40*L40 -> 0 | S40: =+$E40*M40 -> 0 | T40: =+$E40*N40 -> 0 | U40: =+$E40*O40 -> 140 | V40: =SUM(P40:U40) -> 280 | W40: A un compte, préfére distributeur | X40: =+V40-E40 -> 0
...

Sheet WEEK 2
A1: N° | B1: Boulangerie | C1: Type | D1: Cons/j | E1: C° heb | F1: Date Dernière Visite | G1: Période sans visite | H1: Secteur | I1: Technico Commercial | J1: %MINOCO | K1: %FANTA | L1: %GMK | M1: %SGMP | N1: %MFB | O1: %GMC | P1: MINOCO | Q1: FANTA | R1: GMK | S1: SGMP | T1: MFB | U1: GMC | V1: Total | W1: COMMENTAIRES | Z1: Week | AA1: Minoco | AB1: Fanta | AC1: GMPN | AD1: GMK | AE1: SGMP | AF1: MFB | AG1: GMC
A2: =+IF(D2>0,1,0) -> 1 | B2: Mayama( AQXA) | D2: 40 | E2: =D2*7 -> 280 | F2: 46030 | G2: =+IF(A2=1,(+TODAY())-F2,"Sans objet") -> 278 | H2: 1 | I2: =VLOOKUP(H2,Secteurs!$A$4:$C$6,3) -> Frisca MPASSI | J2: 0.5 | O2: 0.5 | P2: =+$E2*J2 -> 140 | Q2: =+$E2*K2 -> 0 | R2: =+$E2*L2 -> 0 | S2: =+$E2*M2 -> 0 | T2: =+$E2*N2 -> 0 | U2: =+$E2*O2 -> 140 | V2: =SUM(P2:U2) -> 280 | W2: Pas de compte, préfere distributeur | X2: =+V2-E2 -> 0
A3: =+IF(D3>0,1,0) -> 1 | B3: NOUVELLE ESPERANCE 3 | C3: Cash | D3: 66 | E3: =D3*7 -> 462 | F3: 46031 | G3: =+IF(A3=1,(+TODAY())-F3,"Sans objet") -> 277 | H3: 2 | I3: =VLOOKUP(H3,Secteurs!$A$4:$C$6,3) -> Prince MBOUSSA | J3: 0.5 | L3: 0.25 | O3: 0.25 | P3: =+$E3*J3 -> 231 | Q3: =+$E3*K3 -> 0 | R3: =+$E3*L3 -> 115.5 | S3: =+$E3*M3 -> 0 | T3: =+$E3*N3 -> 0 | U3: =+$E3*O3 -> 115.5 | V3: =SUM(P3:U3) -> 462 | W3: intéressé, passage debut septembre | X3: =+V3-E3 -> 0 | Z3: 51 | AA3: 0.36 | AB3: 0.02 | AC3: 0.381 | AD3: 0.1 | AE3: 0.062 | AF3: 0.058 | AG3: 0.399 | AH3: 1
A4: =+IF(D4>0,1,0) -> 1 | B4: SABANA Moukondo | C4: Cash | D4: 48 | E4: =D4*7 -> 336 | F4: 46031 | G4: =+IF(A4=1,(+TODAY())-F4,"Sans objet") -> 277 | H4: 2 | I4: =VLOOKUP(H4,Secteurs!$A$4:$C$6,3) -> Prince MBOUSSA | J4: 0.25 | M4: 0.25 | O4: 0.5 | P4: =+$E4*J4 -> 84 | Q4: =+$E4*K4 -> 0 | R4: =+$E4*L4 -> 0 | S4: =+$E4*M4 -> 84 | T4: =+$E4*N4 -> 0 | U4: =+$E4*O4 -> 168 | V4: =SUM(P4:U4) -> 336 | W4: A un compte, intéréssé | X4: =+V4-E4 -> 0 | Z4: 52 | AA4: 0.375 | AB4: 0.021 | AC4: 0.396 | AD4: 0.079 | AE4: 0.091 | AF4: 0.07 | AG4: 0.364 | AH4: 1
A5: =+IF(D5>0,1,0) -> 1 | B5: YA LOLO | C5: Crédit | D5: 48 | E5: =D5*7 -> 336 | F5: 46030 | G5: =+IF(A5=1,(+TODAY())-F5,"Sans objet") -> 278 | H5: 3 | I5: =VLOOKUP(H5,Secteurs!$A$4:$C$6,3) -> Arnaud ITOUA | J5: 1 | P5: =+$E5*J5 -> 336 | Q5: =+$E5*K5 -> 0 | R5: =+$E5*L5 -> 0 | S5: =+$E5*M5 -> 0 | T5: =+$E5*N5 -> 0 | U5: =+$E5*O5 -> 0 | V5: =SUM(P5:U5) -> 336 | W5: intéressé, passage debut septembre | X5: =+V5-E5 -> 0 | Z5: 1 | AA5: 0.36188811 | AB5: 0.020979021 | AC5: 0.38286713 | AD5: 0.078671329 | AE5: 0.11713287 | AF5: 0.073426573 | AG5: 0.3479021 | AH5: 1
A6: =+IF(D6>0,1,0) -> 1 | B6: 58e ANNIVERSAIRE | C6: Cash | D6: 52 | E6: =D6*7 -> 364 | F6: 46027 | G6: =+IF(A6=1,(+TODAY())-F6,"Sans objet") -> 281 | H6: 3 | I6: =VLOOKUP(H6,Secteurs!$A$4:$C$6,3) -> Arnaud ITOUA | J6: 0.5 | M6: 0.5 | P6: =+$E6*J6 -> 182 | Q6: =+$E6*K6 -> 0 | R6: =+$E6*L6 -> 0 | S6: =+$E6*M6 -> 182 | T6: =+$E6*N6 -> 0 | U6: =+$E6*O6 -> 0 | V6: =SUM(P6:U6) -> 364 | W6: intéressé, passage debut septembre | X6: =+V6-E6 -> 0 | Z6: 2 | AA6: 0.374 | AB6: 0.021 | AC6: 0.394 | AD6: 0.056 | AE6: 0.092 | AF6: 0.102 | AG6: 0.356 | AH6: 1
A7: =+IF(D7>0,1,0) -> 1 | B7: BECO | C7: Cash | D7: 50 | E7: =D7*7 -> 350 | F7: 46030 | G7: =+IF(A7=1,(+TODAY())-F7,"Sans objet") -> 278 | H7: 2 | I7: =VLOOKUP(H7,Secteurs!$A$4:$C$6,3) -> Prince MBOUSSA | K7: 1 | P7: =+$E7*J7 -> 0 | Q7: =+$E7*K7 -> 350 | R7: =+$E7*L7 -> 0 | S7: =+$E7*M7 -> 0 | T7: =+$E7*N7 -> 0 | U7: =+$E7*O7 -> 0 | V7: =SUM(P7:U7) -> 350 | W7: intéressé, passage debut septembre | X7: =+V7-E7 -> 0 | Z7: Variation W-1 | AC7: =+AC6-AC5 -> 0.011132867 | AD7: =+AD6-AD5 -> -0.022671329 | AE7: =+AE6-AE5 -> -0.025132867 | AF7: =+AF6-AF5 -> 0.028573427 | AG7: =+AG6-AG5 -> 0.0080979021
A8: =+IF(D8>0,1,0) -> 1 | B8: ELVOZ INCHALAH | C8: Cash | D8: 40 | E8: =D8*7 -> 280 | F8: 46027 | G8: =+IF(A8=1,(+TODAY())-F8,"Sans objet") -> 281 | H8: 1 | I8: =VLOOKUP(H8,Secteurs!$A$4:$C$6,3) -> Frisca MPASSI | M8: 0.25 | N8: 0.25 | O8: 0.5 | P8: =+$E8*J8 -> 0 | Q8: =+$E8*K8 -> 0 | R8: =+$E8*L8 -> 0 | S8: =+$E8*M8 -> 70 | T8: =+$E8*N8 -> 70 | U8: =+$E8*O8 -> 140 | V8: =SUM(P8:U8) -> 280 | W8: intéressé, passage debut septembre | X8: =+V8-E8 -> 0
A9: =+IF(D9>0,1,0) -> 1 | B9: POTAL | C9: Cash | D9: 29 | E9: =D9*7 -> 203 | F9: 46029 | G9: =+IF(A9=1,(+TODAY())-F9,"Sans objet") -> 279 | H9: 2 | I9: =VLOOKUP(H9,Secteurs!$A$4:$C$6,3) -> Prince MBOUSSA | J9: 0.5 | O9: 0.5 | P9: =+$E9*J9 -> 101.5 | Q9: =+$E9*K9 -> 0 | R9: =+$E9*L9 -> 0 | S9: =+$E9*M9 -> 0 | T9: =+$E9*N9 -> 0 | U9: =+$E9*O9 -> 101.5 | V9: =SUM(P9:U9) -> 203 | W9: Patron absent | X9: =+V9-E9 -> 0
A10: =+IF(D10>0,1,0) -> 1 | B10: Salam ( Ex EL MABROUCK) | D10: 38 | E10: =D10*7 -> 266 | F10: 46029 | G10: =+IF(A10=1,(+TODAY())-F10,"Sans objet") -> 279 | H10: 2 | I10: =VLOOKUP(H10,Secteurs!$A$4:$C$6,3) -> Prince MBOUSSA | J10: 0.5 | O10: 0.5 | P10: =+$E10*J10 -> 133 | Q10: =+$E10*K10 -> 0 | R10: =+$E10*L10 -> 0 | S10: =+$E10*M10 -> 0 | T10: =+$E10*N10 -> 0 | U10: =+$E10*O10 -> 133 | V10: =SUM(P10:U10) -> 266 | W10: A un compte, préfere distributeur | X10: =+V10-E10 -> 0
A11: =+IF(D11>0,1,0) -> 1 | B11: BAS PRIX (ex moderne nkombo) | C11: Cash | D11: 36 | E11: =D11*7 -> 252 | F11: 46027 | G11: =+IF(A11=1,(+TODAY())-F11,"Sans objet") -> 281 | H11: 3 | I11: =VLOOKUP(H11,Secteurs!$A$4:$C$6,3) -> Arnaud ITOUA | J11: 0.5 | O11: 0.5 | P11: =+$E11*J11 -> 126 | Q11: =+$E11*K11 -> 0 | R11: =+$E11*L11 -> 0 | S11: =+$E11*M11 -> 0 | T11: =+$E11*N11 -> 0 | U11: =+$E11*O11 -> 126 | V11: =SUM(P11:U11) -> 252 | W11: intéressé, passage debut septembre | X11: =+V11-E11 -> 0
A12: =+IF(D12>0,1,0) -> 1 | B12: COMUS | D12: 26 | E12: =D12*7 -> 182 | F12: 46031 | G12: =+IF(A12=1,(+TODAY())-F12,"Sans objet") -> 277 | H12: 2 | I12: =VLOOKUP(H12,Secteurs!$A$4:$C$6,3) -> Prince MBOUSSA | J12: 0.5 | O12: 0.5 | P12: =+$E12*J12 -> 91 | Q12: =+$E12*K12 -> 0 | R12: =+$E12*L12 -> 0 | S12: =+$E12*M12 -> 0 | T12: =+$E12*N12 -> 0 | U12: =+$E12*O12 -> 91 | V12: =SUM(P12:U12) -> 182 | W12: A un compte, préfére distributeur | X12: =+V12-E12 -> 0
A13: =+IF(D13>0,1,0) -> 1 | B13: SALAM ( Ex PLAZZA ) | D13: 40 | E13: =D13*7 -> 280 | F13: 46028 | G13: =+IF(A13=1,(+TODAY())-F13,"Sans objet") -> 280 | H13: 1 | I13: =VLOOKUP(H13,Secteurs!$A$4:$C$6,3) -> Frisca MPASSI | J13: 0.5 | O13: 0.5 | P13: =+$E13*J13 -> 140 | Q13: =+$E13*K13 -> 0 | R13: =+$E13*L13 -> 0 | S13: =+$E13*M13 -> 0 | T13: =+$E13*N13 -> 0 | U13: =+$E13*O13 -> 140 | V13: =SUM(P13:U13) -> 280 | W13: A un compte, préfere distributeur | X13: =+V13-E13 -> 0
A14: =+IF(D14>0,1,0) -> 1 | B14: SID-SID | C14: Cash | D14: 48 | E14: =D14*7 -> 336 | F14: 46027 | G14: =+IF(A14=1,(+TODAY())-F14,"Sans objet") -> 281 | H14: 3 | I14: =VLOOKUP(H14,Secteurs!$A$4:$C$6,3) -> Arnaud ITOUA | J14: 0.5 | M14: 0.25 | O14: 0.25 | P14: =+$E14*J14 -> 168 | Q14: =+$E14*K14 -> 0 | R14: =+$E14*L14 -> 0 | S14: =+$E14*M14 -> 84 | T14: =+$E14*N14 -> 0 | U14: =+$E14*O14 -> 84 | V14: =SUM(P14:U14) -> 336 | W14: intéressé, passage debut septembre | X14: =+V14-E14 -> 0
A15: =+IF(D15>0,1,0) -> 1 | B15: NOUVELLE ESPERANCE 4 | C15: Cash | D15: 64 | E15: =D15*7 -> 448 | F15: 46031 | G15: =+IF(A15=1,(+TODAY())-F15,"Sans objet") -> 277 | H15: 2 | I15: =VLOOKUP(H15,Secteurs!$A$4:$C$6,3) -> Prince MBOUSSA | L15: 0.5 | O15: 0.5 | P15: =+$E15*J15 -> 0 | Q15: =+$E15*K15 -> 0 | R15: =+$E15*L15 -> 224 | S15: =+$E15*M15 -> 0 | T15: =+$E15*N15 -> 0 | U15: =+$E15*O15 -> 224 | V15: =SUM(P15:U15) -> 448 | W15: intéressé, passage debut septembre | X15: =+V15-E15 -> 0
A16: =+IF(D16>0,1,0) -> 1 | B16: MODERNE & ARTISANALE 1 | C16: Cash | D16: 48 | E16: =D16*7 -> 336 | F16: 46028 | G16: =+IF(A16=1,(+TODAY())-F16,"Sans objet") -> 280 | H16: 3 | I16: =VLOOKUP(H16,Secteurs!$A$4:$C$6,3) -> Arnaud ITOUA | J16: 1 | P16: =+$E16*J16 -> 336 | Q16: =+$E16*K16 -> 0 | R16: =+$E16*L16 -> 0 | S16: =+$E16*M16 -> 0 | T16: =+$E16*N16 -> 0 | U16: =+$E16*O16 -> 0 | V16: =SUM(P16:U16) -> 336 | W16: intéressé, attente ouverture de compte | X16: =+V16-E16 -> 0
A17: =+IF(D17>0,1,0) -> 1 | B17: NOUVELLE ESPERANCE 1 | C17: Cash | D17: 40 | E17: =D17*7 -> 280 | F17: 46031 | G17: =+IF(A17=1,(+TODAY())-F17,"Sans objet") -> 277 | H17: 1 | I17: =VLOOKUP(H17,Secteurs!$A$4:$C$6,3) -> Frisca MPASSI | J17: 0.5 | N17: 0.5 | P17: =+$E17*J17 -> 140 | Q17: =+$E17*K17 -> 0 | R17: =+$E17*L17 -> 0 | S17: =+$E17*M17 -> 0 | T17: =+$E17*N17 -> 140 | U17: =+$E17*O17 -> 0 | V17: =SUM(P17:U17) -> 280 | W17: intéressé, passage debut septembre | X17: =+V17-E17 -> 0
A18: =+IF(D18>0,1,0) -> 1 | B18: BEDRE NKOMBO | C18: Cash | D18: 36 | E18: =D18*7 -> 252 | F18: 46030 | G18: =+IF(A18=1,(+TODAY())-F18,"Sans objet") -> 278 | H18: 3 | I18: =VLOOKUP(H18,Secteurs!$A$4:$C$6,3) -> Arnaud ITOUA | J18: 0.5 | O18: 0.5 | P18: =+$E18*J18 -> 126 | Q18: =+$E18*K18 -> 0 | R18: =+$E18*L18 -> 0 | S18: =+$E18*M18 -> 0 | T18: =+$E18*N18 -> 0 | U18: =+$E18*O18 -> 126 | V18: =SUM(P18:U18) -> 252 | W18: A un compte, préfere distributeur( Patron absent) | X18: =+V18-E18 -> 0
A19: =+IF(D19>0,1,0) -> 1 | B19: ARTISANALE 3 ( Ex BLANCHE) | C19: Cash | D19: 38 | E19: =D19*7 -> 266 | F19: 46028 | G19: =+IF(A19=1,(+TODAY())-F19,"Sans objet") -> 280 | H19: 1 | I19: =VLOOKUP(H19,Secteurs!$A$4:$C$6,3) -> Frisca MPASSI | J19: 0.5 | O19: 0.5 | P19: =+$E19*J19 -> 133 | Q19: =+$E19*K19 -> 0 | R19: =+$E19*L19 -> 0 | S19: =+$E19*M19 -> 0 | T19: =+$E19*N19 -> 0 | U19: =+$E19*O19 -> 133 | V19: =SUM(P19:U19) -> 266 | W19: intéressé, attente ouverture de compte | X19: =+V19-E19 -> 0
A20: =+IF(D20>0,1,0) -> 1 | B20: Brazza Moderne 1 | C20: Dette | D20: 46 | E20: =D20*7 -> 322 | F20: 46031 | G20: =+IF(A20=1,(+TODAY())-F20,"Sans objet") -> 277 | H20: 3 | I20: =VLOOKUP(H20,Secteurs!$A$4:$C$6,3) -> Arnaud ITOUA | J20: 0.5 | N20: 0.25 | O20: 0.25 | P20: =+$E20*J20 -> 161 | Q20: =+$E20*K20 -> 0 | R20: =+$E20*L20 -> 0 | S20: =+$E20*M20 -> 0 | T20: =+$E20*N20 -> 80.5 | U20: =+$E20*O20 -> 80.5 | V20: =SUM(P20:U20) -> 322 | W20: préfere distributeur | X20: =+V20-E20 -> 0
A21: =+IF(D21>0,1,0) -> 1 | B21: MODERNE & ARTISANALE 2 | C21: Cash | D21: 50 | E21: =D21*7 -> 350 | F21: 46028 | G21: =+IF(A21=1,(+TODAY())-F21,"Sans objet") -> 280 | H21: 3 | I21: =VLOOKUP(H21,Secteurs!$A$4:$C$6,3) -> Arnaud ITOUA | J21: 1 | P21: =+$E21*J21 -> 350 | Q21: =+$E21*K21 -> 0 | R21: =+$E21*L21 -> 0 | S21: =+$E21*M21 -> 0 | T21: =+$E21*N21 -> 0 | U21: =+$E21*O21 -> 0 | V21: =SUM(P21:U21) -> 350 | W21: intéressé, attente ouverture de compte | X21: =+V21-E21 -> 0
A22: =+IF(D22>0,1,0) -> 1 | B22: SAHA(ex fournil) | C22: Cash | D22: 32 | E22: =D22*7 -> 224 | F22: 46031 | G22: =+IF(A22=1,(+TODAY())-F22,"Sans objet") -> 277 | H22: 1 | I22: =VLOOKUP(H22,Secteurs!$A$4:$C$6,3) -> Frisca MPASSI | J22: 0.5 | O22: 0.5 | P22: =+$E22*J22 -> 112 | Q22: =+$E22*K22 -> 0 | R22: =+$E22*L22 -> 0 | S22: =+$E22*M22 -> 0 | T22: =+$E22*N22 -> 0 | U22: =+$E22*O22 -> 112 | V22: =SUM(P22:U22) -> 224 | W22: intéressé, achat Week 33 | X22: =+V22-E22 -> 0
A23: =+IF(D23>0,1,0) -> 1 | B23: Paris Pain | D23: 48 | E23: =D23*7 -> 336 | F23: 46031 | G23: =+IF(A23=1,(+TODAY())-F23,"Sans objet") -> 277 | H23: 2 | I23: =VLOOKUP(H23,Secteurs!$A$4:$C$6,3) -> Prince MBOUSSA | J23: 0.5 | O23: 0.5 | P23: =+$E23*J23 -> 168 | Q23: =+$E23*K23 -> 0 | R23: =+$E23*L23 -> 0 | S23: =+$E23*M23 -> 0 | T23: =+$E23*N23 -> 0 | U23: =+$E23*O23 -> 168 | V23: =SUM(P23:U23) -> 336 | W23: Pas de compte, préfere distributeur | X23: =+V23-E23 -> 0
A24: =+IF(D24>0,1,0) -> 1 | B24: EL MEJID ( Ex Baraka Talangai) | C24: Crédit | D24: 38 | E24: =D24*7 -> 266 | F24: 46028 | G24: =+IF(A24=1,(+TODAY())-F24,"Sans objet") -> 280 | H24: 2 | I24: =VLOOKUP(H24,Secteurs!$A$4:$C$6,3) -> Prince MBOUSSA | J24: 0.5 | O24: 0.5 | P24: =+$E24*J24 -> 133 | Q24: =+$E24*K24 -> 0 | R24: =+$E24*L24 -> 0 | S24: =+$E24*M24 -> 0 | T24: =+$E24*N24 -> 0 | U24: =+$E24*O24 -> 133 | V24: =SUM(P24:U24) -> 266 | W24: A un compte Patron Absent | X24: =+V24-E24 -> 0
A25: =+IF(D25>0,1,0) -> 1 | B25: BRAZZA MODERNE 2 | C25: Cash | D25: 40 | E25: =D25*7 -> 280 | F25: 46027 | G25: =+IF(A25=1,(+TODAY())-F25,"Sans objet") -> 281 | H25: 1 | I25: =VLOOKUP(H25,Secteurs!$A$4:$C$6,3) -> Frisca MPASSI | J25: 0.25 | N25: 0.25 | O25: 0.5 | P25: =+$E25*J25 -> 70 | Q25: =+$E25*K25 -> 0 | R25: =+$E25*L25 -> 0 | S25: =+$E25*M25 -> 0 | T25: =+$E25*N25 -> 70 | U25: =+$E25*O25 -> 140 | V25: =SUM(P25:U25) -> 280 | W25: préfere distributeur | X25: =+V25-E25 -> 0
A26: =+IF(D26>0,1,0) -> 1 | B26: DAHI ( ex préference) | D26: 40 | E26: =D26*7 -> 280 | F26: 46028 | G26: =+IF(A26=1,(+TODAY())-F26,"Sans objet") -> 280 | H26: 2 | I26: =VLOOKUP(H26,Secteurs!$A$4:$C$6,3) -> Prince MBOUSSA | J26: 0.5 | O26: 0.5 | P26: =+$E26*J26 -> 140 | Q26: =+$E26*K26 -> 0 | R26: =+$E26*L26 -> 0 | S26: =+$E26*M26 -> 0 | T26: =+$E26*N26 -> 0 | U26: =+$E26*O26 -> 140 | V26: =SUM(P26:U26) -> 280 | W26: préfere distributeur | X26: =+V26-E26 -> 0
A27: =+IF(D27>0,1,0) -> 1 | B27: EL MANSOUR | C27: Crédit | D27: 28 | E27: =D27*7 -> 196 | F27: 46030 | G27: =+IF(A27=1,(+TODAY())-F27,"Sans objet") -> 278 | H27: 1 | I27: =VLOOKUP(H27,Secteurs!$A$4:$C$6,3) -> Frisca MPASSI | M27: 0.5 | O27: 0.5 | P27: =+$E27*J27 -> 0 | Q27: =+$E27*K27 -> 0 | R27: =+$E27*L27 -> 0 | S27: =+$E27*M27 -> 98 | T27: =+$E27*N27 -> 0 | U27: =+$E27*O27 -> 98 | V27: =SUM(P27:U27) -> 196 | W27: intéressé, passage debut septembre | X27: =+V27-E27 -> 0
A28: =+IF(D28>0,1,0) -> 1 | B28: NOUVELLE ESPERANCE 2 | C28: Cash | D28: 42 | E28: =D28*7 -> 294 | F28: 46031 | G28: =+IF(A28=1,(+TODAY())-F28,"Sans objet") -> 277 | H28: 3 | I28: =VLOOKUP(H28,Secteurs!$A$4:$C$6,3) -> Arnaud ITOUA | J28: 0.5 | N28: 0.25 | O28: 0.25 | P28: =+$E28*J28 -> 147 | Q28: =+$E28*K28 -> 0 | R28: =+$E28*L28 -> 0 | S28: =+$E28*M28 -> 0 | T28: =+$E28*N28 -> 73.5 | U28: =+$E28*O28 -> 73.5 | V28: =SUM(P28:U28) -> 294 | W28: préfere distributeur | X28: =+V28-E28 -> 0
A29: =+IF(D29>0,1,0) -> 1 | B29: MAFOUD | D29: 30 | E29: =D29*7 -> 210 | F29: 46029 | G29: =+IF(A29=1,(+TODAY())-F29,"Sans objet") -> 279 | H29: 2 | I29: =VLOOKUP(H29,Secteurs!$A$4:$C$6,3) -> Prince MBOUSSA | K29: 0.25 | L29: 0.25 | O29: 0.5 | P29: =+$E29*J29 -> 0 | Q29: =+$E29*K29 -> 52.5 | R29: =+$E29*L29 -> 52.5 | S29: =+$E29*M29 -> 0 | T29: =+$E29*N29 -> 0 | U29: =+$E29*O29 -> 105 | V29: =SUM(P29:U29) -> 210 | W29: pas de compte, (Maman fanta) | X29: =+V29-E29 -> 0
A30: =+IF(D30>0,1,0) -> 1 | B30: MANE | D30: 40 | E30: =D30*7 -> 280 | F30: 46027 | G30: =+IF(A30=1,(+TODAY())-F30,"Sans objet") -> 281 | H30: 3 | I30: =VLOOKUP(H30,Secteurs!$A$4:$C$6,3) -> Arnaud ITOUA | J30: 0.5 | O30: 0.5 | P30: =+$E30*J30 -> 140 | Q30: =+$E30*K30 -> 0 | R30: =+$E30*L30 -> 0 | S30: =+$E30*M30 -> 0 | T30: =+$E30*N30 -> 0 | U30: =+$E30*O30 -> 140 | V30: =SUM(P30:U30) -> 280 | W30: Pas de compte, préfere distributeur | X30: =+V30-E30 -> 0
A31: =+IF(D31>0,1,0) -> 1 | B31: REVES 2 | D31: 26 | E31: =D31*7 -> 182 | F31: 46030 | G31: =+IF(A31=1,(+TODAY())-F31,"Sans objet") -> 278 | H31: 3 | I31: =VLOOKUP(H31,Secteurs!$A$4:$C$6,3) -> Arnaud ITOUA | J31: 0.5 | O31: 0.5 | P31: =+$E31*J31 -> 91 | Q31: =+$E31*K31 -> 0 | R31: =+$E31*L31 -> 0 | S31: =+$E31*M31 -> 0 | T31: =+$E31*N31 -> 0 | U31: =+$E31*O31 -> 91 | V31: =SUM(P31:U31) -> 182 | W31: A un compte Patron Absent | X31: =+V31-E31 -> 0
A32: =+IF(D32>0,1,0) -> 1 | B32: SAVANA NKOMBO | C32: Cash | D32: 32 | E32: =D32*7 -> 224 | F32: 46027 | G32: =+IF(A32=1,(+TODAY())-F32,"Sans objet") -> 281 | H32: 3 | I32: =VLOOKUP(H32,Secteurs!$A$4:$C$6,3) -> Arnaud ITOUA | N32: 0.5 | O32: 0.5 | P32: =+$E32*J32 -> 0 | Q32: =+$E32*K32 -> 0 | R32: =+$E32*L32 -> 0 | S32: =+$E32*M32 -> 0 | T32: =+$E32*N32 -> 112 | U32: =+$E32*O32 -> 112 | V32: =SUM(P32:U32) -> 224 | W32: intéressé, courant septembre | X32: =+V32-E32 -> 0
A33: =+IF(D33>0,1,0) -> 1 | B33: SD1 CARREFOUR | C33: Crédit | D33: 42 | E33: =D33*7 -> 294 | F33: 46028 | G33: =+IF(A33=1,(+TODAY())-F33,"Sans objet") -> 280 | H33: 3 | I33: =VLOOKUP(H33,Secteurs!$A$4:$C$6,3) -> Arnaud ITOUA | J33: 0.5 | O33: 0.5 | P33: =+$E33*J33 -> 147 | Q33: =+$E33*K33 -> 0 | R33: =+$E33*L33 -> 0 | S33: =+$E33*M33 -> 0 | T33: =+$E33*N33 -> 0 | U33: =+$E33*O33 -> 147 | V33: =SUM(P33:U33) -> 294 | W33: distributeur | X33: =+V33-E33 -> 0
A34: =+IF(D34>0,1,0) -> 1 | B34: ALMADINA (bama) | D34: 32 | E34: =D34*7 -> 224 | F34: 46030 | G34: =+IF(A34=1,(+TODAY())-F34,"Sans objet") -> 278 | H34: 1 | I34: =VLOOKUP(H34,Secteurs!$A$4:$C$6,3) -> Frisca MPASSI | J34: 0.5 | O34: 0.5 | P34: =+$E34*J34 -> 112 | Q34: =+$E34*K34 -> 0 | R34: =+$E34*L34 -> 0 | S34: =+$E34*M34 -> 0 | T34: =+$E34*N34 -> 0 | U34: =+$E34*O34 -> 112 | V34: =SUM(P34:U34) -> 224 | W34: A un compte, préfére distributeur | X34: =+V34-E34 -> 0
A35: =+IF(D35>0,1,0) -> 1 | B35: BONNE CHANCE 4 | C35: Crédit | D35: 32 | E35: =D35*7 -> 224 | F35: 46028 | G35: =+IF(A35=1,(+TODAY())-F35,"Sans objet") -> 280 | H35: 2 | I35: =VLOOKUP(H35,Secteurs!$A$4:$C$6,3) -> Prince MBOUSSA | N35: 0.5 | O35: 0.5 | P35: =+$E35*J35 -> 0 | Q35: =+$E35*K35 -> 0 | R35: =+$E35*L35 -> 0 | S35: =+$E35*M35 -> 0 | T35: =+$E35*N35 -> 112 | U35: =+$E35*O35 -> 112 | V35: =SUM(P35:U35) -> 224 | W35: intéréssé, en attente du plafond | X35: =+V35-E35 -> 0
A36: =+IF(D36>0,1,0) -> 1 | B36: DAHI (ex bab elkheire) | D36: 28 | E36: =D36*7 -> 196 | F36: 46028 | G36: =+IF(A36=1,(+TODAY())-F36,"Sans objet") -> 280 | H36: 3 | I36: =VLOOKUP(H36,Secteurs!$A$4:$C$6,3) -> Arnaud ITOUA | J36: 0.5 | O36: 0.5 | P36: =+$E36*J36 -> 98 | Q36: =+$E36*K36 -> 0 | R36: =+$E36*L36 -> 0 | S36: =+$E36*M36 -> 0 | T36: =+$E36*N36 -> 0 | U36: =+$E36*O36 -> 98 | V36: =SUM(P36:U36) -> 196 | W36: préfere distributeur | X36: =+V36-E36 -> 0
A37: =+IF(D37>0,1,0) -> 1 | B37: ETOILE DE KINTELE 1 | D37: 26 | E37: =D37*7 -> 182 | F37: 46030 | G37: =+IF(A37=1,(+TODAY())-F37,"Sans objet") -> 278 | H37: 3 | I37: =VLOOKUP(H37,Secteurs!$A$4:$C$6,3) -> Arnaud ITOUA | J37: 0.5 | O37: 0.5 | P37: =+$E37*J37 -> 91 | Q37: =+$E37*K37 -> 0 | R37: =+$E37*L37 -> 0 | S37: =+$E37*M37 -> 0 | T37: =+$E37*N37 -> 0 | U37: =+$E37*O37 -> 91 | V37: =SUM(P37:U37) -> 182 | W37: Pas de compte, préfere distributeur | X37: =+V37-E37 -> 0
A38: =+IF(D38>0,1,0) -> 1 | B38: ETOILE DE KINTELE 2 | D38: 24 | E38: =D38*7 -> 168 | F38: 46030 | G38: =+IF(A38=1,(+TODAY())-F38,"Sans objet") -> 278 | H38: 3 | I38: =VLOOKUP(H38,Secteurs!$A$4:$C$6,3) -> Arnaud ITOUA | J38: 0.5 | O38: 0.5 | P38: =+$E38*J38 -> 84 | Q38: =+$E38*K38 -> 0 | R38: =+$E38*L38 -> 0 | S38: =+$E38*M38 -> 0 | T38: =+$E38*N38 -> 0 | U38: =+$E38*O38 -> 84 | V38: =SUM(P38:U38) -> 168 | W38: Pas de compte, préfere distributeur | X38: =+V38-E38 -> 0
A39: =+IF(D39>0,1,0) -> 1 | B39: HOT BREAD MOUKONDO | D39: 38 | E39: =D39*7 -> 266 | F39: 46031 | G39: =+IF(A39=1,(+TODAY())-F39,"Sans objet") -> 277 | H39: 2 | I39: =VLOOKUP(H39,Secteurs!$A$4:$C$6,3) -> Prince MBOUSSA | J39: 0.5 | O39: 0.5 | P39: =+$E39*J39 -> 133 | Q39: =+$E39*K39 -> 0 | R39: =+$E39*L39 -> 0 | S39: =+$E39*M39 -> 0 | T39: =+$E39*N39 -> 0 | U39: =+$E39*O39 -> 133 | V39: =SUM(P39:U39) -> 266 | W39: A un compte, préfére distributeur | X39: =+V39-E39 -> 0
A40: =+IF(D40>0,1,0) -> 1 | B40: HOT BREAD1 ( Mbochi ) | D40: 40 | E40: =D40*7 -> 280 | F40: 46028 | G40: =+IF(A40=1,(+TODAY())-F40,"Sans objet") -> 280 | H40: 1 | I40: =VLOOKUP(H40,Secteurs!$A$4:$C$6,3) -> Frisca MPASSI | J40: 0.5 | O40: 0.5 | P40: =+$E40*J40 -> 140 | Q40: =+$E40*K40 -> 0 | R40: =+$E40*L40 -> 0 | S40: =+$E40*M40 -> 0 | T40: =+$E40*N40 -> 0 | U40: =+$E40*O40 -> 140 | V40: =SUM(P40:U40) -> 280 | W40: A un compte, préfére distributeur | X40: =+V40-E40 -> 0
...

Sheet Week 3
B1: WEEK 02
G3: Cons° farine par boulangerie | Q3: WEEK | R3: GMPN | S3: GMK | T3: SGMP | U3: GMC | V3: PALCO | W3: M.FANTA | X3: %
A4: N° | B4: Boulangerie | C4: Type | D4: Cons/j | E4: C° heb | F4: FARINE UTILISEE | G4: GMPN | H4: MAMA F | I4: GMK | J4: SGMP | K4: PALCO | L4: GMC | M4: Total | N4: PRIORITE | O4: MAZALA / DIRECT | Q4: 1 | R4: 0.34 | S4: 0.12 | T4: 0.15 | U4: 0.39 | V4: 0 | W4: 0 | X4: =SUM(R4:W4) -> 1
A5: 77 | B5: Mayama( AQXA) | D5: 55 | E5: =D5*7 -> 385 | F5: 50%MIN+50%GMC | G5: 192.5 | L5: 192.5 | M5: =SUM(G5:L5) -> 385 | N5: ATTAQUER GMC | Q5: 2 | R5: 0.34 | S5: 0.11 | T5: =J151/E151 -> 0.12415016 | U5: =L151/E151 -> 0.4054094 | V5: =K151/E151 -> 0 | W5: 0 | X5: =SUM(R5:W5) -> 0.97955956
A6: 54 | B6: NOUVELLE ESPERANE 3 | D6: 50 | E6: =D6*7 -> 350 | F6: 50%MIN+50%GMC | G6: 175 | L6: 175 | M6: =SUM(G6:L6) -> 350 | N6: ATTAQUER GMC | Q6: Variation | R6: =R5-R4 -> 0 | S6: =S5-S4 -> -0.01 | T6: =T5-T4 -> -0.025849837 | U6: =U5-U4 -> 0.0154094 | V6: =V5-V4 -> 0 | W6: =W5-W4 -> 0
A7: 114 | B7: SABANA Moukondo | D7: 50 | E7: =D7*7 -> 350 | F7: 50%MIN+50%GMC | G7: 175 | L7: 175 | M7: =SUM(G7:L7) -> 350 | N7: ATTAQUER GMC
A8: 133 | B8: YA LOLO | C8: Crédit | D8: 50 | E8: =D8*7 -> 350 | F8: 100%MIN | G8: 350 | M8: =SUM(G8:L8) -> 350 | N8: A PRESERVER
A9: 3 | B9: 58e ANNIVERSAIRE | D9: 42 | E9: =D9*7 -> 294 | F9: 50%MIN+50%SGMP | G9: 147 | J9: 147 | M9: =SUM(G9:L9) -> 294 | N9: ATTAQUER SGMP
A10: 13 | B10: BECO | C10: Cash | D10: 40 | E10: =D10*7 -> 280 | F10: 50%GMK+50%GMC | I10: 140 | L10: 140 | M10: =SUM(G10:L10) -> 280 | N10: A RECUPERER
A11: 45 | B11: ELVOZ INCHALAH | C11: Cash | D11: 40 | E11: =D11*7 -> 280 | F11: 25%MIN+25%GMK+50%GMC | G11: 70 | I11: 70 | L11: 140 | M11: =SUM(G11:L11) -> 280 | N11: TARGET 50%
A12: 131 | B12: POTAL | D12: 38 | E12: =D12*7 -> 266 | F12: 50%GMC+50%GMK | I12: 133 | L12: 133 | M12: =SUM(G12:L12) -> 266 | N12: A RECUPERER
A13: 42 | B13: EL MABROUCK | D13: 38 | E13: =D13*7 -> 266 | F13: 25%MIN+75%GMC | G13: 66 | L13: 199.5 | M13: =SUM(G13:L13) -> 265.5 | N13: TARGET 50%
A14: 12 | B14: BAS PRIX (ex moderne nkombo) | D14: 36 | E14: =D14*7 -> 252 | F14: 50%MIN+50%GMC | G14: 126 | L14: 126 | M14: =SUM(G14:L14) -> 252 | N14: ATTAQUER GMC
A15: 27 | B15: COMUS | D15: 36 | E15: =D15*7 -> 252 | F15: 50%MIN+50%GMC | G15: 126 | L15: 126 | M15: =SUM(G15:L15) -> 252 | N15: ATTAQUER GMC
A16: 60 | B16: HOT BREAD2 Plazza | D16: 36 | E16: =D16*7 -> 252 | F16: 50%MIN+50%GMC | G16: 126 | L16: 126 | M16: =SUM(G16:L16) -> 252 | N16: ATTAQUER GMC
A17: 120 | B17: SID-SID | D17: 36 | E17: =D17*7 -> 252 | F17: 50%MIN+50%SGMP | G17: 126 | J17: 126 | M17: =SUM(G17:L17) -> 252 | N17: ATTAQUER SGMP
A18: 55 | B18: NOUVELLE ESPERANCE 4 | D18: 34 | E18: =D18*7 -> 238 | F18: 50%MIN+50%SGMP | G18: 119 | J18: 119 | M18: =SUM(G18:L18) -> 238 | N18: ATTAQUER SGMP
A19: 80 | B19: MODERNE & ARTISANALE 1 | D19: 34 | E19: =D19*7 -> 238 | F19: 50%GMC+50%SGMP | J19: 119 | L19: 119 | M19: =SUM(G19:L19) -> 238 | N19: A RECUPERER
A20: 96 | B20: NOUVELLE ESPERANCE 1 | C20: Cash | D20: 34 | E20: =D20*7 -> 238 | F20: 50%MIN+50%GMC | G20: 119 | L20: 119 | M20: =SUM(G20:L20) -> 238 | N20: ATTAQUER GMC
A21: 15 | B21: BEDRE NKOMBO | C21: Cash | D21: 32 | E21: =D21*7 -> 224 | F21: 50%MIN+50%SGMP | G21: 112 | J21: 112 | M21: =SUM(G21:L21) -> 224 | N21: ATTAQUER SGMP
A22: 17 | B22: ARTISANALE 3 ( Ex BLANCHE) | D22: 32 | E22: =D22*7 -> 224 | F22: 50%GMC+50%GMK | I22: 112 | L22: 112 | M22: =SUM(G22:L22) -> 224 | N22: A RECUPERER
A23: 44 | B23: Brazza Moderne 1 | C23: Dette | D23: 32 | E23: =D23*7 -> 224 | F23: 100%GMC | L23: 224 | M23: =SUM(G23:L23) -> 224 | N23: A RECUPERER
A24: 81 | B24: MODERNE & ARTISANALE 2 | D24: 32 | E24: =D24*7 -> 224 | F24: 50%GMC+50%SGMP | J24: 112 | L24: 112 | M24: =SUM(G24:L24) -> 224 | N24: A RECUPERER
A25: 97 | B25: EL MOURATH | D25: 32 | E25: =D25*7 -> 224 | F25: 50%MIN+50%GMC | G25: 112 | L25: 112 | M25: =SUM(G25:L25) -> 224 | N25: ATTAQUER GMC
A26: 115 | B26: SAHA(ex fournil) | D26: 32 | E26: =D26*7 -> 224 | F26: 50%SGMP+50%GMK | I26: 112 | L26: 112 | M26: =SUM(G26:L26) -> 224 | N26: A RECUPERER
A27: 141 | B27: Paris Pain | D27: 32 | E27: =D27*7 -> 224 | F27: 50%GMC+50%GMK | I27: 112 | L27: 112 | M27: =SUM(G27:L27) -> 224 | N27: A RECUPERER
A28: 11 | B28: EL MEJID ( Ex Baraka Talangai) | D28: 30 | E28: =D28*7 -> 210 | F28: 50%MIN+50%GMC | G28: 105 | L28: 105 | M28: =SUM(G28:L28) -> 210 | N28: ATTAQUER GMC
A29: 25 | B29: BRAZZA MODERNE 2 | D29: 30 | E29: =D29*7 -> 210 | F29: 50%MIN+50%GMC | G29: 105 | L29: 105 | M29: =SUM(G29:L29) -> 210 | N29: ATTAQUER GMC
A30: 31 | B30: DAHI ( ex préference) | D30: 30 | E30: =D30*7 -> 210 | F30: 50%MIN+50%SGMP | G30: 105 | J30: 105 | M30: =SUM(G30:L30) -> 210 | N30: ATTAQUER SGMP
A31: 39 | B31: EL MANSOUR | D31: 30 | E31: =D31*7 -> 210 | F31: 50%GMC+50%GMK | I31: 105 | L31: 105 | M31: =SUM(G31:L31) -> 210 | N31: A RECUPERER
A32: 53 | B32: NOUVELLE ESPERANCE 2 | C32: Cash | D32: 30 | E32: =D32*7 -> 210 | F32: 50%GMK+50%GMC | I32: 105 | L32: 105 | M32: =SUM(G32:L32) -> 210 | N32: A RECUPERER
A33: 73 | B33: MAHFOUD | D33: 30 | E33: =D33*7 -> 210 | F33: 50%GMC+50%GMK | I33: 105 | L33: 105 | M33: =SUM(G33:L33) -> 210 | N33: A RECUPERER
A34: 75 | B34: MANE | D34: 30 | E34: =D34*7 -> 210 | F34: 50%MIN+50%GMC | G34: 105 | L34: 105 | M34: =SUM(G34:L34) -> 210 | N34: ATTAQUER GMC
A35: 110 | B35: REVES 2 | D35: 30 | E35: =D35*7 -> 210 | F35: 50%MIN+50%GMC | G35: 105 | L35: 105 | M35: =SUM(G35:L35) -> 210 | N35: ATTAQUER GMC
A36: 117 | B36: SAVANA NKOMBO | D36: 30 | E36: =D36*7 -> 210 | F36: 50%MIN+50%GMC | G36: 105 | L36: 105 | M36: =SUM(G36:L36) -> 210 | N36: ATTAQUER GMC
A37: 119 | B37: SD1 CARREFOUR | C37: Crédit | D37: 30 | E37: =D37*7 -> 210 | F37: 50%MIN+25%SGMP+25%GMC | G37: 105 | J37: 52.5 | L37: 52.5 | M37: =SUM(G37:L37) -> 210 | N37: ATTAQUER SGMP
A38: 5 | B38: ALMADINA (bama) | D38: 28 | E38: =D38*7 -> 196 | F38: 50%MIN+50%GMC | G38: 98 | J38: 98 | M38: =SUM(G38:L38) -> 196 | N38: ATTAQUER GMC
A39: 23 | B39: BONNE CHANCE 4 | D39: 28 | E39: =D39*7 -> 196 | F39: 50%MIN+50%GMC | G39: 98 | L39: 98 | M39: =SUM(G39:L39) -> 196 | N39: ATTAQUER GMC
A40: 30 | B40: DAHI (ex bab elkheire) | D40: 28 | E40: =D40*7 -> 196 | F40: 50%MIN+25%SGMP+25%GMC | G40: 98 | J40: 49 | L40: 49 | M40: =SUM(G40:L40) -> 196 | N40: ATTAQUER SGMP
A41: 49 | B41: ETOILE DE KINTELE | D41: 28 | E41: =D41*7 -> 196 | F41: 50%GMK+50%GMC | I41: 98 | L41: 98 | M41: =SUM(G41:L41) -> 196 | N41: A RECUPERER
...

Sheet WEEK 03
A1: N° | B1: Boulangerie | C1: Type | D1: Cons/j | E1: C° heb | F1: Date Dernière Visite | G1: Période sans visite | H1: Secteur | I1: Technico Commercial | J1: %MINOCO | K1: %FANTA | L1: %GMK | M1: %SGMP | N1: %MFB | O1: %GMC | P1: MINOCO | Q1: FANTA | R1: GMK | S1: SGMP | T1: MFB | U1: GMC | V1: Total | W1: COMMENTAIRES | Z1: Week | AA1: Minoco | AB1: Fanta | AC1: GMPN | AD1: GMK | AE1: SGMP | AF1: MFB | AG1: GMC
A2: =+IF(D2>0,1,0) -> 1 | B2: Mayama( AQXA) | D2: 32 | E2: =D2*7 -> 224 | F2: 46035 | G2: =+IF(A2=1,(+TODAY())-F2,"Sans objet") -> 273 | H2: 1 | I2: =VLOOKUP(H2,Secteurs!$A$4:$C$6,3) -> Frisca MPASSI | J2: 1 | P2: =+$E2*J2 -> 224 | Q2: =+$E2*K2 -> 0 | R2: =+$E2*L2 -> 0 | S2: =+$E2*M2 -> 0 | T2: =+$E2*N2 -> 0 | U2: =+$E2*O2 -> 0 | V2: =SUM(P2:U2) -> 224 | W2: Pas de compte, préfere distributeur | X2: =+V2-E2 -> 0 | Z2: 51 | AA2: 0.36 | AB2: 0.02 | AC2: 0.381 | AD2: 0.1 | AE2: 0.062 | AF2: 0.058 | AG2: 0.399 | AH2: 1
A3: =+IF(D3>0,1,0) -> 1 | B3: NOUVELLE ESPERANCE 3 | C3: Cash | D3: 72 | E3: =D3*7 -> 504 | F3: 46038 | G3: =+IF(A3=1,(+TODAY())-F3,"Sans objet") -> 270 | H3: 2 | I3: =VLOOKUP(H3,Secteurs!$A$4:$C$6,3) -> Prince MBOUSSA | J3: 0.5 | O3: 0.5 | P3: =+$E3*J3 -> 252 | Q3: =+$E3*K3 -> 0 | R3: =+$E3*L3 -> 0 | S3: =+$E3*M3 -> 0 | T3: =+$E3*N3 -> 0 | U3: =+$E3*O3 -> 252 | V3: =SUM(P3:U3) -> 504 | W3: intéressé, passage debut septembre | X3: =+V3-E3 -> 0 | Z3: 52 | AA3: 0.375 | AB3: 0.021 | AC3: 0.396 | AD3: 0.079 | AE3: 0.091 | AF3: 0.07 | AG3: 0.364 | AH3: 1
A4: =+IF(D4>0,1,0) -> 1 | B4: SABANA Moukondo | C4: Cash | D4: 48 | E4: =D4*7 -> 336 | F4: 46038 | G4: =+IF(A4=1,(+TODAY())-F4,"Sans objet") -> 270 | H4: 2 | I4: =VLOOKUP(H4,Secteurs!$A$4:$C$6,3) -> Prince MBOUSSA | J4: 0.25 | M4: 0.25 | O4: 0.5 | P4: =+$E4*J4 -> 84 | Q4: =+$E4*K4 -> 0 | R4: =+$E4*L4 -> 0 | S4: =+$E4*M4 -> 84 | T4: =+$E4*N4 -> 0 | U4: =+$E4*O4 -> 168 | V4: =SUM(P4:U4) -> 336 | W4: A un compte, intéréssé | X4: =+V4-E4 -> 0 | Z4: 1 | AA4: 0.36188811 | AB4: 0.020979021 | AC4: 0.38286713 | AD4: 0.078671329 | AE4: 0.11713287 | AF4: 0.073426573 | AG4: 0.3479021 | AH4: 1
A5: =+IF(D5>0,1,0) -> 1 | B5: YA LOLO | C5: Crédit | D5: 50 | E5: =D5*7 -> 350 | F5: 46037 | G5: =+IF(A5=1,(+TODAY())-F5,"Sans objet") -> 271 | H5: 3 | I5: =VLOOKUP(H5,Secteurs!$A$4:$C$6,3) -> Arnaud ITOUA | J5: 1 | P5: =+$E5*J5 -> 350 | Q5: =+$E5*K5 -> 0 | R5: =+$E5*L5 -> 0 | S5: =+$E5*M5 -> 0 | T5: =+$E5*N5 -> 0 | U5: =+$E5*O5 -> 0 | V5: =SUM(P5:U5) -> 350 | W5: intéressé, passage debut septembre | X5: =+V5-E5 -> 0 | Z5: 2 | AA5: 0.374 | AB5: 0.021 | AC5: 0.394 | AD5: 0.056 | AE5: 0.092 | AF5: 0.102 | AG5: 0.356 | AH5: 1
A6: =+IF(D6>0,1,0) -> 1 | B6: 58e ANNIVERSAIRE | C6: Cash | D6: 50 | E6: =D6*7 -> 350 | F6: 46036 | G6: =+IF(A6=1,(+TODAY())-F6,"Sans objet") -> 272 | H6: 3 | I6: =VLOOKUP(H6,Secteurs!$A$4:$C$6,3) -> Arnaud ITOUA | J6: 0.5 | M6: 0.5 | P6: =+$E6*J6 -> 175 | Q6: =+$E6*K6 -> 0 | R6: =+$E6*L6 -> 0 | S6: =+$E6*M6 -> 175 | T6: =+$E6*N6 -> 0 | U6: =+$E6*O6 -> 0 | V6: =SUM(P6:U6) -> 350 | W6: intéressé, passage debut septembre | X6: =+V6-E6 -> 0 | Z6: 3 | AA6: 0.41 | AB6: 0.02 | AC6: 0.432 | AD6: 0.062 | AE6: 0.089 | AF6: 0.097 | AG6: 0.319 | AH6: 1
A7: =+IF(D7>0,1,0) -> 1 | B7: BECO | C7: Cash | D7: 50 | E7: =D7*7 -> 350 | F7: 46035 | G7: =+IF(A7=1,(+TODAY())-F7,"Sans objet") -> 273 | H7: 2 | I7: =VLOOKUP(H7,Secteurs!$A$4:$C$6,3) -> Prince MBOUSSA | K7: 1 | P7: =+$E7*J7 -> 0 | Q7: =+$E7*K7 -> 350 | R7: =+$E7*L7 -> 0 | S7: =+$E7*M7 -> 0 | T7: =+$E7*N7 -> 0 | U7: =+$E7*O7 -> 0 | V7: =SUM(P7:U7) -> 350 | W7: intéressé, passage debut septembre | X7: =+V7-E7 -> 0 | Z7: Variation W-1 | AC7: =+AC6-AC5 -> 0.038 | AD7: =+AD6-AD5 -> 0.006 | AE7: =+AE6-AE5 -> -0.003 | AF7: =+AF6-AF5 -> -0.005 | AG7: =+AG6-AG5 -> -0.037
A8: =+IF(D8>0,1,0) -> 1 | B8: ELVOZ INCHALAH | C8: Cash | D8: 40 | E8: =D8*7 -> 280 | F8: 46036 | G8: =+IF(A8=1,(+TODAY())-F8,"Sans objet") -> 272 | H8: 1 | I8: =VLOOKUP(H8,Secteurs!$A$4:$C$6,3) -> Frisca MPASSI | L8: 0.25 | N8: 0.25 | O8: 0.5 | P8: =+$E8*J8 -> 0 | Q8: =+$E8*K8 -> 0 | R8: =+$E8*L8 -> 70 | S8: =+$E8*M8 -> 0 | T8: =+$E8*N8 -> 70 | U8: =+$E8*O8 -> 140 | V8: =SUM(P8:U8) -> 280 | W8: intéressé, passage debut septembre | X8: =+V8-E8 -> 0
A9: =+IF(D9>0,1,0) -> 1 | B9: POTAL | C9: Cash | D9: 30 | E9: =D9*7 -> 210 | F9: 46035 | G9: =+IF(A9=1,(+TODAY())-F9,"Sans objet") -> 273 | H9: 2 | I9: =VLOOKUP(H9,Secteurs!$A$4:$C$6,3) -> Prince MBOUSSA | J9: 0.5 | M9: 0.25 | O9: 0.25 | P9: =+$E9*J9 -> 105 | Q9: =+$E9*K9 -> 0 | R9: =+$E9*L9 -> 0 | S9: =+$E9*M9 -> 52.5 | T9: =+$E9*N9 -> 0 | U9: =+$E9*O9 -> 52.5 | V9: =SUM(P9:U9) -> 210 | W9: Patron absent | X9: =+V9-E9 -> 0
A10: =+IF(D10>0,1,0) -> 1 | B10: Salam ( Ex EL MABROUCK) | D10: 38 | E10: =D10*7 -> 266 | F10: 46035 | G10: =+IF(A10=1,(+TODAY())-F10,"Sans objet") -> 273 | H10: 2 | I10: =VLOOKUP(H10,Secteurs!$A$4:$C$6,3) -> Prince MBOUSSA | J10: 0.5 | K10: 0.25 | O10: 0.25 | P10: =+$E10*J10 -> 133 | Q10: =+$E10*K10 -> 66.5 | R10: =+$E10*L10 -> 0 | S10: =+$E10*M10 -> 0 | T10: =+$E10*N10 -> 0 | U10: =+$E10*O10 -> 66.5 | V10: =SUM(P10:U10) -> 266 | W10: A un compte, préfere distributeur | X10: =+V10-E10 -> 0
A11: =+IF(D11>0,1,0) -> 1 | B11: BAS PRIX (ex moderne nkombo) | C11: Cash | D11: 38 | E11: =D11*7 -> 266 | F11: 46036 | G11: =+IF(A11=1,(+TODAY())-F11,"Sans objet") -> 272 | H11: 3 | I11: =VLOOKUP(H11,Secteurs!$A$4:$C$6,3) -> Arnaud ITOUA | J11: 0.5 | O11: 0.5 | P11: =+$E11*J11 -> 133 | Q11: =+$E11*K11 -> 0 | R11: =+$E11*L11 -> 0 | S11: =+$E11*M11 -> 0 | T11: =+$E11*N11 -> 0 | U11: =+$E11*O11 -> 133 | V11: =SUM(P11:U11) -> 266 | W11: intéressé, passage debut septembre | X11: =+V11-E11 -> 0
A12: =+IF(D12>0,1,0) -> 1 | B12: COMUS | D12: 26 | E12: =D12*7 -> 182 | F12: 46038 | G12: =+IF(A12=1,(+TODAY())-F12,"Sans objet") -> 270 | H12: 2 | I12: =VLOOKUP(H12,Secteurs!$A$4:$C$6,3) -> Prince MBOUSSA | J12: 0.5 | O12: 0.5 | P12: =+$E12*J12 -> 91 | Q12: =+$E12*K12 -> 0 | R12: =+$E12*L12 -> 0 | S12: =+$E12*M12 -> 0 | T12: =+$E12*N12 -> 0 | U12: =+$E12*O12 -> 91 | V12: =SUM(P12:U12) -> 182 | W12: A un compte, préfére distributeur | X12: =+V12-E12 -> 0
A13: =+IF(D13>0,1,0) -> 1 | B13: SALAM ( Ex PLAZZA ) | D13: 40 | E13: =D13*7 -> 280 | F13: 46036 | G13: =+IF(A13=1,(+TODAY())-F13,"Sans objet") -> 272 | H13: 1 | I13: =VLOOKUP(H13,Secteurs!$A$4:$C$6,3) -> Frisca MPASSI | J13: 0.5 | O13: 0.5 | P13: =+$E13*J13 -> 140 | Q13: =+$E13*K13 -> 0 | R13: =+$E13*L13 -> 0 | S13: =+$E13*M13 -> 0 | T13: =+$E13*N13 -> 0 | U13: =+$E13*O13 -> 140 | V13: =SUM(P13:U13) -> 280 | W13: A un compte, préfere distributeur | X13: =+V13-E13 -> 0
A14: =+IF(D14>0,1,0) -> 1 | B14: SID-SID | C14: Cash | D14: 48 | E14: =D14*7 -> 336 | F14: 46036 | G14: =+IF(A14=1,(+TODAY())-F14,"Sans objet") -> 272 | H14: 3 | I14: =VLOOKUP(H14,Secteurs!$A$4:$C$6,3) -> Arnaud ITOUA | J14: 0.5 | M14: 0.25 | N14: 0.25 | P14: =+$E14*J14 -> 168 | Q14: =+$E14*K14 -> 0 | R14: =+$E14*L14 -> 0 | S14: =+$E14*M14 -> 84 | T14: =+$E14*N14 -> 84 | U14: =+$E14*O14 -> 0 | V14: =SUM(P14:U14) -> 336 | W14: intéressé, passage debut septembre | X14: =+V14-E14 -> 0
A15: =+IF(D15>0,1,0) -> 1 | B15: NOUVELLE ESPERANCE 4 | C15: Cash | D15: 64 | E15: =D15*7 -> 448 | F15: 46038 | G15: =+IF(A15=1,(+TODAY())-F15,"Sans objet") -> 270 | H15: 2 | I15: =VLOOKUP(H15,Secteurs!$A$4:$C$6,3) -> Prince MBOUSSA | L15: 0.5 | O15: 0.5 | P15: =+$E15*J15 -> 0 | Q15: =+$E15*K15 -> 0 | R15: =+$E15*L15 -> 224 | S15: =+$E15*M15 -> 0 | T15: =+$E15*N15 -> 0 | U15: =+$E15*O15 -> 224 | V15: =SUM(P15:U15) -> 448 | W15: intéressé, passage debut septembre | X15: =+V15-E15 -> 0
A16: =+IF(D16>0,1,0) -> 1 | B16: MODERNE & ARTISANALE 1 | C16: Cash | D16: 46 | E16: =D16*7 -> 322 | F16: 46035 | G16: =+IF(A16=1,(+TODAY())-F16,"Sans objet") -> 273 | H16: 3 | I16: =VLOOKUP(H16,Secteurs!$A$4:$C$6,3) -> Arnaud ITOUA | J16: 1 | P16: =+$E16*J16 -> 322 | Q16: =+$E16*K16 -> 0 | R16: =+$E16*L16 -> 0 | S16: =+$E16*M16 -> 0 | T16: =+$E16*N16 -> 0 | U16: =+$E16*O16 -> 0 | V16: =SUM(P16:U16) -> 322 | W16: intéressé, attente ouverture de compte | X16: =+V16-E16 -> 0
A17: =+IF(D17>0,1,0) -> 1 | B17: NOUVELLE ESPERANCE 1 | C17: Cash | D17: 40 | E17: =D17*7 -> 280 | F17: 46038 | G17: =+IF(A17=1,(+TODAY())-F17,"Sans objet") -> 270 | H17: 1 | I17: =VLOOKUP(H17,Secteurs!$A$4:$C$6,3) -> Frisca MPASSI | J17: 0.5 | O17: 0.5 | P17: =+$E17*J17 -> 140 | Q17: =+$E17*K17 -> 0 | R17: =+$E17*L17 -> 0 | S17: =+$E17*M17 -> 0 | T17: =+$E17*N17 -> 0 | U17: =+$E17*O17 -> 140 | V17: =SUM(P17:U17) -> 280 | W17: intéressé, passage debut septembre | X17: =+V17-E17 -> 0
A18: =+IF(D18>0,1,0) -> 1 | B18: BEDRE NKOMBO | C18: Cash | D18: 36 | E18: =D18*7 -> 252 | F18: 46037 | G18: =+IF(A18=1,(+TODAY())-F18,"Sans objet") -> 271 | H18: 3 | I18: =VLOOKUP(H18,Secteurs!$A$4:$C$6,3) -> Arnaud ITOUA | J18: 0.5 | O18: 0.5 | P18: =+$E18*J18 -> 126 | Q18: =+$E18*K18 -> 0 | R18: =+$E18*L18 -> 0 | S18: =+$E18*M18 -> 0 | T18: =+$E18*N18 -> 0 | U18: =+$E18*O18 -> 126 | V18: =SUM(P18:U18) -> 252 | W18: A un compte, préfere distributeur( Patron absent) | X18: =+V18-E18 -> 0
A19: =+IF(D19>0,1,0) -> 1 | B19: ARTISANALE 3 ( Ex BLANCHE) | C19: Cash | D19: 38 | E19: =D19*7 -> 266 | F19: 46037 | G19: =+IF(A19=1,(+TODAY())-F19,"Sans objet") -> 271 | H19: 1 | I19: =VLOOKUP(H19,Secteurs!$A$4:$C$6,3) -> Frisca MPASSI | J19: 0.5 | O19: 0.5 | P19: =+$E19*J19 -> 133 | Q19: =+$E19*K19 -> 0 | R19: =+$E19*L19 -> 0 | S19: =+$E19*M19 -> 0 | T19: =+$E19*N19 -> 0 | U19: =+$E19*O19 -> 133 | V19: =SUM(P19:U19) -> 266 | W19: intéressé, attente ouverture de compte | X19: =+V19-E19 -> 0
A20: =+IF(D20>0,1,0) -> 1 | B20: Brazza Moderne 1 | C20: Dette | D20: 46 | E20: =D20*7 -> 322 | F20: 46038 | G20: =+IF(A20=1,(+TODAY())-F20,"Sans objet") -> 270 | H20: 3 | I20: =VLOOKUP(H20,Secteurs!$A$4:$C$6,3) -> Arnaud ITOUA | J20: 0.5 | L20: 0.5 | P20: =+$E20*J20 -> 161 | Q20: =+$E20*K20 -> 0 | R20: =+$E20*L20 -> 161 | S20: =+$E20*M20 -> 0 | T20: =+$E20*N20 -> 0 | U20: =+$E20*O20 -> 0 | V20: =SUM(P20:U20) -> 322 | W20: préfere distributeur | X20: =+V20-E20 -> 0
A21: =+IF(D21>0,1,0) -> 1 | B21: MODERNE & ARTISANALE 2 | C21: Cash | D21: 50 | E21: =D21*7 -> 350 | F21: 46035 | G21: =+IF(A21=1,(+TODAY())-F21,"Sans objet") -> 273 | H21: 3 | I21: =VLOOKUP(H21,Secteurs!$A$4:$C$6,3) -> Arnaud ITOUA | J21: 0.5 | O21: 0.5 | P21: =+$E21*J21 -> 175 | Q21: =+$E21*K21 -> 0 | R21: =+$E21*L21 -> 0 | S21: =+$E21*M21 -> 0 | T21: =+$E21*N21 -> 0 | U21: =+$E21*O21 -> 175 | V21: =SUM(P21:U21) -> 350 | W21: intéressé, attente ouverture de compte | X21: =+V21-E21 -> 0
A22: =+IF(D22>0,1,0) -> 1 | B22: SAHA(ex fournil) | C22: Cash | D22: 32 | E22: =D22*7 -> 224 | F22: 46036 | G22: =+IF(A22=1,(+TODAY())-F22,"Sans objet") -> 272 | H22: 1 | I22: =VLOOKUP(H22,Secteurs!$A$4:$C$6,3) -> Frisca MPASSI | J22: 0.5 | O22: 0.5 | P22: =+$E22*J22 -> 112 | Q22: =+$E22*K22 -> 0 | R22: =+$E22*L22 -> 0 | S22: =+$E22*M22 -> 0 | T22: =+$E22*N22 -> 0 | U22: =+$E22*O22 -> 112 | V22: =SUM(P22:U22) -> 224 | W22: intéressé, achat Week 33 | X22: =+V22-E22 -> 0
A23: =+IF(D23>0,1,0) -> 1 | B23: Paris Pain | D23: 48 | E23: =D23*7 -> 336 | F23: 46038 | G23: =+IF(A23=1,(+TODAY())-F23,"Sans objet") -> 270 | H23: 2 | I23: =VLOOKUP(H23,Secteurs!$A$4:$C$6,3) -> Prince MBOUSSA | J23: 0.5 | O23: 0.5 | P23: =+$E23*J23 -> 168 | Q23: =+$E23*K23 -> 0 | R23: =+$E23*L23 -> 0 | S23: =+$E23*M23 -> 0 | T23: =+$E23*N23 -> 0 | U23: =+$E23*O23 -> 168 | V23: =SUM(P23:U23) -> 336 | W23: Pas de compte, préfere distributeur | X23: =+V23-E23 -> 0
A24: =+IF(D24>0,1,0) -> 1 | B24: EL MEJID ( Ex Baraka Talangai) | C24: Crédit | D24: 44 | E24: =D24*7 -> 308 | F24: 46035 | G24: =+IF(A24=1,(+TODAY())-F24,"Sans objet") -> 273 | H24: 2 | I24: =VLOOKUP(H24,Secteurs!$A$4:$C$6,3) -> Prince MBOUSSA | M24: 0.5 | N24: 0.5 | P24: =+$E24*J24 -> 0 | Q24: =+$E24*K24 -> 0 | R24: =+$E24*L24 -> 0 | S24: =+$E24*M24 -> 154 | T24: =+$E24*N24 -> 154 | U24: =+$E24*O24 -> 0 | V24: =SUM(P24:U24) -> 308 | W24: A un compte Patron Absent | X24: =+V24-E24 -> 0
A25: =+IF(D25>0,1,0) -> 1 | B25: BRAZZA MODERNE 2 | C25: Cash | D25: 40 | E25: =D25*7 -> 280 | F25: 46038 | G25: =+IF(A25=1,(+TODAY())-F25,"Sans objet") -> 270 | H25: 1 | I25: =VLOOKUP(H25,Secteurs!$A$4:$C$6,3) -> Frisca MPASSI | J25: 0.5 | N25: 0.25 | O25: 0.25 | P25: =+$E25*J25 -> 140 | Q25: =+$E25*K25 -> 0 | R25: =+$E25*L25 -> 0 | S25: =+$E25*M25 -> 0 | T25: =+$E25*N25 -> 70 | U25: =+$E25*O25 -> 70 | V25: =SUM(P25:U25) -> 280 | W25: préfere distributeur | X25: =+V25-E25 -> 0
A26: =+IF(D26>0,1,0) -> 1 | B26: DAHI ( ex préference) | D26: 42 | E26: =D26*7 -> 294 | F26: 46035 | G26: =+IF(A26=1,(+TODAY())-F26,"Sans objet") -> 273 | H26: 2 | I26: =VLOOKUP(H26,Secteurs!$A$4:$C$6,3) -> Prince MBOUSSA | J26: 0.5 | O26: 0.5 | P26: =+$E26*J26 -> 147 | Q26: =+$E26*K26 -> 0 | R26: =+$E26*L26 -> 0 | S26: =+$E26*M26 -> 0 | T26: =+$E26*N26 -> 0 | U26: =+$E26*O26 -> 147 | V26: =SUM(P26:U26) -> 294 | W26: préfere distributeur | X26: =+V26-E26 -> 0
A27: =+IF(D27>0,1,0) -> 1 | B27: EL MANSOUR | C27: Crédit | D27: 30 | E27: =D27*7 -> 210 | F27: 46035 | G27: =+IF(A27=1,(+TODAY())-F27,"Sans objet") -> 273 | H27: 1 | I27: =VLOOKUP(H27,Secteurs!$A$4:$C$6,3) -> Frisca MPASSI | J27: 1 | P27: =+$E27*J27 -> 210 | Q27: =+$E27*K27 -> 0 | R27: =+$E27*L27 -> 0 | S27: =+$E27*M27 -> 0 | T27: =+$E27*N27 -> 0 | U27: =+$E27*O27 -> 0 | V27: =SUM(P27:U27) -> 210 | W27: intéressé, passage debut septembre | X27: =+V27-E27 -> 0
A28: =+IF(D28>0,1,0) -> 1 | B28: NOUVELLE ESPERANCE 2 | C28: Cash | D28: 42 | E28: =D28*7 -> 294 | F28: 46038 | G28: =+IF(A28=1,(+TODAY())-F28,"Sans objet") -> 270 | H28: 3 | I28: =VLOOKUP(H28,Secteurs!$A$4:$C$6,3) -> Arnaud ITOUA | J28: 0.5 | N28: 0.25 | O28: 0.25 | P28: =+$E28*J28 -> 147 | Q28: =+$E28*K28 -> 0 | R28: =+$E28*L28 -> 0 | S28: =+$E28*M28 -> 0 | T28: =+$E28*N28 -> 73.5 | U28: =+$E28*O28 -> 73.5 | V28: =SUM(P28:U28) -> 294 | W28: préfere distributeur | X28: =+V28-E28 -> 0
A29: =+IF(D29>0,1,0) -> 1 | B29: MAFOUD | D29: 32 | E29: =D29*7 -> 224 | F29: 46035 | G29: =+IF(A29=1,(+TODAY())-F29,"Sans objet") -> 273 | H29: 2 | I29: =VLOOKUP(H29,Secteurs!$A$4:$C$6,3) -> Prince MBOUSSA | K29: 0.5 | O29: 0.5 | P29: =+$E29*J29 -> 0 | Q29: =+$E29*K29 -> 112 | R29: =+$E29*L29 -> 0 | S29: =+$E29*M29 -> 0 | T29: =+$E29*N29 -> 0 | U29: =+$E29*O29 -> 112 | V29: =SUM(P29:U29) -> 224 | W29: pas de compte, (Maman fanta) | X29: =+V29-E29 -> 0
