Workbook
Name MINOCO: #REF!

Sheet Secteurs
A1: N° | B1: Zone | C1: Technico-Commercial
A2: 1 | B2: Nord | C2: Alexis MABOUNDA
A3: 2 | B3: Centre | C3: Félix OVOURA
A4: 3 | B4: Sud | C4: Armel SOKAMBA

Sheet WEEK 1
A1: N° | B1: Boulangerie | C1: Groupe | D1: Type | E1: Cons/j | F1: C° heb | G1: Date Dernière Visite | H1: Période sans visite | I1: Secteur | J1: Technico Commercial | K1: %MINOCO | L1: %FANTA | M1: %GMK | N1: %SGMP | O1: %MFB | P1: %GMC | Q1: MINOCO | R1: FANTA | S1: GMK | T1: SGMP | U1: MFB | V1: GMC | W1: Total | X1: COMMENTAIRES | AA1: Week | AB1: Minoco | AC1: Fanta | AD1: GMPN | AE1: GMK | AF1: SGMP | AG1: MFB | AH1: GMC
A2: =+IF(E2>0,1,0) -> 1 | B2: CONGO FUTUR SIAFOUMOU | C2: G2 | D2: crédit | E2: 20 | F2: =E2*7 -> 140 | G2: 46015 | H2: =+IF(A2=1,(+TODAY())-G2,"Sans objet") -> 293 | I2: 1 | J2: =VLOOKUP(I2,Secteurs!$A$2:$C$4,3) -> Alexis MABOUNDA | N2: 0.5 | P2: 0.5 | Q2: =+$F2*K2 -> 0 | R2: =+$F2*L2 -> 0 | S2: =+$F2*M2 -> 0 | T2: =+$F2*N2 -> 70 | U2: =+$F2*O2 -> 0 | V2: =+$F2*P2 -> 70 | W2: =SUM(Q2:V2) -> 140 | Y2: =+W2-F2 -> 0 | AA2: 50 | AB2: 0.34874188 | AC2: 0.11209652 | AD2: =SUM(AB2:AC2) -> 0.4608384 | AE2: 0.089409096 | AF2: 0.11784573 | AG2: 0.089177065 | AH2: 0.24272971 | AI2: =SUM(AD2:AH2) -> 1
A3: =+IF(E3>0,1,0) -> 1 | B3: EL ATIGH mengo péage | C3: G1 | D3: cash | E3: 24 | F3: =E3*7 -> 168 | G3: 46008 | H3: =+IF(A3=1,(+TODAY())-G3,"Sans objet") -> 300 | I3: 1 | J3: =VLOOKUP(I3,Secteurs!$A$2:$C$4,3) -> Alexis MABOUNDA | K3: 0.75 | M3: 0.25 | Q3: =+$F3*K3 -> 126 | R3: =+$F3*L3 -> 0 | S3: =+$F3*M3 -> 42 | T3: =+$F3*N3 -> 0 | U3: =+$F3*O3 -> 0 | V3: =+$F3*P3 -> 0 | W3: =SUM(Q3:V3) -> 168 | Y3: =+W3-F3 -> 0 | AA3: 51 | AB3: 0.3501863 | AC3: 0.11721176 | AD3: =SUM(AB3:AC3) -> 0.46739805 | AE3: 0.095166632 | AF3: 0.10541296 | AG3: 0.088956738 | AH3: 0.24306562 | AI3: =SUM(AD3:AH3) -> 1
A4: =+IF(E4>0,1,0) -> 1 | B4: ATAKAHYR loandjili | C4: G1 | D4: cash | E4: 54 | F4: =E4*7 -> 378 | G4: 46021 | H4: =+IF(A4=1,(+TODAY())-G4,"Sans objet") -> 287 | I4: 1 | J4: =VLOOKUP(I4,Secteurs!$A$2:$C$4,3) -> Alexis MABOUNDA | K4: 0.5 | O4: 0.5 | Q4: 252 | R4: =+$F4*L4 -> 0 | S4: =+$F4*M4 -> 0 | T4: =+$F4*N4 -> 0 | U4: 126 | V4: =+$F4*P4 -> 0 | W4: =SUM(Q4:V4) -> 378 | Y4: =+W4-F4 -> 0 | AA4: 52 | AB4: 0.32964421 | AC4: 0.10093549 | AD4: =SUM(AB4:AC4) -> 0.4305797 | AE4: 0.10502505 | AF4: 0.11951743 | AG4: 0.11872508 | AH4: 0.22615275 | AI4: =SUM(AD4:AH4) -> 1
A5: =+IF(E5>0,1,0) -> 1 | B5: ATAKAHYR fouks | C5: G1 | D5: cash | E5: 28 | F5: =E5*7 -> 196 | G5: 46015 | H5: =+IF(A5=1,(+TODAY())-G5,"Sans objet") -> 293 | I5: 2 | J5: =VLOOKUP(I5,Secteurs!$A$2:$C$4,3) -> Félix OVOURA | K5: 0.5 | O5: 0.5 | Q5: =+$F5*K5 -> 98 | R5: =+$F5*L5 -> 0 | S5: =+$F5*M5 -> 0 | T5: =+$F5*N5 -> 0 | U5: =+$F5*O5 -> 98 | V5: =+$F5*P5 -> 0 | W5: =SUM(Q5:V5) -> 196 | Y5: =+W5-F5 -> 0 | AA5: 1 | AB5: =E147 -> 0.32964421 | AC5: =E148 -> 0.10093549 | AD5: =SUM(AB5:AC5) -> 0.4305797 | AE5: =E150 -> 0.10502505 | AF5: =E151 -> 0.11951743 | AG5: =E152 -> 0.11872508 | AH5: =E153 -> 0.22615275 | AI5: =SUM(AD5:AH5) -> 1
A6: =+IF(E6>0,1,0) -> 1 | B6: ATAKAHYR mayinga | C6: G1 | D6: cash | E6: 20 | F6: 140 | G6: 46013 | H6: =+IF(A6=1,(+TODAY())-G6,"Sans objet") -> 295 | I6: 3 | J6: =VLOOKUP(I6,Secteurs!$A$2:$C$4,3) -> Armel SOKAMBA | K6: 0.5 | O6: 0.5 | Q6: 70 | R6: =+$F6*L6 -> 0 | S6: =+$F6*M6 -> 0 | T6: =+$F6*N6 -> 0 | U6: =+$F6*O6 -> 70 | W6: =SUM(Q6:V6) -> 140 | Y6: =+W6-F6 -> 0 | AA6: Variation
A7: =+IF(E7>0,1,0) -> 1 | B7: MED MMB CEG vindoulou | C7: G1 | D7: cash | E7: 20 | F7: =E7*7 -> 140 | G7: 46008 | H7: =+IF(A7=1,(+TODAY())-G7,"Sans objet") -> 300 | I7: 3 | J7: Christelle ITOUA | K7: 0.5 | M7: 0.25 | P7: 0.25 | Q7: =+$F7*K7 -> 70 | R7: =+$F7*L7 -> 0 | S7: =+$F7*M7 -> 35 | T7: =+$F7*N7 -> 0 | U7: =+$F7*O7 -> 0 | V7: =+$F7*P7 -> 35 | W7: =SUM(Q7:V7) -> 140 | Y7: =+W7-F7 -> 0
A8: =+IF(E8>0,1,0) -> 1 | B8: MED globaline | C8: G1 | D8: cash | E8: 26 | F8: =E8*7 -> 182 | G8: 46014 | H8: =+IF(A8=1,(+TODAY())-G8,"Sans objet") -> 294 | I8: 3 | J8: =VLOOKUP(I8,Secteurs!$A$2:$C$4,3) -> Armel SOKAMBA | K8: 0.5 | N8: 0.5 | Q8: =+$F8*K8 -> 91 | R8: =+$F8*L8 -> 0 | S8: =+$F8*M8 -> 0 | T8: =+$F8*N8 -> 91 | U8: =+$F8*O8 -> 0 | V8: =+$F8*P8 -> 0 | W8: =SUM(Q8:V8) -> 182 | Y8: =+W8-F8 -> 0
A9: =+IF(E9>0,1,0) -> 1 | B9: Ets AMITIE ex BAGDAD1 grand marché révolution | C9: G1 | D9: cash | E9: 20 | F9: =E9*7 -> 140 | G9: 46000 | H9: =+IF(A9=1,(+TODAY())-G9,"Sans objet") -> 308 | I9: 2 | J9: =VLOOKUP(I9,Secteurs!$A$2:$C$4,3) -> Félix OVOURA | K9: 0.75 | P9: 0.25 | Q9: =+$F9*K9 -> 105 | R9: =+$F9*L9 -> 0 | S9: =+$F9*M9 -> 0 | T9: =+$F9*N9 -> 0 | U9: =+$F9*O9 -> 0 | V9: =+$F9*P9 -> 35 | W9: =SUM(Q9:V9) -> 140 | Y9: =+W9-F9 -> 0
A10: =+IF(E10>0,1,0) -> 1 | B10: Ets AMITIE ex CONGO2 voungou école primaire | C10: G1 | D10: cash | E10: 20 | F10: =E10*7 -> 140 | G10: 46020 | H10: =+IF(A10=1,(+TODAY())-G10,"Sans objet") -> 288 | I10: 3 | J10: =VLOOKUP(I10,Secteurs!$A$2:$C$4,3) -> Armel SOKAMBA | K10: 1 | Q10: =+$F10*K10 -> 140 | R10: =+$F10*L10 -> 0 | S10: =+$F10*M10 -> 0 | T10: =+$F10*N10 -> 0 | U10: =+$F10*O10 -> 0 | V10: =+$F10*P10 -> 0 | W10: =SUM(Q10:V10) -> 140 | Y10: =+W10-F10 -> 0
A11: =+IF(E11>0,1,0) -> 1 | B11: Ets AMITIE ex CONGO1 kitoko daniel | C11: G1 | D11: cash | E11: 24 | F11: =E11*7 -> 168 | G11: 46000 | H11: =+IF(A11=1,(+TODAY())-G11,"Sans objet") -> 308 | I11: 2 | J11: =VLOOKUP(I11,Secteurs!$A$2:$C$4,3) -> Félix OVOURA | K11: 0.5 | M11: 0.5 | Q11: =+$F11*K11 -> 84 | R11: =+$F11*L11 -> 0 | S11: =+$F11*M11 -> 84 | T11: =+$F11*N11 -> 0 | U11: =+$F11*O11 -> 0 | V11: =+$F11*P11 -> 0 | W11: =SUM(Q11:V11) -> 168 | Y11: =+W11-F11 -> 0
A12: =+IF(E12>0,1,0) -> 1 | B12: Ets AMITIE ex BAGDAD2 Rex grand marché | C12: G1 | D12: cash | E12: 26 | F12: =E12*7 -> 182 | G12: 46000 | H12: =+IF(A12=1,(+TODAY())-G12,"Sans objet") -> 308 | I12: 2 | J12: =VLOOKUP(I12,Secteurs!$A$2:$C$4,3) -> Félix OVOURA | K12: 1 | Q12: =+$F12*K12 -> 182 | R12: =+$F12*L12 -> 0 | S12: =+$F12*M12 -> 0 | T12: =+$F12*N12 -> 0 | U12: =+$F12*O12 -> 0 | V12: =+$F12*P12 -> 0 | W12: =SUM(Q12:V12) -> 182 | Y12: =+W12-F12 -> 0
A13: =+IF(E13>0,1,0) -> 1 | B13: Ets AMITIE ex BONNE CHANCE nkouinkou dénisia | C13: G1 | D13: cash | E13: 24 | F13: =E13*7 -> 168 | G13: 46013 | H13: =+IF(A13=1,(+TODAY())-G13,"Sans objet") -> 295 | I13: 1 | J13: =VLOOKUP(I13,Secteurs!$A$2:$C$4,3) -> Alexis MABOUNDA | K13: 0.5 | M13: 0.5 | Q13: =+$F13*K13 -> 84 | R13: =+$F13*L13 -> 0 | S13: =+$F13*M13 -> 84 | T13: =+$F13*N13 -> 0 | U13: =+$F13*O13 -> 0 | V13: =+$F13*P13 -> 0 | W13: =SUM(Q13:V13) -> 168 | Y13: =+W13-F13 -> 0
A14: =+IF(E14>0,1,0) -> 1 | B14: BAH ex HACEN fond tié-tié | C14: G2 | D14: cash | E14: 36 | F14: =E14*7 -> 252 | G14: 46022 | H14: =+IF(A14=1,(+TODAY())-G14,"Sans objet") -> 286 | I14: 3 | J14: =VLOOKUP(I14,Secteurs!$A$2:$C$4,3) -> Armel SOKAMBA | K14: 0.5 | P14: 0.5 | Q14: =+$F14*K14 -> 126 | R14: =+$F14*L14 -> 0 | S14: =+$F14*M14 -> 0 | T14: =+$F14*N14 -> 0 | U14: =+$F14*O14 -> 0 | V14: =+$F14*P14 -> 126 | W14: =SUM(Q14:V14) -> 252 | Y14: =+W14-F14 -> 0
A15: =+IF(E15>0,1,0) -> 1 | B15: BAH ex SASI tié tié massola | C15: G1 | D15: cash | E15: 20 | F15: =E15*7 -> 140 | G15: 46015 | H15: =+IF(A15=1,(+TODAY())-G15,"Sans objet") -> 293 | I15: 2 | J15: Thérèse LOUKEBA | K15: 0.5 | P15: 0.5 | Q15: =+$F15*K15 -> 70 | R15: =+$F15*L15 -> 0 | S15: =+$F15*M15 -> 0 | T15: =+$F15*N15 -> 0 | U15: =+$F15*O15 -> 0 | V15: =+$F15*P15 -> 70 | W15: =SUM(Q15:V15) -> 140 | Y15: =+W15-F15 -> 0
A16: =+IF(E16>0,1,0) -> 1 | B16: BAH ex BMM paka maison blanche | C16: G1 | D16: cash | E16: 20 | F16: =E16*7 -> 140 | G16: 46009 | H16: =+IF(A16=1,(+TODAY())-G16,"Sans objet") -> 299 | I16: 3 | J16: =VLOOKUP(I16,Secteurs!$A$2:$C$4,3) -> Armel SOKAMBA | K16: 1 | Q16: =+$F16*K16 -> 140 | R16: =+$F16*L16 -> 0 | S16: =+$F16*M16 -> 0 | T16: =+$F16*N16 -> 0 | U16: =+$F16*O16 -> 0 | V16: =+$F16*P16 -> 0 | W16: =SUM(Q16:V16) -> 140 | Y16: =+W16-F16 -> 0
A17: =+IF(E17>0,1,0) -> 1 | B17: BA mvoumvou immigration | C17: G1 | D17: cash | E17: 30 | F17: =E17*7 -> 210 | G17: 46000 | H17: =+IF(A17=1,(+TODAY())-G17,"Sans objet") -> 308 | I17: 2 | J17: =VLOOKUP(I17,Secteurs!$A$2:$C$4,3) -> Félix OVOURA | K17: 0.5 | M17: 0.5 | Q17: =+$F17*K17 -> 105 | R17: =+$F17*L17 -> 0 | S17: =+$F17*M17 -> 105 | T17: =+$F17*N17 -> 0 | U17: =+$F17*O17 -> 0 | V17: =+$F17*P17 -> 0 | W17: =SUM(Q17:V17) -> 210 | Y17: =+W17-F17 -> 0
A18: =+IF(E18>0,1,0) -> 1 | B18: BA thyster mongo mpoukou | C18: G1 | D18: cash | E18: 20 | F18: =E18*7 -> 140 | G18: 46013 | H18: =+IF(A18=1,(+TODAY())-G18,"Sans objet") -> 295 | I18: 1 | J18: =VLOOKUP(I18,Secteurs!$A$2:$C$4,3) -> Alexis MABOUNDA | K18: 0.5 | M18: 0.5 | Q18: =+$F18*K18 -> 70 | R18: =+$F18*L18 -> 0 | S18: =+$F18*M18 -> 70 | T18: =+$F18*N18 -> 0 | U18: =+$F18*O18 -> 0 | V18: =+$F18*P18 -> 0 | W18: =SUM(Q18:V18) -> 140 | Y18: =+W18-F18 -> 0
A19: =+IF(E19>0,1,0) -> 1 | B19: BA mpaka dalette | C19: G1 | D19: cash | E19: 26 | F19: =E19*7 -> 182 | G19: 46020 | H19: =+IF(A19=1,(+TODAY())-G19,"Sans objet") -> 288 | I19: 3 | J19: =VLOOKUP(I19,Secteurs!$A$2:$C$4,3) -> Armel SOKAMBA | K19: 0.5 | M19: 0.5 | Q19: =+$F19*K19 -> 91 | R19: =+$F19*L19 -> 0 | S19: =+$F19*M19 -> 91 | T19: =+$F19*N19 -> 0 | U19: =+$F19*O19 -> 0 | V19: =+$F19*P19 -> 0 | W19: =SUM(Q19:V19) -> 182 | Y19: =+W19-F19 -> 0
A20: =+IF(E20>0,1,0) -> 1 | B20: BA fond tié-tié gar | C20: G1 | D20: cash | E20: 46 | F20: =E20*7 -> 322 | G20: 46007 | H20: =+IF(A20=1,(+TODAY())-G20,"Sans objet") -> 301 | I20: 3 | J20: =VLOOKUP(I20,Secteurs!$A$2:$C$4,3) -> Armel SOKAMBA | K20: 0.5 | M20: 0.5 | Q20: =+$F20*K20 -> 161 | R20: =+$F20*L20 -> 0 | S20: =+$F20*M20 -> 161 | T20: =+$F20*N20 -> 0 | U20: =+$F20*O20 -> 0 | V20: =+$F20*P20 -> 0 | W20: =SUM(Q20:V20) -> 322 | Y20: =+W20-F20 -> 0
A21: =+IF(E21>0,1,0) -> 1 | B21: BA mpaka marché | C21: G1 | D21: cash | E21: 20 | F21: =E21*7 -> 140 | G21: 46009 | H21: =+IF(A21=1,(+TODAY())-G21,"Sans objet") -> 299 | I21: 3 | J21: =VLOOKUP(I21,Secteurs!$A$2:$C$4,3) -> Armel SOKAMBA | K21: 0.5 | P21: 0.5 | Q21: =+$F21*K21 -> 70 | R21: =+$F21*L21 -> 0 | S21: =+$F21*M21 -> 0 | T21: =+$F21*N21 -> 0 | U21: =+$F21*O21 -> 0 | V21: =+$F21*P21 -> 70 | W21: =SUM(Q21:V21) -> 140 | Y21: =+W21-F21 -> 0
A22: =+IF(E22>0,1,0) -> 1 | B22: BA ngoyo | C22: G1 | D22: cash | E22: 26 | F22: =E22*7 -> 182 | G22: 46014 | H22: =+IF(A22=1,(+TODAY())-G22,"Sans objet") -> 294 | I22: 3 | J22: =VLOOKUP(I22,Secteurs!$A$2:$C$4,3) -> Armel SOKAMBA | K22: 0.75 | P22: 0.25 | Q22: =+$F22*K22 -> 136.5 | R22: =+$F22*L22 -> 0 | S22: =+$F22*M22 -> 0 | T22: =+$F22*N22 -> 0 | U22: =+$F22*O22 -> 0 | V22: =+$F22*P22 -> 45.5 | W22: =SUM(Q22:V22) -> 182 | Y22: =+W22-F22 -> 0
A23: =+IF(E23>0,1,0) -> 1 | B23: BA fond tié-tié en allant vers voungou | C23: G1 | D23: cash | E23: 20 | F23: =E23*7 -> 140 | G23: 46020 | H23: =+IF(A23=1,(+TODAY())-G23,"Sans objet") -> 288 | I23: 3 | J23: =VLOOKUP(I23,Secteurs!$A$2:$C$4,3) -> Armel SOKAMBA | K23: 0.75 | P23: 0.25 | Q23: =+$F23*K23 -> 105 | R23: =+$F23*L23 -> 0 | S23: =+$F23*M23 -> 0 | T23: =+$F23*N23 -> 0 | U23: =+$F23*O23 -> 0 | V23: =+$F23*P23 -> 35 | W23: =SUM(Q23:V23) -> 140 | Y23: =+W23-F23 -> 0
A24: =+IF(E24>0,1,0) -> 1 | B24: NEINA REPUBLIQUE marché bissongo | C24: G1 | D24: cash | E24: 18 | F24: =E24*7 -> 126 | G24: 46020 | H24: =+IF(A24=1,(+TODAY())-G24,"Sans objet") -> 288 | I24: 3 | J24: =VLOOKUP(I24,Secteurs!$A$2:$C$4,3) -> Armel SOKAMBA | K24: 0.5 | P24: 0.5 | Q24: =+$F24*K24 -> 63 | R24: =+$F24*L24 -> 0 | S24: =+$F24*M24 -> 0 | T24: =+$F24*N24 -> 0 | U24: =+$F24*O24 -> 0 | V24: =+$F24*P24 -> 63 | W24: =SUM(Q24:V24) -> 126 | Y24: =+W24-F24 -> 0
A25: =+IF(E25>0,1,0) -> 1 | B25: NEINA REPUBLIQUE ngoyo central | C25: G1 | D25: cash | E25: 24 | F25: =E25*7 -> 168 | G25: 46014 | H25: =+IF(A25=1,(+TODAY())-G25,"Sans objet") -> 294 | I25: 3 | J25: =VLOOKUP(I25,Secteurs!$A$2:$C$4,3) -> Armel SOKAMBA | K25: 0.75 | P25: 0.25 | Q25: =+$F25*K25 -> 126 | R25: =+$F25*L25 -> 0 | S25: =+$F25*M25 -> 0 | T25: =+$F25*N25 -> 0 | U25: =+$F25*O25 -> 0 | V25: =+$F25*P25 -> 42 | W25: =SUM(Q25:V25) -> 168 | Y25: =+W25-F25 -> 0
A26: =+IF(E26>0,1,0) -> 1 | B26: NEINA REPUBLIQUE grand marché | C26: G1 | D26: cash | E26: 26 | F26: =E26*7 -> 182 | G26: 46000 | H26: =+IF(A26=1,(+TODAY())-G26,"Sans objet") -> 308 | I26: 2 | J26: =VLOOKUP(I26,Secteurs!$A$2:$C$4,3) -> Félix OVOURA | K26: 0.5 | P26: 0.5 | Q26: =+$F26*K26 -> 91 | R26: =+$F26*L26 -> 0 | S26: =+$F26*M26 -> 0 | T26: =+$F26*N26 -> 0 | U26: =+$F26*O26 -> 0 | V26: =+$F26*P26 -> 91 | W26: =SUM(Q26:V26) -> 182 | Y26: =+W26-F26 -> 0
A27: =+IF(E27>0,1,0) -> 1 | B27: NEINA REPUBLIQUE tchimbambouka | C27: G1 | D27: cash | E27: 20 | F27: =E27*7 -> 140 | G27: 46020 | H27: =+IF(A27=1,(+TODAY())-G27,"Sans objet") -> 288 | I27: 3 | J27: =VLOOKUP(I27,Secteurs!$A$2:$C$4,3) -> Armel SOKAMBA | K27: 0.5 | P27: 0.5 | Q27: =+$F27*K27 -> 70 | R27: =+$F27*L27 -> 0 | S27: =+$F27*M27 -> 0 | T27: =+$F27*N27 -> 0 | U27: =+$F27*O27 -> 0 | V27: =+$F27*P27 -> 70 | W27: =SUM(Q27:V27) -> 140 | Y27: =+W27-F27 -> 0
A28: =+IF(E28>0,1,0) -> 1 | B28: MED MMB deux poteaux | C28: G1 | D28: cash | E28: 20 | F28: =E28*7 -> 140 | G28: 46013 | H28: =+IF(A28=1,(+TODAY())-G28,"Sans objet") -> 295 | I28: 3 | J28: =VLOOKUP(I28,Secteurs!$A$2:$C$4,3) -> Armel SOKAMBA | K28: 1 | Q28: =+$F28*K28 -> 140 | R28: =+$F28*L28 -> 0 | S28: =+$F28*M28 -> 0 | T28: =+$F28*N28 -> 0 | U28: =+$F28*O28 -> 0 | V28: =+$F28*P28 -> 0 | W28: =SUM(Q28:V28) -> 140 | Y28: =+W28-F28 -> 0
A29: =+IF(E29>0,1,0) -> 1 | B29: MED marché tchimbamba | C29: G1 | D29: cash | E29: 26 | F29: 24 | G29: 46013 | H29: =+IF(A29=1,(+TODAY())-G29,"Sans objet") -> 295 | I29: 3 | J29: =VLOOKUP(I29,Secteurs!$A$2:$C$4,3) -> Armel SOKAMBA | K29: 0.5 | O29: 0.5 | Q29: =+$F29*K29 -> 12 | R29: =+$F29*L29 -> 0 | S29: =+$F29*M29 -> 0 | T29: =+$F29*N29 -> 0 | U29: =+$F29*O29 -> 12 | V29: =+$F29*P29 -> 0 | W29: =SUM(Q29:V29) -> 24 | Y29: =+W29-F29 -> 0
A30: =+IF(E30>0,1,0) -> 1 | B30: MED ngoyo péage | C30: G1 | D30: cash | E30: 30 | F30: =E30*7 -> 210 | G30: 46014 | H30: =+IF(A30=1,(+TODAY())-G30,"Sans objet") -> 294 | I30: 3 | J30: =VLOOKUP(I30,Secteurs!$A$2:$C$4,3) -> Armel SOKAMBA | N30: 0.5 | O30: 0.5 | Q30: =+$F30*K30 -> 0 | R30: =+$F30*L30 -> 0 | S30: =+$F30*M30 -> 0 | T30: =+$F30*N30 -> 105 | U30: =+$F30*O30 -> 105 | V30: =+$F30*P30 -> 0 | W30: =SUM(Q30:V30) -> 210 | Y30: =+W30-F30 -> 0
A31: =+IF(E31>0,1,0) -> 1 | B31: MED ex la grace vindoulou | C31: G1 | D31: cash | E31: 26 | F31: =E31*7 -> 182 | G31: 46013 | H31: =+IF(A31=1,(+TODAY())-G31,"Sans objet") -> 295 | I31: 1 | J31: =VLOOKUP(I31,Secteurs!$A$2:$C$4,3) -> Alexis MABOUNDA | K31: 0.5 | M31: 0.25 | O31: 0.25 | Q31: =+$F31*K31 -> 91 | R31: =+$F31*L31 -> 0 | S31: =+$F31*M31 -> 45.5 | T31: =+$F31*N31 -> 0 | U31: =+$F31*O31 -> 45.5 | V31: =+$F31*P31 -> 0 | W31: =SUM(Q31:V31) -> 182 | Y31: =+W31-F31 -> 0
A32: =+IF(E32>0,1,0) -> 1 | B32: MMB Licee vindoulou | C32: G1 | D32: cash | E32: 10 | F32: =E32*7 -> 70 | G32: 46008 | H32: =+IF(A32=1,(+TODAY())-G32,"Sans objet") -> 300 | I32: 1 | J32: Christelle ITOUA | K32: 0.5 | M32: 0.5 | Q32: =+$F32*K32 -> 35 | R32: =+$F32*L32 -> 0 | S32: =+$F32*M32 -> 35 | T32: =+$F32*N32 -> 0 | U32: =+$F32*O32 -> 0 | V32: =+$F32*P32 -> 0 | W32: =SUM(Q32:V32) -> 70 | Y32: =+W32-F32 -> 0
A33: =+IF(E33>0,1,0) -> 1 | B33: MED marché tsourou thyster | C33: G1 | D33: cash | E33: 22 | F33: =E33*7 -> 154 | G33: 46008 | H33: =+IF(A33=1,(+TODAY())-G33,"Sans objet") -> 300 | I33: 1 | J33: =VLOOKUP(I33,Secteurs!$A$2:$C$4,3) -> Alexis MABOUNDA | K33: 0.5 | M33: 0.25 | O33: 0.25 | Q33: =+$F33*K33 -> 77 | R33: =+$F33*L33 -> 0 | S33: =+$F33*M33 -> 38.5 | T33: =+$F33*N33 -> 0 | U33: =+$F33*O33 -> 38.5 | V33: =+$F33*P33 -> 0 | W33: =SUM(Q33:V33) -> 154 | Y33: =+W33-F33 -> 0
A34: =+IF(E34>0,1,0) -> 1 | B34: MED MMB contre rail | C34: G1 | D34: cash | E34: 16 | F34: =E34*7 -> 112 | G34: 46009 | H34: =+IF(A34=1,(+TODAY())-G34,"Sans objet") -> 299 | I34: 3 | J34: =VLOOKUP(I34,Secteurs!$A$2:$C$4,3) -> Armel SOKAMBA | L34: 0.5 | N34: 0.5 | Q34: =+$F34*K34 -> 0 | R34: =+$F34*L34 -> 56 | S34: =+$F34*M34 -> 0 | T34: =+$F34*N34 -> 56 | U34: =+$F34*O34 -> 0 | V34: =+$F34*P34 -> 0 | W34: =SUM(Q34:V34) -> 112 | Y34: =+W34-F34 -> 0
A35: =+IF(E35>0,1,0) -> 1 | B35: TOD mvoumvou sympatique | C35: G1 | D35: cash | E35: 26 | F35: =E35*7 -> 182 | G35: 46006 | H35: =+IF(A35=1,(+TODAY())-G35,"Sans objet") -> 302 | I35: 2 | J35: =VLOOKUP(I35,Secteurs!$A$2:$C$4,3) -> Félix OVOURA | K35: 1 | Q35: =+$F35*K35 -> 182 | R35: =+$F35*L35 -> 0 | S35: =+$F35*M35 -> 0 | T35: =+$F35*N35 -> 0 | U35: =+$F35*O35 -> 0 | V35: =+$F35*P35 -> 0 | W35: =SUM(Q35:V35) -> 182 | Y35: =+W35-F35 -> 0
A36: =+IF(E36>0,1,0) -> 1 | B36: TOD roy | C36: G1 | D36: cash | E36: 20 | F36: =E36*7 -> 140 | G36: 46000 | H36: =+IF(A36=1,(+TODAY())-G36,"Sans objet") -> 308 | I36: 2 | J36: =VLOOKUP(I36,Secteurs!$A$2:$C$4,3) -> Félix OVOURA | K36: 1 | Q36: =+$F36*K36 -> 140 | R36: =+$F36*L36 -> 0 | S36: =+$F36*M36 -> 0 | T36: =+$F36*N36 -> 0 | U36: =+$F36*O36 -> 0 | V36: =+$F36*P36 -> 0 | W36: =SUM(Q36:V36) -> 140 | Y36: =+W36-F36 -> 0
A37: =+IF(E37>0,1,0) -> 1 | B37: TOD och | C37: G1 | D37: cash | E37: 20 | F37: =E37*7 -> 140 | G37: 46022 | H37: =+IF(A37=1,(+TODAY())-G37,"Sans objet") -> 286 | I37: 2 | J37: Thérèse LOUKEBA | K37: 0.5 | M37: 0.5 | Q37: =+$F37*K37 -> 70 | R37: =+$F37*L37 -> 0 | S37: =+$F37*M37 -> 70 | T37: =+$F37*N37 -> 0 | U37: =+$F37*O37 -> 0 | V37: =+$F37*P37 -> 0 | W37: =SUM(Q37:V37) -> 140 | Y37: =+W37-F37 -> 0
A38: =+IF(E38>0,1,0) -> 1 | B38: WAMAS ex moulin rouge | C38: Direct | D38: cash | E38: 18 | F38: =E38*7 -> 126 | G38: 46006 | H38: =+IF(A38=1,(+TODAY())-G38,"Sans objet") -> 302 | I38: 3 | J38: =VLOOKUP(I38,Secteurs!$A$2:$C$4,3) -> Armel SOKAMBA | K38: 1 | Q38: =+$F38*K38 -> 126 | R38: =+$F38*L38 -> 0 | S38: =+$F38*M38 -> 0 | T38: =+$F38*N38 -> 0 | U38: =+$F38*O38 -> 0 | V38: =+$F38*P38 -> 0 | W38: =SUM(Q38:V38) -> 126 | Y38: =+W38-F38 -> 0
A39: =+IF(E39>0,1,0) -> 1 | B39: CHRISTINA kitoko daniel | C39: Direct | D39: cash | E39: 24 | F39: =E39*7 -> 168 | G39: 46000 | H39: =+IF(A39=1,(+TODAY())-G39,"Sans objet") -> 308 | I39: 2 | J39: =VLOOKUP(I39,Secteurs!$A$2:$C$4,3) -> Félix OVOURA | K39: 0.5 | M39: 0.5 | Q39: =+$F39*K39 -> 84 | R39: =+$F39*L39 -> 0 | S39: =+$F39*M39 -> 84 | T39: =+$F39*N39 -> 0 | U39: =+$F39*O39 -> 0 | V39: =+$F39*P39 -> 0 | W39: =SUM(Q39:V39) -> 168 | Y39: =+W39-F39 -> 0
A40: =+IF(E40>0,1,0) -> 1 | B40: LOUKABOU grand marhé lumumba | C40: Direct | D40: cash | E40: 16 | F40: =E40*7 -> 112 | G40: 46007 | H40: =+IF(A40=1,(+TODAY())-G40,"Sans objet") -> 301 | I40: 2 | J40: =VLOOKUP(I40,Secteurs!$A$2:$C$4,3) -> Félix OVOURA | K40: 0.5 | M40: 0.5 | Q40: =+$F40*K40 -> 56 | R40: =+$F40*L40 -> 0 | S40: =+$F40*M40 -> 56 | T40: =+$F40*N40 -> 0 | U40: =+$F40*O40 -> 0 | V40: =+$F40*P40 -> 0 | W40: =SUM(Q40:V40) -> 112 | Y40: =+W40-F40 -> 0
...

Sheet WEEK2
A1: N° | B1: Boulangerie | C1: Groupe | D1: Type | E1: Cons/j | F1: C° heb | G1: Date Dernière Visite | H1: Période sans visite | I1: Secteur | J1: Technico Commercial | K1: %MINOCO | L1: %FANTA | M1: %GMK | N1: %SGMP | O1: %MFB | P1: %GMC | Q1: MINOCO | R1: FANTA | S1: GMK | T1: SGMP | U1: MFB | V1: GMC | W1: Total | X1: COMMENTAIRES | AA1: Week | AB1: Minoco | AC1: Fanta | AD1: GMPN | AE1: GMK | AF1: SGMP | AG1: MFB | AH1: GMC
A2: =+IF(E2>0,1,0) -> 1 | B2: CONGO FUTUR SIAFOUMOU | C2: G2 | D2: crédit | E2: 20 | F2: =E2*7 -> 140 | G2: 46027 | H2: =+IF(A2=1,(+TODAY())-G2,"Sans objet") -> 281 | I2: 1 | J2: =VLOOKUP(I2,Secteurs!$A$2:$C$4,3) -> Alexis MABOUNDA | N2: 0.25 | O2: 0.25 | P2: 0.5 | Q2: =+$F2*K2 -> 0 | R2: =+$F2*L2 -> 0 | S2: =+$F2*M2 -> 0 | T2: =+$F2*N2 -> 35 | U2: =+$F2*O2 -> 35 | V2: =+$F2*P2 -> 70 | W2: =SUM(Q2:V2) -> 140 | Y2: =+W2-F2 -> 0 | AA2: 51 | AB2: 0.3501863 | AC2: 0.11721176 | AD2: =SUM(AB2:AC2) -> 0.46739805 | AE2: 0.095166632 | AF2: 0.10541296 | AG2: 0.088956738 | AH2: 0.24306562 | AI2: =SUM(AD2:AH2) -> 1
A3: =+IF(E3>0,1,0) -> 1 | B3: EL ATIGH mengo péage | C3: G1 | D3: cash | E3: 24 | F3: =E3*7 -> 168 | G3: 46028 | H3: =+IF(A3=1,(+TODAY())-G3,"Sans objet") -> 280 | I3: 1 | J3: =VLOOKUP(I3,Secteurs!$A$2:$C$4,3) -> Alexis MABOUNDA | K3: 0.75 | M3: 0.25 | Q3: =+$F3*K3 -> 126 | R3: =+$F3*L3 -> 0 | S3: =+$F3*M3 -> 42 | T3: =+$F3*N3 -> 0 | U3: =+$F3*O3 -> 0 | V3: =+$F3*P3 -> 0 | W3: =SUM(Q3:V3) -> 168 | Y3: =+W3-F3 -> 0 | AA3: 52 | AB3: 0.32964421 | AC3: 0.10093549 | AD3: =SUM(AB3:AC3) -> 0.4305797 | AE3: 0.10502505 | AF3: 0.11951743 | AG3: 0.11872508 | AH3: 0.22615275 | AI3: =SUM(AD3:AH3) -> 1
A4: =+IF(E4>0,1,0) -> 1 | B4: ATAKALKHAYR loandjili | C4: G1 | D4: cash | E4: 54 | F4: =E4*7 -> 378 | G4: 46028 | H4: =+IF(A4=1,(+TODAY())-G4,"Sans objet") -> 280 | I4: 1 | J4: =VLOOKUP(I4,Secteurs!$A$2:$C$4,3) -> Alexis MABOUNDA | K4: 0.5 | O4: 0.5 | Q4: 252 | R4: =+$F4*L4 -> 0 | S4: =+$F4*M4 -> 0 | T4: =+$F4*N4 -> 0 | U4: 126 | V4: =+$F4*P4 -> 0 | W4: =SUM(Q4:V4) -> 378 | Y4: =+W4-F4 -> 0 | AA4: 1 | AB4: 0.35592619 | AC4: 0.081263307 | AD4: =AB4+AC4 -> 0.4371895 | AE4: 0.10502505 | AF4: 0.11951743 | AG4: 0.11872508 | AH4: 0.22615275 | AI4: =SUM(AD4:AH4) -> 1.0066098
A5: =+IF(E5>0,1,0) -> 1 | B5: ATAKALKHAYR fouks | C5: G1 | D5: cash | E5: 28 | F5: =E5*7 -> 196 | G5: 46029 | H5: =+IF(A5=1,(+TODAY())-G5,"Sans objet") -> 279 | I5: 2 | J5: =VLOOKUP(I5,Secteurs!$A$2:$C$4,3) -> Félix OVOURA | K5: 0.5 | O5: 0.5 | Q5: =+$F5*K5 -> 98 | R5: =+$F5*L5 -> 0 | S5: =+$F5*M5 -> 0 | T5: =+$F5*N5 -> 0 | U5: =+$F5*O5 -> 98 | V5: =+$F5*P5 -> 0 | W5: =SUM(Q5:V5) -> 196 | Y5: =+W5-F5 -> 0 | AA5: 2 | AB5: =E147 -> 0.35592619 | AC5: =E148 -> 0.081263307 | AD5: =SUM(AB5:AC5) -> 0.4371895 | AE5: =E150 -> 0.083569908 | AF5: =E151 -> 0.12668559 | AG5: =E152 -> 0.11905607 | AH5: =E153 -> 0.23349894 | AI5: =SUM(AD5:AH5) -> 1
A6: =+IF(E6>0,1,0) -> 1 | B6: ATAKAHYR mayinga | C6: G1 | D6: cash | E6: 20 | F6: =E6*7 -> 140 | G6: 46030 | H6: =+IF(A6=1,(+TODAY())-G6,"Sans objet") -> 278 | I6: 3 | J6: =VLOOKUP(I6,Secteurs!$A$2:$C$4,3) -> Armel SOKAMBA | K6: 0.5 | O6: 0.5 | Q6: 70 | R6: =+$F6*L6 -> 0 | S6: =+$F6*M6 -> 0 | T6: =+$F6*N6 -> 0 | U6: =+$F6*O6 -> 70 | W6: =SUM(Q6:V6) -> 140 | Y6: =+W6-F6 -> 0 | AA6: Variation
A7: =+IF(E7>0,1,0) -> 1 | B7: MED MMB CEG vindoulou | C7: G1 | D7: cash | E7: 20 | F7: =E7*7 -> 140 | G7: 46028 | H7: =+IF(A7=1,(+TODAY())-G7,"Sans objet") -> 280 | I7: 3 | J7: Christelle ITOUA | K7: 0.5 | M7: 0.25 | P7: 0.25 | Q7: =+$F7*K7 -> 70 | R7: =+$F7*L7 -> 0 | S7: =+$F7*M7 -> 35 | T7: =+$F7*N7 -> 0 | U7: =+$F7*O7 -> 0 | V7: =+$F7*P7 -> 35 | W7: =SUM(Q7:V7) -> 140 | Y7: =+W7-F7 -> 0
A8: =+IF(E8>0,1,0) -> 1 | B8: MED globaline | C8: G1 | D8: cash | E8: 26 | F8: =E8*7 -> 182 | G8: 46029 | H8: =+IF(A8=1,(+TODAY())-G8,"Sans objet") -> 279 | I8: 3 | J8: =VLOOKUP(I8,Secteurs!$A$2:$C$4,3) -> Armel SOKAMBA | K8: 0.5 | N8: 0.5 | Q8: =+$F8*K8 -> 91 | R8: =+$F8*L8 -> 0 | S8: =+$F8*M8 -> 0 | T8: =+$F8*N8 -> 91 | U8: =+$F8*O8 -> 0 | V8: =+$F8*P8 -> 0 | W8: =SUM(Q8:V8) -> 182 | Y8: =+W8-F8 -> 0
A9: =+IF(E9>0,1,0) -> 1 | B9: Ets AMITIE ex BAGDAD1 grand marché révolution | C9: G1 | D9: cash | E9: 26 | F9: =E9*7 -> 182 | G9: 46030 | H9: =+IF(A9=1,(+TODAY())-G9,"Sans objet") -> 278 | I9: 2 | J9: =VLOOKUP(I9,Secteurs!$A$2:$C$4,3) -> Félix OVOURA | K9: 1 | Q9: =+$F9*K9 -> 182 | R9: =+$F9*L9 -> 0 | S9: =+$F9*M9 -> 0 | T9: =+$F9*N9 -> 0 | U9: =+$F9*O9 -> 0 | V9: =+$F9*P9 -> 0 | W9: =SUM(Q9:V9) -> 182 | Y9: =+W9-F9 -> 0
A10: =+IF(E10>0,1,0) -> 1 | B10: Ets AMITIE ex CONGO2 voungou école primaire | C10: G1 | D10: cash | E10: 20 | F10: =E10*7 -> 140 | G10: 46031 | H10: =+IF(A10=1,(+TODAY())-G10,"Sans objet") -> 277 | I10: 3 | J10: =VLOOKUP(I10,Secteurs!$A$2:$C$4,3) -> Armel SOKAMBA | K10: 1 | Q10: =+$F10*K10 -> 140 | R10: =+$F10*L10 -> 0 | S10: =+$F10*M10 -> 0 | T10: =+$F10*N10 -> 0 | U10: =+$F10*O10 -> 0 | V10: =+$F10*P10 -> 0 | W10: =SUM(Q10:V10) -> 140 | Y10: =+W10-F10 -> 0
A11: =+IF(E11>0,1,0) -> 1 | B11: Ets AMITIE ex CONGO1 kitoko daniel | C11: G1 | D11: cash | E11: 24 | F11: =E11*7 -> 168 | G11: 46030 | H11: =+IF(A11=1,(+TODAY())-G11,"Sans objet") -> 278 | I11: 2 | J11: =VLOOKUP(I11,Secteurs!$A$2:$C$4,3) -> Félix OVOURA | K11: 0.5 | O11: 0.5 | Q11: =+$F11*K11 -> 84 | R11: =+$F11*L11 -> 0 | S11: =+$F11*M11 -> 0 | T11: =+$F11*N11 -> 0 | U11: =+$F11*O11 -> 84 | V11: =+$F11*P11 -> 0 | W11: =SUM(Q11:V11) -> 168 | Y11: =+W11-F11 -> 0
A12: =+IF(E12>0,1,0) -> 1 | B12: Ets AMITIE ex BAGDAD2 Rex grand marché | C12: G1 | D12: cash | E12: 24 | F12: =E12*7 -> 168 | G12: 46030 | H12: =+IF(A12=1,(+TODAY())-G12,"Sans objet") -> 278 | I12: 2 | J12: =VLOOKUP(I12,Secteurs!$A$2:$C$4,3) -> Félix OVOURA | K12: 1 | Q12: =+$F12*K12 -> 168 | R12: =+$F12*L12 -> 0 | S12: =+$F12*M12 -> 0 | T12: =+$F12*N12 -> 0 | U12: =+$F12*O12 -> 0 | V12: =+$F12*P12 -> 0 | W12: =SUM(Q12:V12) -> 168 | Y12: =+W12-F12 -> 0
A13: =+IF(E13>0,1,0) -> 1 | B13: Ets AMITIE ex BONNE CHANCE nkouinkou dénisia | C13: G1 | D13: cash | E13: 24 | F13: =E13*7 -> 168 | G13: 46028 | H13: =+IF(A13=1,(+TODAY())-G13,"Sans objet") -> 280 | I13: 1 | J13: =VLOOKUP(I13,Secteurs!$A$2:$C$4,3) -> Alexis MABOUNDA | K13: 0.5 | M13: 0.5 | Q13: =+$F13*K13 -> 84 | R13: =+$F13*L13 -> 0 | S13: =+$F13*M13 -> 84 | T13: =+$F13*N13 -> 0 | U13: =+$F13*O13 -> 0 | V13: =+$F13*P13 -> 0 | W13: =SUM(Q13:V13) -> 168 | Y13: =+W13-F13 -> 0
A14: =+IF(E14>0,1,0) -> 1 | B14: BAH ex HACEN fond tié-tié | C14: G2 | D14: cash | E14: 36 | F14: =E14*7 -> 252 | G14: 46028 | H14: =+IF(A14=1,(+TODAY())-G14,"Sans objet") -> 280 | I14: 3 | J14: =VLOOKUP(I14,Secteurs!$A$2:$C$4,3) -> Armel SOKAMBA | K14: 0.5 | P14: 0.5 | Q14: =+$F14*K14 -> 126 | R14: =+$F14*L14 -> 0 | S14: =+$F14*M14 -> 0 | T14: =+$F14*N14 -> 0 | U14: =+$F14*O14 -> 0 | V14: =+$F14*P14 -> 126 | W14: =SUM(Q14:V14) -> 252 | Y14: =+W14-F14 -> 0
A15: =+IF(E15>0,1,0) -> 1 | B15: BAH ex SASI tié tié massola | C15: G1 | D15: cash | E15: 20 | F15: =E15*7 -> 140 | G15: 46027 | H15: =+IF(A15=1,(+TODAY())-G15,"Sans objet") -> 281 | I15: 2 | J15: Thérèse LOUKEBA | K15: 0.5 | P15: 0.5 | Q15: =+$F15*K15 -> 70 | R15: =+$F15*L15 -> 0 | S15: =+$F15*M15 -> 0 | T15: =+$F15*N15 -> 0 | U15: =+$F15*O15 -> 0 | V15: =+$F15*P15 -> 70 | W15: =SUM(Q15:V15) -> 140 | Y15: =+W15-F15 -> 0
A16: =+IF(E16>0,1,0) -> 1 | B16: BAH ex BMM paka maison blanche | C16: G1 | D16: cash | E16: 20 | F16: =E16*7 -> 140 | G16: 46027 | H16: =+IF(A16=1,(+TODAY())-G16,"Sans objet") -> 281 | I16: 3 | J16: =VLOOKUP(I16,Secteurs!$A$2:$C$4,3) -> Armel SOKAMBA | K16: 1 | Q16: =+$F16*K16 -> 140 | R16: =+$F16*L16 -> 0 | S16: =+$F16*M16 -> 0 | T16: =+$F16*N16 -> 0 | U16: =+$F16*O16 -> 0 | V16: =+$F16*P16 -> 0 | W16: =SUM(Q16:V16) -> 140 | Y16: =+W16-F16 -> 0
A17: =+IF(E17>0,1,0) -> 1 | B17: BA mvoumvou immigration | C17: G1 | D17: cash | E17: 24 | F17: =E17*7 -> 168 | G17: 46030 | H17: =+IF(A17=1,(+TODAY())-G17,"Sans objet") -> 278 | I17: 2 | J17: =VLOOKUP(I17,Secteurs!$A$2:$C$4,3) -> Félix OVOURA | K17: 0.5 | P17: 0.5 | Q17: =+$F17*K17 -> 84 | R17: =+$F17*L17 -> 0 | S17: =+$F17*M17 -> 0 | T17: =+$F17*N17 -> 0 | U17: =+$F17*O17 -> 0 | V17: =+$F17*P17 -> 84 | W17: =SUM(Q17:V17) -> 168 | Y17: =+W17-F17 -> 0
A18: =+IF(E18>0,1,0) -> 1 | B18: BA thyster mongo mpoukou | C18: G1 | D18: cash | E18: 20 | F18: =E18*7 -> 140 | G18: 46028 | H18: =+IF(A18=1,(+TODAY())-G18,"Sans objet") -> 280 | I18: 1 | J18: =VLOOKUP(I18,Secteurs!$A$2:$C$4,3) -> Alexis MABOUNDA | K18: 0.5 | M18: 0.5 | Q18: =+$F18*K18 -> 70 | R18: =+$F18*L18 -> 0 | S18: =+$F18*M18 -> 70 | T18: =+$F18*N18 -> 0 | U18: =+$F18*O18 -> 0 | V18: =+$F18*P18 -> 0 | W18: =SUM(Q18:V18) -> 140 | Y18: =+W18-F18 -> 0
A19: =+IF(E19>0,1,0) -> 1 | B19: BA mpaka dalette | C19: G1 | D19: cash | E19: 26 | F19: =E19*7 -> 182 | G19: 46020 | H19: =+IF(A19=1,(+TODAY())-G19,"Sans objet") -> 288 | I19: 3 | J19: =VLOOKUP(I19,Secteurs!$A$2:$C$4,3) -> Armel SOKAMBA | K19: 0.5 | M19: 0.5 | Q19: =+$F19*K19 -> 91 | R19: =+$F19*L19 -> 0 | S19: =+$F19*M19 -> 91 | T19: =+$F19*N19 -> 0 | U19: =+$F19*O19 -> 0 | V19: =+$F19*P19 -> 0 | W19: =SUM(Q19:V19) -> 182 | Y19: =+W19-F19 -> 0
A20: =+IF(E20>0,1,0) -> 1 | B20: BA fond tié-tié gar | C20: G1 | D20: cash | E20: 46 | F20: =E20*7 -> 322 | G20: 46028 | H20: =+IF(A20=1,(+TODAY())-G20,"Sans objet") -> 280 | I20: 3 | J20: =VLOOKUP(I20,Secteurs!$A$2:$C$4,3) -> Armel SOKAMBA | K20: 0.5 | M20: 0.5 | Q20: =+$F20*K20 -> 161 | R20: =+$F20*L20 -> 0 | S20: =+$F20*M20 -> 161 | T20: =+$F20*N20 -> 0 | U20: =+$F20*O20 -> 0 | V20: =+$F20*P20 -> 0 | W20: =SUM(Q20:V20) -> 322 | Y20: =+W20-F20 -> 0
A21: =+IF(E21>0,1,0) -> 1 | B21: BA mpaka marché | C21: G1 | D21: cash | E21: 20 | F21: =E21*7 -> 140 | G21: 46027 | H21: =+IF(A21=1,(+TODAY())-G21,"Sans objet") -> 281 | I21: 3 | J21: =VLOOKUP(I21,Secteurs!$A$2:$C$4,3) -> Armel SOKAMBA | K21: 0.5 | M21: 0.5 | Q21: =+$F21*K21 -> 70 | R21: =+$F21*L21 -> 0 | S21: =+$F21*M21 -> 70 | T21: =+$F21*N21 -> 0 | U21: =+$F21*O21 -> 0 | V21: =+$F21*P21 -> 0 | W21: =SUM(Q21:V21) -> 140 | Y21: =+W21-F21 -> 0
A22: =+IF(E22>0,1,0) -> 1 | B22: BA ngoyo | C22: G1 | D22: cash | E22: 26 | F22: =E22*7 -> 182 | G22: 46029 | H22: =+IF(A22=1,(+TODAY())-G22,"Sans objet") -> 279 | I22: 3 | J22: =VLOOKUP(I22,Secteurs!$A$2:$C$4,3) -> Armel SOKAMBA | K22: 0.75 | P22: 0.25 | Q22: =+$F22*K22 -> 136.5 | R22: =+$F22*L22 -> 0 | S22: =+$F22*M22 -> 0 | T22: =+$F22*N22 -> 0 | U22: =+$F22*O22 -> 0 | V22: =+$F22*P22 -> 45.5 | W22: =SUM(Q22:V22) -> 182 | Y22: =+W22-F22 -> 0
A23: =+IF(E23>0,1,0) -> 1 | B23: BA fond tié-tié en allant vers voungou | C23: G1 | D23: cash | E23: 20 | F23: =E23*7 -> 140 | G23: 46031 | H23: =+IF(A23=1,(+TODAY())-G23,"Sans objet") -> 277 | I23: 3 | J23: =VLOOKUP(I23,Secteurs!$A$2:$C$4,3) -> Armel SOKAMBA | K23: 0.75 | P23: 0.25 | Q23: =+$F23*K23 -> 105 | R23: =+$F23*L23 -> 0 | S23: =+$F23*M23 -> 0 | T23: =+$F23*N23 -> 0 | U23: =+$F23*O23 -> 0 | V23: =+$F23*P23 -> 35 | W23: =SUM(Q23:V23) -> 140 | Y23: =+W23-F23 -> 0
A24: =+IF(E24>0,1,0) -> 1 | B24: NEINA REPUBLIQUE marché bissongo | C24: G1 | D24: cash | E24: 18 | F24: =E24*7 -> 126 | G24: 46020 | H24: =+IF(A24=1,(+TODAY())-G24,"Sans objet") -> 288 | I24: 3 | J24: =VLOOKUP(I24,Secteurs!$A$2:$C$4,3) -> Armel SOKAMBA | K24: 0.5 | P24: 0.5 | Q24: =+$F24*K24 -> 63 | R24: =+$F24*L24 -> 0 | S24: =+$F24*M24 -> 0 | T24: =+$F24*N24 -> 0 | U24: =+$F24*O24 -> 0 | V24: =+$F24*P24 -> 63 | W24: =SUM(Q24:V24) -> 126 | Y24: =+W24-F24 -> 0
A25: =+IF(E25>0,1,0) -> 1 | B25: NEINA REPUBLIQUE ngoyo central | C25: G1 | D25: cash | E25: 24 | F25: =E25*7 -> 168 | G25: 46020 | H25: =+IF(A25=1,(+TODAY())-G25,"Sans objet") -> 288 | I25: 3 | J25: =VLOOKUP(I25,Secteurs!$A$2:$C$4,3) -> Armel SOKAMBA | K25: 0.75 | P25: 0.25 | Q25: =+$F25*K25 -> 126 | R25: =+$F25*L25 -> 0 | S25: =+$F25*M25 -> 0 | T25: =+$F25*N25 -> 0 | U25: =+$F25*O25 -> 0 | V25: =+$F25*P25 -> 42 | W25: =SUM(Q25:V25) -> 168 | Y25: =+W25-F25 -> 0
A26: =+IF(E26>0,1,0) -> 1 | B26: NEINA REPUBLIQUE grand marché | C26: G1 | D26: cash | E26: 20 | F26: =E26*7 -> 140 | G26: 46030 | H26: =+IF(A26=1,(+TODAY())-G26,"Sans objet") -> 278 | I26: 2 | J26: =VLOOKUP(I26,Secteurs!$A$2:$C$4,3) -> Félix OVOURA | K26: 0.5 | P26: 0.5 | Q26: =+$F26*K26 -> 70 | R26: =+$F26*L26 -> 0 | S26: =+$F26*M26 -> 0 | T26: =+$F26*N26 -> 0 | U26: =+$F26*O26 -> 0 | V26: =+$F26*P26 -> 70 | W26: =SUM(Q26:V26) -> 140 | Y26: =+W26-F26 -> 0
A27: =+IF(E27>0,1,0) -> 1 | B27: NEINA REPUBLIQUE tchimbambouka | C27: G1 | D27: cash | E27: 20 | F27: =E27*7 -> 140 | G27: 46020 | H27: =+IF(A27=1,(+TODAY())-G27,"Sans objet") -> 288 | I27: 3 | J27: =VLOOKUP(I27,Secteurs!$A$2:$C$4,3) -> Armel SOKAMBA | K27: 0.5 | P27: 0.5 | Q27: =+$F27*K27 -> 70 | R27: =+$F27*L27 -> 0 | S27: =+$F27*M27 -> 0 | T27: =+$F27*N27 -> 0 | U27: =+$F27*O27 -> 0 | V27: =+$F27*P27 -> 70 | W27: =SUM(Q27:V27) -> 140 | Y27: =+W27-F27 -> 0
A28: =+IF(E28>0,1,0) -> 1 | B28: MED MMB deux poteaux | C28: G1 | D28: cash | E28: 20 | F28: =E28*7 -> 140 | G28: 46030 | H28: =+IF(A28=1,(+TODAY())-G28,"Sans objet") -> 278 | I28: 3 | J28: =VLOOKUP(I28,Secteurs!$A$2:$C$4,3) -> Armel SOKAMBA | K28: 1 | Q28: =+$F28*K28 -> 140 | R28: =+$F28*L28 -> 0 | S28: =+$F28*M28 -> 0 | T28: =+$F28*N28 -> 0 | U28: =+$F28*O28 -> 0 | V28: =+$F28*P28 -> 0 | W28: =SUM(Q28:V28) -> 140 | Y28: =+W28-F28 -> 0
A29: =+IF(E29>0,1,0) -> 1 | B29: MED marché tchimbamba | C29: G1 | D29: cash | E29: 26 | F29: =E29*7 -> 182 | G29: 46029 | H29: =+IF(A29=1,(+TODAY())-G29,"Sans objet") -> 279 | I29: 3 | J29: =VLOOKUP(I29,Secteurs!$A$2:$C$4,3) -> Armel SOKAMBA | K29: 1 | Q29: =+$F29*K29 -> 182 | R29: =+$F29*L29 -> 0 | S29: =+$F29*M29 -> 0 | T29: =+$F29*N29 -> 0 | U29: =+$F29*O29 -> 0 | V29: =+$F29*P29 -> 0 | W29: =SUM(Q29:V29) -> 182 | Y29: =+W29-F29 -> 0
A30: =+IF(E30>0,1,0) -> 1 | B30: MED ngoyo péage | C30: G1 | D30: cash | E30: 30 | F30: =E30*7 -> 210 | G30: 46030 | H30: =+IF(A30=1,(+TODAY())-G30,"Sans objet") -> 278 | I30: 3 | J30: =VLOOKUP(I30,Secteurs!$A$2:$C$4,3) -> Armel SOKAMBA | N30: 0.5 | O30: 0.5 | Q30: =+$F30*K30 -> 0 | R30: =+$F30*L30 -> 0 | S30: =+$F30*M30 -> 0 | T30: =+$F30*N30 -> 105 | U30: =+$F30*O30 -> 105 | V30: =+$F30*P30 -> 0 | W30: =SUM(Q30:V30) -> 210 | Y30: =+W30-F30 -> 0
A31: =+IF(E31>0,1,0) -> 1 | B31: MED ex la grace vindoulou | C31: G1 | D31: cash | E31: 30 | F31: =E31*7 -> 210 | G31: 46028 | H31: =+IF(A31=1,(+TODAY())-G31,"Sans objet") -> 280 | I31: 1 | J31: =VLOOKUP(I31,Secteurs!$A$2:$C$4,3) -> Alexis MABOUNDA | K31: 0.75 | M31: 0.25 | Q31: =+$F31*K31 -> 157.5 | R31: =+$F31*L31 -> 0 | S31: =+$F31*M31 -> 52.5 | T31: =+$F31*N31 -> 0 | U31: =+$F31*O31 -> 0 | V31: =+$F31*P31 -> 0 | W31: =SUM(Q31:V31) -> 210 | Y31: =+W31-F31 -> 0
A32: =+IF(E32>0,1,0) -> 1 | B32: MMB Licee vindoulou | C32: G1 | D32: cash | E32: 20 | F32: =E32*7 -> 140 | G32: 46028 | H32: =+IF(A32=1,(+TODAY())-G32,"Sans objet") -> 280 | I32: 1 | J32: Christelle ITOUA | K32: 0.5 | M32: 0.25 | O32: 0.25 | Q32: =+$F32*K32 -> 70 | R32: =+$F32*L32 -> 0 | S32: =+$F32*M32 -> 35 | T32: =+$F32*N32 -> 0 | U32: =+$F32*O32 -> 35 | V32: =+$F32*P32 -> 0 | W32: =SUM(Q32:V32) -> 140 | Y32: =+W32-F32 -> 0
A33: =+IF(E33>0,1,0) -> 1 | B33: MED marché tsourou thyster | C33: G1 | D33: cash | E33: 24 | F33: =E33*7 -> 168 | G33: 46028 | H33: =+IF(A33=1,(+TODAY())-G33,"Sans objet") -> 280 | I33: 1 | J33: =VLOOKUP(I33,Secteurs!$A$2:$C$4,3) -> Alexis MABOUNDA | K33: 0.5 | M33: 0.25 | O33: 0.25 | Q33: =+$F33*K33 -> 84 | R33: =+$F33*L33 -> 0 | S33: =+$F33*M33 -> 42 | T33: =+$F33*N33 -> 0 | U33: =+$F33*O33 -> 42 | V33: =+$F33*P33 -> 0 | W33: =SUM(Q33:V33) -> 168 | Y33: =+W33-F33 -> 0
A34: =+IF(E34>0,1,0) -> 1 | B34: MED MMB contre rail | C34: G1 | D34: cash | E34: 16 | F34: =E34*7 -> 112 | G34: 46028 | H34: =+IF(A34=1,(+TODAY())-G34,"Sans objet") -> 280 | I34: 3 | J34: =VLOOKUP(I34,Secteurs!$A$2:$C$4,3) -> Armel SOKAMBA | O34: 1 | Q34: =+$F34*K34 -> 0 | R34: =+$F34*L34 -> 0 | S34: =+$F34*M34 -> 0 | T34: =+$F34*N34 -> 0 | U34: =+$F34*O34 -> 112 | V34: =+$F34*P34 -> 0 | W34: =SUM(Q34:V34) -> 112 | Y34: =+W34-F34 -> 0
A35: =+IF(E35>0,1,0) -> 1 | B35: TOD mvoumvou sympatique | C35: G1 | D35: cash | E35: 30 | F35: =E35*7 -> 210 | G35: 46030 | H35: =+IF(A35=1,(+TODAY())-G35,"Sans objet") -> 278 | I35: 2 | J35: =VLOOKUP(I35,Secteurs!$A$2:$C$4,3) -> Félix OVOURA | K35: 0.5 | P35: 0.5 | Q35: =+$F35*K35 -> 105 | R35: =+$F35*L35 -> 0 | S35: =+$F35*M35 -> 0 | T35: =+$F35*N35 -> 0 | U35: =+$F35*O35 -> 0 | V35: =+$F35*P35 -> 105 | W35: =SUM(Q35:V35) -> 210 | Y35: =+W35-F35 -> 0
A36: =+IF(E36>0,1,0) -> 1 | B36: TOD roy | C36: G1 | D36: cash | E36: 26 | F36: =E36*7 -> 182 | G36: 46030 | H36: =+IF(A36=1,(+TODAY())-G36,"Sans objet") -> 278 | I36: 2 | J36: =VLOOKUP(I36,Secteurs!$A$2:$C$4,3) -> Félix OVOURA | K36: 1 | Q36: =+$F36*K36 -> 182 | R36: =+$F36*L36 -> 0 | S36: =+$F36*M36 -> 0 | T36: =+$F36*N36 -> 0 | U36: =+$F36*O36 -> 0 | V36: =+$F36*P36 -> 0 | W36: =SUM(Q36:V36) -> 182 | Y36: =+W36-F36 -> 0
A37: =+IF(E37>0,1,0) -> 1 | B37: TOD och | C37: G1 | D37: cash | E37: 20 | F37: =E37*7 -> 140 | G37: 46022 | H37: =+IF(A37=1,(+TODAY())-G37,"Sans objet") -> 286 | I37: 2 | J37: Thérèse LOUKEBA | K37: 0.5 | M37: 0.5 | Q37: =+$F37*K37 -> 70 | R37: =+$F37*L37 -> 0 | S37: =+$F37*M37 -> 70 | T37: =+$F37*N37 -> 0 | U37: =+$F37*O37 -> 0 | V37: =+$F37*P37 -> 0 | W37: =SUM(Q37:V37) -> 140 | Y37: =+W37-F37 -> 0
A38: =+IF(E38>0,1,0) -> 1 | B38: WAMAS ex moulin rouge | C38: Direct | D38: cash | E38: 18 | F38: =E38*7 -> 126 | G38: 46027 | H38: =+IF(A38=1,(+TODAY())-G38,"Sans objet") -> 281 | I38: 3 | J38: =VLOOKUP(I38,Secteurs!$A$2:$C$4,3) -> Armel SOKAMBA | K38: 1 | Q38: =+$F38*K38 -> 126 | R38: =+$F38*L38 -> 0 | S38: =+$F38*M38 -> 0 | T38: =+$F38*N38 -> 0 | U38: =+$F38*O38 -> 0 | V38: =+$F38*P38 -> 0 | W38: =SUM(Q38:V38) -> 126 | Y38: =+W38-F38 -> 0
A39: =+IF(E39>0,1,0) -> 1 | B39: CHRISTINA kitoko daniel | C39: Direct | D39: cash | E39: 24 | F39: =E39*7 -> 168 | G39: 46030 | H39: =+IF(A39=1,(+TODAY())-G39,"Sans objet") -> 278 | I39: 2 | J39: =VLOOKUP(I39,Secteurs!$A$2:$C$4,3) -> Félix OVOURA | K39: 1 | Q39: =+$F39*K39 -> 168 | R39: =+$F39*L39 -> 0 | S39: =+$F39*M39 -> 0 | T39: =+$F39*N39 -> 0 | U39: =+$F39*O39 -> 0 | V39: =+$F39*P39 -> 0 | W39: =SUM(Q39:V39) -> 168 | Y39: =+W39-F39 -> 0
A40: =+IF(E40>0,1,0) -> 1 | B40: LOUKABOU grand marhé lumumba | C40: Direct | D40: cash | E40: 16 | F40: =E40*7 -> 112 | G40: 46027 | H40: =+IF(A40=1,(+TODAY())-G40,"Sans objet") -> 281 | I40: 2 | J40: =VLOOKUP(I40,Secteurs!$A$2:$C$4,3) -> Félix OVOURA | K40: 0.5 | M40: 0.5 | Q40: =+$F40*K40 -> 56 | R40: =+$F40*L40 -> 0 | S40: =+$F40*M40 -> 56 | T40: =+$F40*N40 -> 0 | U40: =+$F40*O40 -> 0 | V40: =+$F40*P40 -> 0 | W40: =SUM(Q40:V40) -> 112 | Y40: =+W40-F40 -> 0
...

Sheet WEEK3
A1: N° | B1: Boulangerie | C1: Groupe | D1: Type | E1: Cons/j | F1: C° heb | G1: Date Dernière Visite | H1: Période sans visite | I1: Secteur | J1: Technico Commercial | K1: %MINOCO | L1: %FANTA | M1: %GMK | N1: %SGMP | O1: %MFB | P1: %GMC | Q1: MINOCO | R1: FANTA | S1: GMK | T1: SGMP | U1: MFB | V1: GMC | W1: Total | X1: COMMENTAIRES | AA1: Week | AB1: Minoco | AC1: Fanta | AD1: GMPN | AE1: GMK | AF1: SGMP | AG1: MFB | AH1: GMC
A2: =+IF(E2>0,1,0) -> 1 | B2: CONGO FUTUR SIAFOUMOU | C2: G2 | D2: crédit | E2: 20 | F2: =E2*7 -> 140 | G2: 46035 | H2: =+IF(A2=1,(+TODAY())-G2,"Sans objet") -> 273 | I2: 1 | J2: =VLOOKUP(I2,Secteurs!$A$2:$C$4,3) -> Alexis MABOUNDA | L2: 0.5 | N2: 0.5 | Q2: =+$F2*K2 -> 0 | R2: =+$F2*L2 -> 70 | S2: =+$F2*M2 -> 0 | T2: =+$F2*N2 -> 70 | U2: =+$F2*O2 -> 0 | V2: =+$F2*P2 -> 0 | W2: =SUM(Q2:V2) -> 140 | Y2: =+W2-F2 -> 0 | AA2: 52 | AB2: 0.32964421 | AC2: 0.10093549 | AD2: =AB2+AC2 -> 0.4305797 | AE2: 0.10502505 | AF2: 0.11951743 | AG2: 0.11872508 | AH2: 0.22615275 | AI2: =SUM(AD2:AH2) -> 1
A3: =+IF(E3>0,1,0) -> 1 | B3: EL ATIGH mengo péage | C3: G1 | D3: cash | E3: 24 | F3: =E3*7 -> 168 | G3: 46028 | H3: =+IF(A3=1,(+TODAY())-G3,"Sans objet") -> 280 | I3: 1 | J3: =VLOOKUP(I3,Secteurs!$A$2:$C$4,3) -> Alexis MABOUNDA | K3: 0.75 | M3: 0.25 | Q3: =+$F3*K3 -> 126 | R3: =+$F3*L3 -> 0 | S3: =+$F3*M3 -> 42 | T3: =+$F3*N3 -> 0 | U3: =+$F3*O3 -> 0 | V3: =+$F3*P3 -> 0 | W3: =SUM(Q3:V3) -> 168 | Y3: =+W3-F3 -> 0 | AA3: 1 | AB3: 0.35592619 | AC3: 0.081263307 | AD3: =SUM(AB2:AC2) -> 0.4305797 | AE3: 0.10502505 | AF3: 0.11951743 | AG3: 0.11872508 | AH3: 0.22615275 | AI3: =SUM(AD3:AH3) -> 1
A4: =+IF(E4>0,1,0) -> 1 | B4: ATAKALKHAYR loandjili | C4: G1 | D4: cash | E4: 54 | F4: =E4*7 -> 378 | G4: 46034 | H4: =+IF(A4=1,(+TODAY())-G4,"Sans objet") -> 274 | I4: 1 | J4: =VLOOKUP(I4,Secteurs!$A$2:$C$4,3) -> Alexis MABOUNDA | K4: 0.5 | O4: 0.5 | Q4: 252 | R4: =+$F4*L4 -> 0 | S4: =+$F4*M4 -> 0 | T4: =+$F4*N4 -> 0 | U4: 126 | V4: =+$F4*P4 -> 0 | W4: =SUM(Q4:V4) -> 378 | Y4: =+W4-F4 -> 0 | AA4: 2 | AB4: 0.35592619 | AC4: 0.081263307 | AD4: 0.4371895 | AE4: 0.083569908 | AF4: 0.12668559 | AG4: 0.11905607 | AH4: 0.23349894 | AI4: =SUM(AD4:AH4) -> 1
A5: =+IF(E5>0,1,0) -> 1 | B5: ATAKALKHAYR fouks | C5: G1 | D5: cash | E5: 28 | F5: =E5*7 -> 196 | G5: 46037 | H5: =+IF(A5=1,(+TODAY())-G5,"Sans objet") -> 271 | I5: 2 | J5: =VLOOKUP(I5,Secteurs!$A$2:$C$4,3) -> Félix OVOURA | K5: 0.5 | O5: 0.5 | Q5: =+$F5*K5 -> 98 | R5: =+$F5*L5 -> 0 | S5: =+$F5*M5 -> 0 | T5: =+$F5*N5 -> 0 | U5: =+$F5*O5 -> 98 | V5: =+$F5*P5 -> 0 | W5: =SUM(Q5:V5) -> 196 | Y5: =+W5-F5 -> 0 | AA5: 3 | AB5: =E149 -> 0.33262411 | AC5: =E150 -> 0.12659574 | AD5: =AB5+AC5 -> 0.45921986 | AE5: =E152 -> 0.082801418 | AF5: =E153 -> 0.13244681 | AG5: =E154 -> 0.12641844 | AH5: =E155 -> 0.19911348 | AI5: =SUM(AD5:AH5) -> 1
A6: =+IF(E6>0,1,0) -> 1 | B6: ATAKAHYR mayinga | C6: G1 | D6: cash | E6: 20 | F6: =E6*7 -> 140 | G6: 46035 | H6: =+IF(A6=1,(+TODAY())-G6,"Sans objet") -> 273 | I6: 3 | J6: =VLOOKUP(I6,Secteurs!$A$2:$C$4,3) -> Armel SOKAMBA | K6: 0.5 | O6: 0.5 | Q6: 70 | R6: =+$F6*L6 -> 0 | S6: =+$F6*M6 -> 0 | T6: =+$F6*N6 -> 0 | U6: =+$F6*O6 -> 70 | W6: =SUM(Q6:V6) -> 140 | Y6: =+W6-F6 -> 0 | AA6: Variation
A7: =+IF(E7>0,1,0) -> 1 | B7: MED MMB CEG vindoulou | C7: G1 | D7: cash | E7: 20 | F7: =E7*7 -> 140 | G7: 46028 | H7: =+IF(A7=1,(+TODAY())-G7,"Sans objet") -> 280 | I7: 3 | J7: =VLOOKUP(I7,Secteurs!$A$2:$C$4,3) -> Armel SOKAMBA | K7: 0.5 | M7: 0.25 | P7: 0.25 | Q7: =+$F7*K7 -> 70 | R7: =+$F7*L7 -> 0 | S7: =+$F7*M7 -> 35 | T7: =+$F7*N7 -> 0 | U7: =+$F7*O7 -> 0 | V7: =+$F7*P7 -> 35 | W7: =SUM(Q7:V7) -> 140 | Y7: =+W7-F7 -> 0
A8: =+IF(E8>0,1,0) -> 1 | B8: MED globaline | C8: G1 | D8: cash | E8: 26 | F8: =E8*7 -> 182 | G8: 46029 | H8: =+IF(A8=1,(+TODAY())-G8,"Sans objet") -> 279 | I8: 3 | J8: =VLOOKUP(I8,Secteurs!$A$2:$C$4,3) -> Armel SOKAMBA | K8: 0.5 | N8: 0.5 | Q8: =+$F8*K8 -> 91 | R8: =+$F8*L8 -> 0 | S8: =+$F8*M8 -> 0 | T8: =+$F8*N8 -> 91 | U8: =+$F8*O8 -> 0 | V8: =+$F8*P8 -> 0 | W8: =SUM(Q8:V8) -> 182 | Y8: =+W8-F8 -> 0
A9: =+IF(E9>0,1,0) -> 1 | B9: Ets AMITIE ex BAGDAD1 grand marché révolution | C9: G1 | D9: cash | E9: 30 | F9: =E9*7 -> 210 | G9: 46036 | H9: =+IF(A9=1,(+TODAY())-G9,"Sans objet") -> 272 | I9: 2 | J9: =VLOOKUP(I9,Secteurs!$A$2:$C$4,3) -> Félix OVOURA | K9: 1 | Q9: =+$F9*K9 -> 210 | R9: =+$F9*L9 -> 0 | S9: =+$F9*M9 -> 0 | T9: =+$F9*N9 -> 0 | U9: =+$F9*O9 -> 0 | V9: =+$F9*P9 -> 0 | W9: =SUM(Q9:V9) -> 210 | Y9: =+W9-F9 -> 0
A10: =+IF(E10>0,1,0) -> 1 | B10: Ets AMITIE ex CONGO2 voungou école primaire | C10: G1 | D10: cash | E10: 20 | F10: =E10*7 -> 140 | G10: 46037 | H10: =+IF(A10=1,(+TODAY())-G10,"Sans objet") -> 271 | I10: 3 | J10: =VLOOKUP(I10,Secteurs!$A$2:$C$4,3) -> Armel SOKAMBA | K10: 1 | Q10: =+$F10*K10 -> 140 | R10: =+$F10*L10 -> 0 | S10: =+$F10*M10 -> 0 | T10: =+$F10*N10 -> 0 | U10: =+$F10*O10 -> 0 | V10: =+$F10*P10 -> 0 | W10: =SUM(Q10:V10) -> 140 | Y10: =+W10-F10 -> 0
A11: =+IF(E11>0,1,0) -> 1 | B11: Ets AMITIE ex CONGO1 kitoko daniel | C11: G1 | D11: cash | E11: 24 | F11: =E11*7 -> 168 | G11: 46036 | H11: =+IF(A11=1,(+TODAY())-G11,"Sans objet") -> 272 | I11: 2 | J11: =VLOOKUP(I11,Secteurs!$A$2:$C$4,3) -> Félix OVOURA | K11: 0.5 | M11: 0.5 | Q11: =+$F11*K11 -> 84 | R11: =+$F11*L11 -> 0 | S11: =+$F11*M11 -> 84 | T11: =+$F11*N11 -> 0 | U11: =+$F11*O11 -> 0 | V11: =+$F11*P11 -> 0 | W11: =SUM(Q11:V11) -> 168 | Y11: =+W11-F11 -> 0
A12: =+IF(E12>0,1,0) -> 1 | B12: Ets AMITIE ex BAGDAD2 Rex grand marché | C12: G1 | D12: cash | E12: 26 | F12: =E12*7 -> 182 | G12: 46037 | H12: =+IF(A12=1,(+TODAY())-G12,"Sans objet") -> 271 | I12: 2 | J12: =VLOOKUP(I12,Secteurs!$A$2:$C$4,3) -> Félix OVOURA | K12: 1 | Q12: =+$F12*K12 -> 182 | R12: =+$F12*L12 -> 0 | S12: =+$F12*M12 -> 0 | T12: =+$F12*N12 -> 0 | U12: =+$F12*O12 -> 0 | V12: =+$F12*P12 -> 0 | W12: =SUM(Q12:V12) -> 182 | Y12: =+W12-F12 -> 0
A13: =+IF(E13>0,1,0) -> 1 | B13: Ets AMITIE ex BONNE CHANCE nkouinkou dénisia | C13: G1 | D13: cash | E13: 24 | F13: =E13*7 -> 168 | G13: 46034 | H13: =+IF(A13=1,(+TODAY())-G13,"Sans objet") -> 274 | I13: 1 | J13: =VLOOKUP(I13,Secteurs!$A$2:$C$4,3) -> Alexis MABOUNDA | K13: 0.5 | O13: 0.5 | Q13: =+$F13*K13 -> 84 | R13: =+$F13*L13 -> 0 | S13: =+$F13*M13 -> 0 | T13: =+$F13*N13 -> 0 | U13: =+$F13*O13 -> 84 | V13: =+$F13*P13 -> 0 | W13: =SUM(Q13:V13) -> 168 | Y13: =+W13-F13 -> 0
A14: =+IF(E14>0,1,0) -> 1 | B14: BAH ex HACEN fond tié-tié | C14: G2 | D14: cash | E14: 36 | F14: =E14*7 -> 252 | G14: 46035 | H14: =+IF(A14=1,(+TODAY())-G14,"Sans objet") -> 273 | I14: 3 | J14: =VLOOKUP(I14,Secteurs!$A$2:$C$4,3) -> Armel SOKAMBA | K14: 0.5 | P14: 0.5 | Q14: =+$F14*K14 -> 126 | R14: =+$F14*L14 -> 0 | S14: =+$F14*M14 -> 0 | T14: =+$F14*N14 -> 0 | U14: =+$F14*O14 -> 0 | V14: =+$F14*P14 -> 126 | W14: =SUM(Q14:V14) -> 252 | Y14: =+W14-F14 -> 0
A15: =+IF(E15>0,1,0) -> 1 | B15: BAH ex SASI tié tié massola | C15: G1 | D15: cash | E15: 20 | F15: =E15*7 -> 140 | G15: 46037 | H15: =+IF(A15=1,(+TODAY())-G15,"Sans objet") -> 271 | I15: 2 | J15: =VLOOKUP(I15,Secteurs!$A$2:$C$4,3) -> Félix OVOURA | K15: 0.5 | P15: 0.5 | Q15: =+$F15*K15 -> 70 | R15: =+$F15*L15 -> 0 | S15: =+$F15*M15 -> 0 | T15: =+$F15*N15 -> 0 | U15: =+$F15*O15 -> 0 | V15: =+$F15*P15 -> 70 | W15: =SUM(Q15:V15) -> 140 | Y15: =+W15-F15 -> 0
A16: =+IF(E16>0,1,0) -> 1 | B16: BAH ex BMM paka maison blanche | C16: G1 | D16: cash | E16: 20 | F16: =E16*7 -> 140 | G16: 46036 | H16: =+IF(A16=1,(+TODAY())-G16,"Sans objet") -> 272 | I16: 3 | J16: =VLOOKUP(I16,Secteurs!$A$2:$C$4,3) -> Armel SOKAMBA | K16: 1 | Q16: =+$F16*K16 -> 140 | R16: =+$F16*L16 -> 0 | S16: =+$F16*M16 -> 0 | T16: =+$F16*N16 -> 0 | U16: =+$F16*O16 -> 0 | V16: =+$F16*P16 -> 0 | W16: =SUM(Q16:V16) -> 140 | Y16: =+W16-F16 -> 0
A17: =+IF(E17>0,1,0) -> 1 | B17: BA mvoumvou immigration | C17: G1 | D17: cash | E17: 24 | F17: =E17*7 -> 168 | G17: 46036 | H17: =+IF(A17=1,(+TODAY())-G17,"Sans objet") -> 272 | I17: 2 | J17: =VLOOKUP(I17,Secteurs!$A$2:$C$4,3) -> Félix OVOURA | K17: 0.5 | O17: 0.5 | Q17: =+$F17*K17 -> 84 | R17: =+$F17*L17 -> 0 | S17: =+$F17*M17 -> 0 | T17: =+$F17*N17 -> 0 | U17: =+$F17*O17 -> 84 | V17: =+$F17*P17 -> 0 | W17: =SUM(Q17:V17) -> 168 | Y17: =+W17-F17 -> 0
A18: =+IF(E18>0,1,0) -> 1 | B18: BA thyster mongo mpoukou | C18: G1 | D18: cash | E18: 20 | F18: =E18*7 -> 140 | G18: 46028 | H18: =+IF(A18=1,(+TODAY())-G18,"Sans objet") -> 280 | I18: 1 | J18: =VLOOKUP(I18,Secteurs!$A$2:$C$4,3) -> Alexis MABOUNDA | K18: 0.5 | M18: 0.5 | Q18: =+$F18*K18 -> 70 | R18: =+$F18*L18 -> 0 | S18: =+$F18*M18 -> 70 | T18: =+$F18*N18 -> 0 | U18: =+$F18*O18 -> 0 | V18: =+$F18*P18 -> 0 | W18: =SUM(Q18:V18) -> 140 | Y18: =+W18-F18 -> 0
A19: =+IF(E19>0,1,0) -> 1 | B19: BA mpaka dalette | C19: G1 | D19: cash | E19: 26 | F19: =E19*7 -> 182 | G19: 46035 | H19: =+IF(A19=1,(+TODAY())-G19,"Sans objet") -> 273 | I19: 3 | J19: =VLOOKUP(I19,Secteurs!$A$2:$C$4,3) -> Armel SOKAMBA | K19: 0.5 | O19: 0.5 | Q19: =+$F19*K19 -> 91 | R19: =+$F19*L19 -> 0 | S19: =+$F19*M19 -> 0 | T19: =+$F19*N19 -> 0 | U19: =+$F19*O19 -> 91 | V19: =+$F19*P19 -> 0 | W19: =SUM(Q19:V19) -> 182 | Y19: =+W19-F19 -> 0
A20: =+IF(E20>0,1,0) -> 1 | B20: BA fond tié-tié gar | C20: G1 | D20: cash | E20: 46 | F20: =E20*7 -> 322 | G20: 46028 | H20: =+IF(A20=1,(+TODAY())-G20,"Sans objet") -> 280 | I20: 3 | J20: =VLOOKUP(I20,Secteurs!$A$2:$C$4,3) -> Armel SOKAMBA | K20: 0.5 | M20: 0.5 | Q20: =+$F20*K20 -> 161 | R20: =+$F20*L20 -> 0 | S20: =+$F20*M20 -> 161 | T20: =+$F20*N20 -> 0 | U20: =+$F20*O20 -> 0 | V20: =+$F20*P20 -> 0 | W20: =SUM(Q20:V20) -> 322 | Y20: =+W20-F20 -> 0
A21: =+IF(E21>0,1,0) -> 1 | B21: BA mpaka marché | C21: G1 | D21: cash | E21: 20 | F21: =E21*7 -> 140 | G21: 46027 | H21: =+IF(A21=1,(+TODAY())-G21,"Sans objet") -> 281 | I21: 3 | J21: =VLOOKUP(I21,Secteurs!$A$2:$C$4,3) -> Armel SOKAMBA | K21: 0.5 | M21: 0.5 | Q21: =+$F21*K21 -> 70 | R21: =+$F21*L21 -> 0 | S21: =+$F21*M21 -> 70 | T21: =+$F21*N21 -> 0 | U21: =+$F21*O21 -> 0 | V21: =+$F21*P21 -> 0 | W21: =SUM(Q21:V21) -> 140 | Y21: =+W21-F21 -> 0
A22: =+IF(E22>0,1,0) -> 1 | B22: BA ngoyo | C22: G1 | D22: cash | E22: 26 | F22: =E22*7 -> 182 | G22: 46029 | H22: =+IF(A22=1,(+TODAY())-G22,"Sans objet") -> 279 | I22: 3 | J22: =VLOOKUP(I22,Secteurs!$A$2:$C$4,3) -> Armel SOKAMBA | K22: 0.75 | P22: 0.25 | Q22: =+$F22*K22 -> 136.5 | R22: =+$F22*L22 -> 0 | S22: =+$F22*M22 -> 0 | T22: =+$F22*N22 -> 0 | U22: =+$F22*O22 -> 0 | V22: =+$F22*P22 -> 45.5 | W22: =SUM(Q22:V22) -> 182 | Y22: =+W22-F22 -> 0
A23: =+IF(E23>0,1,0) -> 1 | B23: BA fond tié-tié en allant vers voungou | C23: G1 | D23: cash | E23: 20 | F23: =E23*7 -> 140 | G23: 46031 | H23: =+IF(A23=1,(+TODAY())-G23,"Sans objet") -> 277 | I23: 3 | J23: =VLOOKUP(I23,Secteurs!$A$2:$C$4,3) -> Armel SOKAMBA | K23: 0.75 | P23: 0.25 | Q23: =+$F23*K23 -> 105 | R23: =+$F23*L23 -> 0 | S23: =+$F23*M23 -> 0 | T23: =+$F23*N23 -> 0 | U23: =+$F23*O23 -> 0 | V23: =+$F23*P23 -> 35 | W23: =SUM(Q23:V23) -> 140 | Y23: =+W23-F23 -> 0
A24: =+IF(E24>0,1,0) -> 1 | B24: NEINA REPUBLIQUE marché bissongo | C24: G1 | D24: cash | E24: 18 | F24: =E24*7 -> 126 | G24: 46035 | H24: =+IF(A24=1,(+TODAY())-G24,"Sans objet") -> 273 | I24: 3 | J24: =VLOOKUP(I24,Secteurs!$A$2:$C$4,3) -> Armel SOKAMBA | K24: 0.5 | P24: 0.5 | Q24: =+$F24*K24 -> 63 | R24: =+$F24*L24 -> 0 | S24: =+$F24*M24 -> 0 | T24: =+$F24*N24 -> 0 | U24: =+$F24*O24 -> 0 | V24: =+$F24*P24 -> 63 | W24: =SUM(Q24:V24) -> 126 | Y24: =+W24-F24 -> 0
A25: =+IF(E25>0,1,0) -> 1 | B25: NEINA REPUBLIQUE ngoyo central | C25: G1 | D25: cash | E25: 24 | F25: =E25*7 -> 168 | G25: 46038 | H25: =+IF(A25=1,(+TODAY())-G25,"Sans objet") -> 270 | I25: 3 | J25: =VLOOKUP(I25,Secteurs!$A$2:$C$4,3) -> Armel SOKAMBA | K25: 0.5 | P25: 0.5 | Q25: =+$F25*K25 -> 84 | R25: =+$F25*L25 -> 0 | S25: =+$F25*M25 -> 0 | T25: =+$F25*N25 -> 0 | U25: =+$F25*O25 -> 0 | V25: =+$F25*P25 -> 84 | W25: =SUM(Q25:V25) -> 168 | Y25: =+W25-F25 -> 0
A26: =+IF(E26>0,1,0) -> 1 | B26: NEINA REPUBLIQUE grand marché | C26: G1 | D26: cash | E26: 24 | F26: =E26*7 -> 168 | G26: 46036 | H26: =+IF(A26=1,(+TODAY())-G26,"Sans objet") -> 272 | I26: 2 | J26: =VLOOKUP(I26,Secteurs!$A$2:$C$4,3) -> Félix OVOURA | K26: 0.5 | M26: 0.5 | Q26: =+$F26*K26 -> 84 | R26: =+$F26*L26 -> 0 | S26: =+$F26*M26 -> 84 | T26: =+$F26*N26 -> 0 | U26: =+$F26*O26 -> 0 | V26: =+$F26*P26 -> 0 | W26: =SUM(Q26:V26) -> 168 | Y26: =+W26-F26 -> 0
A27: =+IF(E27>0,1,0) -> 1 | B27: NEINA REPUBLIQUE tchimbambouka | C27: G1 | D27: cash | E27: 20 | F27: =E27*7 -> 140 | G27: 46035 | H27: =+IF(A27=1,(+TODAY())-G27,"Sans objet") -> 273 | I27: 3 | J27: =VLOOKUP(I27,Secteurs!$A$2:$C$4,3) -> Armel SOKAMBA | K27: 0.5 | N27: 0.5 | Q27: =+$F27*K27 -> 70 | R27: =+$F27*L27 -> 0 | S27: =+$F27*M27 -> 0 | T27: =+$F27*N27 -> 70 | U27: =+$F27*O27 -> 0 | V27: =+$F27*P27 -> 0 | W27: =SUM(Q27:V27) -> 140 | Y27: =+W27-F27 -> 0
A28: =+IF(E28>0,1,0) -> 1 | B28: MED MMB deux poteaux | C28: G1 | D28: cash | E28: 20 | F28: =E28*7 -> 140 | G28: 46030 | H28: =+IF(A28=1,(+TODAY())-G28,"Sans objet") -> 278 | I28: 3 | J28: =VLOOKUP(I28,Secteurs!$A$2:$C$4,3) -> Armel SOKAMBA | K28: 1 | Q28: =+$F28*K28 -> 140 | R28: =+$F28*L28 -> 0 | S28: =+$F28*M28 -> 0 | T28: =+$F28*N28 -> 0 | U28: =+$F28*O28 -> 0 | V28: =+$F28*P28 -> 0 | W28: =SUM(Q28:V28) -> 140 | Y28: =+W28-F28 -> 0
A29: =+IF(E29>0,1,0) -> 1 | B29: MED marché tchimbamba | C29: G1 | D29: cash | E29: 26 | F29: =E29*7 -> 182 | G29: 46029 | H29: =+IF(A29=1,(+TODAY())-G29,"Sans objet") -> 279 | I29: 3 | J29: =VLOOKUP(I29,Secteurs!$A$2:$C$4,3) -> Armel SOKAMBA | K29: 1 | Q29: =+$F29*K29 -> 182 | R29: =+$F29*L29 -> 0 | S29: =+$F29*M29 -> 0 | T29: =+$F29*N29 -> 0 | U29: =+$F29*O29 -> 0 | V29: =+$F29*P29 -> 0 | W29: =SUM(Q29:V29) -> 182 | Y29: =+W29-F29 -> 0
A30: =+IF(E30>0,1,0) -> 1 | B30: MED ngoyo péage | C30: G1 | D30: cash | E30: 30 | F30: =E30*7 -> 210 | G30: 46030 | H30: =+IF(A30=1,(+TODAY())-G30,"Sans objet") -> 278 | I30: 3 | J30: =VLOOKUP(I30,Secteurs!$A$2:$C$4,3) -> Armel SOKAMBA | N30: 0.5 | O30: 0.5 | Q30: =+$F30*K30 -> 0 | R30: =+$F30*L30 -> 0 | S30: =+$F30*M30 -> 0 | T30: =+$F30*N30 -> 105 | U30: =+$F30*O30 -> 105 | V30: =+$F30*P30 -> 0 | W30: =SUM(Q30:V30) -> 210 | Y30: =+W30-F30 -> 0
A31: =+IF(E31>0,1,0) -> 1 | B31: MED ex la grace vindoulou | C31: G1 | D31: cash | E31: 30 | F31: =E31*7 -> 210 | G31: 46028 | H31: =+IF(A31=1,(+TODAY())-G31,"Sans objet") -> 280 | I31: 1 | J31: =VLOOKUP(I31,Secteurs!$A$2:$C$4,3) -> Alexis MABOUNDA | K31: 0.75 | M31: 0.25 | Q31: =+$F31*K31 -> 157.5 | R31: =+$F31*L31 -> 0 | S31: =+$F31*M31 -> 52.5 | T31: =+$F31*N31 -> 0 | U31: =+$F31*O31 -> 0 | V31: =+$F31*P31 -> 0 | W31: =SUM(Q31:V31) -> 210 | Y31: =+W31-F31 -> 0
A32: =+IF(E32>0,1,0) -> 1 | B32: MMB Licee vindoulou | C32: G1 | D32: cash | E32: 20 | F32: =E32*7 -> 140 | G32: 46028 | H32: =+IF(A32=1,(+TODAY())-G32,"Sans objet") -> 280 | I32: 1 | J32: =VLOOKUP(I32,Secteurs!$A$2:$C$4,3) -> Alexis MABOUNDA | K32: 0.5 | M32: 0.25 | O32: 0.25 | Q32: =+$F32*K32 -> 70 | R32: =+$F32*L32 -> 0 | S32: =+$F32*M32 -> 35 | T32: =+$F32*N32 -> 0 | U32: =+$F32*O32 -> 35 | V32: =+$F32*P32 -> 0 | W32: =SUM(Q32:V32) -> 140 | Y32: =+W32-F32 -> 0
A33: =+IF(E33>0,1,0) -> 1 | B33: MED marché tsourou thyster | C33: G1 | D33: cash | E33: 24 | F33: =E33*7 -> 168 | G33: 46028 | H33: =+IF(A33=1,(+TODAY())-G33,"Sans objet") -> 280 | I33: 1 | J33: =VLOOKUP(I33,Secteurs!$A$2:$C$4,3) -> Alexis MABOUNDA | K33: 0.5 | M33: 0.25 | O33: 0.25 | Q33: =+$F33*K33 -> 84 | R33: =+$F33*L33 -> 0 | S33: =+$F33*M33 -> 42 | T33: =+$F33*N33 -> 0 | U33: =+$F33*O33 -> 42 | V33: =+$F33*P33 -> 0 | W33: =SUM(Q33:V33) -> 168 | Y33: =+W33-F33 -> 0
A34: =+IF(E34>0,1,0) -> 1 | B34: MED MMB contre rail | C34: G1 | D34: cash | E34: 16 | F34: =E34*7 -> 112 | G34: 46036 | H34: =+IF(A34=1,(+TODAY())-G34,"Sans objet") -> 272 | I34: 3 | J34: =VLOOKUP(I34,Secteurs!$A$2:$C$4,3) -> Armel SOKAMBA | L34: 0.5 | N34: 0.5 | Q34: =+$F34*K34 -> 0 | R34: =+$F34*L34 -> 56 | S34: =+$F34*M34 -> 0 | T34: =+$F34*N34 -> 56 | U34: =+$F34*O34 -> 0 | V34: =+$F34*P34 -> 0 | W34: =SUM(Q34:V34) -> 112 | Y34: =+W34-F34 -> 0
A35: =+IF(E35>0,1,0) -> 1 | B35: TOD mvoumvou sympatique | C35: G1 | D35: cash | E35: 30 | F35: =E35*7 -> 210 | G35: 46030 | H35: =+IF(A35=1,(+TODAY())-G35,"Sans objet") -> 278 | I35: 2 | J35: =VLOOKUP(I35,Secteurs!$A$2:$C$4,3) -> Félix OVOURA | K35: 0.5 | P35: 0.5 | Q35: =+$F35*K35 -> 105 | R35: =+$F35*L35 -> 0 | S35: =+$F35*M35 -> 0 | T35: =+$F35*N35 -> 0 | U35: =+$F35*O35 -> 0 | V35: =+$F35*P35 -> 105 | W35: =SUM(Q35:V35) -> 210 | Y35: =+W35-F35 -> 0
A36: =+IF(E36>0,1,0) -> 1 | B36: TOD roy | C36: G1 | D36: cash | E36: 26 | F36: =E36*7 -> 182 | G36: 46030 | H36: =+IF(A36=1,(+TODAY())-G36,"Sans objet") -> 278 | I36: 2 | J36: =VLOOKUP(I36,Secteurs!$A$2:$C$4,3) -> Félix OVOURA | K36: 1 | Q36: =+$F36*K36 -> 182 | R36: =+$F36*L36 -> 0 | S36: =+$F36*M36 -> 0 | T36: =+$F36*N36 -> 0 | U36: =+$F36*O36 -> 0 | V36: =+$F36*P36 -> 0 | W36: =SUM(Q36:V36) -> 182 | Y36: =+W36-F36 -> 0
A37: =+IF(E37>0,1,0) -> 1 | B37: TOD och | C37: G1 | D37: cash | E37: 20 | F37: =E37*7 -> 140 | G37: 46036 | H37: =+IF(A37=1,(+TODAY())-G37,"Sans objet") -> 272 | I37: 2 | J37: =VLOOKUP(I37,Secteurs!$A$2:$C$4,3) -> Félix OVOURA | K37: 0.5 | P37: 0.5 | Q37: =+$F37*K37 -> 70 | R37: =+$F37*L37 -> 0 | S37: =+$F37*M37 -> 0 | T37: =+$F37*N37 -> 0 | U37: =+$F37*O37 -> 0 | V37: =+$F37*P37 -> 70 | W37: =SUM(Q37:V37) -> 140 | Y37: =+W37-F37 -> 0
A38: =+IF(E38>0,1,0) -> 1 | B38: WAMAS ex moulin rouge | C38: Direct | D38: cash | E38: 18 | F38: =E38*7 -> 126 | G38: 46035 | H38: =+IF(A38=1,(+TODAY())-G38,"Sans objet") -> 273 | I38: 3 | J38: =VLOOKUP(I38,Secteurs!$A$2:$C$4,3) -> Armel SOKAMBA | K38: 1 | Q38: =+$F38*K38 -> 126 | R38: =+$F38*L38 -> 0 | S38: =+$F38*M38 -> 0 | T38: =+$F38*N38 -> 0 | U38: =+$F38*O38 -> 0 | V38: =+$F38*P38 -> 0 | W38: =SUM(Q38:V38) -> 126 | Y38: =+W38-F38 -> 0
A39: =+IF(E39>0,1,0) -> 1 | B39: CHRISTINA kitoko daniel | C39: Direct | D39: cash | E39: 24 | F39: =E39*7 -> 168 | G39: 46036 | H39: =+IF(A39=1,(+TODAY())-G39,"Sans objet") -> 272 | I39: 2 | J39: =VLOOKUP(I39,Secteurs!$A$2:$C$4,3) -> Félix OVOURA | K39: 0.5 | O39: 0.5 | Q39: =+$F39*K39 -> 84 | R39: =+$F39*L39 -> 0 | S39: =+$F39*M39 -> 0 | T39: =+$F39*N39 -> 0 | U39: =+$F39*O39 -> 84 | V39: =+$F39*P39 -> 0 | W39: =SUM(Q39:V39) -> 168 | Y39: =+W39-F39 -> 0
A40: =+IF(E40>0,1,0) -> 1 | B40: LOUKABOU grand marhé lumumba | C40: Direct | D40: cash | E40: 16 | F40: =E40*7 -> 112 | G40: 46035 | H40: =+IF(A40=1,(+TODAY())-G40,"Sans objet") -> 273 | I40: 2 | J40: =VLOOKUP(I40,Secteurs!$A$2:$C$4,3) -> Félix OVOURA | K40: 0.5 | M40: 0.5 | Q40: =+$F40*K40 -> 56 | R40: =+$F40*L40 -> 0 | S40: =+$F40*M40 -> 56 | T40: =+$F40*N40 -> 0 | U40: =+$F40*O40 -> 0 | V40: =+$F40*P40 -> 0 | W40: =SUM(Q40:V40) -> 112 | Y40: =+W40-F40 -> 0
...

Sheet WEEK4
A1: N° | B1: Boulangerie | C1: Groupe | D1: Type | E1: Cons/j | F1: C° heb | G1: Date Dernière Visite | H1: Période sans visite | I1: Secteur | J1: Technico Commercial | K1: %MINOCO | L1: %FANTA | M1: %GMK | N1: %SGMP | O1: %MFB | P1: %GMC | Q1: MINOCO | R1: FANTA | S1: GMK | T1: SGMP | U1: MFB | V1: GMC | W1: Total | X1: COMMENTAIRES | AA1: Week | AB1: Minoco | AC1: Fanta | AD1: GMPN | AE1: GMK | AF1: SGMP | AG1: MFB | AH1: GMC
A2: =+IF(E2>0,1,0) -> 1 | B2: CONGO FUTUR SIAFOUMOU | C2: G2 | D2: crédit | E2: 20 | F2: =E2*7 -> 140 | G2: 46045 | H2: =+IF(A2=1,(+TODAY())-G2,"Sans objet") -> 263 | I2: 1 | J2: =VLOOKUP(I2,Secteurs!$A$2:$C$4,3) -> Alexis MABOUNDA | N2: 0.5 | P2: 0.5 | Q2: =+$F2*K2 -> 0 | R2: =+$F2*L2 -> 0 | S2: =+$F2*M2 -> 0 | T2: =+$F2*N2 -> 70 | U2: =+$F2*O2 -> 0 | V2: =+$F2*P2 -> 70 | W2: =SUM(Q2:V2) -> 140 | Y2: =+W2-F2 -> 0 | AA2: 1 | AB2: 0.32964421 | AC2: 0.10093549 | AD2: =AB2+AC2 -> 0.4305797 | AE2: 0.10502505 | AF2: 0.11951743 | AG2: 0.11872508 | AH2: 0.22615275 | AI2: =SUM(AD2:AH2) -> 1
A3: =+IF(E3>0,1,0) -> 1 | B3: EL ATIGH mengo péage | C3: G1 | D3: cash | E3: 34 | F3: =E3*7 -> 238 | G3: 46043 | H3: =+IF(A3=1,(+TODAY())-G3,"Sans objet") -> 265 | I3: 1 | J3: =VLOOKUP(I3,Secteurs!$A$2:$C$4,3) -> Alexis MABOUNDA | M3: 0.5 | O3: 0.5 | Q3: =+$F3*K3 -> 0 | R3: =+$F3*L3 -> 0 | S3: =+$F3*M3 -> 119 | T3: =+$F3*N3 -> 0 | U3: =+$F3*O3 -> 119 | V3: =+$F3*P3 -> 0 | W3: =SUM(Q3:V3) -> 238 | Y3: =+W3-F3 -> 0 | AA3: 2 | AB3: 0.35592619 | AC3: 0.081263307 | AD3: =AB3+AC3 -> 0.4371895 | AE3: 0.083569908 | AF3: 0.12668559 | AG3: 0.11905607 | AH3: 0.23349894 | AI3: =SUM(AD3:AH3) -> 1
A4: =+IF(E4>0,1,0) -> 1 | B4: ATAKALKHAYR loandjili | C4: G1 | D4: cash | E4: 54 | F4: =E4*7 -> 378 | G4: 46043 | H4: =+IF(A4=1,(+TODAY())-G4,"Sans objet") -> 265 | I4: 1 | J4: =VLOOKUP(I4,Secteurs!$A$2:$C$4,3) -> Alexis MABOUNDA | K4: 0.5 | O4: 0.5 | Q4: 252 | R4: =+$F4*L4 -> 0 | S4: =+$F4*M4 -> 0 | T4: =+$F4*N4 -> 0 | U4: 126 | V4: =+$F4*P4 -> 0 | W4: =SUM(Q4:V4) -> 378 | Y4: =+W4-F4 -> 0 | AA4: 3 | AB4: 0.33262411 | AC4: 0.12659574 | AD4: =AB4+AC4 -> 0.45921986 | AE4: 0.082801418 | AF4: 0.13244681 | AG4: 0.12641844 | AH4: 0.19911348 | AI4: =SUM(AD4:AH4) -> 1
A5: =+IF(E5>0,1,0) -> 1 | B5: ATAKALKHAYR fouks | C5: G1 | D5: cash | E5: 28 | F5: =E5*7 -> 196 | G5: 46037 | H5: =+IF(A5=1,(+TODAY())-G5,"Sans objet") -> 271 | I5: 2 | J5: =VLOOKUP(I5,Secteurs!$A$2:$C$4,3) -> Félix OVOURA | K5: 0.5 | O5: 0.5 | Q5: =+$F5*K5 -> 98 | R5: =+$F5*L5 -> 0 | S5: =+$F5*M5 -> 0 | T5: =+$F5*N5 -> 0 | U5: =+$F5*O5 -> 98 | V5: =+$F5*P5 -> 0 | W5: =SUM(Q5:V5) -> 196 | Y5: =+W5-F5 -> 0 | AA5: 4 | AB5: =E151 -> 0.32180663 | AC5: =E152 -> 0.096506704 | AD5: =AB5+AC5 -> 0.41831334 | AE5: =E154 -> 0.100741 | AF5: =E155 -> 0.15067043 | AG5: =E156 -> 0.099505999 | AH5: =E157 -> 0.23076923 | AI5: =SUM(AD5:AH5) -> 1
A6: =+IF(E6>0,1,0) -> 1 | B6: ATAKAHYR mayinga | C6: G1 | D6: cash | E6: 20 | F6: =E6*7 -> 140 | G6: 46042 | H6: =+IF(A6=1,(+TODAY())-G6,"Sans objet") -> 266 | I6: 3 | J6: =VLOOKUP(I6,Secteurs!$A$2:$C$4,3) -> Armel SOKAMBA | K6: 0.5 | O6: 0.5 | Q6: 70 | R6: =+$F6*L6 -> 0 | S6: =+$F6*M6 -> 0 | T6: =+$F6*N6 -> 0 | U6: =+$F6*O6 -> 70 | W6: =SUM(Q6:V6) -> 140 | Y6: =+W6-F6 -> 0 | AA6: Variation | AB6: =AB5-AB4 -> -0.01081748 | AC6: =AC5-AC4 -> -0.03008904 | AD6: =AD5-AD4 -> -0.04090652 | AE6: =AE5-AE4 -> 0.017939584 | AF6: =AF5-AF4 -> 0.018223622 | AG6: =AG5-AG4 -> -0.026912441 | AH6: =AH5-AH4 -> 0.031655756
A7: =+IF(E7>0,1,0) -> 1 | B7: MED globaline | C7: G1 | D7: cash | E7: 26 | F7: =E7*7 -> 182 | G7: 46042 | H7: =+IF(A7=1,(+TODAY())-G7,"Sans objet") -> 266 | I7: 3 | J7: Christelle ITOUA | K7: 0.5 | N7: 0.5 | Q7: =+$F7*K7 -> 91 | R7: =+$F7*L7 -> 0 | S7: =+$F7*M7 -> 0 | T7: =+$F7*N7 -> 91 | U7: =+$F7*O7 -> 0 | V7: =+$F7*P7 -> 0 | W7: =SUM(Q7:V7) -> 182 | Y7: =+W7-F7 -> 0
