Workbook
Name MINOCO: #REF!

Sheet Secteurs
A1: N° | B1: Zone | C1: Technico-Commercial
A2: 1 | B2: Nord | C2: Alexis MABOUNDA
A3: 2 | B3: Centre | C3: Félix OVOURA
A4: 3 | B4: Sud | C4: Armel SOKAMBA

Sheet WEEK 49
A1: N° | B1: Boulangerie | C1: Type | D1: Cons/j | E1: C° heb | F1: Date Dernière Visite | G1: Période sans visite | H1: Secteur | I1: Technico Commercial | J1: %MINOCO | K1: %FANTA | L1: %GMK | M1: %SGMP | N1: %MFB | O1: %GMC | P1: MINOCO | Q1: FANTA | R1: GMK | S1: SGMP | T1: MFB | U1: GMC | V1: Total | W1: COMMENTAIRES | Z1: Week | AA1: Minoco | AB1: Fanta | AC1: GMPN | AD1: GMK | AE1: SGMP | AF1: MFB | AG1: GMC
A2: =+IF(D2>0,1,0) -> 1 | B2: CONGO FUTUR SIAFOUMOU | C2: cash | D2: 30 | E2: =D2*7 -> 210 | F2: 45994 | G2: =+IF(A2=1,(+TODAY())-F2,"Sans objet") -> 313 | H2: 1 | I2: =VLOOKUP(H2,Secteurs!$A$2:$C$4,3) -> Alexis MABOUNDA | M2: 0.5 | O2: 0.5 | P2: =+$E2*J2 -> 0 | Q2: =+$E2*K2 -> 0 | R2: =+$E2*L2 -> 0 | S2: =+$E2*M2 -> 105 | T2: =+$E2*N2 -> 0 | U2: =+$E2*O2 -> 105 | V2: =SUM(P2:U2) -> 210 | X2: =+V2-E2 -> 0 | Z2: 46 | AA2: 0.38 | AB2: 0.05 | AC2: =SUM(AA2:AB2) -> 0.43 | AD2: 0.153 | AE2: 0.094 | AF2: 0.101 | AG2: 0.219 | AH2: =SUM(AC2:AG2) -> 0.997
A3: =+IF(D3>0,1,0) -> 1 | B3: EL ATIGH mengo péage | C3: cash | D3: 24 | E3: =D3*7 -> 168 | F3: 45992 | G3: =+IF(A3=1,(+TODAY())-F3,"Sans objet") -> 315 | H3: 1 | I3: =VLOOKUP(H3,Secteurs!$A$2:$C$4,3) -> Alexis MABOUNDA | J3: 0.5 | L3: 0.5 | P3: =+$E3*J3 -> 84 | Q3: =+$E3*K3 -> 0 | R3: =+$E3*L3 -> 84 | S3: =+$E3*M3 -> 0 | T3: =+$E3*N3 -> 0 | U3: =+$E3*O3 -> 0 | V3: =SUM(P3:U3) -> 168 | X3: =+V3-E3 -> 0 | Z3: 47 | AA3: 0.36 | AB3: 0.07 | AC3: =SUM(AA3:AB3) -> 0.43 | AD3: 0.109 | AE3: 0.135 | AF3: 0.104 | AG3: 0.224 | AH3: =SUM(AC3:AG3) -> 1.002
A4: =+IF(D4>0,1,0) -> 1 | B4: ATAKAHYR loandjili | C4: cash | D4: 54 | E4: =D4*7 -> 378 | F4: 45992 | G4: =+IF(A4=1,(+TODAY())-F4,"Sans objet") -> 315 | H4: 1 | I4: =VLOOKUP(H4,Secteurs!$A$2:$C$4,3) -> Alexis MABOUNDA | J4: 0.75 | N4: 0.25 | P4: =+$E4*J4 -> 283.5 | Q4: =+$E4*K4 -> 0 | R4: =+$E4*L4 -> 0 | S4: =+$E4*M4 -> 0 | T4: =+$E4*N4 -> 94.5 | U4: =+$E4*O4 -> 0 | V4: =SUM(P4:U4) -> 378 | X4: =+V4-E4 -> 0 | Z4: 48 | AA4: 0.33 | AB4: 0.1 | AC4: =SUM(AA4:AB4) -> 0.43 | AD4: 0.093 | AE4: 0.139 | AF4: 0.109 | AG4: 0.231 | AH4: =SUM(AC4:AG4) -> 1.002
A5: =+IF(D5>0,1,0) -> 1 | B5: ATAKAHYR fouks | C5: cash | D5: 28 | E5: =D5*7 -> 196 | F5: 45995 | G5: =+IF(A5=1,(+TODAY())-F5,"Sans objet") -> 312 | H5: 2 | I5: =VLOOKUP(H5,Secteurs!$A$2:$C$4,3) -> Félix OVOURA | J5: 0.5 | N5: 0.5 | P5: =+$E5*J5 -> 98 | Q5: =+$E5*K5 -> 0 | R5: =+$E5*L5 -> 0 | S5: =+$E5*M5 -> 0 | T5: =+$E5*N5 -> 98 | U5: =+$E5*O5 -> 0 | V5: =SUM(P5:U5) -> 196 | X5: =+V5-E5 -> 0 | Z5: 49 | AA5: =D145 -> 0.3274473 | AB5: =D146 -> 0.11030604 | AC5: =SUM(AA5:AB5) -> 0.43775334 | AD5: =D148 -> 0.092039927 | AE5: =D149 -> 0.14187272 | AF5: =D150 -> 0.093281313 | AG5: =D151 -> 0.2350527 | AH5: =SUM(AC5:AG5) -> 1
A6: =+IF(D6>0,1,0) -> 1 | B6: ATAKAHYR mayinga | C6: cash | D6: 20 | E6: =D6*7 -> 140 | F6: 45995 | G6: =+IF(A6=1,(+TODAY())-F6,"Sans objet") -> 312 | H6: 3 | I6: =VLOOKUP(H6,Secteurs!$A$2:$C$4,3) -> Armel SOKAMBA | J6: 0.5 | O6: 0.5 | P6: =+$E6*J6 -> 70 | Q6: =+$E6*K6 -> 0 | R6: =+$E6*L6 -> 0 | S6: =+$E6*M6 -> 0 | T6: =+$E6*N6 -> 0 | U6: =+$E6*O6 -> 70 | V6: =SUM(P6:U6) -> 140 | X6: =+V6-E6 -> 0 | Z6: Variation
A7: =+IF(D7>0,1,0) -> 1 | B7: MED MMB voungou | C7: cash | D7: 36 | E7: =D7*7 -> 252 | F7: 45995 | G7: =+IF(A7=1,(+TODAY())-F7,"Sans objet") -> 312 | H7: 3 | I7: =VLOOKUP(H7,Secteurs!$A$2:$C$4,3) -> Armel SOKAMBA | J7: 0.5 | L7: 0.25 | O7: 0.25 | P7: =+$E7*J7 -> 126 | Q7: =+$E7*K7 -> 0 | R7: =+$E7*L7 -> 63 | S7: =+$E7*M7 -> 0 | T7: =+$E7*N7 -> 0 | U7: =+$E7*O7 -> 63 | V7: =SUM(P7:U7) -> 252 | X7: =+V7-E7 -> 0
A8: =+IF(D8>0,1,0) -> 1 | B8: MED globaline | C8: cash | D8: 34 | E8: =D8*7 -> 238 | F8: 45995 | G8: =+IF(A8=1,(+TODAY())-F8,"Sans objet") -> 312 | H8: 3 | I8: =VLOOKUP(H8,Secteurs!$A$2:$C$4,3) -> Armel SOKAMBA | J8: 0.5 | L8: 0.5 | P8: =+$E8*J8 -> 119 | Q8: =+$E8*K8 -> 0 | R8: =+$E8*L8 -> 119 | S8: =+$E8*M8 -> 0 | T8: =+$E8*N8 -> 0 | U8: =+$E8*O8 -> 0 | V8: =SUM(P8:U8) -> 238 | X8: =+V8-E8 -> 0
A9: =+IF(D9>0,1,0) -> 1 | B9: Ets AMITIE ex BAGDAD1 grand marché révolution | C9: cash | D9: 30 | E9: =D9*7 -> 210 | F9: 45996 | G9: =+IF(A9=1,(+TODAY())-F9,"Sans objet") -> 311 | H9: 2 | I9: =VLOOKUP(H9,Secteurs!$A$2:$C$4,3) -> Félix OVOURA | J9: 0.5 | O9: 0.5 | P9: =+$E9*J9 -> 105 | Q9: =+$E9*K9 -> 0 | R9: =+$E9*L9 -> 0 | S9: =+$E9*M9 -> 0 | T9: =+$E9*N9 -> 0 | U9: =+$E9*O9 -> 105 | V9: =SUM(P9:U9) -> 210 | X9: =+V9-E9 -> 0
A10: =+IF(D10>0,1,0) -> 1 | B10: Ets AMITIE ex CONGO2 voungou école primaire | C10: cash | D10: 20 | E10: =D10*7 -> 140 | F10: 45993 | G10: =+IF(A10=1,(+TODAY())-F10,"Sans objet") -> 314 | H10: 3 | I10: =VLOOKUP(H10,Secteurs!$A$2:$C$4,3) -> Armel SOKAMBA | J10: 1 | P10: =+$E10*J10 -> 140 | Q10: =+$E10*K10 -> 0 | R10: =+$E10*L10 -> 0 | S10: =+$E10*M10 -> 0 | T10: =+$E10*N10 -> 0 | U10: =+$E10*O10 -> 0 | V10: =SUM(P10:U10) -> 140 | X10: =+V10-E10 -> 0
A11: =+IF(D11>0,1,0) -> 1 | B11: Ets AMITIE ex CONGO1 kitoko daniel | C11: cash | D11: 26 | E11: =D11*7 -> 182 | F11: 45996 | G11: =+IF(A11=1,(+TODAY())-F11,"Sans objet") -> 311 | H11: 2 | I11: =VLOOKUP(H11,Secteurs!$A$2:$C$4,3) -> Félix OVOURA | J11: 0.5 | N11: 0.5 | P11: =+$E11*J11 -> 91 | Q11: =+$E11*K11 -> 0 | R11: =+$E11*L11 -> 0 | S11: =+$E11*M11 -> 0 | T11: =+$E11*N11 -> 91 | U11: =+$E11*O11 -> 0 | V11: =SUM(P11:U11) -> 182 | X11: =+V11-E11 -> 0
A12: =+IF(D12>0,1,0) -> 1 | B12: Ets AMITIE ex BAGDAD2 Rex grand marché | C12: cash | D12: 24 | E12: =D12*7 -> 168 | F12: 45996 | G12: =+IF(A12=1,(+TODAY())-F12,"Sans objet") -> 311 | H12: 2 | I12: =VLOOKUP(H12,Secteurs!$A$2:$C$4,3) -> Félix OVOURA | J12: 1 | P12: =+$E12*J12 -> 168 | Q12: =+$E12*K12 -> 0 | R12: =+$E12*L12 -> 0 | S12: =+$E12*M12 -> 0 | T12: =+$E12*N12 -> 0 | U12: =+$E12*O12 -> 0 | V12: =SUM(P12:U12) -> 168 | X12: =+V12-E12 -> 0
A13: =+IF(D13>0,1,0) -> 1 | B13: Ets AMITIE ex BONNE CHANCE nkouinkou dénisia | C13: cash | D13: 24 | E13: =D13*7 -> 168 | F13: 45992 | G13: =+IF(A13=1,(+TODAY())-F13,"Sans objet") -> 315 | H13: 1 | I13: =VLOOKUP(H13,Secteurs!$A$2:$C$4,3) -> Alexis MABOUNDA | J13: 0.5 | L13: 0.5 | P13: =+$E13*J13 -> 84 | Q13: =+$E13*K13 -> 0 | R13: =+$E13*L13 -> 84 | S13: =+$E13*M13 -> 0 | T13: =+$E13*N13 -> 0 | U13: =+$E13*O13 -> 0 | V13: =SUM(P13:U13) -> 168 | X13: =+V13-E13 -> 0
A14: =+IF(D14>0,1,0) -> 1 | B14: BAH ex HACEN fond tié-tié | C14: cash | D14: 36 | E14: =D14*7 -> 252 | F14: 45995 | G14: =+IF(A14=1,(+TODAY())-F14,"Sans objet") -> 312 | H14: 3 | I14: =VLOOKUP(H14,Secteurs!$A$2:$C$4,3) -> Armel SOKAMBA | J14: 0.5 | O14: 0.5 | P14: =+$E14*J14 -> 126 | Q14: =+$E14*K14 -> 0 | R14: =+$E14*L14 -> 0 | S14: =+$E14*M14 -> 0 | T14: =+$E14*N14 -> 0 | U14: =+$E14*O14 -> 126 | V14: =SUM(P14:U14) -> 252 | X14: =+V14-E14 -> 0
A15: =+IF(D15>0,1,0) -> 1 | B15: BAH ex SASI tié tié massola | C15: cash | D15: 20 | E15: =D15*7 -> 140 | F15: 45995 | G15: =+IF(A15=1,(+TODAY())-F15,"Sans objet") -> 312 | H15: 2 | I15: =VLOOKUP(H15,Secteurs!$A$2:$C$4,3) -> Félix OVOURA | J15: 0.5 | O15: 0.5 | P15: =+$E15*J15 -> 70 | Q15: =+$E15*K15 -> 0 | R15: =+$E15*L15 -> 0 | S15: =+$E15*M15 -> 0 | T15: =+$E15*N15 -> 0 | U15: =+$E15*O15 -> 70 | V15: =SUM(P15:U15) -> 140 | X15: =+V15-E15 -> 0
A16: =+IF(D16>0,1,0) -> 1 | B16: BAH ex BMM paka maison blanche | C16: cash | D16: 20 | E16: =D16*7 -> 140 | F16: 45995 | G16: =+IF(A16=1,(+TODAY())-F16,"Sans objet") -> 312 | H16: 3 | I16: =VLOOKUP(H16,Secteurs!$A$2:$C$4,3) -> Armel SOKAMBA | J16: 1 | P16: =+$E16*J16 -> 140 | Q16: =+$E16*K16 -> 0 | R16: =+$E16*L16 -> 0 | S16: =+$E16*M16 -> 0 | T16: =+$E16*N16 -> 0 | U16: =+$E16*O16 -> 0 | V16: =SUM(P16:U16) -> 140 | X16: =+V16-E16 -> 0
A17: =+IF(D17>0,1,0) -> 1 | B17: BA mvoumvou immigration | C17: cash | D17: 28 | E17: =D17*7 -> 196 | F17: 45996 | G17: =+IF(A17=1,(+TODAY())-F17,"Sans objet") -> 311 | H17: 2 | I17: =VLOOKUP(H17,Secteurs!$A$2:$C$4,3) -> Félix OVOURA | J17: 0.5 | M17: 0.5 | P17: =+$E17*J17 -> 98 | Q17: =+$E17*K17 -> 0 | R17: =+$E17*L17 -> 0 | S17: =+$E17*M17 -> 98 | T17: =+$E17*N17 -> 0 | U17: =+$E17*O17 -> 0 | V17: =SUM(P17:U17) -> 196 | X17: =+V17-E17 -> 0
A18: =+IF(D18>0,1,0) -> 1 | B18: BA thyster mongo mpoukou | C18: cash | D18: 16 | E18: =D18*7 -> 112 | F18: 45992 | G18: =+IF(A18=1,(+TODAY())-F18,"Sans objet") -> 315 | H18: 1 | I18: =VLOOKUP(H18,Secteurs!$A$2:$C$4,3) -> Alexis MABOUNDA | J18: 0.5 | N18: 0.5 | P18: =+$E18*J18 -> 56 | Q18: =+$E18*K18 -> 0 | R18: =+$E18*L18 -> 0 | S18: =+$E18*M18 -> 0 | T18: =+$E18*N18 -> 56 | U18: =+$E18*O18 -> 0 | V18: =SUM(P18:U18) -> 112 | X18: =+V18-E18 -> 0
A19: =+IF(D19>0,1,0) -> 1 | B19: BA mpaka dalette | C19: cash | D19: 26 | E19: =D19*7 -> 182 | F19: 45993 | G19: =+IF(A19=1,(+TODAY())-F19,"Sans objet") -> 314 | H19: 3 | I19: =VLOOKUP(H19,Secteurs!$A$2:$C$4,3) -> Armel SOKAMBA | J19: 0.5 | L19: 0.25 | M19: 0.25 | P19: =+$E19*J19 -> 91 | Q19: =+$E19*K19 -> 0 | R19: =+$E19*L19 -> 45.5 | S19: =+$E19*M19 -> 45.5 | T19: =+$E19*N19 -> 0 | U19: =+$E19*O19 -> 0 | V19: =SUM(P19:U19) -> 182 | X19: =+V19-E19 -> 0
A20: =+IF(D20>0,1,0) -> 1 | B20: BA fond tié-tié gar | C20: cash | D20: 46 | E20: =D20*7 -> 322 | F20: 45995 | G20: =+IF(A20=1,(+TODAY())-F20,"Sans objet") -> 312 | H20: 3 | I20: =VLOOKUP(H20,Secteurs!$A$2:$C$4,3) -> Armel SOKAMBA | J20: 0.5 | N20: 0.5 | P20: =+$E20*J20 -> 161 | Q20: =+$E20*K20 -> 0 | R20: =+$E20*L20 -> 0 | S20: =+$E20*M20 -> 0 | T20: =+$E20*N20 -> 161 | U20: =+$E20*O20 -> 0 | V20: =SUM(P20:U20) -> 322 | X20: =+V20-E20 -> 0
A21: =+IF(D21>0,1,0) -> 1 | B21: BA mpaka marché | C21: cash | D21: 20 | E21: =D21*7 -> 140 | F21: 45995 | G21: =+IF(A21=1,(+TODAY())-F21,"Sans objet") -> 312 | H21: 3 | I21: =VLOOKUP(H21,Secteurs!$A$2:$C$4,3) -> Armel SOKAMBA | J21: 0.5 | M21: 0.5 | P21: =+$E21*J21 -> 70 | Q21: =+$E21*K21 -> 0 | R21: =+$E21*L21 -> 0 | S21: =+$E21*M21 -> 70 | T21: =+$E21*N21 -> 0 | U21: =+$E21*O21 -> 0 | V21: =SUM(P21:U21) -> 140 | X21: =+V21-E21 -> 0
A22: =+IF(D22>0,1,0) -> 1 | B22: BA ngoyo | C22: cash | D22: 26 | E22: =D22*7 -> 182 | F22: 45995 | G22: =+IF(A22=1,(+TODAY())-F22,"Sans objet") -> 312 | H22: 3 | I22: =VLOOKUP(H22,Secteurs!$A$2:$C$4,3) -> Armel SOKAMBA | J22: 1 | P22: =+$E22*J22 -> 182 | Q22: =+$E22*K22 -> 0 | R22: =+$E22*L22 -> 0 | S22: =+$E22*M22 -> 0 | T22: =+$E22*N22 -> 0 | U22: =+$E22*O22 -> 0 | V22: =SUM(P22:U22) -> 182 | X22: =+V22-E22 -> 0
A23: =+IF(D23>0,1,0) -> 1 | B23: BA fond tié-tié en allant vers voungou | C23: cash | D23: 20 | E23: =D23*7 -> 140 | F23: 45995 | G23: =+IF(A23=1,(+TODAY())-F23,"Sans objet") -> 312 | H23: 3 | I23: =VLOOKUP(H23,Secteurs!$A$2:$C$4,3) -> Armel SOKAMBA | J23: 0.75 | L23: 0.25 | P23: =+$E23*J23 -> 105 | Q23: =+$E23*K23 -> 0 | R23: =+$E23*L23 -> 35 | S23: =+$E23*M23 -> 0 | T23: =+$E23*N23 -> 0 | U23: =+$E23*O23 -> 0 | V23: =SUM(P23:U23) -> 140 | X23: =+V23-E23 -> 0
A24: =+IF(D24>0,1,0) -> 1 | B24: NEINA REPUBLIQUE marché bissongo | C24: cash | D24: 18 | E24: =D24*7 -> 126 | F24: 45993 | G24: =+IF(A24=1,(+TODAY())-F24,"Sans objet") -> 314 | H24: 3 | I24: =VLOOKUP(H24,Secteurs!$A$2:$C$4,3) -> Armel SOKAMBA | J24: 0.5 | O24: 0.5 | P24: =+$E24*J24 -> 63 | Q24: =+$E24*K24 -> 0 | R24: =+$E24*L24 -> 0 | S24: =+$E24*M24 -> 0 | T24: =+$E24*N24 -> 0 | U24: =+$E24*O24 -> 63 | V24: =SUM(P24:U24) -> 126 | X24: =+V24-E24 -> 0
A25: =+IF(D25>0,1,0) -> 1 | B25: NEINA REPUBLIQUE ngoyo central | C25: cash | D25: 24 | E25: =D25*7 -> 168 | F25: 45993 | G25: =+IF(A25=1,(+TODAY())-F25,"Sans objet") -> 314 | H25: 3 | I25: =VLOOKUP(H25,Secteurs!$A$2:$C$4,3) -> Armel SOKAMBA | J25: 0.5 | O25: 0.5 | P25: =+$E25*J25 -> 84 | Q25: =+$E25*K25 -> 0 | R25: =+$E25*L25 -> 0 | S25: =+$E25*M25 -> 0 | T25: =+$E25*N25 -> 0 | U25: =+$E25*O25 -> 84 | V25: =SUM(P25:U25) -> 168 | X25: =+V25-E25 -> 0
A26: =+IF(D26>0,1,0) -> 1 | B26: NEINA REPUBLIQUE grand marché | C26: cash | D26: 24 | E26: =D26*7 -> 168 | F26: 45996 | G26: =+IF(A26=1,(+TODAY())-F26,"Sans objet") -> 311 | H26: 2 | I26: =VLOOKUP(H26,Secteurs!$A$2:$C$4,3) -> Félix OVOURA | J26: 0.5 | O26: 0.5 | P26: =+$E26*J26 -> 84 | Q26: =+$E26*K26 -> 0 | R26: =+$E26*L26 -> 0 | S26: =+$E26*M26 -> 0 | T26: =+$E26*N26 -> 0 | U26: =+$E26*O26 -> 84 | V26: =SUM(P26:U26) -> 168 | X26: =+V26-E26 -> 0
A27: =+IF(D27>0,1,0) -> 1 | B27: NEINA REPUBLIQUE tchimbambouka | C27: cash | D27: 20 | E27: =D27*7 -> 140 | F27: 45993 | G27: =+IF(A27=1,(+TODAY())-F27,"Sans objet") -> 314 | H27: 3 | I27: =VLOOKUP(H27,Secteurs!$A$2:$C$4,3) -> Armel SOKAMBA | J27: 0.5 | O27: 0.5 | P27: =+$E27*J27 -> 70 | Q27: =+$E27*K27 -> 0 | R27: =+$E27*L27 -> 0 | S27: =+$E27*M27 -> 0 | T27: =+$E27*N27 -> 0 | U27: =+$E27*O27 -> 70 | V27: =SUM(P27:U27) -> 140 | X27: =+V27-E27 -> 0
A28: =+IF(D28>0,1,0) -> 1 | B28: MED MMB deux poteaux | C28: cash | D28: 20 | E28: =D28*7 -> 140 | F28: 45993 | G28: =+IF(A28=1,(+TODAY())-F28,"Sans objet") -> 314 | H28: 3 | I28: =VLOOKUP(H28,Secteurs!$A$2:$C$4,3) -> Armel SOKAMBA | J28: 0.5 | L28: 0.5 | P28: =+$E28*J28 -> 70 | Q28: =+$E28*K28 -> 0 | R28: =+$E28*L28 -> 70 | S28: =+$E28*M28 -> 0 | T28: =+$E28*N28 -> 0 | U28: =+$E28*O28 -> 0 | V28: =SUM(P28:U28) -> 140 | X28: =+V28-E28 -> 0
A29: =+IF(D29>0,1,0) -> 1 | B29: MED marché tchimbamba | C29: cash | D29: 40 | E29: 24 | F29: 45995 | G29: =+IF(A29=1,(+TODAY())-F29,"Sans objet") -> 312 | H29: 3 | I29: =VLOOKUP(H29,Secteurs!$A$2:$C$4,3) -> Armel SOKAMBA | J29: 0.5 | O29: 0.5 | P29: =+$E29*J29 -> 12 | Q29: =+$E29*K29 -> 0 | R29: =+$E29*L29 -> 0 | S29: =+$E29*M29 -> 0 | T29: =+$E29*N29 -> 0 | U29: =+$E29*O29 -> 12 | V29: =SUM(P29:U29) -> 24 | X29: =+V29-E29 -> 0
A30: =+IF(D30>0,1,0) -> 1 | B30: MED ngoyo péage | C30: cash | D30: 30 | E30: =D30*7 -> 210 | F30: 45995 | G30: =+IF(A30=1,(+TODAY())-F30,"Sans objet") -> 312 | H30: 3 | I30: =VLOOKUP(H30,Secteurs!$A$2:$C$4,3) -> Armel SOKAMBA | J30: 0.5 | L30: 0.25 | M30: 0.25 | P30: =+$E30*J30 -> 105 | Q30: =+$E30*K30 -> 0 | R30: =+$E30*L30 -> 52.5 | S30: =+$E30*M30 -> 52.5 | T30: =+$E30*N30 -> 0 | U30: =+$E30*O30 -> 0 | V30: =SUM(P30:U30) -> 210 | X30: =+V30-E30 -> 0
A31: =+IF(D31>0,1,0) -> 1 | B31: MED ex la grace vindoulou | C31: cash | D31: 22 | E31: =D31*7 -> 154 | F31: 45992 | G31: =+IF(A31=1,(+TODAY())-F31,"Sans objet") -> 315 | H31: 1 | I31: =VLOOKUP(H31,Secteurs!$A$2:$C$4,3) -> Alexis MABOUNDA | J31: 0.75 | L31: 0.25 | P31: =+$E31*J31 -> 115.5 | Q31: =+$E31*K31 -> 0 | R31: =+$E31*L31 -> 38.5 | S31: =+$E31*M31 -> 0 | T31: =+$E31*N31 -> 0 | U31: =+$E31*O31 -> 0 | V31: =SUM(P31:U31) -> 154 | X31: =+V31-E31 -> 0
A32: =+IF(D32>0,1,0) -> 1 | B32: MED marché tsourou thyster | C32: cash | D32: 26 | E32: =D32*7 -> 182 | F32: 45992 | G32: =+IF(A32=1,(+TODAY())-F32,"Sans objet") -> 315 | H32: 1 | I32: =VLOOKUP(H32,Secteurs!$A$2:$C$4,3) -> Alexis MABOUNDA | J32: 0.5 | L32: 0.5 | P32: =+$E32*J32 -> 91 | Q32: =+$E32*K32 -> 0 | R32: =+$E32*L32 -> 91 | S32: =+$E32*M32 -> 0 | T32: =+$E32*N32 -> 0 | U32: =+$E32*O32 -> 0 | V32: =SUM(P32:U32) -> 182 | X32: =+V32-E32 -> 0
A33: =+IF(D33>0,1,0) -> 1 | B33: MED MMB contre rail | C33: cash | D33: 16 | E33: =D33*7 -> 112 | F33: 45995 | G33: =+IF(A33=1,(+TODAY())-F33,"Sans objet") -> 312 | H33: 3 | I33: =VLOOKUP(H33,Secteurs!$A$2:$C$4,3) -> Armel SOKAMBA | J33: 0.5 | L33: 0.5 | P33: =+$E33*J33 -> 56 | Q33: =+$E33*K33 -> 0 | R33: =+$E33*L33 -> 56 | S33: =+$E33*M33 -> 0 | T33: =+$E33*N33 -> 0 | U33: =+$E33*O33 -> 0 | V33: =SUM(P33:U33) -> 112 | X33: =+V33-E33 -> 0
A34: =+IF(D34>0,1,0) -> 1 | B34: TOD mvoumvou sympatique | C34: cash | D34: 26 | E34: =D34*7 -> 182 | F34: 45996 | G34: =+IF(A34=1,(+TODAY())-F34,"Sans objet") -> 311 | H34: 2 | I34: =VLOOKUP(H34,Secteurs!$A$2:$C$4,3) -> Félix OVOURA | J34: 1 | P34: =+$E34*J34 -> 182 | Q34: =+$E34*K34 -> 0 | R34: =+$E34*L34 -> 0 | S34: =+$E34*M34 -> 0 | T34: =+$E34*N34 -> 0 | U34: =+$E34*O34 -> 0 | V34: =SUM(P34:U34) -> 182 | X34: =+V34-E34 -> 0
A35: =+IF(D35>0,1,0) -> 1 | B35: TOD roy | C35: cash | D35: 24 | E35: =D35*7 -> 168 | F35: 45996 | G35: =+IF(A35=1,(+TODAY())-F35,"Sans objet") -> 311 | H35: 2 | I35: =VLOOKUP(H35,Secteurs!$A$2:$C$4,3) -> Félix OVOURA | J35: 0.5 | L35: 0.5 | P35: =+$E35*J35 -> 84 | Q35: =+$E35*K35 -> 0 | R35: =+$E35*L35 -> 84 | S35: =+$E35*M35 -> 0 | T35: =+$E35*N35 -> 0 | U35: =+$E35*O35 -> 0 | V35: =SUM(P35:U35) -> 168 | X35: =+V35-E35 -> 0
A36: =+IF(D36>0,1,0) -> 1 | B36: TOD och | C36: cash | D36: 30 | E36: =D36*7 -> 210 | F36: 45996 | G36: =+IF(A36=1,(+TODAY())-F36,"Sans objet") -> 311 | H36: 2 | I36: =VLOOKUP(H36,Secteurs!$A$2:$C$4,3) -> Félix OVOURA | J36: 1 | P36: =+$E36*J36 -> 210 | Q36: =+$E36*K36 -> 0 | R36: =+$E36*L36 -> 0 | S36: =+$E36*M36 -> 0 | T36: =+$E36*N36 -> 0 | U36: =+$E36*O36 -> 0 | V36: =SUM(P36:U36) -> 210 | X36: =+V36-E36 -> 0
A37: =+IF(D37>0,1,0) -> 1 | B37: WAMAS ex moulin rouge | C37: cash | D37: 18 | E37: =D37*7 -> 126 | F37: 45993 | G37: =+IF(A37=1,(+TODAY())-F37,"Sans objet") -> 314 | H37: 3 | I37: =VLOOKUP(H37,Secteurs!$A$2:$C$4,3) -> Armel SOKAMBA | J37: 1 | P37: =+$E37*J37 -> 126 | Q37: =+$E37*K37 -> 0 | R37: =+$E37*L37 -> 0 | S37: =+$E37*M37 -> 0 | T37: =+$E37*N37 -> 0 | U37: =+$E37*O37 -> 0 | V37: =SUM(P37:U37) -> 126 | X37: =+V37-E37 -> 0
A38: =+IF(D38>0,1,0) -> 1 | B38: CHRISTINA kitoko daniel | C38: cash | D38: 24 | E38: =D38*7 -> 168 | F38: 45996 | G38: =+IF(A38=1,(+TODAY())-F38,"Sans objet") -> 311 | H38: 2 | I38: =VLOOKUP(H38,Secteurs!$A$2:$C$4,3) -> Félix OVOURA | J38: 0.5 | N38: 0.5 | P38: =+$E38*J38 -> 84 | Q38: =+$E38*K38 -> 0 | R38: =+$E38*L38 -> 0 | S38: =+$E38*M38 -> 0 | T38: =+$E38*N38 -> 84 | U38: =+$E38*O38 -> 0 | V38: =SUM(P38:U38) -> 168 | X38: =+V38-E38 -> 0
A39: =+IF(D39>0,1,0) -> 1 | B39: LOUKABOU grand marhé lumumba | C39: cash | D39: 16 | E39: =D39*7 -> 112 | F39: 45995 | G39: =+IF(A39=1,(+TODAY())-F39,"Sans objet") -> 312 | H39: 2 | I39: =VLOOKUP(H39,Secteurs!$A$2:$C$4,3) -> Félix OVOURA | J39: 0.5 | L39: 0.5 | P39: =+$E39*J39 -> 56 | Q39: =+$E39*K39 -> 0 | R39: =+$E39*L39 -> 56 | S39: =+$E39*M39 -> 0 | T39: =+$E39*N39 -> 0 | U39: =+$E39*O39 -> 0 | V39: =SUM(P39:U39) -> 112 | X39: =+V39-E39 -> 0
A40: =+IF(D40>0,1,0) -> 1 | B40: LA CITRONNELLE | C40: cash | D40: 16 | E40: =D40*7 -> 112 | F40: 45996 | G40: =+IF(A40=1,(+TODAY())-F40,"Sans objet") -> 311 | H40: 2 | I40: =VLOOKUP(H40,Secteurs!$A$2:$C$4,3) -> Félix OVOURA | J40: 1 | P40: =+$E40*J40 -> 112 | Q40: =+$E40*K40 -> 0 | R40: =+$E40*L40 -> 0 | S40: =+$E40*M40 -> 0 | T40: =+$E40*N40 -> 0 | U40: =+$E40*O40 -> 0 | V40: =SUM(P40:U40) -> 112 | X40: =+V40-E40 -> 0
A41: =+IF(D41>0,1,0) -> 1 | B41: CONTINENT | C41: cash | D41: 10 | E41: =D41*7 -> 70 | F41: 45995 | G41: =+IF(A41=1,(+TODAY())-F41,"Sans objet") -> 312 | H41: 2 | I41: =VLOOKUP(H41,Secteurs!$A$2:$C$4,3) -> Félix OVOURA | N41: 1 | P41: =+$E41*J41 -> 0 | Q41: =+$E41*K41 -> 0 | R41: =+$E41*L41 -> 0 | S41: =+$E41*M41 -> 0 | T41: =+$E41*N41 -> 70 | U41: =+$E41*O41 -> 0 | V41: =SUM(P41:U41) -> 70 | X41: =+V41-E41 -> 0
A42: =+IF(D42>0,1,0) -> 1 | B42: ESPACE DE LA PROMESSE | C42: cash | D42: 9 | E42: =D42*7 -> 63 | F42: 45992 | G42: =+IF(A42=1,(+TODAY())-F42,"Sans objet") -> 315 | H42: 1 | I42: =VLOOKUP(H42,Secteurs!$A$2:$C$4,3) -> Alexis MABOUNDA | J42: 1 | P42: =+$E42*J42 -> 63 | Q42: =+$E42*K42 -> 0 | R42: =+$E42*L42 -> 0 | S42: =+$E42*M42 -> 0 | T42: =+$E42*N42 -> 0 | U42: =+$E42*O42 -> 0 | V42: =SUM(P42:U42) -> 63 | X42: =+V42-E42 -> 0
A43: =+IF(D43>0,1,0) -> 1 | B43: ZAM-ZAM1 mpaka 5chemin | C43: cash | D43: 30 | E43: =D43*7 -> 210 | F43: 45993 | G43: =+IF(A43=1,(+TODAY())-F43,"Sans objet") -> 314 | H43: 3 | I43: =VLOOKUP(H43,Secteurs!$A$2:$C$4,3) -> Armel SOKAMBA | M43: 0.5 | N43: 0.25 | O43: 0.25 | P43: =+$E43*J43 -> 0 | Q43: =+$E43*K43 -> 0 | R43: =+$E43*L43 -> 0 | S43: =+$E43*M43 -> 105 | T43: =+$E43*N43 -> 52.5 | U43: =+$E43*O43 -> 52.5 | V43: =SUM(P43:U43) -> 210 | X43: =+V43-E43 -> 0
A44: =+IF(D44>0,1,0) -> 1 | B44: ZAM-ZAM2 tchimani | C44: cash | D44: 26 | E44: =D44*7 -> 182 | F44: 45993 | G44: =+IF(A44=1,(+TODAY())-F44,"Sans objet") -> 314 | H44: 3 | I44: =VLOOKUP(H44,Secteurs!$A$2:$C$4,3) -> Armel SOKAMBA | M44: 0.5 | O44: 0.5 | P44: =+$E44*J44 -> 0 | Q44: =+$E44*K44 -> 0 | R44: =+$E44*L44 -> 0 | S44: =+$E44*M44 -> 91 | T44: =+$E44*N44 -> 0 | U44: =+$E44*O44 -> 91 | V44: =SUM(P44:U44) -> 182 | X44: =+V44-E44 -> 0
A45: =+IF(D45>0,1,0) -> 1 | B45: YAYA BILAL1 tchimbambouka | C45: cash | D45: 30 | E45: =D45*7 -> 210 | F45: 45993 | G45: =+IF(A45=1,(+TODAY())-F45,"Sans objet") -> 314 | H45: 3 | I45: =VLOOKUP(H45,Secteurs!$A$2:$C$4,3) -> Armel SOKAMBA | L45: 0.5 | N45: 0.5 | P45: =+$E45*J45 -> 0 | Q45: =+$E45*K45 -> 0 | R45: =+$E45*L45 -> 105 | S45: =+$E45*M45 -> 0 | T45: =+$E45*N45 -> 105 | U45: =+$E45*O45 -> 0 | V45: =SUM(P45:U45) -> 210 | X45: =+V45-E45 -> 0
A46: =+IF(D46>0,1,0) -> 1 | B46: ZAM-ZAM ext 5chemin | C46: cash | D46: 26 | E46: =D46*7 -> 182 | F46: 45993 | G46: =+IF(A46=1,(+TODAY())-F46,"Sans objet") -> 314 | H46: 3 | I46: =VLOOKUP(H46,Secteurs!$A$2:$C$4,3) -> Armel SOKAMBA | K46: 0.5 | M46: 0.5 | P46: =+$E46*J46 -> 0 | Q46: =+$E46*K46 -> 91 | R46: =+$E46*L46 -> 0 | S46: =+$E46*M46 -> 91 | T46: =+$E46*N46 -> 0 | U46: =+$E46*O46 -> 0 | V46: =SUM(P46:U46) -> 182 | X46: =+V46-E46 -> 0
A47: =+IF(D47>0,1,0) -> 1 | B47: AFRICAINE1 nkouikou nzango | C47: cash | D47: 10 | E47: =D47*7 -> 70 | F47: 45992 | G47: =+IF(A47=1,(+TODAY())-F47,"Sans objet") -> 315 | H47: 1 | I47: =VLOOKUP(H47,Secteurs!$A$2:$C$4,3) -> Alexis MABOUNDA | J47: 0.5 | O47: 0.5 | P47: =+$E47*J47 -> 35 | Q47: =+$E47*K47 -> 0 | R47: =+$E47*L47 -> 0 | S47: =+$E47*M47 -> 0 | T47: =+$E47*N47 -> 0 | U47: =+$E47*O47 -> 35 | V47: =SUM(P47:U47) -> 70 | X47: =+V47-E47 -> 0
A48: =+IF(D48>0,1,0) -> 1 | B48: AFRICAINE2 nkouinkou vonvon | C48: cash | D48: 13 | E48: =D48*7 -> 91 | F48: 45994 | G48: =+IF(A48=1,(+TODAY())-F48,"Sans objet") -> 313 | H48: 1 | I48: =VLOOKUP(H48,Secteurs!$A$2:$C$4,3) -> Alexis MABOUNDA | J48: 0.5 | O48: 0.5 | P48: =+$E48*J48 -> 45.5 | Q48: =+$E48*K48 -> 0 | R48: =+$E48*L48 -> 0 | S48: =+$E48*M48 -> 0 | T48: =+$E48*N48 -> 0 | U48: =+$E48*O48 -> 45.5 | V48: =SUM(P48:U48) -> 91 | X48: =+V48-E48 -> 0
A49: =+IF(D49>0,1,0) -> 1 | B49: AFRICAINE3 tchialli | C49: cash | D49: 16 | E49: =D49*7 -> 112 | F49: 45994 | G49: =+IF(A49=1,(+TODAY())-F49,"Sans objet") -> 313 | H49: 1 | I49: =VLOOKUP(H49,Secteurs!$A$2:$C$4,3) -> Alexis MABOUNDA | J49: 0.5 | M49: 0.5 | P49: =+$E49*J49 -> 56 | Q49: =+$E49*K49 -> 0 | R49: =+$E49*L49 -> 0 | S49: =+$E49*M49 -> 56 | T49: =+$E49*N49 -> 0 | U49: =+$E49*O49 -> 0 | V49: =SUM(P49:U49) -> 112 | X49: =+V49-E49 -> 0
A50: =+IF(D50>0,1,0) -> 1 | B50: AFRICAINE4 la fontaine | C50: cash | D50: 14 | E50: =D50*7 -> 98 | F50: 45993 | G50: =+IF(A50=1,(+TODAY())-F50,"Sans objet") -> 314 | H50: 3 | I50: =VLOOKUP(H50,Secteurs!$A$2:$C$4,3) -> Armel SOKAMBA | J50: 0.5 | O50: 0.5 | P50: =+$E50*J50 -> 49 | Q50: =+$E50*K50 -> 0 | R50: =+$E50*L50 -> 0 | S50: =+$E50*M50 -> 0 | T50: =+$E50*N50 -> 0 | U50: =+$E50*O50 -> 49 | V50: =SUM(P50:U50) -> 98 | X50: =+V50-E50 -> 0
A51: =+IF(D51>0,1,0) -> 1 | B51: AFRICAINE5 ngoyo avenue taty loutard | C51: cash | D51: 24 | E51: =D51*7 -> 168 | F51: 45995 | G51: =+IF(A51=1,(+TODAY())-F51,"Sans objet") -> 312 | H51: 3 | I51: =VLOOKUP(H51,Secteurs!$A$2:$C$4,3) -> Armel SOKAMBA | J51: 0.5 | L51: 0.5 | P51: =+$E51*J51 -> 84 | Q51: =+$E51*K51 -> 0 | R51: =+$E51*L51 -> 84 | S51: =+$E51*M51 -> 0 | T51: =+$E51*N51 -> 0 | U51: =+$E51*O51 -> 0 | V51: =SUM(P51:U51) -> 168 | X51: =+V51-E51 -> 0
A52: =+IF(D52>0,1,0) -> 1 | B52: AFRICAINE6 ngoyo central | C52: cash | D52: 24 | E52: =D52*7 -> 168 | F52: 45995 | G52: =+IF(A52=1,(+TODAY())-F52,"Sans objet") -> 312 | H52: 3 | I52: =VLOOKUP(H52,Secteurs!$A$2:$C$4,3) -> Armel SOKAMBA | J52: 0.5 | O52: 0.5 | P52: =+$E52*J52 -> 84 | Q52: =+$E52*K52 -> 0 | R52: =+$E52*L52 -> 0 | S52: =+$E52*M52 -> 0 | T52: =+$E52*N52 -> 0 | U52: =+$E52*O52 -> 84 | V52: =SUM(P52:U52) -> 168 | X52: =+V52-E52 -> 0
A53: =+IF(D53>0,1,0) -> 1 | B53: AFRICAINE7 nzassi | C53: cash | D53: 18 | E53: =D53*7 -> 126 | F53: 45995 | G53: =+IF(A53=1,(+TODAY())-F53,"Sans objet") -> 312 | H53: 3 | I53: =VLOOKUP(H53,Secteurs!$A$2:$C$4,3) -> Armel SOKAMBA | M53: 0.5 | O53: 0.5 | P53: =+$E53*J53 -> 0 | Q53: =+$E53*K53 -> 0 | R53: =+$E53*L53 -> 0 | S53: =+$E53*M53 -> 63 | T53: =+$E53*N53 -> 0 | U53: =+$E53*O53 -> 63 | V53: =SUM(P53:U53) -> 126 | X53: =+V53-E53 -> 0
A54: =+IF(D54>0,1,0) -> 1 | B54: ML AFRICAINE marché faubourd | C54: cash | D54: 14 | E54: =D54*7 -> 98 | F54: 45994 | G54: =+IF(A54=1,(+TODAY())-F54,"Sans objet") -> 313 | H54: 1 | I54: =VLOOKUP(H54,Secteurs!$A$2:$C$4,3) -> Alexis MABOUNDA | J54: 0.5 | O54: 0.5 | P54: =+$E54*J54 -> 49 | Q54: =+$E54*K54 -> 0 | R54: =+$E54*L54 -> 0 | S54: =+$E54*M54 -> 0 | T54: =+$E54*N54 -> 0 | U54: =+$E54*O54 -> 49 | V54: =SUM(P54:U54) -> 98 | X54: =+V54-E54 -> 0
A55: =+IF(D55>0,1,0) -> 1 | B55: SUPER MIE ex MLD raffinerie | C55: cash | D55: 28 | E55: =D55*7 -> 196 | F55: 45994 | G55: =+IF(A55=1,(+TODAY())-F55,"Sans objet") -> 313 | H55: 1 | I55: =VLOOKUP(H55,Secteurs!$A$2:$C$4,3) -> Alexis MABOUNDA | J55: 0.5 | K55: 0.25 | O55: 0.25 | P55: =+$E55*J55 -> 98 | Q55: =+$E55*K55 -> 49 | R55: =+$E55*L55 -> 0 | S55: =+$E55*M55 -> 0 | T55: =+$E55*N55 -> 0 | U55: =+$E55*O55 -> 49 | V55: =SUM(P55:U55) -> 196 | X55: =+V55-E55 -> 0
A56: =+IF(D56>0,1,0) -> 1 | B56: ELKOUZ marché faubourg | C56: cash | D56: 48 | E56: =D56*7 -> 336 | F56: 45994 | G56: =+IF(A56=1,(+TODAY())-F56,"Sans objet") -> 313 | H56: 1 | I56: =VLOOKUP(H56,Secteurs!$A$2:$C$4,3) -> Alexis MABOUNDA | J56: 0.5 | L56: 0.25 | O56: 0.25 | P56: =+$E56*J56 -> 168 | Q56: =+$E56*K56 -> 0 | R56: =+$E56*L56 -> 84 | S56: =+$E56*M56 -> 0 | T56: =+$E56*N56 -> 0 | U56: =+$E56*O56 -> 84 | V56: =SUM(P56:U56) -> 336 | X56: =+V56-E56 -> 0
A57: =+IF(D57>0,1,0) -> 1 | B57: AYA fond -tié-tié | C57: cash | D57: 28 | E57: =D57*7 -> 196 | F57: 45995 | G57: =+IF(A57=1,(+TODAY())-F57,"Sans objet") -> 312 | H57: 3 | I57: =VLOOKUP(H57,Secteurs!$A$2:$C$4,3) -> Armel SOKAMBA | K57: 0.5 | N57: 0.5 | P57: =+$E57*J57 -> 0 | Q57: =+$E57*K57 -> 98 | R57: =+$E57*L57 -> 0 | S57: =+$E57*M57 -> 0 | T57: =+$E57*N57 -> 98 | U57: =+$E57*O57 -> 0 | V57: =SUM(P57:U57) -> 196 | X57: =+V57-E57 -> 0
A58: =+IF(D58>0,1,0) -> 1 | B58: LALA thyster | C58: cash | D58: 24 | E58: =D58*7 -> 168 | F58: 45992 | G58: =+IF(A58=1,(+TODAY())-F58,"Sans objet") -> 315 | H58: 1 | I58: =VLOOKUP(H58,Secteurs!$A$2:$C$4,3) -> Alexis MABOUNDA | J58: 0.5 | L58: 0.5 | P58: =+$E58*J58 -> 84 | Q58: =+$E58*K58 -> 0 | R58: =+$E58*L58 -> 84 | S58: =+$E58*M58 -> 0 | T58: =+$E58*N58 -> 0 | U58: =+$E58*O58 -> 0 | V58: =SUM(P58:U58) -> 168 | X58: =+V58-E58 -> 0
A59: =+IF(D59>0,1,0) -> 1 | B59: LALA thyster extension | C59: cash | D59: 20 | E59: =D59*7 -> 140 | F59: 45992 | G59: =+IF(A59=1,(+TODAY())-F59,"Sans objet") -> 315 | H59: 1 | I59: =VLOOKUP(H59,Secteurs!$A$2:$C$4,3) -> Alexis MABOUNDA | J59: 0.5 | L59: 0.5 | P59: =+$E59*J59 -> 70 | Q59: =+$E59*K59 -> 0 | R59: =+$E59*L59 -> 70 | S59: =+$E59*M59 -> 0 | T59: =+$E59*N59 -> 0 | U59: =+$E59*O59 -> 0 | V59: =SUM(P59:U59) -> 140 | X59: =+V59-E59 -> 0
A60: =+IF(D60>0,1,0) -> 1 | B60: EL WAVA vindoulou | C60: cash | D60: 20 | E60: =D60*7 -> 140 | F60: 45992 | G60: =+IF(A60=1,(+TODAY())-F60,"Sans objet") -> 315 | H60: 1 | I60: =VLOOKUP(H60,Secteurs!$A$2:$C$4,3) -> Alexis MABOUNDA | J60: 0.5 | L60: 0.5 | P60: =+$E60*J60 -> 70 | Q60: =+$E60*K60 -> 0 | R60: =+$E60*L60 -> 70 | S60: =+$E60*M60 -> 0 | T60: =+$E60*N60 -> 0 | U60: =+$E60*O60 -> 0 | V60: =SUM(P60:U60) -> 140 | X60: =+V60-E60 -> 0
A61: =+IF(D61>0,1,0) -> 1 | B61: MOUNGA PAIN avenue thyster movis | C61: crédit | D61: 26 | E61: =D61*7 -> 182 | F61: 45992 | G61: =+IF(A61=1,(+TODAY())-F61,"Sans objet") -> 315 | H61: 1 | I61: =VLOOKUP(H61,Secteurs!$A$2:$C$4,3) -> Alexis MABOUNDA | J61: 0.5 | M61: 0.5 | P61: =+$E61*J61 -> 91 | Q61: =+$E61*K61 -> 0 | R61: =+$E61*L61 -> 0 | S61: =+$E61*M61 -> 91 | T61: =+$E61*N61 -> 0 | U61: =+$E61*O61 -> 0 | V61: =SUM(P61:U61) -> 182 | X61: =+V61-E61 -> 0
A62: =+IF(D62>0,1,0) -> 1 | B62: MOUNGA PAIN trabec mont kamba | C62: crédit | D62: 36 | E62: =D62*7 -> 252 | F62: 45992 | G62: =+IF(A62=1,(+TODAY())-F62,"Sans objet") -> 315 | H62: 1 | I62: =VLOOKUP(H62,Secteurs!$A$2:$C$4,3) -> Alexis MABOUNDA | J62: 0.5 | M62: 0.5 | P62: =+$E62*J62 -> 126 | Q62: =+$E62*K62 -> 0 | R62: =+$E62*L62 -> 0 | S62: =+$E62*M62 -> 126 | T62: =+$E62*N62 -> 0 | U62: =+$E62*O62 -> 0 | V62: =SUM(P62:U62) -> 252 | X62: =+V62-E62 -> 0
A63: =+IF(D63>0,1,0) -> 1 | B63: MOUNGA PAIN tsourou | C63: crédit | D63: 28 | E63: =D63*7 -> 196 | F63: 45992 | G63: =+IF(A63=1,(+TODAY())-F63,"Sans objet") -> 315 | H63: 1 | I63: =VLOOKUP(H63,Secteurs!$A$2:$C$4,3) -> Alexis MABOUNDA | J63: 0.5 | O63: 0.5 | P63: =+$E63*J63 -> 98 | Q63: =+$E63*K63 -> 0 | R63: =+$E63*L63 -> 0 | S63: =+$E63*M63 -> 0 | T63: =+$E63*N63 -> 0 | U63: =+$E63*O63 -> 98 | V63: =SUM(P63:U63) -> 196 | X63: =+V63-E63 -> 0
A64: =+IF(D64>0,1,0) -> 1 | B64: PARIS PAIN 1 | C64: crédit | D64: 20 | E64: =D64*7 -> 140 | F64: 45993 | G64: =+IF(A64=1,(+TODAY())-F64,"Sans objet") -> 314 | H64: 2 | I64: =VLOOKUP(H64,Secteurs!$A$2:$C$4,3) -> Félix OVOURA | J64: 0.5 | M64: 0.5 | P64: =+$E64*J64 -> 70 | Q64: =+$E64*K64 -> 0 | R64: =+$E64*L64 -> 0 | S64: =+$E64*M64 -> 70 | T64: =+$E64*N64 -> 0 | U64: =+$E64*O64 -> 0 | V64: =SUM(P64:U64) -> 140 | X64: =+V64-E64 -> 0
A65: =+IF(D65>0,1,0) -> 1 | B65: MAKKAH GM ex baguette d'amour | C65: crédit | D65: 26 | E65: =D65*7 -> 182 | F65: 45996 | G65: =+IF(A65=1,(+TODAY())-F65,"Sans objet") -> 311 | H65: 2 | I65: =VLOOKUP(H65,Secteurs!$A$2:$C$4,3) -> Félix OVOURA | N65: 0.5 | O65: 0.5 | P65: =+$E65*J65 -> 0 | Q65: =+$E65*K65 -> 0 | R65: =+$E65*L65 -> 0 | S65: =+$E65*M65 -> 0 | T65: =+$E65*N65 -> 91 | U65: =+$E65*O65 -> 91 | V65: =SUM(P65:U65) -> 182 | X65: =+V65-E65 -> 0
A66: =+IF(D66>0,1,0) -> 1 | B66: MAKKAH ex NAJAH Vindoulou station | C66: cash | D66: 24 | E66: =D66*7 -> 168 | F66: 45992 | G66: =+IF(A66=1,(+TODAY())-F66,"Sans objet") -> 315 | H66: 1 | I66: =VLOOKUP(H66,Secteurs!$A$2:$C$4,3) -> Alexis MABOUNDA | M66: 0.25 | N66: 0.25 | O66: 0.5 | P66: =+$E66*J66 -> 0 | Q66: =+$E66*K66 -> 0 | R66: =+$E66*L66 -> 0 | S66: =+$E66*M66 -> 42 | T66: =+$E66*N66 -> 42 | U66: =+$E66*O66 -> 84 | V66: =SUM(P66:U66) -> 168 | X66: =+V66-E66 -> 0
A67: =+IF(D67>0,1,0) -> 1 | B67: MAKKAH grand marché nina service | C67: cash | D67: 24 | E67: =D67*7 -> 168 | F67: 45996 | G67: =+IF(A67=1,(+TODAY())-F67,"Sans objet") -> 311 | H67: 2 | I67: =VLOOKUP(H67,Secteurs!$A$2:$C$4,3) -> Félix OVOURA | O67: 1 | P67: =+$E67*J67 -> 0 | Q67: =+$E67*K67 -> 0 | R67: =+$E67*L67 -> 0 | S67: =+$E67*M67 -> 0 | T67: =+$E67*N67 -> 0 | U67: =+$E67*O67 -> 168 | V67: =SUM(P67:U67) -> 168 | X67: =+V67-E67 -> 0
A68: =+IF(D68>0,1,0) -> 1 | B68: MAKKAH marché nkounikou1 | C68: cash | D68: 20 | E68: =D68*7 -> 140 | F68: 45992 | G68: =+IF(A68=1,(+TODAY())-F68,"Sans objet") -> 315 | H68: 1 | I68: =VLOOKUP(H68,Secteurs!$A$2:$C$4,3) -> Alexis MABOUNDA | M68: 0.25 | N68: 0.25 | O68: 0.5 | P68: =+$E68*J68 -> 0 | Q68: =+$E68*K68 -> 0 | R68: =+$E68*L68 -> 0 | S68: =+$E68*M68 -> 35 | T68: =+$E68*N68 -> 35 | U68: =+$E68*O68 -> 70 | V68: =SUM(P68:U68) -> 140 | X68: =+V68-E68 -> 0
A69: =+IF(D69>0,1,0) -> 1 | B69: MAKKAH voungou péchana | C69: cash | D69: 24 | E69: =D69*7 -> 168 | F69: 45993 | G69: =+IF(A69=1,(+TODAY())-F69,"Sans objet") -> 314 | H69: 3 | I69: =VLOOKUP(H69,Secteurs!$A$2:$C$4,3) -> Armel SOKAMBA | O69: 1 | P69: =+$E69*J69 -> 0 | Q69: =+$E69*K69 -> 0 | R69: =+$E69*L69 -> 0 | S69: =+$E69*M69 -> 0 | T69: =+$E69*N69 -> 0 | U69: =+$E69*O69 -> 168 | V69: =SUM(P69:U69) -> 168 | X69: =+V69-E69 -> 0
A70: =+IF(D70>0,1,0) -> 1 | B70: MAKKAH marché nkounikou2 | C70: cash | D70: 20 | E70: =D70*7 -> 140 | F70: 45992 | G70: =+IF(A70=1,(+TODAY())-F70,"Sans objet") -> 315 | H70: 1 | I70: =VLOOKUP(H70,Secteurs!$A$2:$C$4,3) -> Alexis MABOUNDA | N70: 0.5 | O70: 0.5 | P70: =+$E70*J70 -> 0 | Q70: =+$E70*K70 -> 0 | R70: =+$E70*L70 -> 0 | S70: =+$E70*M70 -> 0 | T70: =+$E70*N70 -> 70 | U70: =+$E70*O70 -> 70 | V70: =SUM(P70:U70) -> 140 | X70: =+V70-E70 -> 0
A71: =+IF(D71>0,1,0) -> 1 | B71: MAKKAH fond tié tié ex El emele | C71: cash | D71: 20 | E71: =D71*7 -> 140 | F71: 45995 | G71: =+IF(A71=1,(+TODAY())-F71,"Sans objet") -> 312 | H71: 2 | I71: =VLOOKUP(H71,Secteurs!$A$2:$C$4,3) -> Félix OVOURA | K71: 1 | P71: =+$E71*J71 -> 0 | Q71: =+$E71*K71 -> 140 | R71: =+$E71*L71 -> 0 | S71: =+$E71*M71 -> 0 | T71: =+$E71*N71 -> 0 | U71: =+$E71*O71 -> 0 | V71: =SUM(P71:U71) -> 140 | X71: =+V71-E71 -> 0
A72: =+IF(D72>0,1,0) -> 1 | B72: MAKKAH TR Balou constant loandjili | C72: cash | D72: 20 | E72: =D72*7 -> 140 | F72: 45996 | G72: =+IF(A72=1,(+TODAY())-F72,"Sans objet") -> 311 | H72: 1 | I72: =VLOOKUP(H72,Secteurs!$A$2:$C$4,3) -> Alexis MABOUNDA | K72: 0.5 | N72: 0.5 | P72: =+$E72*J72 -> 0 | Q72: =+$E72*K72 -> 70 | R72: =+$E72*L72 -> 0 | S72: =+$E72*M72 -> 0 | T72: =+$E72*N72 -> 70 | U72: =+$E72*O72 -> 0 | V72: =SUM(P72:U72) -> 140 | X72: =+V72-E72 -> 0
A73: =+IF(D73>0,1,0) -> 1 | B73: SOLIDARITE mpita | C73: cash | D73: 24 | E73: =D73*7 -> 168 | F73: 45993 | G73: =+IF(A73=1,(+TODAY())-F73,"Sans objet") -> 314 | H73: 2 | I73: =VLOOKUP(H73,Secteurs!$A$2:$C$4,3) -> Félix OVOURA | J73: 0.5 | M73: 0.5 | P73: =+$E73*J73 -> 84 | Q73: =+$E73*K73 -> 0 | R73: =+$E73*L73 -> 0 | S73: =+$E73*M73 -> 84 | T73: =+$E73*N73 -> 0 | U73: =+$E73*O73 -> 0 | V73: =SUM(P73:U73) -> 168 | X73: =+V73-E73 -> 0
A74: =+IF(D74>0,1,0) -> 1 | B74: L-KAKARA ex SOLIDARITE makayabou | C74: crédit | D74: 24 | E74: =D74*7 -> 168 | F74: 45996 | G74: =+IF(A74=1,(+TODAY())-F74,"Sans objet") -> 311 | H74: 1 | I74: =VLOOKUP(H74,Secteurs!$A$2:$C$4,3) -> Alexis MABOUNDA | J74: 0.5 | M74: 0.5 | P74: =+$E74*J74 -> 84 | Q74: =+$E74*K74 -> 0 | R74: =+$E74*L74 -> 0 | S74: =+$E74*M74 -> 84 | T74: =+$E74*N74 -> 0 | U74: =+$E74*O74 -> 0 | V74: =SUM(P74:U74) -> 168 | X74: =+V74-E74 -> 0
A75: =+IF(D75>0,1,0) -> 1 | B75: ZEYNAB ex chebou loussala | C75: crédit | D75: 18 | E75: =D75*7 -> 126 | F75: 45993 | G75: =+IF(A75=1,(+TODAY())-F75,"Sans objet") -> 314 | H75: 3 | I75: =VLOOKUP(H75,Secteurs!$A$2:$C$4,3) -> Armel SOKAMBA | K75: 0.5 | O75: 0.5 | P75: =+$E75*J75 -> 0 | Q75: =+$E75*K75 -> 63 | R75: =+$E75*L75 -> 0 | S75: =+$E75*M75 -> 0 | T75: =+$E75*N75 -> 0 | U75: =+$E75*O75 -> 63 | V75: =SUM(P75:U75) -> 126 | X75: =+V75-E75 -> 0
A76: =+IF(D76>0,1,0) -> 1 | B76: ZEYNAB ex chebou amour du pays | C76: cash | D76: 28 | E76: =D76*7 -> 196 | F76: 45993 | G76: =+IF(A76=1,(+TODAY())-F76,"Sans objet") -> 314 | H76: 3 | I76: =VLOOKUP(H76,Secteurs!$A$2:$C$4,3) -> Armel SOKAMBA | K76: 0.5 | N76: 0.25 | O76: 0.25 | P76: =+$E76*J76 -> 0 | Q76: =+$E76*K76 -> 98 | R76: =+$E76*L76 -> 0 | S76: =+$E76*M76 -> 0 | T76: =+$E76*N76 -> 49 | U76: =+$E76*O76 -> 49 | V76: =SUM(P76:U76) -> 196 | X76: =+V76-E76 -> 0
A77: =+IF(D77>0,1,0) -> 1 | B77: ZEYNAB ex chebou marché tchinkounkou | C77: crédit | D77: 14 | E77: =D77*7 -> 98 | F77: 45993 | G77: =+IF(A77=1,(+TODAY())-F77,"Sans objet") -> 314 | H77: 3 | I77: =VLOOKUP(H77,Secteurs!$A$2:$C$4,3) -> Armel SOKAMBA | J77: 0.5 | M77: 0.5 | P77: =+$E77*J77 -> 49 | Q77: =+$E77*K77 -> 0 | R77: =+$E77*L77 -> 0 | S77: =+$E77*M77 -> 49 | T77: =+$E77*N77 -> 0 | U77: =+$E77*O77 -> 0 | V77: =SUM(P77:U77) -> 98 | X77: =+V77-E77 -> 0
A78: =+IF(D78>0,1,0) -> 1 | B78: ZEYNAB PATRA hopital de base | C78: crédit | D78: 20 | E78: =D78*7 -> 140 | F78: 45995 | G78: =+IF(A78=1,(+TODAY())-F78,"Sans objet") -> 312 | H78: 3 | I78: =VLOOKUP(H78,Secteurs!$A$2:$C$4,3) -> Armel SOKAMBA | J78: 0.5 | M78: 0.5 | P78: =+$E78*J78 -> 70 | Q78: =+$E78*K78 -> 0 | R78: =+$E78*L78 -> 0 | S78: =+$E78*M78 -> 70 | T78: =+$E78*N78 -> 0 | U78: =+$E78*O78 -> 0 | V78: =SUM(P78:U78) -> 140 | X78: =+V78-E78 -> 0
A79: =+IF(D79>0,1,0) -> 1 | B79: HASSAN nzasi | C79: crédit | D79: 20 | E79: =D79*7 -> 140 | F79: 45976 | G79: =+IF(A79=1,(+TODAY())-F79,"Sans objet") -> 331 | H79: 3 | I79: =VLOOKUP(H79,Secteurs!$A$2:$C$4,3) -> Armel SOKAMBA | J79: 0.5 | N79: 0.25 | O79: 0.25 | P79: =+$E79*J79 -> 70 | Q79: =+$E79*K79 -> 0 | R79: =+$E79*L79 -> 0 | S79: =+$E79*M79 -> 0 | T79: =+$E79*N79 -> 35 | U79: =+$E79*O79 -> 35 | V79: =SUM(P79:U79) -> 140 | X79: =+V79-E79 -> 0
A80: =+IF(D80>0,1,0) -> 1 | B80: SUPER QUALITE marhé foire | C80: crédit | D80: 12 | E80: =D80*7 -> 84 | F80: 45994 | G80: =+IF(A80=1,(+TODAY())-F80,"Sans objet") -> 313 | H80: 1 | I80: =VLOOKUP(H80,Secteurs!$A$2:$C$4,3) -> Alexis MABOUNDA | J80: 0.5 | O80: 0.5 | P80: =+$E80*J80 -> 42 | Q80: =+$E80*K80 -> 0 | R80: =+$E80*L80 -> 0 | S80: =+$E80*M80 -> 0 | T80: =+$E80*N80 -> 0 | U80: =+$E80*O80 -> 42 | V80: =SUM(P80:U80) -> 84 | X80: =+V80-E80 -> 0
A81: =+IF(D81>0,1,0) -> 1 | B81: BON CHOIX ngoyo | C81: crédit | D81: 10 | E81: =D81*7 -> 70 | F81: 45995 | G81: =+IF(A81=1,(+TODAY())-F81,"Sans objet") -> 312 | H81: 3 | I81: =VLOOKUP(H81,Secteurs!$A$2:$C$4,3) -> Armel SOKAMBA | L81: 0.25 | M81: 0.25 | O81: 0.5 | P81: =+$E81*J81 -> 0 | Q81: =+$E81*K81 -> 0 | R81: =+$E81*L81 -> 17.5 | S81: =+$E81*M81 -> 17.5 | T81: =+$E81*N81 -> 0 | U81: =+$E81*O81 -> 35 | V81: =SUM(P81:U81) -> 70 | X81: =+V81-E81 -> 0
A82: =+IF(D82>0,1,0) -> 1 | B82: BON CHOIX ex GAZA2 km4 | C82: crédit | D82: 20 | E82: =D82*7 -> 140 | F82: 45995 | G82: =+IF(A82=1,(+TODAY())-F82,"Sans objet") -> 312 | H82: 2 | I82: =VLOOKUP(H82,Secteurs!$A$2:$C$4,3) -> Félix OVOURA | M82: 0.5 | O82: 0.5 | P82: =+$E82*J82 -> 0 | Q82: =+$E82*K82 -> 0 | R82: =+$E82*L82 -> 0 | S82: =+$E82*M82 -> 70 | T82: =+$E82*N82 -> 0 | U82: =+$E82*O82 -> 70 | V82: =SUM(P82:U82) -> 140 | X82: =+V82-E82 -> 0
A83: =+IF(D83>0,1,0) -> 1 | B83: BM EX ELKER WENVIR vindoulou arrêt sapin | C83: crédit | D83: 22 | E83: =D83*7 -> 154 | F83: 45992 | G83: =+IF(A83=1,(+TODAY())-F83,"Sans objet") -> 315 | H83: 1 | I83: =VLOOKUP(H83,Secteurs!$A$2:$C$4,3) -> Alexis MABOUNDA | L83: 0.25 | N83: 0.25 | O83: 0.5 | P83: =+$E83*J83 -> 0 | Q83: =+$E83*K83 -> 0 | R83: =+$E83*L83 -> 38.5 | S83: =+$E83*M83 -> 0 | T83: =+$E83*N83 -> 38.5 | U83: =+$E83*O83 -> 77 | V83: =SUM(P83:U83) -> 154 | X83: =+V83-E83 -> 0
A84: =+IF(D84>0,1,0) -> 1 | B84: CONGO FUTUR grand marché | C84: crédit | D84: 40 | E84: =D84*7 -> 280 | F84: 45996 | G84: =+IF(A84=1,(+TODAY())-F84,"Sans objet") -> 311 | H84: 2 | I84: =VLOOKUP(H84,Secteurs!$A$2:$C$4,3) -> Félix OVOURA | K84: 0.25 | M84: 0.25 | O84: 0.5 | P84: =+$E84*J84 -> 0 | Q84: =+$E84*K84 -> 70 | R84: =+$E84*L84 -> 0 | S84: =+$E84*M84 -> 70 | T84: =+$E84*N84 -> 0 | U84: =+$E84*O84 -> 140 | V84: =SUM(P84:U84) -> 280 | X84: =+V84-E84 -> 0
A85: =+IF(D85>0,1,0) -> 1 | B85: CONGO FUTUR faubourg | C85: crédit | D85: 26 | E85: =D85*7 -> 182 | F85: 45994 | G85: =+IF(A85=1,(+TODAY())-F85,"Sans objet") -> 313 | H85: 1 | I85: =VLOOKUP(H85,Secteurs!$A$2:$C$4,3) -> Alexis MABOUNDA | M85: 0.5 | O85: 0.5 | P85: =+$E85*J85 -> 0 | Q85: =+$E85*K85 -> 0 | R85: =+$E85*L85 -> 0 | S85: =+$E85*M85 -> 91 | T85: =+$E85*N85 -> 0 | U85: =+$E85*O85 -> 91 | V85: =SUM(P85:U85) -> 182 | X85: =+V85-E85 -> 0
A86: =+IF(D86>0,1,0) -> 1 | B86: CONGO FUTUR carrefour rafinnerie | C86: crédit | D86: 20 | E86: =D86*7 -> 140 | F86: 45994 | G86: =+IF(A86=1,(+TODAY())-F86,"Sans objet") -> 313 | H86: 1 | I86: =VLOOKUP(H86,Secteurs!$A$2:$C$4,3) -> Alexis MABOUNDA | K86: 0.5 | M86: 0.25 | O86: 0.25 | P86: =+$E86*J86 -> 0 | Q86: =+$E86*K86 -> 70 | R86: =+$E86*L86 -> 0 | S86: =+$E86*M86 -> 35 | T86: =+$E86*N86 -> 0 | U86: =+$E86*O86 -> 35 | V86: =SUM(P86:U86) -> 140 | X86: =+V86-E86 -> 0
A87: =+IF(D87>0,1,0) -> 1 | B87: CONGO FUTUR terre jaune | C87: crédit | D87: 24 | E87: =D87*7 -> 168 | F87: 45994 | G87: =+IF(A87=1,(+TODAY())-F87,"Sans objet") -> 313 | H87: 1 | I87: =VLOOKUP(H87,Secteurs!$A$2:$C$4,3) -> Alexis MABOUNDA | K87: 0.25 | M87: 0.25 | O87: 0.5 | P87: =+$E87*J87 -> 0 | Q87: =+$E87*K87 -> 42 | R87: =+$E87*L87 -> 0 | S87: =+$E87*M87 -> 42 | T87: =+$E87*N87 -> 0 | U87: =+$E87*O87 -> 84 | V87: =SUM(P87:U87) -> 168 | X87: =+V87-E87 -> 0
A88: =+IF(D88>0,1,0) -> 1 | B88: CONGO FUTUR arrêt manguier | C88: crédit | D88: 22 | E88: =D88*7 -> 154 | F88: 45994 | G88: =+IF(A88=1,(+TODAY())-F88,"Sans objet") -> 313 | H88: 1 | I88: =VLOOKUP(H88,Secteurs!$A$2:$C$4,3) -> Alexis MABOUNDA | K88: 0.25 | M88: 0.5 | O88: 0.25 | P88: =+$E88*J88 -> 0 | Q88: =+$E88*K88 -> 38.5 | R88: =+$E88*L88 -> 0 | S88: =+$E88*M88 -> 77 | T88: =+$E88*N88 -> 0 | U88: =+$E88*O88 -> 38.5 | V88: =SUM(P88:U88) -> 154 | X88: =+V88-E88 -> 0
A89: =+IF(D89>0,1,0) -> 1 | B89: CONGO FUTUR rafinerie 1er camp | C89: crédit | D89: 22 | E89: =D89*7 -> 154 | F89: 45994 | G89: =+IF(A89=1,(+TODAY())-F89,"Sans objet") -> 313 | H89: 1 | I89: =VLOOKUP(H89,Secteurs!$A$2:$C$4,3) -> Alexis MABOUNDA | K89: 0.25 | M89: 0.25 | O89: 0.5 | P89: =+$E89*J89 -> 0 | Q89: =+$E89*K89 -> 38.5 | R89: =+$E89*L89 -> 0 | S89: =+$E89*M89 -> 38.5 | T89: =+$E89*N89 -> 0 | U89: =+$E89*O89 -> 77 | V89: =SUM(P89:U89) -> 154 | X89: =+V89-E89 -> 0
A90: =+IF(D90>0,1,0) -> 1 | B90: CONGO FUTUR fond tié-tié | C90: crédit | D90: 24 | E90: =D90*7 -> 168 | F90: 45995 | G90: =+IF(A90=1,(+TODAY())-F90,"Sans objet") -> 312 | H90: 2 | I90: =VLOOKUP(H90,Secteurs!$A$2:$C$4,3) -> Félix OVOURA | K90: 0.5 | M90: 0.25 | O90: 0.25 | P90: =+$E90*J90 -> 0 | Q90: =+$E90*K90 -> 84 | R90: =+$E90*L90 -> 0 | S90: =+$E90*M90 -> 42 | T90: =+$E90*N90 -> 0 | U90: =+$E90*O90 -> 42 | V90: =SUM(P90:U90) -> 168 | X90: =+V90-E90 -> 0
A91: =+IF(D91>0,1,0) -> 1 | B91: CONGO FUTUR moukondo | C91: cash | D91: 24 | E91: =D91*7 -> 168 | F91: 45994 | G91: =+IF(A91=1,(+TODAY())-F91,"Sans objet") -> 313 | H91: 1 | I91: =VLOOKUP(H91,Secteurs!$A$2:$C$4,3) -> Alexis MABOUNDA | K91: 0.25 | M91: 0.25 | O91: 0.5 | P91: =+$E91*J91 -> 0 | Q91: =+$E91*K91 -> 42 | R91: =+$E91*L91 -> 0 | S91: =+$E91*M91 -> 42 | T91: =+$E91*N91 -> 0 | U91: =+$E91*O91 -> 84 | V91: =SUM(P91:U91) -> 168 | X91: =+V91-E91 -> 0
A92: =+IF(D92>0,1,0) -> 1 | B92: CONGO FUTUR marché culotte | C92: cash | D92: 28 | E92: =D92*7 -> 196 | F92: 45994 | G92: =+IF(A92=1,(+TODAY())-F92,"Sans objet") -> 313 | H92: 1 | I92: =VLOOKUP(H92,Secteurs!$A$2:$C$4,3) -> Alexis MABOUNDA | K92: 0.5 | M92: 0.25 | O92: 0.25 | P92: =+$E92*J92 -> 0 | Q92: =+$E92*K92 -> 98 | R92: =+$E92*L92 -> 0 | S92: =+$E92*M92 -> 49 | T92: =+$E92*N92 -> 0 | U92: =+$E92*O92 -> 49 | V92: =SUM(P92:U92) -> 196 | X92: =+V92-E92 -> 0
A93: =+IF(D93>0,1,0) -> 1 | B93: MEA 7/7ex baguette d'asta | C93: crédit | D93: 18 | E93: =D93*7 -> 126 | F93: 45995 | G93: =+IF(A93=1,(+TODAY())-F93,"Sans objet") -> 312 | H93: 2 | I93: =VLOOKUP(H93,Secteurs!$A$2:$C$4,3) -> Félix OVOURA | M93: 0.5 | O93: 0.5 | P93: =+$E93*J93 -> 0 | Q93: =+$E93*K93 -> 0 | R93: =+$E93*L93 -> 0 | S93: =+$E93*M93 -> 63 | T93: =+$E93*N93 -> 0 | U93: =+$E93*O93 -> 63 | V93: =SUM(P93:U93) -> 126 | X93: =+V93-E93 -> 0
A94: =+IF(D94>0,1,0) -> 1 | B94: PARIS PAIN 2 ex baguette d'asta mpita | C94: crédit | D94: 20 | E94: =D94*7 -> 140 | F94: 45993 | G94: =+IF(A94=1,(+TODAY())-F94,"Sans objet") -> 314 | H94: 2 | I94: =VLOOKUP(H94,Secteurs!$A$2:$C$4,3) -> Félix OVOURA | J94: 0.5 | M94: 0.5 | P94: =+$E94*J94 -> 70 | Q94: =+$E94*K94 -> 0 | R94: =+$E94*L94 -> 0 | S94: =+$E94*M94 -> 70 | T94: =+$E94*N94 -> 0 | U94: =+$E94*O94 -> 0 | V94: =SUM(P94:U94) -> 140 | X94: =+V94-E94 -> 0
A95: =+IF(D95>0,1,0) -> 1 | B95: ELVOZ INCHALLA mbota | C95: crédit | D95: 24 | E95: =D95*7 -> 168 | F95: 45993 | G95: =+IF(A95=1,(+TODAY())-F95,"Sans objet") -> 314 | H95: 3 | I95: =VLOOKUP(H95,Secteurs!$A$2:$C$4,3) -> Armel SOKAMBA | M95: 0.5 | O95: 0.5 | P95: =+$E95*J95 -> 0 | Q95: =+$E95*K95 -> 0 | R95: =+$E95*L95 -> 0 | S95: =+$E95*M95 -> 84 | T95: =+$E95*N95 -> 0 | U95: =+$E95*O95 -> 84 | V95: =SUM(P95:U95) -> 168 | X95: =+V95-E95 -> 0
A96: =+IF(D96>0,1,0) -> 1 | B96: BAGUETTE D'EXCELLENCE nkouinkou | C96: cash | D96: 10 | E96: =D96*7 -> 70 | F96: 45992 | G96: =F961 -> 0 | H96: 1 | I96: =VLOOKUP(H96,Secteurs!$A$2:$C$4,3) -> Alexis MABOUNDA | L96: 1 | P96: =+$E96*J96 -> 0 | Q96: =+$E96*K96 -> 0 | R96: =+$E96*L96 -> 70 | S96: =+$E96*M96 -> 0 | T96: =+$E96*N96 -> 0 | U96: =+$E96*O96 -> 0 | V96: =SUM(P96:U96) -> 70 | X96: =+V96-E96 -> 0
A97: =+IF(D97>0,1,0) -> 1 | B97: BOUDI mvou-mvou | C97: crédit | D97: 6 | E97: =D97*7 -> 42 | F97: 45996 | G97: =+IF(A97=1,(+TODAY())-F97,"Sans objet") -> 311 | H97: 2 | I97: =VLOOKUP(H97,Secteurs!$A$2:$C$4,3) -> Félix OVOURA | N97: 0.5 | O97: 0.5 | P97: =+$E97*J97 -> 0 | Q97: =+$E97*K97 -> 0 | R97: =+$E97*L97 -> 0 | S97: =+$E97*M97 -> 0 | T97: =+$E97*N97 -> 21 | U97: =+$E97*O97 -> 21 | V97: =SUM(P97:U97) -> 42 | X97: =+V97-E97 -> 0
A98: =+IF(D98>0,1,0) -> 1 | B98: ELVETH/ EX CONGO RIM patra | C98: crédit | D98: 14 | E98: =D98*7 -> 98 | F98: 45995 | G98: =+IF(A98=1,(+TODAY())-F98,"Sans objet") -> 312 | H98: 3 | I98: =VLOOKUP(H98,Secteurs!$A$2:$C$4,3) -> Armel SOKAMBA | J98: 1 | P98: =+$E98*J98 -> 98 | Q98: =+$E98*K98 -> 0 | R98: =+$E98*L98 -> 0 | S98: =+$E98*M98 -> 0 | T98: =+$E98*N98 -> 0 | U98: =+$E98*O98 -> 0 | V98: =SUM(P98:U98) -> 98 | X98: =+V98-E98 -> 0
A99: =+IF(D99>0,1,0) -> 1 | B99: EL MONA tié tié masola | C99: crédit | D99: 10 | E99: =D99*7 -> 70 | F99: 45995 | G99: =+IF(A99=1,(+TODAY())-F99,"Sans objet") -> 312 | H99: 2 | I99: =VLOOKUP(H99,Secteurs!$A$2:$C$4,3) -> Félix OVOURA | K99: 0.5 | N99: 0.5 | P99: =+$E99*J99 -> 0 | Q99: =+$E99*K99 -> 35 | R99: =+$E99*L99 -> 0 | S99: =+$E99*M99 -> 0 | T99: =+$E99*N99 -> 35 | U99: =+$E99*O99 -> 0 | V99: =SUM(P99:U99) -> 70 | X99: =+V99-E99 -> 0
A100: =+IF(D100>0,1,0) -> 1 | B100: EL MONA fond tié-tié | C100: crédit | D100: 20 | E100: =D100*7 -> 140 | F100: 45995 | G100: =+IF(A100=1,(+TODAY())-F100,"Sans objet") -> 312 | H100: 3 | I100: =VLOOKUP(H100,Secteurs!$A$2:$C$4,3) -> Armel SOKAMBA | K100: 0.5 | M100: 0.5 | P100: =+$E100*J100 -> 0 | Q100: =+$E100*K100 -> 70 | R100: =+$E100*L100 -> 0 | S100: =+$E100*M100 -> 70 | T100: =+$E100*N100 -> 0 | U100: =+$E100*O100 -> 0 | V100: =SUM(P100:U100) -> 140 | X100: =+V100-E100 -> 0
...

Sheet WEEK 50
A1: N° | B1: Boulangerie | C1: Groupe | D1: Type | E1: Cons/j | F1: C° heb | G1: Date Dernière Visite | H1: Période sans visite | I1: Secteur | J1: Technico Commercial | K1: %MINOCO | L1: %FANTA | M1: %GMK | N1: %SGMP | O1: %MFB | P1: %GMC | Q1: MINOCO | R1: FANTA | S1: GMK | T1: SGMP | U1: MFB | V1: GMC | W1: Total | X1: COMMENTAIRES | AA1: Week | AB1: Minoco | AC1: Fanta | AD1: GMPN | AE1: GMK | AF1: SGMP | AG1: MFB | AH1: GMC
A2: =+IF(E2>0,1,0) -> 1 | B2: CONGO FUTUR SIAFOUMOU | C2: G2 | D2: cash | E2: 20 | F2: =E2*7 -> 140 | G2: 46000 | H2: =+IF(A2=1,(+TODAY())-G2,"Sans objet") -> 307 | I2: 1 | J2: =VLOOKUP(I2,Secteurs!$A$2:$C$4,3) -> Alexis MABOUNDA | N2: 0.5 | P2: 0.5 | Q2: =+$F2*K2 -> 0 | R2: =+$F2*L2 -> 0 | S2: =+$F2*M2 -> 0 | T2: =+$F2*N2 -> 70 | U2: =+$F2*O2 -> 0 | V2: =+$F2*P2 -> 70 | W2: =SUM(Q2:V2) -> 140 | Y2: =+W2-F2 -> 0 | AA2: 47 | AB2: 0.36 | AC2: 0.07 | AD2: =SUM(AB2:AC2) -> 0.43 | AE2: 0.109 | AF2: 0.135 | AG2: 0.104 | AH2: 0.224 | AI2: =SUM(AD2:AH2) -> 1.002
A3: =+IF(E3>0,1,0) -> 1 | B3: EL ATIGH mengo péage | C3: G1 | D3: cash | E3: 24 | F3: =E3*7 -> 168 | G3: 46002 | H3: =+IF(A3=1,(+TODAY())-G3,"Sans objet") -> 305 | I3: 1 | J3: =VLOOKUP(I3,Secteurs!$A$2:$C$4,3) -> Alexis MABOUNDA | K3: 0.5 | M3: 0.5 | Q3: =+$F3*K3 -> 84 | R3: =+$F3*L3 -> 0 | S3: =+$F3*M3 -> 84 | T3: =+$F3*N3 -> 0 | U3: =+$F3*O3 -> 0 | V3: =+$F3*P3 -> 0 | W3: =SUM(Q3:V3) -> 168 | Y3: =+W3-F3 -> 0 | AA3: 48 | AB3: 0.33 | AC3: 0.1 | AD3: =SUM(AB3:AC3) -> 0.43 | AE3: 0.093 | AF3: 0.139 | AG3: 0.109 | AH3: 0.231 | AI3: =SUM(AD3:AH3) -> 1.002
A4: =+IF(E4>0,1,0) -> 1 | B4: ATAKAHYR loandjili | C4: G1 | D4: cash | E4: 54 | F4: =E4*7 -> 378 | G4: 45992 | H4: =+IF(A4=1,(+TODAY())-G4,"Sans objet") -> 315 | I4: 1 | J4: =VLOOKUP(I4,Secteurs!$A$2:$C$4,3) -> Alexis MABOUNDA | K4: 0.75 | O4: 0.25 | Q4: 252 | R4: =+$F4*L4 -> 0 | S4: =+$F4*M4 -> 0 | T4: =+$F4*N4 -> 0 | U4: 126 | V4: =+$F4*P4 -> 0 | W4: =SUM(Q4:V4) -> 378 | Y4: =+W4-F4 -> 0 | AA4: 49 | AB4: 0.3274473 | AC4: 0.11030604 | AD4: =SUM(AB4:AC4) -> 0.43775334 | AE4: 0.092039927 | AF4: 0.14187272 | AG4: 0.093281313 | AH4: 0.2350527 | AI4: =SUM(AD4:AH4) -> 1
A5: =+IF(E5>0,1,0) -> 1 | B5: ATAKAHYR fouks | C5: G1 | D5: cash | E5: 28 | F5: =E5*7 -> 196 | G5: 45995 | H5: =+IF(A5=1,(+TODAY())-G5,"Sans objet") -> 312 | I5: 2 | J5: =VLOOKUP(I5,Secteurs!$A$2:$C$4,3) -> Félix OVOURA | K5: 0.5 | O5: 0.5 | Q5: =+$F5*K5 -> 98 | R5: =+$F5*L5 -> 0 | S5: =+$F5*M5 -> 0 | T5: =+$F5*N5 -> 0 | U5: =+$F5*O5 -> 98 | V5: =+$F5*P5 -> 0 | W5: =SUM(Q5:V5) -> 196 | Y5: =+W5-F5 -> 0 | AA5: 50 | AB5: =E146 -> 0.34874188 | AC5: =E147 -> 0.11209652 | AD5: =SUM(AB5:AC5) -> 0.4608384 | AE5: =E149 -> 0.089409096 | AF5: =E150 -> 0.11784573 | AG5: =E151 -> 0.089177065 | AH5: =E152 -> 0.24272971 | AI5: =SUM(AD5:AH5) -> 1
A6: =+IF(E6>0,1,0) -> 1 | B6: ATAKAHYR mayinga | C6: G1 | D6: cash | E6: 20 | F6: 140 | G6: 45999 | H6: =+IF(A6=1,(+TODAY())-G6,"Sans objet") -> 308 | I6: 3 | J6: =VLOOKUP(I6,Secteurs!$A$2:$C$4,3) -> Armel SOKAMBA | K6: 0.5 | P6: 0.5 | Q6: 70 | R6: =+$F6*L6 -> 0 | S6: =+$F6*M6 -> 0 | T6: =+$F6*N6 -> 0 | U6: =+$F6*O6 -> 0 | V6: 70 | W6: =SUM(Q6:V6) -> 140 | Y6: =+W6-F6 -> 0 | AA6: Variation
A7: =+IF(E7>0,1,0) -> 1 | B7: MED MMB CEG vindoulou | C7: G1 | D7: cash | E7: 20 | F7: =E7*7 -> 140 | G7: 46002 | H7: =+IF(A7=1,(+TODAY())-G7,"Sans objet") -> 305 | I7: 3 | J7: =VLOOKUP(I7,Secteurs!$A$2:$C$4,3) -> Armel SOKAMBA | K7: 0.5 | M7: 0.25 | P7: 0.25 | Q7: =+$F7*K7 -> 70 | R7: =+$F7*L7 -> 0 | S7: =+$F7*M7 -> 35 | T7: =+$F7*N7 -> 0 | U7: =+$F7*O7 -> 0 | V7: =+$F7*P7 -> 35 | W7: =SUM(Q7:V7) -> 140 | Y7: =+W7-F7 -> 0
A8: =+IF(E8>0,1,0) -> 1 | B8: MED globaline | C8: G1 | D8: cash | E8: 26 | F8: =E8*7 -> 182 | G8: 46001 | H8: =+IF(A8=1,(+TODAY())-G8,"Sans objet") -> 306 | I8: 3 | J8: =VLOOKUP(I8,Secteurs!$A$2:$C$4,3) -> Armel SOKAMBA | K8: 1 | Q8: =+$F8*K8 -> 182 | R8: =+$F8*L8 -> 0 | S8: =+$F8*M8 -> 0 | T8: =+$F8*N8 -> 0 | U8: =+$F8*O8 -> 0 | V8: =+$F8*P8 -> 0 | W8: =SUM(Q8:V8) -> 182 | Y8: =+W8-F8 -> 0
A9: =+IF(E9>0,1,0) -> 1 | B9: Ets AMITIE ex BAGDAD1 grand marché révolution | C9: G1 | D9: cash | E9: 20 | F9: =E9*7 -> 140 | G9: 46000 | H9: =+IF(A9=1,(+TODAY())-G9,"Sans objet") -> 307 | I9: 2 | J9: =VLOOKUP(I9,Secteurs!$A$2:$C$4,3) -> Félix OVOURA | K9: 0.75 | P9: 0.25 | Q9: =+$F9*K9 -> 105 | R9: =+$F9*L9 -> 0 | S9: =+$F9*M9 -> 0 | T9: =+$F9*N9 -> 0 | U9: =+$F9*O9 -> 0 | V9: =+$F9*P9 -> 35 | W9: =SUM(Q9:V9) -> 140 | Y9: =+W9-F9 -> 0
A10: =+IF(E10>0,1,0) -> 1 | B10: Ets AMITIE ex CONGO2 voungou école primaire | C10: G1 | D10: cash | E10: 20 | F10: =E10*7 -> 140 | G10: 45993 | H10: =+IF(A10=1,(+TODAY())-G10,"Sans objet") -> 314 | I10: 3 | J10: =VLOOKUP(I10,Secteurs!$A$2:$C$4,3) -> Armel SOKAMBA | K10: 1 | Q10: =+$F10*K10 -> 140 | R10: =+$F10*L10 -> 0 | S10: =+$F10*M10 -> 0 | T10: =+$F10*N10 -> 0 | U10: =+$F10*O10 -> 0 | V10: =+$F10*P10 -> 0 | W10: =SUM(Q10:V10) -> 140 | Y10: =+W10-F10 -> 0
A11: =+IF(E11>0,1,0) -> 1 | B11: Ets AMITIE ex CONGO1 kitoko daniel | C11: G1 | D11: cash | E11: 24 | F11: =E11*7 -> 168 | G11: 46000 | H11: =+IF(A11=1,(+TODAY())-G11,"Sans objet") -> 307 | I11: 2 | J11: =VLOOKUP(I11,Secteurs!$A$2:$C$4,3) -> Félix OVOURA | K11: 0.5 | M11: 0.5 | Q11: =+$F11*K11 -> 84 | R11: =+$F11*L11 -> 0 | S11: =+$F11*M11 -> 84 | T11: =+$F11*N11 -> 0 | U11: =+$F11*O11 -> 0 | V11: =+$F11*P11 -> 0 | W11: =SUM(Q11:V11) -> 168 | Y11: =+W11-F11 -> 0
A12: =+IF(E12>0,1,0) -> 1 | B12: Ets AMITIE ex BAGDAD2 Rex grand marché | C12: G1 | D12: cash | E12: 26 | F12: =E12*7 -> 182 | G12: 46000 | H12: =+IF(A12=1,(+TODAY())-G12,"Sans objet") -> 307 | I12: 2 | J12: =VLOOKUP(I12,Secteurs!$A$2:$C$4,3) -> Félix OVOURA | K12: 1 | Q12: =+$F12*K12 -> 182 | R12: =+$F12*L12 -> 0 | S12: =+$F12*M12 -> 0 | T12: =+$F12*N12 -> 0 | U12: =+$F12*O12 -> 0 | V12: =+$F12*P12 -> 0 | W12: =SUM(Q12:V12) -> 182 | Y12: =+W12-F12 -> 0
A13: =+IF(E13>0,1,0) -> 1 | B13: Ets AMITIE ex BONNE CHANCE nkouinkou dénisia | C13: G1 | D13: cash | E13: 24 | F13: =E13*7 -> 168 | G13: 46002 | H13: =+IF(A13=1,(+TODAY())-G13,"Sans objet") -> 305 | I13: 1 | J13: =VLOOKUP(I13,Secteurs!$A$2:$C$4,3) -> Alexis MABOUNDA | K13: 0.5 | M13: 0.5 | Q13: =+$F13*K13 -> 84 | R13: =+$F13*L13 -> 0 | S13: =+$F13*M13 -> 84 | T13: =+$F13*N13 -> 0 | U13: =+$F13*O13 -> 0 | V13: =+$F13*P13 -> 0 | W13: =SUM(Q13:V13) -> 168 | Y13: =+W13-F13 -> 0
A14: =+IF(E14>0,1,0) -> 1 | B14: BAH ex HACEN fond tié-tié | C14: G1 | D14: cash | E14: 36 | F14: =E14*7 -> 252 | G14: 45995 | H14: =+IF(A14=1,(+TODAY())-G14,"Sans objet") -> 312 | I14: 3 | J14: =VLOOKUP(I14,Secteurs!$A$2:$C$4,3) -> Armel SOKAMBA | K14: 0.5 | P14: 0.5 | Q14: =+$F14*K14 -> 126 | R14: =+$F14*L14 -> 0 | S14: =+$F14*M14 -> 0 | T14: =+$F14*N14 -> 0 | U14: =+$F14*O14 -> 0 | V14: =+$F14*P14 -> 126 | W14: =SUM(Q14:V14) -> 252 | Y14: =+W14-F14 -> 0
A15: =+IF(E15>0,1,0) -> 1 | B15: BAH ex SASI tié tié massola | C15: G1 | D15: cash | E15: 20 | F15: =E15*7 -> 140 | G15: 45995 | H15: =+IF(A15=1,(+TODAY())-G15,"Sans objet") -> 312 | I15: 2 | J15: =VLOOKUP(I15,Secteurs!$A$2:$C$4,3) -> Félix OVOURA | K15: 0.5 | P15: 0.5 | Q15: =+$F15*K15 -> 70 | R15: =+$F15*L15 -> 0 | S15: =+$F15*M15 -> 0 | T15: =+$F15*N15 -> 0 | U15: =+$F15*O15 -> 0 | V15: =+$F15*P15 -> 70 | W15: =SUM(Q15:V15) -> 140 | Y15: =+W15-F15 -> 0
A16: =+IF(E16>0,1,0) -> 1 | B16: BAH ex BMM paka maison blanche | C16: G1 | D16: cash | E16: 20 | F16: =E16*7 -> 140 | G16: 45995 | H16: =+IF(A16=1,(+TODAY())-G16,"Sans objet") -> 312 | I16: 3 | J16: =VLOOKUP(I16,Secteurs!$A$2:$C$4,3) -> Armel SOKAMBA | K16: 1 | Q16: =+$F16*K16 -> 140 | R16: =+$F16*L16 -> 0 | S16: =+$F16*M16 -> 0 | T16: =+$F16*N16 -> 0 | U16: =+$F16*O16 -> 0 | V16: =+$F16*P16 -> 0 | W16: =SUM(Q16:V16) -> 140 | Y16: =+W16-F16 -> 0
A17: =+IF(E17>0,1,0) -> 1 | B17: BA mvoumvou immigration | C17: G1 | D17: cash | E17: 30 | F17: =E17*7 -> 210 | G17: 46000 | H17: =+IF(A17=1,(+TODAY())-G17,"Sans objet") -> 307 | I17: 2 | J17: =VLOOKUP(I17,Secteurs!$A$2:$C$4,3) -> Félix OVOURA | K17: 0.5 | M17: 0.5 | Q17: =+$F17*K17 -> 105 | R17: =+$F17*L17 -> 0 | S17: =+$F17*M17 -> 105 | T17: =+$F17*N17 -> 0 | U17: =+$F17*O17 -> 0 | V17: =+$F17*P17 -> 0 | W17: =SUM(Q17:V17) -> 210 | Y17: =+W17-F17 -> 0
A18: =+IF(E18>0,1,0) -> 1 | B18: BA thyster mongo mpoukou | C18: G1 | D18: cash | E18: 16 | F18: =E18*7 -> 112 | G18: 46002 | H18: =+IF(A18=1,(+TODAY())-G18,"Sans objet") -> 305 | I18: 1 | J18: =VLOOKUP(I18,Secteurs!$A$2:$C$4,3) -> Alexis MABOUNDA | K18: 0.5 | M18: 0.5 | Q18: =+$F18*K18 -> 56 | R18: =+$F18*L18 -> 0 | S18: =+$F18*M18 -> 56 | T18: =+$F18*N18 -> 0 | U18: =+$F18*O18 -> 0 | V18: =+$F18*P18 -> 0 | W18: =SUM(Q18:V18) -> 112 | Y18: =+W18-F18 -> 0
A19: =+IF(E19>0,1,0) -> 1 | B19: BA mpaka dalette | C19: G1 | D19: cash | E19: 26 | F19: =E19*7 -> 182 | G19: 45993 | H19: =+IF(A19=1,(+TODAY())-G19,"Sans objet") -> 314 | I19: 3 | J19: =VLOOKUP(I19,Secteurs!$A$2:$C$4,3) -> Armel SOKAMBA | K19: 0.5 | M19: 0.25 | N19: 0.25 | Q19: =+$F19*K19 -> 91 | R19: =+$F19*L19 -> 0 | S19: =+$F19*M19 -> 45.5 | T19: =+$F19*N19 -> 45.5 | U19: =+$F19*O19 -> 0 | V19: =+$F19*P19 -> 0 | W19: =SUM(Q19:V19) -> 182 | Y19: =+W19-F19 -> 0
A20: =+IF(E20>0,1,0) -> 1 | B20: BA fond tié-tié gar | C20: G1 | D20: cash | E20: 46 | F20: =E20*7 -> 322 | G20: 45995 | H20: =+IF(A20=1,(+TODAY())-G20,"Sans objet") -> 312 | I20: 3 | J20: =VLOOKUP(I20,Secteurs!$A$2:$C$4,3) -> Armel SOKAMBA | K20: 0.5 | O20: 0.5 | Q20: =+$F20*K20 -> 161 | R20: =+$F20*L20 -> 0 | S20: =+$F20*M20 -> 0 | T20: =+$F20*N20 -> 0 | U20: =+$F20*O20 -> 161 | V20: =+$F20*P20 -> 0 | W20: =SUM(Q20:V20) -> 322 | Y20: =+W20-F20 -> 0
A21: =+IF(E21>0,1,0) -> 1 | B21: BA mpaka marché | C21: G1 | D21: cash | E21: 20 | F21: =E21*7 -> 140 | G21: 45995 | H21: =+IF(A21=1,(+TODAY())-G21,"Sans objet") -> 312 | I21: 3 | J21: =VLOOKUP(I21,Secteurs!$A$2:$C$4,3) -> Armel SOKAMBA | K21: 0.5 | N21: 0.5 | Q21: =+$F21*K21 -> 70 | R21: =+$F21*L21 -> 0 | S21: =+$F21*M21 -> 0 | T21: =+$F21*N21 -> 70 | U21: =+$F21*O21 -> 0 | V21: =+$F21*P21 -> 0 | W21: =SUM(Q21:V21) -> 140 | Y21: =+W21-F21 -> 0
A22: =+IF(E22>0,1,0) -> 1 | B22: BA ngoyo | C22: G1 | D22: cash | E22: 26 | F22: =E22*7 -> 182 | G22: 46001 | H22: =+IF(A22=1,(+TODAY())-G22,"Sans objet") -> 306 | I22: 3 | J22: =VLOOKUP(I22,Secteurs!$A$2:$C$4,3) -> Armel SOKAMBA | K22: 1 | Q22: =+$F22*K22 -> 182 | R22: =+$F22*L22 -> 0 | S22: =+$F22*M22 -> 0 | T22: =+$F22*N22 -> 0 | U22: =+$F22*O22 -> 0 | V22: =+$F22*P22 -> 0 | W22: =SUM(Q22:V22) -> 182 | Y22: =+W22-F22 -> 0
A23: =+IF(E23>0,1,0) -> 1 | B23: BA fond tié-tié en allant vers voungou | C23: G1 | D23: cash | E23: 20 | F23: =E23*7 -> 140 | G23: 45995 | H23: =+IF(A23=1,(+TODAY())-G23,"Sans objet") -> 312 | I23: 3 | J23: =VLOOKUP(I23,Secteurs!$A$2:$C$4,3) -> Armel SOKAMBA | K23: 0.75 | M23: 0.25 | Q23: =+$F23*K23 -> 105 | R23: =+$F23*L23 -> 0 | S23: =+$F23*M23 -> 35 | T23: =+$F23*N23 -> 0 | U23: =+$F23*O23 -> 0 | V23: =+$F23*P23 -> 0 | W23: =SUM(Q23:V23) -> 140 | Y23: =+W23-F23 -> 0
A24: =+IF(E24>0,1,0) -> 1 | B24: NEINA REPUBLIQUE marché bissongo | C24: G1 | D24: cash | E24: 18 | F24: =E24*7 -> 126 | G24: 45993 | H24: =+IF(A24=1,(+TODAY())-G24,"Sans objet") -> 314 | I24: 3 | J24: =VLOOKUP(I24,Secteurs!$A$2:$C$4,3) -> Armel SOKAMBA | K24: 0.5 | P24: 0.5 | Q24: =+$F24*K24 -> 63 | R24: =+$F24*L24 -> 0 | S24: =+$F24*M24 -> 0 | T24: =+$F24*N24 -> 0 | U24: =+$F24*O24 -> 0 | V24: =+$F24*P24 -> 63 | W24: =SUM(Q24:V24) -> 126 | Y24: =+W24-F24 -> 0
A25: =+IF(E25>0,1,0) -> 1 | B25: NEINA REPUBLIQUE ngoyo central | C25: G1 | D25: cash | E25: 24 | F25: =E25*7 -> 168 | G25: 46001 | H25: =+IF(A25=1,(+TODAY())-G25,"Sans objet") -> 306 | I25: 3 | J25: =VLOOKUP(I25,Secteurs!$A$2:$C$4,3) -> Armel SOKAMBA | K25: 0.5 | P25: 0.5 | Q25: =+$F25*K25 -> 84 | R25: =+$F25*L25 -> 0 | S25: =+$F25*M25 -> 0 | T25: =+$F25*N25 -> 0 | U25: =+$F25*O25 -> 0 | V25: =+$F25*P25 -> 84 | W25: =SUM(Q25:V25) -> 168 | Y25: =+W25-F25 -> 0
A26: =+IF(E26>0,1,0) -> 1 | B26: NEINA REPUBLIQUE grand marché | C26: G1 | D26: cash | E26: 26 | F26: =E26*7 -> 182 | G26: 46000 | H26: =+IF(A26=1,(+TODAY())-G26,"Sans objet") -> 307 | I26: 2 | J26: =VLOOKUP(I26,Secteurs!$A$2:$C$4,3) -> Félix OVOURA | K26: 0.5 | P26: 0.5 | Q26: =+$F26*K26 -> 91 | R26: =+$F26*L26 -> 0 | S26: =+$F26*M26 -> 0 | T26: =+$F26*N26 -> 0 | U26: =+$F26*O26 -> 0 | V26: =+$F26*P26 -> 91 | W26: =SUM(Q26:V26) -> 182 | Y26: =+W26-F26 -> 0
A27: =+IF(E27>0,1,0) -> 1 | B27: NEINA REPUBLIQUE tchimbambouka | C27: G1 | D27: cash | E27: 20 | F27: =E27*7 -> 140 | G27: 46001 | H27: =+IF(A27=1,(+TODAY())-G27,"Sans objet") -> 306 | I27: 3 | J27: =VLOOKUP(I27,Secteurs!$A$2:$C$4,3) -> Armel SOKAMBA | K27: 1 | Q27: =+$F27*K27 -> 140 | R27: =+$F27*L27 -> 0 | S27: =+$F27*M27 -> 0 | T27: =+$F27*N27 -> 0 | U27: =+$F27*O27 -> 0 | V27: =+$F27*P27 -> 0 | W27: =SUM(Q27:V27) -> 140 | Y27: =+W27-F27 -> 0
A28: =+IF(E28>0,1,0) -> 1 | B28: MED MMB deux poteaux | C28: G1 | D28: cash | E28: 20 | F28: =E28*7 -> 140 | G28: 45999 | H28: =+IF(A28=1,(+TODAY())-G28,"Sans objet") -> 308 | I28: 3 | J28: =VLOOKUP(I28,Secteurs!$A$2:$C$4,3) -> Armel SOKAMBA | K28: 1 | Q28: =+$F28*K28 -> 140 | R28: =+$F28*L28 -> 0 | S28: =+$F28*M28 -> 0 | T28: =+$F28*N28 -> 0 | U28: =+$F28*O28 -> 0 | V28: =+$F28*P28 -> 0 | W28: =SUM(Q28:V28) -> 140 | Y28: =+W28-F28 -> 0
A29: =+IF(E29>0,1,0) -> 1 | B29: MED marché tchimbamba | C29: G1 | D29: cash | E29: 26 | F29: 24 | G29: 45995 | H29: =+IF(A29=1,(+TODAY())-G29,"Sans objet") -> 312 | I29: 3 | J29: =VLOOKUP(I29,Secteurs!$A$2:$C$4,3) -> Armel SOKAMBA | K29: 0.5 | M29: 0.5 | Q29: =+$F29*K29 -> 12 | R29: =+$F29*L29 -> 0 | S29: =+$F29*M29 -> 12 | T29: =+$F29*N29 -> 0 | U29: =+$F29*O29 -> 0 | V29: =+$F29*P29 -> 0 | W29: =SUM(Q29:V29) -> 24 | Y29: =+W29-F29 -> 0
A30: =+IF(E30>0,1,0) -> 1 | B30: MED ngoyo péage | C30: G1 | D30: cash | E30: 30 | F30: =E30*7 -> 210 | G30: 46001 | H30: =+IF(A30=1,(+TODAY())-G30,"Sans objet") -> 306 | I30: 3 | J30: =VLOOKUP(I30,Secteurs!$A$2:$C$4,3) -> Armel SOKAMBA | K30: 0.5 | M30: 0.25 | N30: 0.25 | Q30: =+$F30*K30 -> 105 | R30: =+$F30*L30 -> 0 | S30: =+$F30*M30 -> 52.5 | T30: =+$F30*N30 -> 52.5 | U30: =+$F30*O30 -> 0 | V30: =+$F30*P30 -> 0 | W30: =SUM(Q30:V30) -> 210 | Y30: =+W30-F30 -> 0
A31: =+IF(E31>0,1,0) -> 1 | B31: MED ex la grace vindoulou | C31: G1 | D31: cash | E31: 24 | F31: =E31*7 -> 168 | G31: 46002 | H31: =+IF(A31=1,(+TODAY())-G31,"Sans objet") -> 305 | I31: 1 | J31: =VLOOKUP(I31,Secteurs!$A$2:$C$4,3) -> Alexis MABOUNDA | K31: 0.75 | M31: 0.25 | Q31: =+$F31*K31 -> 126 | R31: =+$F31*L31 -> 0 | S31: =+$F31*M31 -> 42 | T31: =+$F31*N31 -> 0 | U31: =+$F31*O31 -> 0 | V31: =+$F31*P31 -> 0 | W31: =SUM(Q31:V31) -> 168 | Y31: =+W31-F31 -> 0
A32: =+IF(E32>0,1,0) -> 1 | B32: MED marché tsourou thyster | C32: G1 | D32: cash | E32: 22 | F32: =E32*7 -> 154 | G32: 46002 | H32: =+IF(A32=1,(+TODAY())-G32,"Sans objet") -> 305 | I32: 1 | J32: =VLOOKUP(I32,Secteurs!$A$2:$C$4,3) -> Alexis MABOUNDA | K32: 0.75 | M32: 0.25 | Q32: =+$F32*K32 -> 115.5 | R32: =+$F32*L32 -> 0 | S32: =+$F32*M32 -> 38.5 | T32: =+$F32*N32 -> 0 | U32: =+$F32*O32 -> 0 | V32: =+$F32*P32 -> 0 | W32: =SUM(Q32:V32) -> 154 | Y32: =+W32-F32 -> 0
A33: =+IF(E33>0,1,0) -> 1 | B33: MED MMB contre rail | C33: G1 | D33: cash | E33: 16 | F33: =E33*7 -> 112 | G33: 45995 | H33: =+IF(A33=1,(+TODAY())-G33,"Sans objet") -> 312 | I33: 3 | J33: =VLOOKUP(I33,Secteurs!$A$2:$C$4,3) -> Armel SOKAMBA | K33: 0.5 | M33: 0.5 | Q33: =+$F33*K33 -> 56 | R33: =+$F33*L33 -> 0 | S33: =+$F33*M33 -> 56 | T33: =+$F33*N33 -> 0 | U33: =+$F33*O33 -> 0 | V33: =+$F33*P33 -> 0 | W33: =SUM(Q33:V33) -> 112 | Y33: =+W33-F33 -> 0
A34: =+IF(E34>0,1,0) -> 1 | B34: TOD mvoumvou sympatique | C34: G1 | D34: cash | E34: 26 | F34: =E34*7 -> 182 | G34: 45996 | H34: =+IF(A34=1,(+TODAY())-G34,"Sans objet") -> 311 | I34: 2 | J34: =VLOOKUP(I34,Secteurs!$A$2:$C$4,3) -> Félix OVOURA | K34: 1 | Q34: =+$F34*K34 -> 182 | R34: =+$F34*L34 -> 0 | S34: =+$F34*M34 -> 0 | T34: =+$F34*N34 -> 0 | U34: =+$F34*O34 -> 0 | V34: =+$F34*P34 -> 0 | W34: =SUM(Q34:V34) -> 182 | Y34: =+W34-F34 -> 0
A35: =+IF(E35>0,1,0) -> 1 | B35: TOD roy | C35: G1 | D35: cash | E35: 20 | F35: =E35*7 -> 140 | G35: 46000 | H35: =+IF(A35=1,(+TODAY())-G35,"Sans objet") -> 307 | I35: 2 | J35: =VLOOKUP(I35,Secteurs!$A$2:$C$4,3) -> Félix OVOURA | K35: 1 | Q35: =+$F35*K35 -> 140 | R35: =+$F35*L35 -> 0 | S35: =+$F35*M35 -> 0 | T35: =+$F35*N35 -> 0 | U35: =+$F35*O35 -> 0 | V35: =+$F35*P35 -> 0 | W35: =SUM(Q35:V35) -> 140 | Y35: =+W35-F35 -> 0
A36: =+IF(E36>0,1,0) -> 1 | B36: TOD och | C36: G1 | D36: cash | E36: 20 | F36: =E36*7 -> 140 | G36: 46001 | H36: =+IF(A36=1,(+TODAY())-G36,"Sans objet") -> 306 | I36: 2 | J36: =VLOOKUP(I36,Secteurs!$A$2:$C$4,3) -> Félix OVOURA | K36: 0.5 | P36: 0.5 | Q36: =+$F36*K36 -> 70 | R36: =+$F36*L36 -> 0 | S36: =+$F36*M36 -> 0 | T36: =+$F36*N36 -> 0 | U36: =+$F36*O36 -> 0 | V36: =+$F36*P36 -> 70 | W36: =SUM(Q36:V36) -> 140 | Y36: =+W36-F36 -> 0
A37: =+IF(E37>0,1,0) -> 1 | B37: WAMAS ex moulin rouge | C37: Direct | D37: cash | E37: 18 | F37: =E37*7 -> 126 | G37: 45993 | H37: =+IF(A37=1,(+TODAY())-G37,"Sans objet") -> 314 | I37: 3 | J37: =VLOOKUP(I37,Secteurs!$A$2:$C$4,3) -> Armel SOKAMBA | K37: 1 | Q37: =+$F37*K37 -> 126 | R37: =+$F37*L37 -> 0 | S37: =+$F37*M37 -> 0 | T37: =+$F37*N37 -> 0 | U37: =+$F37*O37 -> 0 | V37: =+$F37*P37 -> 0 | W37: =SUM(Q37:V37) -> 126 | Y37: =+W37-F37 -> 0
A38: =+IF(E38>0,1,0) -> 1 | B38: CHRISTINA kitoko daniel | C38: Direct | D38: cash | E38: 24 | F38: =E38*7 -> 168 | G38: 46000 | H38: =+IF(A38=1,(+TODAY())-G38,"Sans objet") -> 307 | I38: 2 | J38: =VLOOKUP(I38,Secteurs!$A$2:$C$4,3) -> Félix OVOURA | K38: 0.5 | M38: 0.5 | Q38: =+$F38*K38 -> 84 | R38: =+$F38*L38 -> 0 | S38: =+$F38*M38 -> 84 | T38: =+$F38*N38 -> 0 | U38: =+$F38*O38 -> 0 | V38: =+$F38*P38 -> 0 | W38: =SUM(Q38:V38) -> 168 | Y38: =+W38-F38 -> 0
A39: =+IF(E39>0,1,0) -> 1 | B39: LOUKABOU grand marhé lumumba | C39: Direct | D39: cash | E39: 16 | F39: =E39*7 -> 112 | G39: 45995 | H39: =+IF(A39=1,(+TODAY())-G39,"Sans objet") -> 312 | I39: 2 | J39: =VLOOKUP(I39,Secteurs!$A$2:$C$4,3) -> Félix OVOURA | K39: 0.5 | M39: 0.5 | Q39: =+$F39*K39 -> 56 | R39: =+$F39*L39 -> 0 | S39: =+$F39*M39 -> 56 | T39: =+$F39*N39 -> 0 | U39: =+$F39*O39 -> 0 | V39: =+$F39*P39 -> 0 | W39: =SUM(Q39:V39) -> 112 | Y39: =+W39-F39 -> 0
A40: =+IF(E40>0,1,0) -> 1 | B40: LA CITRONNELLE | C40: Direct | D40: cash | E40: 16 | F40: =E40*7 -> 112 | G40: 45996 | H40: =+IF(A40=1,(+TODAY())-G40,"Sans objet") -> 311 | I40: 2 | J40: =VLOOKUP(I40,Secteurs!$A$2:$C$4,3) -> Félix OVOURA | K40: 1 | Q40: =+$F40*K40 -> 112 | R40: =+$F40*L40 -> 0 | S40: =+$F40*M40 -> 0 | T40: =+$F40*N40 -> 0 | U40: =+$F40*O40 -> 0 | V40: =+$F40*P40 -> 0 | W40: =SUM(Q40:V40) -> 112 | Y40: =+W40-F40 -> 0
A41: =+IF(E41>0,1,0) -> 1 | B41: CONTINENT | C41: Direct | D41: cash | E41: 10 | F41: =E41*7 -> 70 | G41: 45995 | H41: =+IF(A41=1,(+TODAY())-G41,"Sans objet") -> 312 | I41: 2 | J41: =VLOOKUP(I41,Secteurs!$A$2:$C$4,3) -> Félix OVOURA | O41: 1 | Q41: =+$F41*K41 -> 0 | R41: =+$F41*L41 -> 0 | S41: =+$F41*M41 -> 0 | T41: =+$F41*N41 -> 0 | U41: =+$F41*O41 -> 70 | V41: =+$F41*P41 -> 0 | W41: =SUM(Q41:V41) -> 70 | Y41: =+W41-F41 -> 0
A42: =+IF(E42>0,1,0) -> 1 | B42: ESPACE DE LA PROMESSE | C42: Direct | D42: cash | E42: 14 | F42: =E42*7 -> 98 | G42: 46002 | H42: =+IF(A42=1,(+TODAY())-G42,"Sans objet") -> 305 | I42: 1 | J42: =VLOOKUP(I42,Secteurs!$A$2:$C$4,3) -> Alexis MABOUNDA | K42: 0.5 | P42: 0.5 | Q42: =+$F42*K42 -> 49 | R42: =+$F42*L42 -> 0 | S42: =+$F42*M42 -> 0 | T42: =+$F42*N42 -> 0 | U42: =+$F42*O42 -> 0 | V42: =+$F42*P42 -> 49 | W42: =SUM(Q42:V42) -> 98 | Y42: =+W42-F42 -> 0
A43: =+IF(E43>0,1,0) -> 1 | B43: ZAM-ZAM1 mpaka 5chemin | C43: G2 | D43: cash | E43: 30 | F43: =E43*7 -> 210 | G43: 45993 | H43: =+IF(A43=1,(+TODAY())-G43,"Sans objet") -> 314 | I43: 3 | J43: =VLOOKUP(I43,Secteurs!$A$2:$C$4,3) -> Armel SOKAMBA | N43: 0.5 | O43: 0.25 | P43: 0.25 | Q43: =+$F43*K43 -> 0 | R43: =+$F43*L43 -> 0 | S43: =+$F43*M43 -> 0 | T43: 105 | U43: =+$F43*O43 -> 52.5 | V43: =+$F43*P43 -> 52.5 | W43: =SUM(Q43:V43) -> 210 | Y43: =+W43-F43 -> 0
A44: =+IF(E44>0,1,0) -> 1 | B44: ZAM-ZAM2 tchimani | C44: G2 | D44: cash | E44: 26 | F44: =E44*7 -> 182 | G44: 45993 | H44: =+IF(A44=1,(+TODAY())-G44,"Sans objet") -> 314 | I44: 3 | J44: =VLOOKUP(I44,Secteurs!$A$2:$C$4,3) -> Armel SOKAMBA | N44: 0.5 | P44: 0.5 | Q44: =+$F44*K44 -> 0 | R44: =+$F44*L44 -> 0 | S44: =+$F44*M44 -> 0 | T44: =+$F44*N44 -> 91 | U44: =+$F44*O44 -> 0 | V44: =+$F44*P44 -> 91 | W44: =SUM(Q44:V44) -> 182 | Y44: =+W44-F44 -> 0
A45: =+IF(E45>0,1,0) -> 1 | B45: YAYA BILAL1 tchimbambouka | C45: G2 | D45: cash | E45: 30 | F45: =E45*7 -> 210 | G45: 45993 | H45: =+IF(A45=1,(+TODAY())-G45,"Sans objet") -> 314 | I45: 3 | J45: =VLOOKUP(I45,Secteurs!$A$2:$C$4,3) -> Armel SOKAMBA | M45: 0.5 | O45: 0.5 | Q45: =+$F45*K45 -> 0 | R45: =+$F45*L45 -> 0 | S45: =+$F45*M45 -> 105 | T45: =+$F45*N45 -> 0 | U45: =+$F45*O45 -> 105 | V45: =+$F45*P45 -> 0 | W45: =SUM(Q45:V45) -> 210 | Y45: =+W45-F45 -> 0
A46: =+IF(E46>0,1,0) -> 1 | B46: ZAM-ZAM ext 5chemin | C46: G2 | D46: cash | E46: 26 | F46: =E46*7 -> 182 | G46: 45993 | H46: =+IF(A46=1,(+TODAY())-G46,"Sans objet") -> 314 | I46: 3 | J46: =VLOOKUP(I46,Secteurs!$A$2:$C$4,3) -> Armel SOKAMBA | L46: 0.5 | N46: 0.5 | Q46: =+$F46*K46 -> 0 | R46: =+$F46*L46 -> 91 | S46: =+$F46*M46 -> 0 | T46: =+$F46*N46 -> 91 | U46: =+$F46*O46 -> 0 | V46: =+$F46*P46 -> 0 | W46: =SUM(Q46:V46) -> 182 | Y46: =+W46-F46 -> 0
A47: =+IF(E47>0,1,0) -> 1 | B47: AFRICAINE1 nkouikou nzango | C47: G2 | D47: cash | E47: 14 | F47: =E47*7 -> 98 | G47: 46002 | H47: =+IF(A47=1,(+TODAY())-G47,"Sans objet") -> 305 | I47: 1 | J47: =VLOOKUP(I47,Secteurs!$A$2:$C$4,3) -> Alexis MABOUNDA | K47: 0.5 | P47: 0.5 | Q47: =+$F47*K47 -> 49 | R47: =+$F47*L47 -> 0 | S47: =+$F47*M47 -> 0 | T47: =+$F47*N47 -> 0 | U47: =+$F47*O47 -> 0 | V47: =+$F47*P47 -> 49 | W47: =SUM(Q47:V47) -> 98 | Y47: =+W47-F47 -> 0
A48: =+IF(E48>0,1,0) -> 1 | B48: AFRICAINE2 nkouinkou vonvon | C48: G2 | D48: cash | E48: 14 | F48: =E48*7 -> 98 | G48: 46002 | H48: =+IF(A48=1,(+TODAY())-G48,"Sans objet") -> 305 | I48: 1 | J48: =VLOOKUP(I48,Secteurs!$A$2:$C$4,3) -> Alexis MABOUNDA | K48: 0.5 | P48: 0.5 | Q48: =+$F48*K48 -> 49 | R48: =+$F48*L48 -> 0 | S48: =+$F48*M48 -> 0 | T48: =+$F48*N48 -> 0 | U48: =+$F48*O48 -> 0 | V48: =+$F48*P48 -> 49 | W48: =SUM(Q48:V48) -> 98 | Y48: =+W48-F48 -> 0
A49: =+IF(E49>0,1,0) -> 1 | B49: AFRICAINE3 tchialli | C49: G2 | D49: cash | E49: 16 | F49: =E49*7 -> 112 | G49: 45994 | H49: =+IF(A49=1,(+TODAY())-G49,"Sans objet") -> 313 | I49: 1 | J49: =VLOOKUP(I49,Secteurs!$A$2:$C$4,3) -> Alexis MABOUNDA | K49: 0.5 | N49: 0.5 | Q49: =+$F49*K49 -> 56 | R49: =+$F49*L49 -> 0 | S49: =+$F49*M49 -> 0 | T49: =+$F49*N49 -> 56 | U49: =+$F49*O49 -> 0 | V49: =+$F49*P49 -> 0 | W49: =SUM(Q49:V49) -> 112 | Y49: =+W49-F49 -> 0
A50: =+IF(E50>0,1,0) -> 1 | B50: AFRICAINE4 la fontaine | C50: G2 | D50: cash | E50: 14 | F50: =E50*7 -> 98 | G50: 45993 | H50: =+IF(A50=1,(+TODAY())-G50,"Sans objet") -> 314 | I50: 3 | J50: =VLOOKUP(I50,Secteurs!$A$2:$C$4,3) -> Armel SOKAMBA | K50: 0.5 | P50: 0.5 | Q50: =+$F50*K50 -> 49 | R50: =+$F50*L50 -> 0 | S50: =+$F50*M50 -> 0 | T50: =+$F50*N50 -> 0 | U50: =+$F50*O50 -> 0 | V50: =+$F50*P50 -> 49 | W50: =SUM(Q50:V50) -> 98 | Y50: =+W50-F50 -> 0
A51: =+IF(E51>0,1,0) -> 1 | B51: AFRICAINE5 ngoyo avenue taty loutard | C51: G2 | D51: cash | E51: 24 | F51: =E51*7 -> 168 | G51: 46001 | H51: =+IF(A51=1,(+TODAY())-G51,"Sans objet") -> 306 | I51: 3 | J51: =VLOOKUP(I51,Secteurs!$A$2:$C$4,3) -> Armel SOKAMBA | K51: 0.5 | P51: 0.5 | Q51: =+$F51*K51 -> 84 | R51: =+$F51*L51 -> 0 | S51: =+$F51*M51 -> 0 | T51: =+$F51*N51 -> 0 | U51: =+$F51*O51 -> 0 | V51: =+$F51*P51 -> 84 | W51: =SUM(Q51:V51) -> 168 | Y51: =+W51-F51 -> 0
A52: =+IF(E52>0,1,0) -> 1 | B52: AFRICAINE6 ngoyo central | C52: G2 | D52: cash | E52: 24 | F52: =E52*7 -> 168 | G52: 46001 | H52: =+IF(A52=1,(+TODAY())-G52,"Sans objet") -> 306 | I52: 3 | J52: =VLOOKUP(I52,Secteurs!$A$2:$C$4,3) -> Armel SOKAMBA | K52: 0.5 | P52: 0.5 | Q52: =+$F52*K52 -> 84 | R52: =+$F52*L52 -> 0 | S52: =+$F52*M52 -> 0 | T52: =+$F52*N52 -> 0 | U52: =+$F52*O52 -> 0 | V52: =+$F52*P52 -> 84 | W52: =SUM(Q52:V52) -> 168 | Y52: =+W52-F52 -> 0
A53: =+IF(E53>0,1,0) -> 1 | B53: AFRICAINE7 nzassi | C53: G2 | D53: cash | E53: 18 | F53: =E53*7 -> 126 | G53: 45995 | H53: =+IF(A53=1,(+TODAY())-G53,"Sans objet") -> 312 | I53: 3 | J53: =VLOOKUP(I53,Secteurs!$A$2:$C$4,3) -> Armel SOKAMBA | K53: 0.5 | P53: 0.5 | Q53: =+$F53*K53 -> 63 | R53: =+$F53*L53 -> 0 | S53: =+$F53*M53 -> 0 | T53: =+$F53*N53 -> 0 | U53: =+$F53*O53 -> 0 | V53: =+$F53*P53 -> 63 | W53: =SUM(Q53:V53) -> 126 | Y53: =+W53-F53 -> 0
A54: =+IF(E54>0,1,0) -> 1 | B54: ML AFRICAINE marché faubourd | C54: G2 | D54: cash | E54: 14 | F54: =E54*7 -> 98 | G54: 46000 | H54: =+IF(A54=1,(+TODAY())-G54,"Sans objet") -> 307 | I54: 1 | J54: =VLOOKUP(I54,Secteurs!$A$2:$C$4,3) -> Alexis MABOUNDA | K54: 0.5 | P54: 0.5 | Q54: =+$F54*K54 -> 49 | R54: =+$F54*L54 -> 0 | S54: =+$F54*M54 -> 0 | T54: =+$F54*N54 -> 0 | U54: =+$F54*O54 -> 0 | V54: =+$F54*P54 -> 49 | W54: =SUM(Q54:V54) -> 98 | Y54: =+W54-F54 -> 0
A55: =+IF(E55>0,1,0) -> 1 | B55: SUPER MIE ex MLD raffinerie | C55: G2 | D55: cash | E55: 28 | F55: =E55*7 -> 196 | G55: 46000 | H55: =+IF(A55=1,(+TODAY())-G55,"Sans objet") -> 307 | I55: 1 | J55: =VLOOKUP(I55,Secteurs!$A$2:$C$4,3) -> Alexis MABOUNDA | K55: 0.5 | L55: 0.25 | P55: 0.25 | Q55: =+$F55*K55 -> 98 | R55: =+$F55*L55 -> 49 | S55: =+$F55*M55 -> 0 | T55: =+$F55*N55 -> 0 | U55: =+$F55*O55 -> 0 | V55: =+$F55*P55 -> 49 | W55: =SUM(Q55:V55) -> 196 | Y55: =+W55-F55 -> 0
A56: =+IF(E56>0,1,0) -> 1 | B56: ELKOUZ marché faubourg | C56: G2 | D56: cash | E56: 48 | F56: =E56*7 -> 336 | G56: 46000 | H56: =+IF(A56=1,(+TODAY())-G56,"Sans objet") -> 307 | I56: 1 | J56: =VLOOKUP(I56,Secteurs!$A$2:$C$4,3) -> Alexis MABOUNDA | K56: 0.5 | P56: 0.5 | Q56: =+$F56*K56 -> 168 | R56: =+$F56*L56 -> 0 | S56: =+$F56*M56 -> 0 | T56: =+$F56*N56 -> 0 | U56: =+$F56*O56 -> 0 | V56: =+$F56*P56 -> 168 | W56: =SUM(Q56:V56) -> 336 | Y56: =+W56-F56 -> 0
A57: =+IF(E57>0,1,0) -> 1 | B57: AYA fond -tié-tié | C57: G2 | D57: cash | E57: 28 | F57: =E57*7 -> 196 | G57: 45995 | H57: =+IF(A57=1,(+TODAY())-G57,"Sans objet") -> 312 | I57: 3 | J57: =VLOOKUP(I57,Secteurs!$A$2:$C$4,3) -> Armel SOKAMBA | L57: 0.5 | O57: 0.5 | Q57: =+$F57*K57 -> 0 | R57: =+$F57*L57 -> 98 | S57: =+$F57*M57 -> 0 | T57: =+$F57*N57 -> 0 | U57: =+$F57*O57 -> 98 | V57: =+$F57*P57 -> 0 | W57: =SUM(Q57:V57) -> 196 | Y57: =+W57-F57 -> 0
A58: =+IF(E58>0,1,0) -> 1 | B58: LALA thyster | C58: G2 | D58: cash | E58: 24 | F58: =E58*7 -> 168 | G58: 46002 | H58: =+IF(A58=1,(+TODAY())-G58,"Sans objet") -> 305 | I58: 1 | J58: =VLOOKUP(I58,Secteurs!$A$2:$C$4,3) -> Alexis MABOUNDA | K58: 0.5 | M58: 0.5 | Q58: =+$F58*K58 -> 84 | R58: =+$F58*L58 -> 0 | S58: =+$F58*M58 -> 84 | T58: =+$F58*N58 -> 0 | U58: =+$F58*O58 -> 0 | V58: =+$F58*P58 -> 0 | W58: =SUM(Q58:V58) -> 168 | Y58: =+W58-F58 -> 0
A59: =+IF(E59>0,1,0) -> 1 | B59: LALA thyster extension | C59: G2 | D59: cash | E59: 20 | F59: =E59*7 -> 140 | G59: 46002 | H59: =+IF(A59=1,(+TODAY())-G59,"Sans objet") -> 305 | I59: 1 | J59: =VLOOKUP(I59,Secteurs!$A$2:$C$4,3) -> Alexis MABOUNDA | K59: 0.5 | M59: 0.5 | Q59: =+$F59*K59 -> 70 | R59: =+$F59*L59 -> 0 | S59: =+$F59*M59 -> 70 | T59: =+$F59*N59 -> 0 | U59: =+$F59*O59 -> 0 | V59: =+$F59*P59 -> 0 | W59: =SUM(Q59:V59) -> 140 | Y59: =+W59-F59 -> 0
A60: =+IF(E60>0,1,0) -> 1 | B60: EL WAVA vindoulou | C60: G2 | D60: cash | E60: 22 | F60: =E60*7 -> 154 | G60: 46002 | H60: =+IF(A60=1,(+TODAY())-G60,"Sans objet") -> 305 | I60: 1 | J60: =VLOOKUP(I60,Secteurs!$A$2:$C$4,3) -> Alexis MABOUNDA | K60: 0.5 | M60: 0.5 | Q60: =+$F60*K60 -> 77 | R60: =+$F60*L60 -> 0 | S60: =+$F60*M60 -> 77 | T60: =+$F60*N60 -> 0 | U60: =+$F60*O60 -> 0 | V60: =+$F60*P60 -> 0 | W60: =SUM(Q60:V60) -> 154 | Y60: =+W60-F60 -> 0
A61: =+IF(E61>0,1,0) -> 1 | B61: MOUNGA PAIN avenue thyster movis | C61: G2 | D61: crédit | E61: 22 | F61: =E61*7 -> 154 | G61: 46002 | H61: =+IF(A61=1,(+TODAY())-G61,"Sans objet") -> 305 | I61: 1 | J61: =VLOOKUP(I61,Secteurs!$A$2:$C$4,3) -> Alexis MABOUNDA | K61: 0.5 | P61: 0.5 | Q61: =+$F61*K61 -> 77 | R61: =+$F61*L61 -> 0 | S61: =+$F61*M61 -> 0 | T61: =+$F61*N61 -> 0 | U61: =+$F61*O61 -> 0 | V61: =+$F61*P61 -> 77 | W61: =SUM(Q61:V61) -> 154 | Y61: =+W61-F61 -> 0
A62: =+IF(E62>0,1,0) -> 1 | B62: MOUNGA PAIN trabec mont kamba | C62: G2 | D62: crédit | E62: 36 | F62: =E62*7 -> 252 | G62: 46002 | H62: =+IF(A62=1,(+TODAY())-G62,"Sans objet") -> 305 | I62: 1 | J62: =VLOOKUP(I62,Secteurs!$A$2:$C$4,3) -> Alexis MABOUNDA | K62: 0.5 | N62: 0.5 | Q62: =+$F62*K62 -> 126 | R62: =+$F62*L62 -> 0 | S62: =+$F62*M62 -> 0 | T62: =+$F62*N62 -> 126 | U62: =+$F62*O62 -> 0 | V62: =+$F62*P62 -> 0 | W62: =SUM(Q62:V62) -> 252 | Y62: =+W62-F62 -> 0
A63: =+IF(E63>0,1,0) -> 1 | B63: MOUNGA PAIN tsourou | C63: G2 | D63: crédit | E63: 30 | F63: =E63*7 -> 210 | G63: 46002 | H63: =+IF(A63=1,(+TODAY())-G63,"Sans objet") -> 305 | I63: 1 | J63: =VLOOKUP(I63,Secteurs!$A$2:$C$4,3) -> Alexis MABOUNDA | K63: 0.5 | M63: 0.5 | Q63: =+$F63*K63 -> 105 | R63: =+$F63*L63 -> 0 | S63: =+$F63*M63 -> 105 | T63: =+$F63*N63 -> 0 | U63: =+$F63*O63 -> 0 | V63: =+$F63*P63 -> 0 | W63: =SUM(Q63:V63) -> 210 | Y63: =+W63-F63 -> 0
A64: =+IF(E64>0,1,0) -> 1 | B64: PARIS PAIN 1 | C64: G2 | D64: crédit | E64: 20 | F64: =E64*7 -> 140 | G64: 45999 | H64: =+IF(A64=1,(+TODAY())-G64,"Sans objet") -> 308 | I64: 2 | J64: =VLOOKUP(I64,Secteurs!$A$2:$C$4,3) -> Félix OVOURA | K64: 0.5 | P64: 0.5 | Q64: =+$F64*K64 -> 70 | R64: =+$F64*L64 -> 0 | S64: =+$F64*M64 -> 0 | T64: =+$F64*N64 -> 0 | U64: =+$F64*O64 -> 0 | V64: =+$F64*P64 -> 70 | W64: =SUM(Q64:V64) -> 140 | Y64: =+W64-F64 -> 0
A65: =+IF(E65>0,1,0) -> 1 | B65: MAKKAH GM ex baguette d'amour | C65: G2 | D65: crédit | E65: 26 | F65: =E65*7 -> 182 | G65: 45996 | H65: =+IF(A65=1,(+TODAY())-G65,"Sans objet") -> 311 | I65: 2 | J65: =VLOOKUP(I65,Secteurs!$A$2:$C$4,3) -> Félix OVOURA | O65: 0.5 | P65: 0.5 | Q65: =+$F65*K65 -> 0 | R65: =+$F65*L65 -> 0 | S65: =+$F65*M65 -> 0 | T65: =+$F65*N65 -> 0 | U65: =+$F65*O65 -> 91 | V65: =+$F65*P65 -> 91 | W65: =SUM(Q65:V65) -> 182 | Y65: =+W65-F65 -> 0
A66: =+IF(E66>0,1,0) -> 1 | B66: MAKKAH ex NAJAH Vindoulou station | C66: G2 | D66: cash | E66: 24 | F66: =E66*7 -> 168 | G66: 46002 | H66: =+IF(A66=1,(+TODAY())-G66,"Sans objet") -> 305 | I66: 1 | J66: =VLOOKUP(I66,Secteurs!$A$2:$C$4,3) -> Alexis MABOUNDA | P66: 1 | Q66: =+$F66*K66 -> 0 | R66: =+$F66*L66 -> 0 | S66: =+$F66*M66 -> 0 | T66: =+$F66*N66 -> 0 | U66: =+$F66*O66 -> 0 | V66: =+$F66*P66 -> 168 | W66: =SUM(Q66:V66) -> 168 | Y66: =+W66-F66 -> 0
A67: =+IF(E67>0,1,0) -> 1 | B67: MAKKAH grand marché nina service | C67: G2 | D67: cash | E67: 24 | F67: =E67*7 -> 168 | G67: 46000 | H67: =+IF(A67=1,(+TODAY())-G67,"Sans objet") -> 307 | I67: 2 | J67: =VLOOKUP(I67,Secteurs!$A$2:$C$4,3) -> Félix OVOURA | P67: 1 | Q67: =+$F67*K67 -> 0 | R67: =+$F67*L67 -> 0 | S67: =+$F67*M67 -> 0 | T67: =+$F67*N67 -> 0 | U67: =+$F67*O67 -> 0 | V67: =+$F67*P67 -> 168 | W67: =SUM(Q67:V67) -> 168 | Y67: =+W67-F67 -> 0
A68: =+IF(E68>0,1,0) -> 1 | B68: MAKKAH marché nkounikou1 | C68: G2 | D68: cash | E68: 20 | F68: =E68*7 -> 140 | G68: 45992 | H68: =+IF(A68=1,(+TODAY())-G68,"Sans objet") -> 315 | I68: 1 | J68: =VLOOKUP(I68,Secteurs!$A$2:$C$4,3) -> Alexis MABOUNDA | N68: 0.25 | O68: 0.25 | P68: 0.5 | Q68: =+$F68*K68 -> 0 | R68: =+$F68*L68 -> 0 | S68: =+$F68*M68 -> 0 | T68: =+$F68*N68 -> 35 | U68: =+$F68*O68 -> 35 | V68: =+$F68*P68 -> 70 | W68: =SUM(Q68:V68) -> 140 | Y68: =+W68-F68 -> 0
A69: =+IF(E69>0,1,0) -> 1 | B69: MAKKAH voungou péchana | C69: G2 | D69: cash | E69: 24 | F69: =E69*7 -> 168 | G69: 45993 | H69: =+IF(A69=1,(+TODAY())-G69,"Sans objet") -> 314 | I69: 3 | J69: =VLOOKUP(I69,Secteurs!$A$2:$C$4,3) -> Armel SOKAMBA | P69: 1 | Q69: =+$F69*K69 -> 0 | R69: =+$F69*L69 -> 0 | S69: =+$F69*M69 -> 0 | T69: =+$F69*N69 -> 0 | U69: =+$F69*O69 -> 0 | V69: =+$F69*P69 -> 168 | W69: =SUM(Q69:V69) -> 168 | Y69: =+W69-F69 -> 0
A70: =+IF(E70>0,1,0) -> 1 | B70: MAKKAH marché nkounikou2 | C70: G2 | D70: cash | E70: 20 | F70: =E70*7 -> 140 | G70: 45992 | H70: =+IF(A70=1,(+TODAY())-G70,"Sans objet") -> 315 | I70: 1 | J70: =VLOOKUP(I70,Secteurs!$A$2:$C$4,3) -> Alexis MABOUNDA | O70: 0.5 | P70: 0.5 | Q70: =+$F70*K70 -> 0 | R70: =+$F70*L70 -> 0 | S70: =+$F70*M70 -> 0 | T70: =+$F70*N70 -> 0 | U70: =+$F70*O70 -> 70 | V70: =+$F70*P70 -> 70 | W70: =SUM(Q70:V70) -> 140 | Y70: =+W70-F70 -> 0
A71: =+IF(E71>0,1,0) -> 1 | B71: MAKKAH fond tié tié ex El emele | C71: G2 | D71: cash | E71: 20 | F71: =E71*7 -> 140 | G71: 45995 | H71: =+IF(A71=1,(+TODAY())-G71,"Sans objet") -> 312 | I71: 2 | J71: =VLOOKUP(I71,Secteurs!$A$2:$C$4,3) -> Félix OVOURA | L71: 1 | Q71: =+$F71*K71 -> 0 | R71: =+$F71*L71 -> 140 | S71: =+$F71*M71 -> 0 | T71: =+$F71*N71 -> 0 | U71: =+$F71*O71 -> 0 | V71: =+$F71*P71 -> 0 | W71: =SUM(Q71:V71) -> 140 | Y71: =+W71-F71 -> 0
A72: =+IF(E72>0,1,0) -> 1 | B72: MAKKAH TR Balou constant loandjili | C72: G2 | D72: cash | E72: 20 | F72: =E72*7 -> 140 | G72: 45996 | H72: =+IF(A72=1,(+TODAY())-G72,"Sans objet") -> 311 | I72: 1 | J72: =VLOOKUP(I72,Secteurs!$A$2:$C$4,3) -> Alexis MABOUNDA | L72: 0.5 | O72: 0.5 | Q72: =+$F72*K72 -> 0 | R72: =+$F72*L72 -> 70 | S72: =+$F72*M72 -> 0 | T72: =+$F72*N72 -> 0 | U72: =+$F72*O72 -> 70 | V72: =+$F72*P72 -> 0 | W72: =SUM(Q72:V72) -> 140 | Y72: =+W72-F72 -> 0
A73: =+IF(E73>0,1,0) -> 1 | B73: SOLIDARITE mpita | C73: G2 | D73: cash | E73: 20 | F73: =E73*7 -> 140 | G73: 45999 | H73: =+IF(A73=1,(+TODAY())-G73,"Sans objet") -> 308 | I73: 2 | J73: =VLOOKUP(I73,Secteurs!$A$2:$C$4,3) -> Félix OVOURA | K73: 0.5 | N73: 0.5 | Q73: =+$F73*K73 -> 70 | R73: =+$F73*L73 -> 0 | S73: =+$F73*M73 -> 0 | T73: =+$F73*N73 -> 70 | U73: =+$F73*O73 -> 0 | V73: =+$F73*P73 -> 0 | W73: =SUM(Q73:V73) -> 140 | Y73: =+W73-F73 -> 0
A74: =+IF(E74>0,1,0) -> 1 | B74: L-KAKARA ex SOLIDARITE makayabou | C74: G2 | D74: crédit | E74: 24 | F74: =E74*7 -> 168 | G74: 45996 | H74: =+IF(A74=1,(+TODAY())-G74,"Sans objet") -> 311 | I74: 1 | J74: =VLOOKUP(I74,Secteurs!$A$2:$C$4,3) -> Alexis MABOUNDA | K74: 0.5 | N74: 0.5 | Q74: =+$F74*K74 -> 84 | R74: =+$F74*L74 -> 0 | S74: =+$F74*M74 -> 0 | T74: =+$F74*N74 -> 84 | U74: =+$F74*O74 -> 0 | V74: =+$F74*P74 -> 0 | W74: =SUM(Q74:V74) -> 168 | Y74: =+W74-F74 -> 0
A75: =+IF(E75>0,1,0) -> 1 | B75: ZEYNAB ex chebou loussala | C75: G2 | D75: crédit | E75: 18 | F75: =E75*7 -> 126 | G75: 45993 | H75: =+IF(A75=1,(+TODAY())-G75,"Sans objet") -> 314 | I75: 3 | J75: =VLOOKUP(I75,Secteurs!$A$2:$C$4,3) -> Armel SOKAMBA | L75: 0.5 | P75: 0.5 | Q75: =+$F75*K75 -> 0 | R75: =+$F75*L75 -> 63 | S75: =+$F75*M75 -> 0 | T75: =+$F75*N75 -> 0 | U75: =+$F75*O75 -> 0 | V75: =+$F75*P75 -> 63 | W75: =SUM(Q75:V75) -> 126 | Y75: =+W75-F75 -> 0
A76: =+IF(E76>0,1,0) -> 1 | B76: ZEYNAB ex chebou amour du pays | C76: G2 | D76: cash | E76: 28 | F76: =E76*7 -> 196 | G76: 45993 | H76: =+IF(A76=1,(+TODAY())-G76,"Sans objet") -> 314 | I76: 3 | J76: =VLOOKUP(I76,Secteurs!$A$2:$C$4,3) -> Armel SOKAMBA | L76: 0.5 | O76: 0.25 | P76: 0.25 | Q76: =+$F76*K76 -> 0 | R76: =+$F76*L76 -> 98 | S76: =+$F76*M76 -> 0 | T76: =+$F76*N76 -> 0 | U76: =+$F76*O76 -> 49 | V76: =+$F76*P76 -> 49 | W76: =SUM(Q76:V76) -> 196 | Y76: =+W76-F76 -> 0
A77: =+IF(E77>0,1,0) -> 1 | B77: ZEYNAB ex chebou marché tchinkounkou | C77: G2 | D77: crédit | E77: 14 | F77: =E77*7 -> 98 | G77: 45993 | H77: =+IF(A77=1,(+TODAY())-G77,"Sans objet") -> 314 | I77: 3 | J77: =VLOOKUP(I77,Secteurs!$A$2:$C$4,3) -> Armel SOKAMBA | K77: 0.5 | N77: 0.5 | Q77: =+$F77*K77 -> 49 | R77: =+$F77*L77 -> 0 | S77: =+$F77*M77 -> 0 | T77: =+$F77*N77 -> 49 | U77: =+$F77*O77 -> 0 | V77: =+$F77*P77 -> 0 | W77: =SUM(Q77:V77) -> 98 | Y77: =+W77-F77 -> 0
A78: =+IF(E78>0,1,0) -> 1 | B78: ZEYNAB PATRA hopital de base | C78: G2 | D78: crédit | E78: 20 | F78: =E78*7 -> 140 | G78: 45995 | H78: =+IF(A78=1,(+TODAY())-G78,"Sans objet") -> 312 | I78: 3 | J78: =VLOOKUP(I78,Secteurs!$A$2:$C$4,3) -> Armel SOKAMBA | K78: 0.5 | N78: 0.5 | Q78: =+$F78*K78 -> 70 | R78: =+$F78*L78 -> 0 | S78: =+$F78*M78 -> 0 | T78: =+$F78*N78 -> 70 | U78: =+$F78*O78 -> 0 | V78: =+$F78*P78 -> 0 | W78: =SUM(Q78:V78) -> 140 | Y78: =+W78-F78 -> 0
A79: =+IF(E79>0,1,0) -> 1 | B79: HASSAN nzasi | C79: G2 | D79: crédit | E79: 20 | F79: =E79*7 -> 140 | G79: 45976 | H79: =+IF(A79=1,(+TODAY())-G79,"Sans objet") -> 331 | I79: 3 | J79: =VLOOKUP(I79,Secteurs!$A$2:$C$4,3) -> Armel SOKAMBA | K79: 0.5 | O79: 0.25 | P79: 0.25 | Q79: =+$F79*K79 -> 70 | R79: =+$F79*L79 -> 0 | S79: =+$F79*M79 -> 0 | T79: =+$F79*N79 -> 0 | U79: =+$F79*O79 -> 35 | V79: =+$F79*P79 -> 35 | W79: =SUM(Q79:V79) -> 140 | Y79: =+W79-F79 -> 0
A80: =+IF(E80>0,1,0) -> 1 | B80: SUPER QUALITE marhé foire | C80: G2 | D80: crédit | E80: 12 | F80: =E80*7 -> 84 | G80: 46000 | H80: =+IF(A80=1,(+TODAY())-G80,"Sans objet") -> 307 | I80: 1 | J80: =VLOOKUP(I80,Secteurs!$A$2:$C$4,3) -> Alexis MABOUNDA | N80: 1 | Q80: =+$F80*K80 -> 0 | R80: =+$F80*L80 -> 0 | S80: =+$F80*M80 -> 0 | T80: =+$F80*N80 -> 84 | U80: =+$F80*O80 -> 0 | V80: =+$F80*P80 -> 0 | W80: =SUM(Q80:V80) -> 84 | Y80: =+W80-F80 -> 0
A81: =+IF(E81>0,1,0) -> 1 | B81: BON CHOIX ngoyo | C81: Direct | D81: crédit | E81: 10 | F81: =E81*7 -> 70 | G81: 46001 | H81: =+IF(A81=1,(+TODAY())-G81,"Sans objet") -> 306 | I81: 3 | J81: =VLOOKUP(I81,Secteurs!$A$2:$C$4,3) -> Armel SOKAMBA | M81: 0.25 | N81: 0.25 | P81: 0.5 | Q81: =+$F81*K81 -> 0 | R81: =+$F81*L81 -> 0 | S81: =+$F81*M81 -> 17.5 | T81: =+$F81*N81 -> 17.5 | U81: =+$F81*O81 -> 0 | V81: =+$F81*P81 -> 35 | W81: =SUM(Q81:V81) -> 70 | Y81: =+W81-F81 -> 0
A82: =+IF(E82>0,1,0) -> 1 | B82: BON CHOIX ex GAZA2 km4 | C82: Direct | D82: crédit | E82: 16 | F82: =E82*7 -> 112 | G82: 45999 | H82: =+IF(A82=1,(+TODAY())-G82,"Sans objet") -> 308 | I82: 2 | J82: =VLOOKUP(I82,Secteurs!$A$2:$C$4,3) -> Félix OVOURA | N82: 0.5 | P82: 0.5 | Q82: =+$F82*K82 -> 0 | R82: =+$F82*L82 -> 0 | S82: =+$F82*M82 -> 0 | T82: =+$F82*N82 -> 56 | U82: =+$F82*O82 -> 0 | V82: =+$F82*P82 -> 56 | W82: =SUM(Q82:V82) -> 112 | Y82: =+W82-F82 -> 0
A83: =+IF(E83>0,1,0) -> 1 | B83: BM EX ELKER WENVIR vindoulou arrêt sapin | C83: G2 | D83: crédit | E83: 20 | F83: =E83*7 -> 140 | G83: 46002 | H83: =+IF(A83=1,(+TODAY())-G83,"Sans objet") -> 305 | I83: 1 | J83: =VLOOKUP(I83,Secteurs!$A$2:$C$4,3) -> Alexis MABOUNDA | K83: 0.5 | M83: 0.25 | O83: 0.25 | Q83: =+$F83*K83 -> 70 | R83: =+$F83*L83 -> 0 | S83: =+$F83*M83 -> 35 | T83: =+$F83*N83 -> 0 | U83: =+$F83*O83 -> 35 | V83: =+$F83*P83 -> 0 | W83: =SUM(Q83:V83) -> 140 | Y83: =+W83-F83 -> 0
A84: =+IF(E84>0,1,0) -> 1 | B84: CONGO FUTUR grand marché | C84: G2 | D84: crédit | E84: 40 | F84: =E84*7 -> 280 | G84: 46000 | H84: =+IF(A84=1,(+TODAY())-G84,"Sans objet") -> 307 | I84: 2 | J84: =VLOOKUP(I84,Secteurs!$A$2:$C$4,3) -> Félix OVOURA | L84: 0.25 | N84: 0.25 | P84: 0.5 | Q84: =+$F84*K84 -> 0 | R84: =+$F84*L84 -> 70 | S84: =+$F84*M84 -> 0 | T84: =+$F84*N84 -> 70 | U84: =+$F84*O84 -> 0 | V84: =+$F84*P84 -> 140 | W84: =SUM(Q84:V84) -> 280 | Y84: =+W84-F84 -> 0
A85: =+IF(E85>0,1,0) -> 1 | B85: CONGO FUTUR faubourg | C85: G2 | D85: crédit | E85: 26 | F85: =E85*7 -> 182 | G85: 46000 | H85: =+IF(A85=1,(+TODAY())-G85,"Sans objet") -> 307 | I85: 1 | J85: =VLOOKUP(I85,Secteurs!$A$2:$C$4,3) -> Alexis MABOUNDA | L85: 0.25 | N85: 0.25 | P85: 0.5 | Q85: =+$F85*K85 -> 0 | R85: =+$F85*L85 -> 45.5 | S85: =+$F85*M85 -> 0 | T85: =+$F85*N85 -> 45.5 | U85: =+$F85*O85 -> 0 | V85: =+$F85*P85 -> 91 | W85: =SUM(Q85:V85) -> 182 | Y85: =+W85-F85 -> 0
A86: =+IF(E86>0,1,0) -> 1 | B86: CONGO FUTUR carrefour rafinnerie | C86: G2 | D86: crédit | E86: 22 | F86: =E86*7 -> 154 | G86: 46000 | H86: =+IF(A86=1,(+TODAY())-G86,"Sans objet") -> 307 | I86: 1 | J86: =VLOOKUP(I86,Secteurs!$A$2:$C$4,3) -> Alexis MABOUNDA | L86: 0.5 | N86: 0.25 | P86: 0.25 | Q86: =+$F86*K86 -> 0 | R86: 77 | S86: =+$F86*M86 -> 0 | T86: =+$F86*N86 -> 38.5 | U86: =+$F86*O86 -> 0 | V86: =+$F86*P86 -> 38.5 | W86: =SUM(Q86:V86) -> 154 | Y86: =+W86-F86 -> 0
A87: =+IF(E87>0,1,0) -> 1 | B87: CONGO FUTUR terre jaune | C87: G2 | D87: crédit | E87: 26 | F87: =E87*7 -> 182 | G87: 46000 | H87: =+IF(A87=1,(+TODAY())-G87,"Sans objet") -> 307 | I87: 1 | J87: =VLOOKUP(I87,Secteurs!$A$2:$C$4,3) -> Alexis MABOUNDA | L87: 0.25 | N87: 0.25 | P87: 0.5 | Q87: =+$F87*K87 -> 0 | R87: =+$F87*L87 -> 45.5 | S87: =+$F87*M87 -> 0 | T87: =+$F87*N87 -> 45.5 | U87: =+$F87*O87 -> 0 | V87: =+$F87*P87 -> 91 | W87: =SUM(Q87:V87) -> 182 | Y87: =+W87-F87 -> 0
A88: =+IF(E88>0,1,0) -> 1 | B88: CONGO FUTUR arrêt manguier | C88: G2 | D88: crédit | E88: 24 | F88: =E88*7 -> 168 | G88: 46000 | H88: =+IF(A88=1,(+TODAY())-G88,"Sans objet") -> 307 | I88: 1 | J88: =VLOOKUP(I88,Secteurs!$A$2:$C$4,3) -> Alexis MABOUNDA | L88: 0.25 | N88: 0.5 | P88: 0.25 | Q88: =+$F88*K88 -> 0 | R88: =+$F88*L88 -> 42 | S88: =+$F88*M88 -> 0 | T88: =+$F88*N88 -> 84 | U88: =+$F88*O88 -> 0 | V88: =+$F88*P88 -> 42 | W88: =SUM(Q88:V88) -> 168 | Y88: =+W88-F88 -> 0
A89: =+IF(E89>0,1,0) -> 1 | B89: CONGO FUTUR rafinerie 1er camp | C89: G2 | D89: crédit | E89: 20 | F89: =E89*7 -> 140 | G89: 46000 | H89: =+IF(A89=1,(+TODAY())-G89,"Sans objet") -> 307 | I89: 1 | J89: =VLOOKUP(I89,Secteurs!$A$2:$C$4,3) -> Alexis MABOUNDA | L89: 0.25 | N89: 0.25 | P89: 0.5 | Q89: =+$F89*K89 -> 0 | R89: =+$F89*L89 -> 35 | S89: =+$F89*M89 -> 0 | T89: =+$F89*N89 -> 35 | U89: =+$F89*O89 -> 0 | V89: =+$F89*P89 -> 70 | W89: =SUM(Q89:V89) -> 140 | Y89: =+W89-F89 -> 0
A90: =+IF(E90>0,1,0) -> 1 | B90: CONGO FUTUR fond tié-tié | C90: G2 | D90: crédit | E90: 24 | F90: =E90*7 -> 168 | G90: 45995 | H90: =+IF(A90=1,(+TODAY())-G90,"Sans objet") -> 312 | I90: 2 | J90: =VLOOKUP(I90,Secteurs!$A$2:$C$4,3) -> Félix OVOURA | L90: 0.5 | N90: 0.25 | P90: 0.25 | Q90: =+$F90*K90 -> 0 | R90: =+$F90*L90 -> 84 | S90: =+$F90*M90 -> 0 | T90: =+$F90*N90 -> 42 | U90: =+$F90*O90 -> 0 | V90: =+$F90*P90 -> 42 | W90: =SUM(Q90:V90) -> 168 | Y90: =+W90-F90 -> 0
A91: =+IF(E91>0,1,0) -> 1 | B91: CONGO FUTUR moukondo | C91: G2 | D91: cash | E91: 24 | F91: =E91*7 -> 168 | G91: 46000 | H91: =+IF(A91=1,(+TODAY())-G91,"Sans objet") -> 307 | I91: 1 | J91: =VLOOKUP(I91,Secteurs!$A$2:$C$4,3) -> Alexis MABOUNDA | L91: 0.25 | N91: 0.25 | P91: 0.5 | Q91: =+$F91*K91 -> 0 | R91: =+$F91*L91 -> 42 | S91: =+$F91*M91 -> 0 | T91: =+$F91*N91 -> 42 | U91: =+$F91*O91 -> 0 | V91: =+$F91*P91 -> 84 | W91: =SUM(Q91:V91) -> 168 | Y91: =+W91-F91 -> 0
A92: =+IF(E92>0,1,0) -> 1 | B92: CONGO FUTUR marché culotte | C92: G2 | D92: cash | E92: 30 | F92: =E92*7 -> 210 | G92: 46002 | H92: =+IF(A92=1,(+TODAY())-G92,"Sans objet") -> 305 | I92: 1 | J92: =VLOOKUP(I92,Secteurs!$A$2:$C$4,3) -> Alexis MABOUNDA | L92: 0.5 | N92: 0.25 | P92: 0.25 | Q92: =+$F92*K92 -> 0 | R92: 105 | S92: =+$F92*M92 -> 0 | T92: =+$F92*N92 -> 52.5 | U92: =+$F92*O92 -> 0 | V92: =+$F92*P92 -> 52.5 | W92: =SUM(Q92:V92) -> 210 | Y92: =+W92-F92 -> 0
A93: =+IF(E93>0,1,0) -> 1 | B93: MEA 7/7ex baguette d'asta | C93: Autre | D93: crédit | E93: 18 | F93: =E93*7 -> 126 | G93: 45995 | H93: =+IF(A93=1,(+TODAY())-G93,"Sans objet") -> 312 | I93: 2 | J93: =VLOOKUP(I93,Secteurs!$A$2:$C$4,3) -> Félix OVOURA | N93: 0.5 | P93: 0.5 | Q93: =+$F93*K93 -> 0 | R93: =+$F93*L93 -> 0 | S93: =+$F93*M93 -> 0 | T93: =+$F93*N93 -> 63 | U93: =+$F93*O93 -> 0 | V93: =+$F93*P93 -> 63 | W93: =SUM(Q93:V93) -> 126 | Y93: =+W93-F93 -> 0
A94: =+IF(E94>0,1,0) -> 1 | B94: PARIS PAIN 2 ex baguette d'asta mpita | C94: G2 | D94: crédit | E94: 20 | F94: =E94*7 -> 140 | G94: 45993 | H94: =+IF(A94=1,(+TODAY())-G94,"Sans objet") -> 314 | I94: 2 | J94: =VLOOKUP(I94,Secteurs!$A$2:$C$4,3) -> Félix OVOURA | K94: 0.5 | N94: 0.5 | Q94: =+$F94*K94 -> 70 | R94: =+$F94*L94 -> 0 | S94: =+$F94*M94 -> 0 | T94: =+$F94*N94 -> 70 | U94: =+$F94*O94 -> 0 | V94: =+$F94*P94 -> 0 | W94: =SUM(Q94:V94) -> 140 | Y94: =+W94-F94 -> 0
A95: =+IF(E95>0,1,0) -> 1 | B95: ELVOZ INCHALLA mbota | C95: Direct | D95: crédit | E95: 24 | F95: =E95*7 -> 168 | G95: 45993 | H95: =+IF(A95=1,(+TODAY())-G95,"Sans objet") -> 314 | I95: 3 | J95: =VLOOKUP(I95,Secteurs!$A$2:$C$4,3) -> Armel SOKAMBA | N95: 0.5 | P95: 0.5 | Q95: =+$F95*K95 -> 0 | R95: =+$F95*L95 -> 0 | S95: =+$F95*M95 -> 0 | T95: =+$F95*N95 -> 84 | U95: =+$F95*O95 -> 0 | V95: =+$F95*P95 -> 84 | W95: =SUM(Q95:V95) -> 168 | Y95: =+W95-F95 -> 0
A96: =+IF(E96>0,1,0) -> 1 | B96: BAGUETTE D'EXCELLENCE nkouinkou | C96: Autre | D96: cash | E96: 6 | F96: =E96*7 -> 42 | G96: 46002 | H96: =G962 -> 0 | I96: 1 | J96: =VLOOKUP(I96,Secteurs!$A$2:$C$4,3) -> Alexis MABOUNDA | M96: 1 | Q96: =+$F96*K96 -> 0 | R96: =+$F96*L96 -> 0 | S96: =+$F96*M96 -> 42 | T96: =+$F96*N96 -> 0 | U96: =+$F96*O96 -> 0 | V96: =+$F96*P96 -> 0 | W96: =SUM(Q96:V96) -> 42 | Y96: =+W96-F96 -> 0
A97: =+IF(E97>0,1,0) -> 1 | B97: BOUDI mvou-mvou | C97: Autre | D97: crédit | E97: 12 | F97: =E97*7 -> 84 | G97: 46000 | H97: =+IF(A97=1,(+TODAY())-G97,"Sans objet") -> 307 | I97: 2 | J97: =VLOOKUP(I97,Secteurs!$A$2:$C$4,3) -> Félix OVOURA | N97: 0.5 | O97: 0.5 | Q97: =+$F97*K97 -> 0 | R97: =+$F97*L97 -> 0 | S97: =+$F97*M97 -> 0 | T97: =+$F97*N97 -> 42 | U97: =+$F97*O97 -> 42 | V97: =+$F97*P97 -> 0 | W97: =SUM(Q97:V97) -> 84 | Y97: =+W97-F97 -> 0
A98: =+IF(E98>0,1,0) -> 1 | B98: ELVETH/ EX CONGO RIM patra | C98: Autre | D98: crédit | E98: 14 | F98: =E98*7 -> 98 | G98: 45995 | H98: =+IF(A98=1,(+TODAY())-G98,"Sans objet") -> 312 | I98: 3 | J98: =VLOOKUP(I98,Secteurs!$A$2:$C$4,3) -> Armel SOKAMBA | K98: 1 | Q98: =+$F98*K98 -> 98 | R98: =+$F98*L98 -> 0 | S98: =+$F98*M98 -> 0 | T98: =+$F98*N98 -> 0 | U98: =+$F98*O98 -> 0 | V98: =+$F98*P98 -> 0 | W98: =SUM(Q98:V98) -> 98 | Y98: =+W98-F98 -> 0
A99: =+IF(E99>0,1,0) -> 1 | B99: EL MONA tié tié masola | C99: Autre | D99: crédit | E99: 10 | F99: =E99*7 -> 70 | G99: 45995 | H99: =+IF(A99=1,(+TODAY())-G99,"Sans objet") -> 312 | I99: 2 | J99: =VLOOKUP(I99,Secteurs!$A$2:$C$4,3) -> Félix OVOURA | L99: 0.5 | O99: 0.5 | Q99: =+$F99*K99 -> 0 | R99: =+$F99*L99 -> 35 | S99: =+$F99*M99 -> 0 | T99: =+$F99*N99 -> 0 | U99: =+$F99*O99 -> 35 | V99: =+$F99*P99 -> 0 | W99: =SUM(Q99:V99) -> 70 | Y99: =+W99-F99 -> 0
A100: =+IF(E100>0,1,0) -> 1 | B100: EL MONA fond tié-tié | C100: Autre | D100: crédit | E100: 20 | F100: =E100*7 -> 140 | G100: 46001 | H100: =+IF(A100=1,(+TODAY())-G100,"Sans objet") -> 306 | I100: 3 | J100: =VLOOKUP(I100,Secteurs!$A$2:$C$4,3) -> Armel SOKAMBA | L100: 0.5 | O100: 0.5 | Q100: =+$F100*K100 -> 0 | R100: =+$F100*L100 -> 70 | S100: =+$F100*M100 -> 0 | T100: =+$F100*N100 -> 0 | U100: =+$F100*O100 -> 70 | V100: =+$F100*P100 -> 0 | W100: =SUM(Q100:V100) -> 140 | Y100: =+W100-F100 -> 0
...

Sheet WEEK 51
A1: N° | B1: Boulangerie | C1: Groupe | D1: Type | E1: Cons/j | F1: C° heb | G1: Date Dernière Visite | H1: Période sans visite | I1: Secteur | J1: Technico Commercial | K1: %MINOCO | L1: %FANTA | M1: %GMK | N1: %SGMP | O1: %MFB | P1: %GMC | Q1: MINOCO | R1: FANTA | S1: GMK | T1: SGMP | U1: MFB | V1: GMC | W1: Total | X1: COMMENTAIRES | AA1: Week | AB1: Minoco | AC1: Fanta | AD1: GMPN | AE1: GMK | AF1: SGMP | AG1: MFB | AH1: GMC
A2: =+IF(E2>0,1,0) -> 1 | B2: CONGO FUTUR SIAFOUMOU | C2: G2 | D2: crédit | E2: 20 | F2: =E2*7 -> 140 | G2: 46000 | H2: =+IF(A2=1,(+TODAY())-G2,"Sans objet") -> 307 | I2: 1 | J2: =VLOOKUP(I2,Secteurs!$A$2:$C$4,3) -> Alexis MABOUNDA | N2: 0.5 | P2: 0.5 | Q2: =+$F2*K2 -> 0 | R2: =+$F2*L2 -> 0 | S2: =+$F2*M2 -> 0 | T2: =+$F2*N2 -> 70 | U2: =+$F2*O2 -> 0 | V2: =+$F2*P2 -> 70 | W2: =SUM(Q2:V2) -> 140 | Y2: =+W2-F2 -> 0 | AA2: 48 | AB2: 0.33 | AC2: 0.1 | AD2: =SUM(AB2:AC2) -> 0.43 | AE2: 0.093 | AF2: 0.139 | AG2: 0.109 | AH2: 0.231 | AI2: =SUM(AD2:AH2) -> 1.002
A3: =+IF(E3>0,1,0) -> 1 | B3: EL ATIGH mengo péage | C3: G1 | D3: cash | E3: 24 | F3: =E3*7 -> 168 | G3: 46008 | H3: =+IF(A3=1,(+TODAY())-G3,"Sans objet") -> 299 | I3: 1 | J3: =VLOOKUP(I3,Secteurs!$A$2:$C$4,3) -> Alexis MABOUNDA | K3: 0.75 | M3: 0.25 | Q3: =+$F3*K3 -> 126 | R3: =+$F3*L3 -> 0 | S3: =+$F3*M3 -> 42 | T3: =+$F3*N3 -> 0 | U3: =+$F3*O3 -> 0 | V3: =+$F3*P3 -> 0 | W3: =SUM(Q3:V3) -> 168 | Y3: =+W3-F3 -> 0 | AA3: 49 | AB3: 0.3274473 | AC3: 0.11030604 | AD3: =SUM(AB3:AC3) -> 0.43775334 | AE3: 0.092039927 | AF3: 0.14187272 | AG3: 0.093281313 | AH3: 0.2350527 | AI3: =SUM(AD3:AH3) -> 1
A4: =+IF(E4>0,1,0) -> 1 | B4: ATAKAHYR loandjili | C4: G1 | D4: cash | E4: 54 | F4: =E4*7 -> 378 | G4: 45992 | H4: =+IF(A4=1,(+TODAY())-G4,"Sans objet") -> 315 | I4: 1 | J4: =VLOOKUP(I4,Secteurs!$A$2:$C$4,3) -> Alexis MABOUNDA | K4: 0.75 | O4: 0.25 | Q4: 252 | R4: =+$F4*L4 -> 0 | S4: =+$F4*M4 -> 0 | T4: =+$F4*N4 -> 0 | U4: 126 | V4: =+$F4*P4 -> 0 | W4: =SUM(Q4:V4) -> 378 | Y4: =+W4-F4 -> 0 | AA4: 50 | AB4: 0.34874188 | AC4: 0.11209652 | AD4: =SUM(AB4:AC4) -> 0.4608384 | AE4: 0.089409096 | AF4: 0.11784573 | AG4: 0.089177065 | AH4: 0.24272971 | AI4: =SUM(AD4:AH4) -> 1
A5: =+IF(E5>0,1,0) -> 1 | B5: ATAKAHYR fouks | C5: G1 | D5: cash | E5: 28 | F5: =E5*7 -> 196 | G5: 45999 | H5: =+IF(A5=1,(+TODAY())-G5,"Sans objet") -> 308 | I5: 2 | J5: =VLOOKUP(I5,Secteurs!$A$2:$C$4,3) -> Félix OVOURA | K5: 0.5 | O5: 0.5 | Q5: =+$F5*K5 -> 98 | R5: =+$F5*L5 -> 0 | S5: =+$F5*M5 -> 0 | T5: =+$F5*N5 -> 0 | U5: =+$F5*O5 -> 98 | V5: =+$F5*P5 -> 0 | W5: =SUM(Q5:V5) -> 196 | Y5: =+W5-F5 -> 0 | AA5: 51 | AB5: =E147 -> 0.37605907 | AC5: =E148 -> 0.11292665 | AD5: =SUM(AB5:AC5) -> 0.48898572 | AE5: =E150 -> 0.10663278 | AF5: =E151 -> 0.073499153 | AG5: =E152 -> 0.09852336 | AH5: =E153 -> 0.23235899 | AI5: =SUM(AD5:AH5) -> 1
A6: =+IF(E6>0,1,0) -> 1 | B6: ATAKAHYR mayinga | C6: G1 | D6: cash | E6: 20 | F6: 140 | G6: 46007 | H6: =+IF(A6=1,(+TODAY())-G6,"Sans objet") -> 300 | I6: 3 | J6: =VLOOKUP(I6,Secteurs!$A$2:$C$4,3) -> Armel SOKAMBA | K6: 0.5 | P6: 0.5 | Q6: 70 | R6: =+$F6*L6 -> 0 | S6: =+$F6*M6 -> 0 | T6: =+$F6*N6 -> 0 | U6: =+$F6*O6 -> 0 | V6: 70 | W6: =SUM(Q6:V6) -> 140 | Y6: =+W6-F6 -> 0 | AA6: Variation
A7: =+IF(E7>0,1,0) -> 1 | B7: MED MMB CEG vindoulou | C7: G1 | D7: cash | E7: 20 | F7: =E7*7 -> 140 | G7: 46008 | H7: =+IF(A7=1,(+TODAY())-G7,"Sans objet") -> 299 | I7: 3 | J7: Christelle ITOUA | K7: 0.5 | M7: 0.25 | P7: 0.25 | Q7: =+$F7*K7 -> 70 | R7: =+$F7*L7 -> 0 | S7: =+$F7*M7 -> 35 | T7: =+$F7*N7 -> 0 | U7: =+$F7*O7 -> 0 | V7: =+$F7*P7 -> 35 | W7: =SUM(Q7:V7) -> 140 | Y7: =+W7-F7 -> 0
A8: =+IF(E8>0,1,0) -> 1 | B8: MED globaline | C8: G1 | D8: cash | E8: 26 | F8: =E8*7 -> 182 | G8: 46007 | H8: =+IF(A8=1,(+TODAY())-G8,"Sans objet") -> 300 | I8: 3 | J8: =VLOOKUP(I8,Secteurs!$A$2:$C$4,3) -> Armel SOKAMBA | K8: 1 | Q8: =+$F8*K8 -> 182 | R8: =+$F8*L8 -> 0 | S8: =+$F8*M8 -> 0 | T8: =+$F8*N8 -> 0 | U8: =+$F8*O8 -> 0 | V8: =+$F8*P8 -> 0 | W8: =SUM(Q8:V8) -> 182 | Y8: =+W8-F8 -> 0
A9: =+IF(E9>0,1,0) -> 1 | B9: Ets AMITIE ex BAGDAD1 grand marché révolution | C9: G1 | D9: cash | E9: 20 | F9: =E9*7 -> 140 | G9: 46000 | H9: =+IF(A9=1,(+TODAY())-G9,"Sans objet") -> 307 | I9: 2 | J9: =VLOOKUP(I9,Secteurs!$A$2:$C$4,3) -> Félix OVOURA | K9: 0.75 | P9: 0.25 | Q9: =+$F9*K9 -> 105 | R9: =+$F9*L9 -> 0 | S9: =+$F9*M9 -> 0 | T9: =+$F9*N9 -> 0 | U9: =+$F9*O9 -> 0 | V9: =+$F9*P9 -> 35 | W9: =SUM(Q9:V9) -> 140 | Y9: =+W9-F9 -> 0
A10: =+IF(E10>0,1,0) -> 1 | B10: Ets AMITIE ex CONGO2 voungou école primaire | C10: G1 | D10: cash | E10: 20 | F10: =E10*7 -> 140 | G10: 46007 | H10: =+IF(A10=1,(+TODAY())-G10,"Sans objet") -> 300 | I10: 3 | J10: =VLOOKUP(I10,Secteurs!$A$2:$C$4,3) -> Armel SOKAMBA | K10: 1 | Q10: =+$F10*K10 -> 140 | R10: =+$F10*L10 -> 0 | S10: =+$F10*M10 -> 0 | T10: =+$F10*N10 -> 0 | U10: =+$F10*O10 -> 0 | V10: =+$F10*P10 -> 0 | W10: =SUM(Q10:V10) -> 140 | Y10: =+W10-F10 -> 0
A11: =+IF(E11>0,1,0) -> 1 | B11: Ets AMITIE ex CONGO1 kitoko daniel | C11: G1 | D11: cash | E11: 24 | F11: =E11*7 -> 168 | G11: 46000 | H11: =+IF(A11=1,(+TODAY())-G11,"Sans objet") -> 307 | I11: 2 | J11: =VLOOKUP(I11,Secteurs!$A$2:$C$4,3) -> Félix OVOURA | K11: 0.5 | M11: 0.5 | Q11: =+$F11*K11 -> 84 | R11: =+$F11*L11 -> 0 | S11: =+$F11*M11 -> 84 | T11: =+$F11*N11 -> 0 | U11: =+$F11*O11 -> 0 | V11: =+$F11*P11 -> 0 | W11: =SUM(Q11:V11) -> 168 | Y11: =+W11-F11 -> 0
A12: =+IF(E12>0,1,0) -> 1 | B12: Ets AMITIE ex BAGDAD2 Rex grand marché | C12: G1 | D12: cash | E12: 26 | F12: =E12*7 -> 182 | G12: 46000 | H12: =+IF(A12=1,(+TODAY())-G12,"Sans objet") -> 307 | I12: 2 | J12: =VLOOKUP(I12,Secteurs!$A$2:$C$4,3) -> Félix OVOURA | K12: 1 | Q12: =+$F12*K12 -> 182 | R12: =+$F12*L12 -> 0 | S12: =+$F12*M12 -> 0 | T12: =+$F12*N12 -> 0 | U12: =+$F12*O12 -> 0 | V12: =+$F12*P12 -> 0 | W12: =SUM(Q12:V12) -> 182 | Y12: =+W12-F12 -> 0
A13: =+IF(E13>0,1,0) -> 1 | B13: Ets AMITIE ex BONNE CHANCE nkouinkou dénisia | C13: G1 | D13: cash | E13: 24 | F13: =E13*7 -> 168 | G13: 46008 | H13: =+IF(A13=1,(+TODAY())-G13,"Sans objet") -> 299 | I13: 1 | J13: =VLOOKUP(I13,Secteurs!$A$2:$C$4,3) -> Alexis MABOUNDA | K13: 0.5 | M13: 0.5 | Q13: =+$F13*K13 -> 84 | R13: =+$F13*L13 -> 0 | S13: =+$F13*M13 -> 84 | T13: =+$F13*N13 -> 0 | U13: =+$F13*O13 -> 0 | V13: =+$F13*P13 -> 0 | W13: =SUM(Q13:V13) -> 168 | Y13: =+W13-F13 -> 0
A14: =+IF(E14>0,1,0) -> 1 | B14: BAH ex HACEN fond tié-tié | C14: G1 | D14: cash | E14: 36 | F14: =E14*7 -> 252 | G14: 46009 | H14: =+IF(A14=1,(+TODAY())-G14,"Sans objet") -> 298 | I14: 3 | J14: =VLOOKUP(I14,Secteurs!$A$2:$C$4,3) -> Armel SOKAMBA | K14: 0.5 | P14: 0.5 | Q14: =+$F14*K14 -> 126 | R14: =+$F14*L14 -> 0 | S14: =+$F14*M14 -> 0 | T14: =+$F14*N14 -> 0 | U14: =+$F14*O14 -> 0 | V14: =+$F14*P14 -> 126 | W14: =SUM(Q14:V14) -> 252 | Y14: =+W14-F14 -> 0
A15: =+IF(E15>0,1,0) -> 1 | B15: BAH ex SASI tié tié massola | C15: G1 | D15: cash | E15: 20 | F15: =E15*7 -> 140 | G15: 46009 | H15: =+IF(A15=1,(+TODAY())-G15,"Sans objet") -> 298 | I15: 2 | J15: =VLOOKUP(I15,Secteurs!$A$2:$C$4,3) -> Félix OVOURA | K15: 0.75 | P15: 0.25 | Q15: =+$F15*K15 -> 105 | R15: =+$F15*L15 -> 0 | S15: =+$F15*M15 -> 0 | T15: =+$F15*N15 -> 0 | U15: =+$F15*O15 -> 0 | V15: =+$F15*P15 -> 35 | W15: =SUM(Q15:V15) -> 140 | Y15: =+W15-F15 -> 0
A16: =+IF(E16>0,1,0) -> 1 | B16: BAH ex BMM paka maison blanche | C16: G1 | D16: cash | E16: 20 | F16: =E16*7 -> 140 | G16: 46009 | H16: =+IF(A16=1,(+TODAY())-G16,"Sans objet") -> 298 | I16: 3 | J16: =VLOOKUP(I16,Secteurs!$A$2:$C$4,3) -> Armel SOKAMBA | K16: 1 | Q16: =+$F16*K16 -> 140 | R16: =+$F16*L16 -> 0 | S16: =+$F16*M16 -> 0 | T16: =+$F16*N16 -> 0 | U16: =+$F16*O16 -> 0 | V16: =+$F16*P16 -> 0 | W16: =SUM(Q16:V16) -> 140 | Y16: =+W16-F16 -> 0
A17: =+IF(E17>0,1,0) -> 1 | B17: BA mvoumvou immigration | C17: G1 | D17: cash | E17: 30 | F17: =E17*7 -> 210 | G17: 46000 | H17: =+IF(A17=1,(+TODAY())-G17,"Sans objet") -> 307 | I17: 2 | J17: =VLOOKUP(I17,Secteurs!$A$2:$C$4,3) -> Félix OVOURA | K17: 0.5 | M17: 0.5 | Q17: =+$F17*K17 -> 105 | R17: =+$F17*L17 -> 0 | S17: =+$F17*M17 -> 105 | T17: =+$F17*N17 -> 0 | U17: =+$F17*O17 -> 0 | V17: =+$F17*P17 -> 0 | W17: =SUM(Q17:V17) -> 210 | Y17: =+W17-F17 -> 0
A18: =+IF(E18>0,1,0) -> 1 | B18: BA thyster mongo mpoukou | C18: G1 | D18: cash | E18: 16 | F18: =E18*7 -> 112 | G18: 46008 | H18: =+IF(A18=1,(+TODAY())-G18,"Sans objet") -> 299 | I18: 1 | J18: =VLOOKUP(I18,Secteurs!$A$2:$C$4,3) -> Alexis MABOUNDA | K18: 0.5 | M18: 0.5 | Q18: =+$F18*K18 -> 56 | R18: =+$F18*L18 -> 0 | S18: =+$F18*M18 -> 56 | T18: =+$F18*N18 -> 0 | U18: =+$F18*O18 -> 0 | V18: =+$F18*P18 -> 0 | W18: =SUM(Q18:V18) -> 112 | Y18: =+W18-F18 -> 0
A19: =+IF(E19>0,1,0) -> 1 | B19: BA mpaka dalette | C19: G1 | D19: cash | E19: 26 | F19: =E19*7 -> 182 | G19: 46009 | H19: =+IF(A19=1,(+TODAY())-G19,"Sans objet") -> 298 | I19: 3 | J19: =VLOOKUP(I19,Secteurs!$A$2:$C$4,3) -> Armel SOKAMBA | K19: 0.5 | O19: 0.5 | Q19: =+$F19*K19 -> 91 | R19: =+$F19*L19 -> 0 | S19: =+$F19*M19 -> 0 | T19: =+$F19*N19 -> 0 | U19: =+$F19*O19 -> 91 | V19: =+$F19*P19 -> 0 | W19: =SUM(Q19:V19) -> 182 | Y19: =+W19-F19 -> 0
A20: =+IF(E20>0,1,0) -> 1 | B20: BA fond tié-tié gar | C20: G1 | D20: cash | E20: 46 | F20: =E20*7 -> 322 | G20: 46007 | H20: =+IF(A20=1,(+TODAY())-G20,"Sans objet") -> 300 | I20: 3 | J20: =VLOOKUP(I20,Secteurs!$A$2:$C$4,3) -> Armel SOKAMBA | K20: 0.5 | M20: 0.5 | Q20: =+$F20*K20 -> 161 | R20: =+$F20*L20 -> 0 | S20: =+$F20*M20 -> 161 | T20: =+$F20*N20 -> 0 | U20: =+$F20*O20 -> 0 | V20: =+$F20*P20 -> 0 | W20: =SUM(Q20:V20) -> 322 | Y20: =+W20-F20 -> 0
A21: =+IF(E21>0,1,0) -> 1 | B21: BA mpaka marché | C21: G1 | D21: cash | E21: 20 | F21: =E21*7 -> 140 | G21: 46009 | H21: =+IF(A21=1,(+TODAY())-G21,"Sans objet") -> 298 | I21: 3 | J21: =VLOOKUP(I21,Secteurs!$A$2:$C$4,3) -> Armel SOKAMBA | K21: 0.5 | P21: 0.5 | Q21: =+$F21*K21 -> 70 | R21: =+$F21*L21 -> 0 | S21: =+$F21*M21 -> 0 | T21: =+$F21*N21 -> 0 | U21: =+$F21*O21 -> 0 | V21: =+$F21*P21 -> 70 | W21: =SUM(Q21:V21) -> 140 | Y21: =+W21-F21 -> 0
A22: =+IF(E22>0,1,0) -> 1 | B22: BA ngoyo | C22: G1 | D22: cash | E22: 26 | F22: =E22*7 -> 182 | G22: 46001 | H22: =+IF(A22=1,(+TODAY())-G22,"Sans objet") -> 306 | I22: 3 | J22: =VLOOKUP(I22,Secteurs!$A$2:$C$4,3) -> Armel SOKAMBA | K22: 1 | Q22: =+$F22*K22 -> 182 | R22: =+$F22*L22 -> 0 | S22: =+$F22*M22 -> 0 | T22: =+$F22*N22 -> 0 | U22: =+$F22*O22 -> 0 | V22: =+$F22*P22 -> 0 | W22: =SUM(Q22:V22) -> 182 | Y22: =+W22-F22 -> 0
A23: =+IF(E23>0,1,0) -> 1 | B23: BA fond tié-tié en allant vers voungou | C23: G1 | D23: cash | E23: 20 | F23: =E23*7 -> 140 | G23: 46007 | H23: =+IF(A23=1,(+TODAY())-G23,"Sans objet") -> 300 | I23: 3 | J23: =VLOOKUP(I23,Secteurs!$A$2:$C$4,3) -> Armel SOKAMBA | K23: 0.75 | P23: 0.25 | Q23: =+$F23*K23 -> 105 | R23: =+$F23*L23 -> 0 | S23: =+$F23*M23 -> 0 | T23: =+$F23*N23 -> 0 | U23: =+$F23*O23 -> 0 | V23: =+$F23*P23 -> 35 | W23: =SUM(Q23:V23) -> 140 | Y23: =+W23-F23 -> 0
A24: =+IF(E24>0,1,0) -> 1 | B24: NEINA REPUBLIQUE marché bissongo | C24: G1 | D24: cash | E24: 18 | F24: =E24*7 -> 126 | G24: 46007 | H24: =+IF(A24=1,(+TODAY())-G24,"Sans objet") -> 300 | I24: 3 | J24: =VLOOKUP(I24,Secteurs!$A$2:$C$4,3) -> Armel SOKAMBA | K24: 0.5 | P24: 0.5 | Q24: =+$F24*K24 -> 63 | R24: =+$F24*L24 -> 0 | S24: =+$F24*M24 -> 0 | T24: =+$F24*N24 -> 0 | U24: =+$F24*O24 -> 0 | V24: =+$F24*P24 -> 63 | W24: =SUM(Q24:V24) -> 126 | Y24: =+W24-F24 -> 0
A25: =+IF(E25>0,1,0) -> 1 | B25: NEINA REPUBLIQUE ngoyo central | C25: G1 | D25: cash | E25: 24 | F25: =E25*7 -> 168 | G25: 46001 | H25: =+IF(A25=1,(+TODAY())-G25,"Sans objet") -> 306 | I25: 3 | J25: =VLOOKUP(I25,Secteurs!$A$2:$C$4,3) -> Armel SOKAMBA | K25: 0.5 | P25: 0.5 | Q25: =+$F25*K25 -> 84 | R25: =+$F25*L25 -> 0 | S25: =+$F25*M25 -> 0 | T25: =+$F25*N25 -> 0 | U25: =+$F25*O25 -> 0 | V25: =+$F25*P25 -> 84 | W25: =SUM(Q25:V25) -> 168 | Y25: =+W25-F25 -> 0
A26: =+IF(E26>0,1,0) -> 1 | B26: NEINA REPUBLIQUE grand marché | C26: G1 | D26: cash | E26: 26 | F26: =E26*7 -> 182 | G26: 46000 | H26: =+IF(A26=1,(+TODAY())-G26,"Sans objet") -> 307 | I26: 2 | J26: =VLOOKUP(I26,Secteurs!$A$2:$C$4,3) -> Félix OVOURA | K26: 0.5 | P26: 0.5 | Q26: =+$F26*K26 -> 91 | R26: =+$F26*L26 -> 0 | S26: =+$F26*M26 -> 0 | T26: =+$F26*N26 -> 0 | U26: =+$F26*O26 -> 0 | V26: =+$F26*P26 -> 91 | W26: =SUM(Q26:V26) -> 182 | Y26: =+W26-F26 -> 0
A27: =+IF(E27>0,1,0) -> 1 | B27: NEINA REPUBLIQUE tchimbambouka | C27: G1 | D27: cash | E27: 20 | F27: =E27*7 -> 140 | G27: 46001 | H27: =+IF(A27=1,(+TODAY())-G27,"Sans objet") -> 306 | I27: 3 | J27: =VLOOKUP(I27,Secteurs!$A$2:$C$4,3) -> Armel SOKAMBA | K27: 1 | Q27: =+$F27*K27 -> 140 | R27: =+$F27*L27 -> 0 | S27: =+$F27*M27 -> 0 | T27: =+$F27*N27 -> 0 | U27: =+$F27*O27 -> 0 | V27: =+$F27*P27 -> 0 | W27: =SUM(Q27:V27) -> 140 | Y27: =+W27-F27 -> 0
A28: =+IF(E28>0,1,0) -> 1 | B28: MED MMB deux poteaux | C28: G1 | D28: cash | E28: 20 | F28: =E28*7 -> 140 | G28: 46001 | H28: =+IF(A28=1,(+TODAY())-G28,"Sans objet") -> 306 | I28: 3 | J28: =VLOOKUP(I28,Secteurs!$A$2:$C$4,3) -> Armel SOKAMBA | K28: 1 | Q28: =+$F28*K28 -> 140 | R28: =+$F28*L28 -> 0 | S28: =+$F28*M28 -> 0 | T28: =+$F28*N28 -> 0 | U28: =+$F28*O28 -> 0 | V28: =+$F28*P28 -> 0 | W28: =SUM(Q28:V28) -> 140 | Y28: =+W28-F28 -> 0
A29: =+IF(E29>0,1,0) -> 1 | B29: MED marché tchimbamba | C29: G1 | D29: cash | E29: 26 | F29: 24 | G29: 46001 | H29: =+IF(A29=1,(+TODAY())-G29,"Sans objet") -> 306 | I29: 3 | J29: =VLOOKUP(I29,Secteurs!$A$2:$C$4,3) -> Armel SOKAMBA | K29: 0.5 | M29: 0.5 | Q29: =+$F29*K29 -> 12 | R29: =+$F29*L29 -> 0 | S29: =+$F29*M29 -> 12 | T29: =+$F29*N29 -> 0 | U29: =+$F29*O29 -> 0 | V29: =+$F29*P29 -> 0 | W29: =SUM(Q29:V29) -> 24 | Y29: =+W29-F29 -> 0
A30: =+IF(E30>0,1,0) -> 1 | B30: MED ngoyo péage | C30: G1 | D30: cash | E30: 30 | F30: =E30*7 -> 210 | G30: 46001 | H30: =+IF(A30=1,(+TODAY())-G30,"Sans objet") -> 306 | I30: 3 | J30: =VLOOKUP(I30,Secteurs!$A$2:$C$4,3) -> Armel SOKAMBA | K30: 0.5 | M30: 0.5 | Q30: =+$F30*K30 -> 105 | R30: =+$F30*L30 -> 0 | S30: =+$F30*M30 -> 105 | T30: =+$F30*N30 -> 0 | U30: =+$F30*O30 -> 0 | V30: =+$F30*P30 -> 0 | W30: =SUM(Q30:V30) -> 210 | Y30: =+W30-F30 -> 0
A31: =+IF(E31>0,1,0) -> 1 | B31: MED ex la grace vindoulou | C31: G1 | D31: cash | E31: 24 | F31: =E31*7 -> 168 | G31: 46008 | H31: =+IF(A31=1,(+TODAY())-G31,"Sans objet") -> 299 | I31: 1 | J31: =VLOOKUP(I31,Secteurs!$A$2:$C$4,3) -> Alexis MABOUNDA | K31: 0.75 | M31: 0.25 | Q31: =+$F31*K31 -> 126 | R31: =+$F31*L31 -> 0 | S31: =+$F31*M31 -> 42 | T31: =+$F31*N31 -> 0 | U31: =+$F31*O31 -> 0 | V31: =+$F31*P31 -> 0 | W31: =SUM(Q31:V31) -> 168 | Y31: =+W31-F31 -> 0
A32: =+IF(E32>0,1,0) -> 1 | B32: MMB Licee vindoulou | D32: cash | E32: 10 | F32: =E32*7 -> 70 | G32: 46008 | H32: =+IF(A32=1,(+TODAY())-G32,"Sans objet") -> 299 | I32: 1 | J32: Christelle ITOUA | K32: 0.5 | M32: 0.5 | Q32: =+$F32*K32 -> 35 | R32: =+$F32*L32 -> 0 | S32: =+$F32*M32 -> 35 | T32: =+$F32*N32 -> 0 | U32: =+$F32*O32 -> 0 | V32: =+$F32*P32 -> 0 | W32: =SUM(Q32:V32) -> 70 | Y32: =+W32-F32 -> 0
A33: =+IF(E33>0,1,0) -> 1 | B33: MED marché tsourou thyster | C33: G1 | D33: cash | E33: 22 | F33: =E33*7 -> 154 | G33: 46008 | H33: =+IF(A33=1,(+TODAY())-G33,"Sans objet") -> 299 | I33: 1 | J33: =VLOOKUP(I33,Secteurs!$A$2:$C$4,3) -> Alexis MABOUNDA | K33: 0.5 | M33: 0.25 | O33: 0.25 | Q33: =+$F33*K33 -> 77 | R33: =+$F33*L33 -> 0 | S33: =+$F33*M33 -> 38.5 | T33: =+$F33*N33 -> 0 | U33: =+$F33*O33 -> 38.5 | V33: =+$F33*P33 -> 0 | W33: =SUM(Q33:V33) -> 154 | Y33: =+W33-F33 -> 0
A34: =+IF(E34>0,1,0) -> 1 | B34: MED MMB contre rail | C34: G1 | D34: cash | E34: 16 | F34: =E34*7 -> 112 | G34: 46009 | H34: =+IF(A34=1,(+TODAY())-G34,"Sans objet") -> 298 | I34: 3 | J34: =VLOOKUP(I34,Secteurs!$A$2:$C$4,3) -> Armel SOKAMBA | L34: 0.5 | N34: 0.5 | Q34: =+$F34*K34 -> 0 | R34: =+$F34*L34 -> 56 | S34: =+$F34*M34 -> 0 | T34: =+$F34*N34 -> 56 | U34: =+$F34*O34 -> 0 | V34: =+$F34*P34 -> 0 | W34: =SUM(Q34:V34) -> 112 | Y34: =+W34-F34 -> 0
A35: =+IF(E35>0,1,0) -> 1 | B35: TOD mvoumvou sympatique | C35: G1 | D35: cash | E35: 26 | F35: =E35*7 -> 182 | G35: 46006 | H35: =+IF(A35=1,(+TODAY())-G35,"Sans objet") -> 301 | I35: 2 | J35: =VLOOKUP(I35,Secteurs!$A$2:$C$4,3) -> Félix OVOURA | K35: 1 | Q35: =+$F35*K35 -> 182 | R35: =+$F35*L35 -> 0 | S35: =+$F35*M35 -> 0 | T35: =+$F35*N35 -> 0 | U35: =+$F35*O35 -> 0 | V35: =+$F35*P35 -> 0 | W35: =SUM(Q35:V35) -> 182 | Y35: =+W35-F35 -> 0
A36: =+IF(E36>0,1,0) -> 1 | B36: TOD roy | C36: G1 | D36: cash | E36: 20 | F36: =E36*7 -> 140 | G36: 46000 | H36: =+IF(A36=1,(+TODAY())-G36,"Sans objet") -> 307 | I36: 2 | J36: =VLOOKUP(I36,Secteurs!$A$2:$C$4,3) -> Félix OVOURA | K36: 1 | Q36: =+$F36*K36 -> 140 | R36: =+$F36*L36 -> 0 | S36: =+$F36*M36 -> 0 | T36: =+$F36*N36 -> 0 | U36: =+$F36*O36 -> 0 | V36: =+$F36*P36 -> 0 | W36: =SUM(Q36:V36) -> 140 | Y36: =+W36-F36 -> 0
A37: =+IF(E37>0,1,0) -> 1 | B37: TOD och | C37: G1 | D37: cash | E37: 20 | F37: =E37*7 -> 140 | G37: 46009 | H37: =+IF(A37=1,(+TODAY())-G37,"Sans objet") -> 298 | I37: 2 | J37: =VLOOKUP(I37,Secteurs!$A$2:$C$4,3) -> Félix OVOURA | K37: 0.5 | M37: 0.5 | Q37: =+$F37*K37 -> 70 | R37: =+$F37*L37 -> 0 | S37: =+$F37*M37 -> 70 | T37: =+$F37*N37 -> 0 | U37: =+$F37*O37 -> 0 | V37: =+$F37*P37 -> 0 | W37: =SUM(Q37:V37) -> 140 | Y37: =+W37-F37 -> 0
A38: =+IF(E38>0,1,0) -> 1 | B38: WAMAS ex moulin rouge | C38: Direct | D38: cash | E38: 18 | F38: =E38*7 -> 126 | G38: 46006 | H38: =+IF(A38=1,(+TODAY())-G38,"Sans objet") -> 301 | I38: 3 | J38: =VLOOKUP(I38,Secteurs!$A$2:$C$4,3) -> Armel SOKAMBA | K38: 1 | Q38: =+$F38*K38 -> 126 | R38: =+$F38*L38 -> 0 | S38: =+$F38*M38 -> 0 | T38: =+$F38*N38 -> 0 | U38: =+$F38*O38 -> 0 | V38: =+$F38*P38 -> 0 | W38: =SUM(Q38:V38) -> 126 | Y38: =+W38-F38 -> 0
A39: =+IF(E39>0,1,0) -> 1 | B39: CHRISTINA kitoko daniel | C39: Direct | D39: cash | E39: 24 | F39: =E39*7 -> 168 | G39: 46000 | H39: =+IF(A39=1,(+TODAY())-G39,"Sans objet") -> 307 | I39: 2 | J39: =VLOOKUP(I39,Secteurs!$A$2:$C$4,3) -> Félix OVOURA | K39: 0.5 | M39: 0.5 | Q39: =+$F39*K39 -> 84 | R39: =+$F39*L39 -> 0 | S39: =+$F39*M39 -> 84 | T39: =+$F39*N39 -> 0 | U39: =+$F39*O39 -> 0 | V39: =+$F39*P39 -> 0 | W39: =SUM(Q39:V39) -> 168 | Y39: =+W39-F39 -> 0
A40: =+IF(E40>0,1,0) -> 1 | B40: LOUKABOU grand marhé lumumba | C40: Direct | D40: cash | E40: 16 | F40: =E40*7 -> 112 | G40: 46007 | H40: =+IF(A40=1,(+TODAY())-G40,"Sans objet") -> 300 | I40: 2 | J40: =VLOOKUP(I40,Secteurs!$A$2:$C$4,3) -> Félix OVOURA | K40: 0.5 | M40: 0.5 | Q40: =+$F40*K40 -> 56 | R40: =+$F40*L40 -> 0 | S40: =+$F40*M40 -> 56 | T40: =+$F40*N40 -> 0 | U40: =+$F40*O40 -> 0 | V40: =+$F40*P40 -> 0 | W40: =SUM(Q40:V40) -> 112 | Y40: =+W40-F40 -> 0
A41: =+IF(E41>0,1,0) -> 1 | B41: LA CITRONNELLE | C41: Direct | D41: cash | E41: 16 | F41: =E41*7 -> 112 | G41: 45996 | H41: =+IF(A41=1,(+TODAY())-G41,"Sans objet") -> 311 | I41: 2 | J41: =VLOOKUP(I41,Secteurs!$A$2:$C$4,3) -> Félix OVOURA | K41: 1 | Q41: =+$F41*K41 -> 112 | R41: =+$F41*L41 -> 0 | S41: =+$F41*M41 -> 0 | T41: =+$F41*N41 -> 0 | U41: =+$F41*O41 -> 0 | V41: =+$F41*P41 -> 0 | W41: =SUM(Q41:V41) -> 112 | Y41: =+W41-F41 -> 0
A42: =+IF(E42>0,1,0) -> 1 | B42: CONTINENT | C42: Direct | D42: cash | E42: 10 | F42: =E42*7 -> 70 | G42: 46007 | H42: =+IF(A42=1,(+TODAY())-G42,"Sans objet") -> 300 | I42: 2 | J42: =VLOOKUP(I42,Secteurs!$A$2:$C$4,3) -> Félix OVOURA | O42: 1 | Q42: =+$F42*K42 -> 0 | R42: =+$F42*L42 -> 0 | S42: =+$F42*M42 -> 0 | T42: =+$F42*N42 -> 0 | U42: =+$F42*O42 -> 70 | V42: =+$F42*P42 -> 0 | W42: =SUM(Q42:V42) -> 70 | Y42: =+W42-F42 -> 0
A43: =+IF(E43>0,1,0) -> 1 | B43: ESPACE DE LA PROMESSE | C43: Direct | D43: crédit | E43: 14 | F43: =E43*7 -> 98 | G43: 46008 | H43: =+IF(A43=1,(+TODAY())-G43,"Sans objet") -> 299 | I43: 1 | J43: =VLOOKUP(I43,Secteurs!$A$2:$C$4,3) -> Alexis MABOUNDA | K43: 1 | Q43: =+$F43*K43 -> 98 | R43: =+$F43*L43 -> 0 | S43: =+$F43*M43 -> 0 | T43: =+$F43*N43 -> 0 | U43: =+$F43*O43 -> 0 | V43: =+$F43*P43 -> 0 | W43: =SUM(Q43:V43) -> 98 | Y43: =+W43-F43 -> 0
A44: =+IF(E44>0,1,0) -> 1 | B44: ZAM-ZAM1 mpaka 5chemin | C44: G2 | D44: crédit | E44: 30 | F44: =E44*7 -> 210 | G44: 46009 | H44: =+IF(A44=1,(+TODAY())-G44,"Sans objet") -> 298 | I44: 3 | J44: =VLOOKUP(I44,Secteurs!$A$2:$C$4,3) -> Armel SOKAMBA | L44: 0.5 | O44: 0.25 | P44: 0.25 | Q44: =+$F44*K44 -> 0 | R44: =+$F44*L44 -> 105 | S44: =+$F44*M44 -> 0 | T44: =+$F44*N44 -> 0 | U44: =+$F44*O44 -> 52.5 | V44: =+$F44*P44 -> 52.5 | W44: =SUM(Q44:V44) -> 210 | Y44: =+W44-F44 -> 0
A45: =+IF(E45>0,1,0) -> 1 | B45: ZAM-ZAM2 tchimani | C45: G2 | D45: crédit | E45: 26 | F45: =E45*7 -> 182 | G45: 46007 | H45: =+IF(A45=1,(+TODAY())-G45,"Sans objet") -> 300 | I45: 3 | J45: =VLOOKUP(I45,Secteurs!$A$2:$C$4,3) -> Armel SOKAMBA | N45: 0.5 | P45: 0.5 | Q45: =+$F45*K45 -> 0 | R45: =+$F45*L45 -> 0 | S45: =+$F45*M45 -> 0 | T45: =+$F45*N45 -> 91 | U45: =+$F45*O45 -> 0 | V45: =+$F45*P45 -> 91 | W45: =SUM(Q45:V45) -> 182 | Y45: =+W45-F45 -> 0
A46: =+IF(E46>0,1,0) -> 1 | B46: YAYA BILAL1 tchimbambouka | C46: G2 | D46: crédit | E46: 30 | F46: =E46*7 -> 210 | G46: 46007 | H46: =+IF(A46=1,(+TODAY())-G46,"Sans objet") -> 300 | I46: 3 | J46: =VLOOKUP(I46,Secteurs!$A$2:$C$4,3) -> Armel SOKAMBA | M46: 0.5 | O46: 0.5 | Q46: =+$F46*K46 -> 0 | R46: =+$F46*L46 -> 0 | S46: =+$F46*M46 -> 105 | T46: =+$F46*N46 -> 0 | U46: =+$F46*O46 -> 105 | V46: =+$F46*P46 -> 0 | W46: =SUM(Q46:V46) -> 210 | Y46: =+W46-F46 -> 0
A47: =+IF(E47>0,1,0) -> 1 | B47: ZAM-ZAM ext 5chemin | C47: G2 | D47: crédit | E47: 26 | F47: =E47*7 -> 182 | G47: 46009 | H47: =+IF(A47=1,(+TODAY())-G47,"Sans objet") -> 298 | I47: 3 | J47: =VLOOKUP(I47,Secteurs!$A$2:$C$4,3) -> Armel SOKAMBA | L47: 0.5 | N47: 0.5 | Q47: =+$F47*K47 -> 0 | R47: =+$F47*L47 -> 91 | S47: =+$F47*M47 -> 0 | T47: =+$F47*N47 -> 91 | U47: =+$F47*O47 -> 0 | V47: =+$F47*P47 -> 0 | W47: =SUM(Q47:V47) -> 182 | Y47: =+W47-F47 -> 0
A48: =+IF(E48>0,1,0) -> 1 | B48: AFRICAINE1 nkouikou nzango | C48: G2 | D48: cash | E48: 14 | F48: =E48*7 -> 98 | G48: 46008 | H48: =+IF(A48=1,(+TODAY())-G48,"Sans objet") -> 299 | I48: 1 | J48: =VLOOKUP(I48,Secteurs!$A$2:$C$4,3) -> Alexis MABOUNDA | K48: 0.5 | P48: 0.5 | Q48: =+$F48*K48 -> 49 | R48: =+$F48*L48 -> 0 | S48: =+$F48*M48 -> 0 | T48: =+$F48*N48 -> 0 | U48: =+$F48*O48 -> 0 | V48: =+$F48*P48 -> 49 | W48: =SUM(Q48:V48) -> 98 | Y48: =+W48-F48 -> 0
A49: =+IF(E49>0,1,0) -> 1 | B49: AFRICAINE2 nkouinkou vonvon | C49: G2 | D49: cash | E49: 12 | F49: =E49*7 -> 84 | G49: 46008 | H49: =+IF(A49=1,(+TODAY())-G49,"Sans objet") -> 299 | I49: 1 | J49: =VLOOKUP(I49,Secteurs!$A$2:$C$4,3) -> Alexis MABOUNDA | K49: 0.5 | P49: 0.5 | Q49: =+$F49*K49 -> 42 | R49: =+$F49*L49 -> 0 | S49: =+$F49*M49 -> 0 | T49: =+$F49*N49 -> 0 | U49: =+$F49*O49 -> 0 | V49: =+$F49*P49 -> 42 | W49: =SUM(Q49:V49) -> 84 | Y49: =+W49-F49 -> 0
A50: =+IF(E50>0,1,0) -> 1 | B50: AFRICAINE3 tchialli | C50: G2 | D50: cash | E50: 16 | F50: =E50*7 -> 112 | G50: 45994 | H50: =+IF(A50=1,(+TODAY())-G50,"Sans objet") -> 313 | I50: 1 | J50: =VLOOKUP(I50,Secteurs!$A$2:$C$4,3) -> Alexis MABOUNDA | K50: 0.5 | N50: 0.5 | Q50: =+$F50*K50 -> 56 | R50: =+$F50*L50 -> 0 | S50: =+$F50*M50 -> 0 | T50: =+$F50*N50 -> 56 | U50: =+$F50*O50 -> 0 | V50: =+$F50*P50 -> 0 | W50: =SUM(Q50:V50) -> 112 | Y50: =+W50-F50 -> 0
A51: =+IF(E51>0,1,0) -> 1 | B51: AFRICAINE4 la fontaine | C51: G2 | D51: cash | E51: 14 | F51: =E51*7 -> 98 | G51: 46007 | H51: =+IF(A51=1,(+TODAY())-G51,"Sans objet") -> 300 | I51: 3 | J51: =VLOOKUP(I51,Secteurs!$A$2:$C$4,3) -> Armel SOKAMBA | K51: 0.5 | P51: 0.5 | Q51: =+$F51*K51 -> 49 | R51: =+$F51*L51 -> 0 | S51: =+$F51*M51 -> 0 | T51: =+$F51*N51 -> 0 | U51: =+$F51*O51 -> 0 | V51: =+$F51*P51 -> 49 | W51: =SUM(Q51:V51) -> 98 | Y51: =+W51-F51 -> 0
A52: =+IF(E52>0,1,0) -> 1 | B52: AFRICAINE5 ngoyo avenue taty loutard | C52: G2 | D52: cash | E52: 24 | F52: =E52*7 -> 168 | G52: 46001 | H52: =+IF(A52=1,(+TODAY())-G52,"Sans objet") -> 306 | I52: 3 | J52: =VLOOKUP(I52,Secteurs!$A$2:$C$4,3) -> Armel SOKAMBA | K52: 0.5 | P52: 0.5 | Q52: =+$F52*K52 -> 84 | R52: =+$F52*L52 -> 0 | S52: =+$F52*M52 -> 0 | T52: =+$F52*N52 -> 0 | U52: =+$F52*O52 -> 0 | V52: =+$F52*P52 -> 84 | W52: =SUM(Q52:V52) -> 168 | Y52: =+W52-F52 -> 0
A53: =+IF(E53>0,1,0) -> 1 | B53: AFRICAINE6 ngoyo central | C53: G2 | D53: cash | E53: 24 | F53: =E53*7 -> 168 | G53: 46001 | H53: =+IF(A53=1,(+TODAY())-G53,"Sans objet") -> 306 | I53: 3 | J53: =VLOOKUP(I53,Secteurs!$A$2:$C$4,3) -> Armel SOKAMBA | K53: 0.5 | P53: 0.5 | Q53: =+$F53*K53 -> 84 | R53: =+$F53*L53 -> 0 | S53: =+$F53*M53 -> 0 | T53: =+$F53*N53 -> 0 | U53: =+$F53*O53 -> 0 | V53: =+$F53*P53 -> 84 | W53: =SUM(Q53:V53) -> 168 | Y53: =+W53-F53 -> 0
A54: =+IF(E54>0,1,0) -> 1 | B54: AFRICAINE7 nzassi | C54: G2 | D54: cash | E54: 18 | F54: =E54*7 -> 126 | G54: 45995 | H54: =+IF(A54=1,(+TODAY())-G54,"Sans objet") -> 312 | I54: 3 | J54: =VLOOKUP(I54,Secteurs!$A$2:$C$4,3) -> Armel SOKAMBA | K54: 0.5 | P54: 0.5 | Q54: =+$F54*K54 -> 63 | R54: =+$F54*L54 -> 0 | S54: =+$F54*M54 -> 0 | T54: =+$F54*N54 -> 0 | U54: =+$F54*O54 -> 0 | V54: =+$F54*P54 -> 63 | W54: =SUM(Q54:V54) -> 126 | Y54: =+W54-F54 -> 0
A55: =+IF(E55>0,1,0) -> 1 | B55: ML AFRICAINE marché faubourd | C55: G2 | D55: cash | E55: 14 | F55: =E55*7 -> 98 | G55: 46006 | H55: =+IF(A55=1,(+TODAY())-G55,"Sans objet") -> 301 | I55: 1 | J55: =VLOOKUP(I55,Secteurs!$A$2:$C$4,3) -> Alexis MABOUNDA | K55: 0.5 | P55: 0.5 | Q55: =+$F55*K55 -> 49 | R55: =+$F55*L55 -> 0 | S55: =+$F55*M55 -> 0 | T55: =+$F55*N55 -> 0 | U55: =+$F55*O55 -> 0 | V55: =+$F55*P55 -> 49 | W55: =SUM(Q55:V55) -> 98 | Y55: =+W55-F55 -> 0
A56: =+IF(E56>0,1,0) -> 1 | B56: SUPER MIE ex MLD raffinerie | C56: G2 | D56: crédit | E56: 28 | F56: =E56*7 -> 196 | G56: 46006 | H56: =+IF(A56=1,(+TODAY())-G56,"Sans objet") -> 301 | I56: 1 | J56: =VLOOKUP(I56,Secteurs!$A$2:$C$4,3) -> Alexis MABOUNDA | K56: 0.5 | L56: 0.25 | P56: 0.25 | Q56: =+$F56*K56 -> 98 | R56: =+$F56*L56 -> 49 | S56: =+$F56*M56 -> 0 | T56: =+$F56*N56 -> 0 | U56: =+$F56*O56 -> 0 | V56: =+$F56*P56 -> 49 | W56: =SUM(Q56:V56) -> 196 | Y56: =+W56-F56 -> 0
A57: =+IF(E57>0,1,0) -> 1 | B57: ELKOUZ marché faubourg | C57: G2 | D57: crédit | E57: 48 | F57: =E57*7 -> 336 | G57: 46006 | H57: =+IF(A57=1,(+TODAY())-G57,"Sans objet") -> 301 | I57: 1 | J57: =VLOOKUP(I57,Secteurs!$A$2:$C$4,3) -> Alexis MABOUNDA | K57: 0.5 | P57: 0.5 | Q57: =+$F57*K57 -> 168 | R57: =+$F57*L57 -> 0 | S57: =+$F57*M57 -> 0 | T57: =+$F57*N57 -> 0 | U57: =+$F57*O57 -> 0 | V57: =+$F57*P57 -> 168 | W57: =SUM(Q57:V57) -> 336 | Y57: =+W57-F57 -> 0
A58: =+IF(E58>0,1,0) -> 1 | B58: AYA fond -tié-tié | C58: G2 | D58: cash | E58: 28 | F58: =E58*7 -> 196 | G58: 46007 | H58: =+IF(A58=1,(+TODAY())-G58,"Sans objet") -> 300 | I58: 3 | J58: =VLOOKUP(I58,Secteurs!$A$2:$C$4,3) -> Armel SOKAMBA | L58: 0.5 | O58: 0.5 | Q58: =+$F58*K58 -> 0 | R58: =+$F58*L58 -> 98 | S58: =+$F58*M58 -> 0 | T58: =+$F58*N58 -> 0 | U58: =+$F58*O58 -> 98 | V58: =+$F58*P58 -> 0 | W58: =SUM(Q58:V58) -> 196 | Y58: =+W58-F58 -> 0
A59: =+IF(E59>0,1,0) -> 1 | B59: LALA thyster | C59: G2 | D59: crédit | E59: 24 | F59: =E59*7 -> 168 | G59: 46008 | H59: =+IF(A59=1,(+TODAY())-G59,"Sans objet") -> 299 | I59: 1 | J59: =VLOOKUP(I59,Secteurs!$A$2:$C$4,3) -> Alexis MABOUNDA | K59: 0.5 | M59: 0.5 | Q59: =+$F59*K59 -> 84 | R59: =+$F59*L59 -> 0 | S59: =+$F59*M59 -> 84 | T59: =+$F59*N59 -> 0 | U59: =+$F59*O59 -> 0 | V59: =+$F59*P59 -> 0 | W59: =SUM(Q59:V59) -> 168 | Y59: =+W59-F59 -> 0
A60: =+IF(E60>0,1,0) -> 1 | B60: LALA thyster extension | C60: G2 | D60: crédit | E60: 18 | F60: =E60*7 -> 126 | G60: 46008 | H60: =+IF(A60=1,(+TODAY())-G60,"Sans objet") -> 299 | I60: 1 | J60: =VLOOKUP(I60,Secteurs!$A$2:$C$4,3) -> Alexis MABOUNDA | K60: 0.5 | M60: 0.5 | Q60: =+$F60*K60 -> 63 | R60: =+$F60*L60 -> 0 | S60: =+$F60*M60 -> 63 | T60: =+$F60*N60 -> 0 | U60: =+$F60*O60 -> 0 | V60: =+$F60*P60 -> 0 | W60: =SUM(Q60:V60) -> 126 | Y60: =+W60-F60 -> 0
A61: =+IF(E61>0,1,0) -> 1 | B61: EL WAVA vindoulou | C61: G2 | D61: crédit | E61: 22 | F61: =E61*7 -> 154 | G61: 46003 | H61: =+IF(A61=1,(+TODAY())-G61,"Sans objet") -> 304 | I61: 1 | J61: =VLOOKUP(I61,Secteurs!$A$2:$C$4,3) -> Alexis MABOUNDA | L61: 0.5 | M61: 0.5 | Q61: =+$F61*K61 -> 0 | R61: =+$F61*L61 -> 77 | S61: =+$F61*M61 -> 77 | T61: =+$F61*N61 -> 0 | U61: =+$F61*O61 -> 0 | V61: =+$F61*P61 -> 0 | W61: =SUM(Q61:V61) -> 154 | Y61: =+W61-F61 -> 0
A62: =+IF(E62>0,1,0) -> 1 | B62: MOUNGA PAIN avenue thyster movis | C62: G2 | D62: crédit | E62: 22 | F62: =E62*7 -> 154 | G62: 46008 | H62: =+IF(A62=1,(+TODAY())-G62,"Sans objet") -> 299 | I62: 1 | J62: =VLOOKUP(I62,Secteurs!$A$2:$C$4,3) -> Alexis MABOUNDA | M62: 0.5 | P62: 0.5 | Q62: =+$F62*K62 -> 0 | R62: =+$F62*L62 -> 0 | S62: =+$F62*M62 -> 77 | T62: =+$F62*N62 -> 0 | U62: =+$F62*O62 -> 0 | V62: =+$F62*P62 -> 77 | W62: =SUM(Q62:V62) -> 154 | Y62: =+W62-F62 -> 0
A63: =+IF(E63>0,1,0) -> 1 | B63: MOUNGA PAIN trabec mont kamba | C63: G2 | D63: crédit | E63: 36 | F63: =E63*7 -> 252 | G63: 46008 | H63: =+IF(A63=1,(+TODAY())-G63,"Sans objet") -> 299 | I63: 1 | J63: =VLOOKUP(I63,Secteurs!$A$2:$C$4,3) -> Alexis MABOUNDA | K63: 0.5 | N63: 0.5 | Q63: =+$F63*K63 -> 126 | R63: =+$F63*L63 -> 0 | S63: =+$F63*M63 -> 0 | T63: =+$F63*N63 -> 126 | U63: =+$F63*O63 -> 0 | V63: =+$F63*P63 -> 0 | W63: =SUM(Q63:V63) -> 252 | Y63: =+W63-F63 -> 0
A64: =+IF(E64>0,1,0) -> 1 | B64: MOUNGA PAIN tsourou | C64: G2 | D64: crédit | E64: 30 | F64: =E64*7 -> 210 | G64: 46008 | H64: =+IF(A64=1,(+TODAY())-G64,"Sans objet") -> 299 | I64: 1 | J64: =VLOOKUP(I64,Secteurs!$A$2:$C$4,3) -> Alexis MABOUNDA | K64: 0.5 | P64: 0.5 | Q64: =+$F64*K64 -> 105 | R64: =+$F64*L64 -> 0 | S64: =+$F64*M64 -> 0 | T64: =+$F64*N64 -> 0 | U64: =+$F64*O64 -> 0 | V64: =+$F64*P64 -> 105 | W64: =SUM(Q64:V64) -> 210 | Y64: =+W64-F64 -> 0
A65: =+IF(E65>0,1,0) -> 1 | B65: PARIS PAIN 1 | C65: G2 | D65: crédit | E65: 20 | F65: =E65*7 -> 140 | G65: 45999 | H65: =+IF(A65=1,(+TODAY())-G65,"Sans objet") -> 308 | I65: 2 | J65: =VLOOKUP(I65,Secteurs!$A$2:$C$4,3) -> Félix OVOURA | K65: 0.5 | P65: 0.5 | Q65: =+$F65*K65 -> 70 | R65: =+$F65*L65 -> 0 | S65: =+$F65*M65 -> 0 | T65: =+$F65*N65 -> 0 | U65: =+$F65*O65 -> 0 | V65: =+$F65*P65 -> 70 | W65: =SUM(Q65:V65) -> 140 | Y65: =+W65-F65 -> 0
A66: =+IF(E66>0,1,0) -> 1 | B66: MAKKAH GM ex baguette d'amour | C66: G2 | D66: crédit | E66: 26 | F66: =E66*7 -> 182 | G66: 45996 | H66: =+IF(A66=1,(+TODAY())-G66,"Sans objet") -> 311 | I66: 2 | J66: =VLOOKUP(I66,Secteurs!$A$2:$C$4,3) -> Félix OVOURA | O66: 0.5 | P66: 0.5 | Q66: =+$F66*K66 -> 0 | R66: =+$F66*L66 -> 0 | S66: =+$F66*M66 -> 0 | T66: =+$F66*N66 -> 0 | U66: =+$F66*O66 -> 91 | V66: =+$F66*P66 -> 91 | W66: =SUM(Q66:V66) -> 182 | Y66: =+W66-F66 -> 0
A67: =+IF(E67>0,1,0) -> 1 | B67: MAKKAH ex NAJAH Vindoulou station | C67: G2 | D67: crédit | E67: 24 | F67: =E67*7 -> 168 | G67: 46008 | H67: =+IF(A67=1,(+TODAY())-G67,"Sans objet") -> 299 | I67: 1 | J67: =VLOOKUP(I67,Secteurs!$A$2:$C$4,3) -> Alexis MABOUNDA | P67: 1 | Q67: =+$F67*K67 -> 0 | R67: =+$F67*L67 -> 0 | S67: =+$F67*M67 -> 0 | T67: =+$F67*N67 -> 0 | U67: =+$F67*O67 -> 0 | V67: =+$F67*P67 -> 168 | W67: =SUM(Q67:V67) -> 168 | Y67: =+W67-F67 -> 0
A68: =+IF(E68>0,1,0) -> 1 | B68: MAKKAH grand marché nina service | C68: G2 | D68: crédit | E68: 24 | F68: =E68*7 -> 168 | G68: 46000 | H68: =+IF(A68=1,(+TODAY())-G68,"Sans objet") -> 307 | I68: 2 | J68: =VLOOKUP(I68,Secteurs!$A$2:$C$4,3) -> Félix OVOURA | P68: 1 | Q68: =+$F68*K68 -> 0 | R68: =+$F68*L68 -> 0 | S68: =+$F68*M68 -> 0 | T68: =+$F68*N68 -> 0 | U68: =+$F68*O68 -> 0 | V68: =+$F68*P68 -> 168 | W68: =SUM(Q68:V68) -> 168 | Y68: =+W68-F68 -> 0
A69: =+IF(E69>0,1,0) -> 1 | B69: MAKKAH marché nkounikou1 | C69: G2 | D69: crédit | E69: 20 | F69: =E69*7 -> 140 | G69: 46008 | H69: =+IF(A69=1,(+TODAY())-G69,"Sans objet") -> 299 | I69: 1 | J69: =VLOOKUP(I69,Secteurs!$A$2:$C$4,3) -> Alexis MABOUNDA | P69: 1 | Q69: =+$F69*K69 -> 0 | R69: =+$F69*L69 -> 0 | S69: =+$F69*M69 -> 0 | T69: =+$F69*N69 -> 0 | U69: =+$F69*O69 -> 0 | V69: =+$F69*P69 -> 140 | W69: =SUM(Q69:V69) -> 140 | Y69: =+W69-F69 -> 0
A70: =+IF(E70>0,1,0) -> 1 | B70: MAKKAH voungou péchana | C70: G2 | D70: crédit | E70: 24 | F70: =E70*7 -> 168 | G70: 46007 | H70: =+IF(A70=1,(+TODAY())-G70,"Sans objet") -> 300 | I70: 3 | J70: =VLOOKUP(I70,Secteurs!$A$2:$C$4,3) -> Armel SOKAMBA | P70: 1 | Q70: =+$F70*K70 -> 0 | R70: =+$F70*L70 -> 0 | S70: =+$F70*M70 -> 0 | T70: =+$F70*N70 -> 0 | U70: =+$F70*O70 -> 0 | V70: =+$F70*P70 -> 168 | W70: =SUM(Q70:V70) -> 168 | Y70: =+W70-F70 -> 0
A71: =+IF(E71>0,1,0) -> 1 | B71: MAKKAH marché nkounikou2 | C71: G2 | D71: crédit | E71: 20 | F71: =E71*7 -> 140 | G71: 46008 | H71: =+IF(A71=1,(+TODAY())-G71,"Sans objet") -> 299 | I71: 1 | J71: =VLOOKUP(I71,Secteurs!$A$2:$C$4,3) -> Alexis MABOUNDA | P71: 1 | Q71: =+$F71*K71 -> 0 | R71: =+$F71*L71 -> 0 | S71: =+$F71*M71 -> 0 | T71: =+$F71*N71 -> 0 | U71: =+$F71*O71 -> 0 | V71: =+$F71*P71 -> 140 | W71: =SUM(Q71:V71) -> 140 | Y71: =+W71-F71 -> 0
A72: =+IF(E72>0,1,0) -> 1 | B72: MAKKAH fond tié tié ex El emele | C72: G2 | D72: crédit | E72: 20 | F72: =E72*7 -> 140 | G72: 46009 | H72: =+IF(A72=1,(+TODAY())-G72,"Sans objet") -> 298 | I72: 2 | J72: Thérèse LOUKEBA | L72: 0.5 | P72: 0.5 | Q72: =+$F72*K72 -> 0 | R72: =+$F72*L72 -> 70 | S72: =+$F72*M72 -> 0 | T72: =+$F72*N72 -> 0 | U72: =+$F72*O72 -> 0 | V72: =+$F72*P72 -> 70 | W72: =SUM(Q72:V72) -> 140 | Y72: =+W72-F72 -> 0
A73: =+IF(E73>0,1,0) -> 1 | B73: MAKKAH TR Balou constant loandjili | C73: G2 | D73: crédit | E73: 20 | F73: =E73*7 -> 140 | G73: 45996 | H73: =+IF(A73=1,(+TODAY())-G73,"Sans objet") -> 311 | I73: 1 | J73: =VLOOKUP(I73,Secteurs!$A$2:$C$4,3) -> Alexis MABOUNDA | L73: 0.5 | O73: 0.5 | Q73: =+$F73*K73 -> 0 | R73: =+$F73*L73 -> 70 | S73: =+$F73*M73 -> 0 | T73: =+$F73*N73 -> 0 | U73: =+$F73*O73 -> 70 | V73: =+$F73*P73 -> 0 | W73: =SUM(Q73:V73) -> 140 | Y73: =+W73-F73 -> 0
A74: =+IF(E74>0,1,0) -> 1 | B74: SOLIDARITE mpita | C74: G2 | D74: cash | E74: 20 | F74: =E74*7 -> 140 | G74: 46001 | H74: =+IF(A74=1,(+TODAY())-G74,"Sans objet") -> 306 | I74: 2 | J74: =VLOOKUP(I74,Secteurs!$A$2:$C$4,3) -> Félix OVOURA | K74: 0.5 | N74: 0.5 | Q74: =+$F74*K74 -> 70 | R74: =+$F74*L74 -> 0 | S74: =+$F74*M74 -> 0 | T74: =+$F74*N74 -> 70 | U74: =+$F74*O74 -> 0 | V74: =+$F74*P74 -> 0 | W74: =SUM(Q74:V74) -> 140 | Y74: =+W74-F74 -> 0
A75: =+IF(E75>0,1,0) -> 1 | B75: L-KAKARA ex SOLIDARITE makayabou | C75: G2 | D75: cash | E75: 24 | F75: =E75*7 -> 168 | G75: 45996 | H75: =+IF(A75=1,(+TODAY())-G75,"Sans objet") -> 311 | I75: 1 | J75: =VLOOKUP(I75,Secteurs!$A$2:$C$4,3) -> Alexis MABOUNDA | K75: 0.5 | N75: 0.5 | Q75: =+$F75*K75 -> 84 | R75: =+$F75*L75 -> 0 | S75: =+$F75*M75 -> 0 | T75: =+$F75*N75 -> 84 | U75: =+$F75*O75 -> 0 | V75: =+$F75*P75 -> 0 | W75: =SUM(Q75:V75) -> 168 | Y75: =+W75-F75 -> 0
A76: =+IF(E76>0,1,0) -> 1 | B76: ZEYNAB ex chebou loussala | C76: G2 | D76: crédit | E76: 18 | F76: =E76*7 -> 126 | G76: 46007 | H76: =+IF(A76=1,(+TODAY())-G76,"Sans objet") -> 300 | I76: 3 | J76: =VLOOKUP(I76,Secteurs!$A$2:$C$4,3) -> Armel SOKAMBA | K76: 0.5 | N76: 0.5 | Q76: =+$F76*K76 -> 63 | R76: =+$F76*L76 -> 0 | S76: =+$F76*M76 -> 0 | T76: =+$F76*N76 -> 63 | U76: =+$F76*O76 -> 0 | V76: =+$F76*P76 -> 0 | W76: =SUM(Q76:V76) -> 126 | Y76: =+W76-F76 -> 0
A77: =+IF(E77>0,1,0) -> 1 | B77: ZEYNAB ex chebou amour du pays | C77: G2 | D77: crédit | E77: 28 | F77: =E77*7 -> 196 | G77: 46009 | H77: =+IF(A77=1,(+TODAY())-G77,"Sans objet") -> 298 | I77: 3 | J77: =VLOOKUP(I77,Secteurs!$A$2:$C$4,3) -> Armel SOKAMBA | K77: 0.5 | O77: 0.5 | Q77: =+$F77*K77 -> 98 | R77: =+$F77*L77 -> 0 | S77: =+$F77*M77 -> 0 | T77: =+$F77*N77 -> 0 | U77: =+$F77*O77 -> 98 | V77: =+$F77*P77 -> 0 | W77: =SUM(Q77:V77) -> 196 | Y77: =+W77-F77 -> 0
A78: =+IF(E78>0,1,0) -> 1 | B78: ZEYNAB ex chebou marché tchinkounkou | C78: G2 | D78: crédit | E78: 14 | F78: =E78*7 -> 98 | G78: 46009 | H78: =+IF(A78=1,(+TODAY())-G78,"Sans objet") -> 298 | I78: 3 | J78: =VLOOKUP(I78,Secteurs!$A$2:$C$4,3) -> Armel SOKAMBA | K78: 0.5 | N78: 0.5 | Q78: =+$F78*K78 -> 49 | R78: =+$F78*L78 -> 0 | S78: =+$F78*M78 -> 0 | T78: =+$F78*N78 -> 49 | U78: =+$F78*O78 -> 0 | V78: =+$F78*P78 -> 0 | W78: =SUM(Q78:V78) -> 98 | Y78: =+W78-F78 -> 0
A79: =+IF(E79>0,1,0) -> 1 | B79: ZEYNAB PATRA hopital de base | C79: G2 | D79: crédit | E79: 20 | F79: =E79*7 -> 140 | G79: 46009 | H79: =+IF(A79=1,(+TODAY())-G79,"Sans objet") -> 298 | I79: 3 | J79: =VLOOKUP(I79,Secteurs!$A$2:$C$4,3) -> Armel SOKAMBA | K79: 0.5 | N79: 0.5 | Q79: =+$F79*K79 -> 70 | R79: =+$F79*L79 -> 0 | S79: =+$F79*M79 -> 0 | T79: =+$F79*N79 -> 70 | U79: =+$F79*O79 -> 0 | V79: =+$F79*P79 -> 0 | W79: =SUM(Q79:V79) -> 140 | Y79: =+W79-F79 -> 0
A80: =+IF(E80>0,1,0) -> 1 | B80: HASSAN nzasi | C80: G2 | D80: cash | E80: 20 | F80: =E80*7 -> 140 | G80: 45976 | H80: =+IF(A80=1,(+TODAY())-G80,"Sans objet") -> 331 | I80: 3 | J80: =VLOOKUP(I80,Secteurs!$A$2:$C$4,3) -> Armel SOKAMBA | K80: 0.5 | O80: 0.25 | P80: 0.25 | Q80: =+$F80*K80 -> 70 | R80: =+$F80*L80 -> 0 | S80: =+$F80*M80 -> 0 | T80: =+$F80*N80 -> 0 | U80: =+$F80*O80 -> 35 | V80: =+$F80*P80 -> 35 | W80: =SUM(Q80:V80) -> 140 | Y80: =+W80-F80 -> 0
A81: =+IF(E81>0,1,0) -> 1 | B81: SUPER QUALITE marhé foire | C81: G2 | D81: crédit | E81: 12 | F81: =E81*7 -> 84 | G81: 46000 | H81: =+IF(A81=1,(+TODAY())-G81,"Sans objet") -> 307 | I81: 1 | J81: =VLOOKUP(I81,Secteurs!$A$2:$C$4,3) -> Alexis MABOUNDA | N81: 1 | Q81: =+$F81*K81 -> 0 | R81: =+$F81*L81 -> 0 | S81: =+$F81*M81 -> 0 | T81: =+$F81*N81 -> 84 | U81: =+$F81*O81 -> 0 | V81: =+$F81*P81 -> 0 | W81: =SUM(Q81:V81) -> 84 | Y81: =+W81-F81 -> 0
A82: =+IF(E82>0,1,0) -> 1 | B82: BON CHOIX ngoyo | C82: Direct | D82: cash | E82: 10 | F82: =E82*7 -> 70 | G82: 46001 | H82: =+IF(A82=1,(+TODAY())-G82,"Sans objet") -> 306 | I82: 3 | J82: =VLOOKUP(I82,Secteurs!$A$2:$C$4,3) -> Armel SOKAMBA | M82: 0.25 | N82: 0.25 | P82: 0.5 | Q82: =+$F82*K82 -> 0 | R82: =+$F82*L82 -> 0 | S82: =+$F82*M82 -> 17.5 | T82: =+$F82*N82 -> 17.5 | U82: =+$F82*O82 -> 0 | V82: =+$F82*P82 -> 35 | W82: =SUM(Q82:V82) -> 70 | Y82: =+W82-F82 -> 0
A83: =+IF(E83>0,1,0) -> 1 | B83: BON CHOIX ex GAZA2 km4 | C83: Direct | D83: cash | E83: 16 | F83: =E83*7 -> 112 | G83: 45999 | H83: =+IF(A83=1,(+TODAY())-G83,"Sans objet") -> 308 | I83: 2 | J83: =VLOOKUP(I83,Secteurs!$A$2:$C$4,3) -> Félix OVOURA | N83: 0.5 | P83: 0.5 | Q83: =+$F83*K83 -> 0 | R83: =+$F83*L83 -> 0 | S83: =+$F83*M83 -> 0 | T83: =+$F83*N83 -> 56 | U83: =+$F83*O83 -> 0 | V83: =+$F83*P83 -> 56 | W83: =SUM(Q83:V83) -> 112 | Y83: =+W83-F83 -> 0
A84: =+IF(E84>0,1,0) -> 1 | B84: BM EX ELKER WENVIR vindoulou arrêt sapin | C84: G2 | D84: cash | E84: 20 | F84: =E84*7 -> 140 | G84: 46008 | H84: =+IF(A84=1,(+TODAY())-G84,"Sans objet") -> 299 | I84: 1 | J84: =VLOOKUP(I84,Secteurs!$A$2:$C$4,3) -> Alexis MABOUNDA | K84: 0.5 | M84: 0.25 | O84: 0.25 | Q84: =+$F84*K84 -> 70 | R84: =+$F84*L84 -> 0 | S84: =+$F84*M84 -> 35 | T84: =+$F84*N84 -> 0 | U84: =+$F84*O84 -> 35 | V84: =+$F84*P84 -> 0 | W84: =SUM(Q84:V84) -> 140 | Y84: =+W84-F84 -> 0
A85: =+IF(E85>0,1,0) -> 1 | B85: CONGO FUTUR grand marché | C85: G2 | D85: crédit | E85: 40 | F85: =E85*7 -> 280 | G85: 46000 | H85: =+IF(A85=1,(+TODAY())-G85,"Sans objet") -> 307 | I85: 2 | J85: =VLOOKUP(I85,Secteurs!$A$2:$C$4,3) -> Félix OVOURA | L85: 0.25 | N85: 0.25 | P85: 0.5 | Q85: =+$F85*K85 -> 0 | R85: =+$F85*L85 -> 70 | S85: =+$F85*M85 -> 0 | T85: =+$F85*N85 -> 70 | U85: =+$F85*O85 -> 0 | V85: =+$F85*P85 -> 140 | W85: =SUM(Q85:V85) -> 280 | Y85: =+W85-F85 -> 0
A86: =+IF(E86>0,1,0) -> 1 | B86: CONGO FUTUR faubourg | C86: G2 | D86: crédit | E86: 26 | F86: =E86*7 -> 182 | G86: 46006 | H86: =+IF(A86=1,(+TODAY())-G86,"Sans objet") -> 301 | I86: 1 | J86: =VLOOKUP(I86,Secteurs!$A$2:$C$4,3) -> Alexis MABOUNDA | L86: 0.25 | N86: 0.25 | P86: 0.5 | Q86: =+$F86*K86 -> 0 | R86: =+$F86*L86 -> 45.5 | S86: =+$F86*M86 -> 0 | T86: =+$F86*N86 -> 45.5 | U86: =+$F86*O86 -> 0 | V86: =+$F86*P86 -> 91 | W86: =SUM(Q86:V86) -> 182 | Y86: =+W86-F86 -> 0
A87: =+IF(E87>0,1,0) -> 1 | B87: CONGO FUTUR carrefour rafinnerie | C87: G2 | D87: crédit | E87: 22 | F87: =E87*7 -> 154 | G87: 46006 | H87: =+IF(A87=1,(+TODAY())-G87,"Sans objet") -> 301 | I87: 1 | J87: =VLOOKUP(I87,Secteurs!$A$2:$C$4,3) -> Alexis MABOUNDA | L87: 0.5 | N87: 0.25 | P87: 0.25 | Q87: =+$F87*K87 -> 0 | R87: 77 | S87: =+$F87*M87 -> 0 | T87: =+$F87*N87 -> 38.5 | U87: =+$F87*O87 -> 0 | V87: =+$F87*P87 -> 38.5 | W87: =SUM(Q87:V87) -> 154 | Y87: =+W87-F87 -> 0
A88: =+IF(E88>0,1,0) -> 1 | B88: CONGO FUTUR terre jaune | C88: G2 | D88: crédit | E88: 26 | F88: =E88*7 -> 182 | G88: 46000 | H88: =+IF(A88=1,(+TODAY())-G88,"Sans objet") -> 307 | I88: 1 | J88: =VLOOKUP(I88,Secteurs!$A$2:$C$4,3) -> Alexis MABOUNDA | L88: 0.25 | N88: 0.25 | P88: 0.5 | Q88: =+$F88*K88 -> 0 | R88: =+$F88*L88 -> 45.5 | S88: =+$F88*M88 -> 0 | T88: =+$F88*N88 -> 45.5 | U88: =+$F88*O88 -> 0 | V88: =+$F88*P88 -> 91 | W88: =SUM(Q88:V88) -> 182 | Y88: =+W88-F88 -> 0
A89: =+IF(E89>0,1,0) -> 1 | B89: CONGO FUTUR arrêt manguier | C89: G2 | D89: crédit | E89: 24 | F89: =E89*7 -> 168 | G89: 46000 | H89: =+IF(A89=1,(+TODAY())-G89,"Sans objet") -> 307 | I89: 1 | J89: =VLOOKUP(I89,Secteurs!$A$2:$C$4,3) -> Alexis MABOUNDA | L89: 0.25 | N89: 0.5 | P89: 0.25 | Q89: =+$F89*K89 -> 0 | R89: =+$F89*L89 -> 42 | S89: =+$F89*M89 -> 0 | T89: =+$F89*N89 -> 84 | U89: =+$F89*O89 -> 0 | V89: =+$F89*P89 -> 42 | W89: =SUM(Q89:V89) -> 168 | Y89: =+W89-F89 -> 0
A90: =+IF(E90>0,1,0) -> 1 | B90: CONGO FUTUR rafinerie 1er camp | C90: G2 | D90: crédit | E90: 20 | F90: =E90*7 -> 140 | G90: 46006 | H90: =+IF(A90=1,(+TODAY())-G90,"Sans objet") -> 301 | I90: 1 | J90: =VLOOKUP(I90,Secteurs!$A$2:$C$4,3) -> Alexis MABOUNDA | L90: 0.25 | N90: 0.25 | P90: 0.5 | Q90: =+$F90*K90 -> 0 | R90: =+$F90*L90 -> 35 | S90: =+$F90*M90 -> 0 | T90: =+$F90*N90 -> 35 | U90: =+$F90*O90 -> 0 | V90: =+$F90*P90 -> 70 | W90: =SUM(Q90:V90) -> 140 | Y90: =+W90-F90 -> 0
A91: =+IF(E91>0,1,0) -> 1 | B91: CONGO FUTUR fond tié-tié | C91: G2 | D91: crédit | E91: 24 | F91: =E91*7 -> 168 | G91: 46009 | H91: =+IF(A91=1,(+TODAY())-G91,"Sans objet") -> 298 | I91: 2 | J91: Thérèse LOUKEBA | L91: 0.5 | N91: 0.25 | P91: 0.25 | Q91: =+$F91*K91 -> 0 | R91: =+$F91*L91 -> 84 | S91: =+$F91*M91 -> 0 | T91: =+$F91*N91 -> 42 | U91: =+$F91*O91 -> 0 | V91: =+$F91*P91 -> 42 | W91: =SUM(Q91:V91) -> 168 | Y91: =+W91-F91 -> 0
A92: =+IF(E92>0,1,0) -> 1 | B92: CONGO FUTUR moukondo | C92: G2 | D92: crédit | E92: 24 | F92: =E92*7 -> 168 | G92: 46000 | H92: =+IF(A92=1,(+TODAY())-G92,"Sans objet") -> 307 | I92: 1 | J92: =VLOOKUP(I92,Secteurs!$A$2:$C$4,3) -> Alexis MABOUNDA | L92: 0.25 | N92: 0.25 | P92: 0.5 | Q92: =+$F92*K92 -> 0 | R92: =+$F92*L92 -> 42 | S92: =+$F92*M92 -> 0 | T92: =+$F92*N92 -> 42 | U92: =+$F92*O92 -> 0 | V92: =+$F92*P92 -> 84 | W92: =SUM(Q92:V92) -> 168 | Y92: =+W92-F92 -> 0
A93: =+IF(E93>0,1,0) -> 1 | B93: CONGO FUTUR marché culotte | C93: G2 | D93: crédit | E93: 30 | F93: =E93*7 -> 210 | G93: 46002 | H93: =+IF(A93=1,(+TODAY())-G93,"Sans objet") -> 305 | I93: 1 | J93: =VLOOKUP(I93,Secteurs!$A$2:$C$4,3) -> Alexis MABOUNDA | L93: 0.5 | N93: 0.25 | P93: 0.25 | Q93: =+$F93*K93 -> 0 | R93: 105 | S93: =+$F93*M93 -> 0 | T93: =+$F93*N93 -> 52.5 | U93: =+$F93*O93 -> 0 | V93: =+$F93*P93 -> 52.5 | W93: =SUM(Q93:V93) -> 210 | Y93: =+W93-F93 -> 0
A94: =+IF(E94>0,1,0) -> 1 | B94: MEA 7/7ex baguette d'asta | C94: Autre | D94: cash | E94: 18 | F94: =E94*7 -> 126 | G94: 46007 | H94: =+IF(A94=1,(+TODAY())-G94,"Sans objet") -> 300 | I94: 2 | J94: Thérèse LOUKEBA | L94: 0.5 | N94: 0.25 | P94: 0.25 | Q94: =+$F94*K94 -> 0 | R94: =+$F94*L94 -> 63 | S94: =+$F94*M94 -> 0 | T94: =+$F94*N94 -> 31.5 | U94: =+$F94*O94 -> 0 | V94: =+$F94*P94 -> 31.5 | W94: =SUM(Q94:V94) -> 126 | Y94: =+W94-F94 -> 0
A95: =+IF(E95>0,1,0) -> 1 | B95: PARIS PAIN 2 ex baguette d'asta mpita | C95: G2 | D95: crédit | E95: 20 | F95: =E95*7 -> 140 | G95: 46001 | H95: =+IF(A95=1,(+TODAY())-G95,"Sans objet") -> 306 | I95: 2 | J95: =VLOOKUP(I95,Secteurs!$A$2:$C$4,3) -> Félix OVOURA | K95: 0.5 | N95: 0.5 | Q95: =+$F95*K95 -> 70 | R95: =+$F95*L95 -> 0 | S95: =+$F95*M95 -> 0 | T95: =+$F95*N95 -> 70 | U95: =+$F95*O95 -> 0 | V95: =+$F95*P95 -> 0 | W95: =SUM(Q95:V95) -> 140 | Y95: =+W95-F95 -> 0
A96: =+IF(E96>0,1,0) -> 1 | B96: ELVOZ INCHALLA mbota | C96: Direct | D96: cash | E96: 24 | F96: =E96*7 -> 168 | G96: 46007 | H96: =+IF(A96=1,(+TODAY())-G96,"Sans objet") -> 300 | I96: 3 | J96: =VLOOKUP(I96,Secteurs!$A$2:$C$4,3) -> Armel SOKAMBA | N96: 0.5 | O96: 0.5 | Q96: =+$F96*K96 -> 0 | R96: =+$F96*L96 -> 0 | S96: =+$F96*M96 -> 0 | T96: =+$F96*N96 -> 84 | U96: =+$F96*O96 -> 84 | V96: =+$F96*P96 -> 0 | W96: =SUM(Q96:V96) -> 168 | Y96: =+W96-F96 -> 0
A97: =+IF(E97>0,1,0) -> 1 | B97: BAGUETTE D'EXCELLENCE nkouinkou | C97: Autre | D97: cash | E97: 6 | F97: =E97*7 -> 42 | G97: 46002 | H97: =G963 -> 0 | I97: 1 | J97: =VLOOKUP(I97,Secteurs!$A$2:$C$4,3) -> Alexis MABOUNDA | M97: 1 | Q97: =+$F97*K97 -> 0 | R97: =+$F97*L97 -> 0 | S97: =+$F97*M97 -> 42 | T97: =+$F97*N97 -> 0 | U97: =+$F97*O97 -> 0 | V97: =+$F97*P97 -> 0 | W97: =SUM(Q97:V97) -> 42 | Y97: =+W97-F97 -> 0
A98: =+IF(E98>0,1,0) -> 1 | B98: BOUDI mvou-mvou | C98: Autre | D98: cash | E98: 12 | F98: =E98*7 -> 84 | G98: 46000 | H98: =+IF(A98=1,(+TODAY())-G98,"Sans objet") -> 307 | I98: 2 | J98: =VLOOKUP(I98,Secteurs!$A$2:$C$4,3) -> Félix OVOURA | N98: 0.5 | O98: 0.5 | Q98: =+$F98*K98 -> 0 | R98: =+$F98*L98 -> 0 | S98: =+$F98*M98 -> 0 | T98: =+$F98*N98 -> 42 | U98: =+$F98*O98 -> 42 | V98: =+$F98*P98 -> 0 | W98: =SUM(Q98:V98) -> 84 | Y98: =+W98-F98 -> 0
A99: =+IF(E99>0,1,0) -> 1 | B99: ELVETH/ EX CONGO RIM patra | C99: Autre | D99: cash | E99: 14 | F99: =E99*7 -> 98 | G99: 46009 | H99: =+IF(A99=1,(+TODAY())-G99,"Sans objet") -> 298 | I99: 3 | J99: =VLOOKUP(I99,Secteurs!$A$2:$C$4,3) -> Armel SOKAMBA | K99: 1 | Q99: =+$F99*K99 -> 98 | R99: =+$F99*L99 -> 0 | S99: =+$F99*M99 -> 0 | T99: =+$F99*N99 -> 0 | U99: =+$F99*O99 -> 0 | V99: =+$F99*P99 -> 0 | W99: =SUM(Q99:V99) -> 98 | Y99: =+W99-F99 -> 0
A100: =+IF(E100>0,1,0) -> 1 | B100: EL MONA tié tié masola | C100: Autre | D100: cash | E100: 10 | F100: =E100*7 -> 70 | G100: 46009 | H100: =+IF(A100=1,(+TODAY())-G100,"Sans objet") -> 298 | I100: 2 | J100: =VLOOKUP(I100,Secteurs!$A$2:$C$4,3) -> Félix OVOURA | L100: 0.5 | O100: 0.5 | Q100: =+$F100*K100 -> 0 | R100: =+$F100*L100 -> 35 | S100: =+$F100*M100 -> 0 | T100: =+$F100*N100 -> 0 | U100: =+$F100*O100 -> 35 | V100: =+$F100*P100 -> 0 | W100: =SUM(Q100:V100) -> 70 | Y100: =+W100-F100 -> 0
...

Sheet WEEK 52
A1: N° | B1: Boulangerie | C1: Groupe | D1: Type | E1: Cons/j | F1: C° heb | G1: Date Dernière Visite | H1: Période sans visite | I1: Secteur | J1: Technico Commercial | K1: %MINOCO | L1: %FANTA | M1: %GMK | N1: %SGMP | O1: %MFB | P1: %GMC | Q1: MINOCO | R1: FANTA | S1: GMK | T1: SGMP | U1: MFB | V1: GMC | W1: Total | X1: COMMENTAIRES | AA1: Week | AB1: Minoco | AC1: Fanta | AD1: GMPN | AE1: GMK | AF1: SGMP | AG1: MFB | AH1: GMC
A2: =+IF(E2>0,1,0) -> 1 | B2: CONGO FUTUR SIAFOUMOU | C2: G2 | D2: crédit | E2: 20 | F2: =E2*7 -> 140 | G2: 46015 | H2: =+IF(A2=1,(+TODAY())-G2,"Sans objet") -> 292 | I2: 1 | J2: =VLOOKUP(I2,Secteurs!$A$2:$C$4,3) -> Alexis MABOUNDA | N2: 0.5 | P2: 0.5 | Q2: =+$F2*K2 -> 0 | R2: =+$F2*L2 -> 0 | S2: =+$F2*M2 -> 0 | T2: =+$F2*N2 -> 70 | U2: =+$F2*O2 -> 0 | V2: =+$F2*P2 -> 70 | W2: =SUM(Q2:V2) -> 140 | Y2: =+W2-F2 -> 0 | AA2: 49 | AB2: 0.3274473 | AC2: 0.11030604 | AD2: =SUM(AB2:AC2) -> 0.43775334 | AE2: 0.092039927 | AF2: 0.14187272 | AG2: 0.093281313 | AH2: 0.2350527 | AI2: =SUM(AD2:AH2) -> 1
A3: =+IF(E3>0,1,0) -> 1 | B3: EL ATIGH mengo péage | C3: G1 | D3: cash | E3: 24 | F3: =E3*7 -> 168 | G3: 46008 | H3: =+IF(A3=1,(+TODAY())-G3,"Sans objet") -> 299 | I3: 1 | J3: =VLOOKUP(I3,Secteurs!$A$2:$C$4,3) -> Alexis MABOUNDA | K3: 0.75 | M3: 0.25 | Q3: =+$F3*K3 -> 126 | R3: =+$F3*L3 -> 0 | S3: =+$F3*M3 -> 42 | T3: =+$F3*N3 -> 0 | U3: =+$F3*O3 -> 0 | V3: =+$F3*P3 -> 0 | W3: =SUM(Q3:V3) -> 168 | Y3: =+W3-F3 -> 0 | AA3: 50 | AB3: 0.34874188 | AC3: 0.11209652 | AD3: =SUM(AB3:AC3) -> 0.4608384 | AE3: 0.089409096 | AF3: 0.11784573 | AG3: 0.089177065 | AH3: 0.24272971 | AI3: =SUM(AD3:AH3) -> 1
A4: =+IF(E4>0,1,0) -> 1 | B4: ATAKAHYR loandjili | C4: G1 | D4: cash | E4: 54 | F4: =E4*7 -> 378 | G4: 45992 | H4: =+IF(A4=1,(+TODAY())-G4,"Sans objet") -> 315 | I4: 1 | J4: =VLOOKUP(I4,Secteurs!$A$2:$C$4,3) -> Alexis MABOUNDA | K4: 0.75 | O4: 0.25 | Q4: 252 | R4: =+$F4*L4 -> 0 | S4: =+$F4*M4 -> 0 | T4: =+$F4*N4 -> 0 | U4: 126 | V4: =+$F4*P4 -> 0 | W4: =SUM(Q4:V4) -> 378 | Y4: =+W4-F4 -> 0 | AA4: 51 | AB4: 0.3501863 | AC4: 0.11721176 | AD4: =SUM(AB4:AC4) -> 0.46739805 | AE4: 0.095166632 | AF4: 0.10541296 | AG4: 0.088956738 | AH4: 0.24306562 | AI4: =SUM(AD4:AH4) -> 1
A5: =+IF(E5>0,1,0) -> 1 | B5: ATAKAHYR fouks | C5: G1 | D5: cash | E5: 28 | F5: =E5*7 -> 196 | G5: 46015 | H5: =+IF(A5=1,(+TODAY())-G5,"Sans objet") -> 292 | I5: 2 | J5: =VLOOKUP(I5,Secteurs!$A$2:$C$4,3) -> Félix OVOURA | K5: 0.5 | O5: 0.5 | Q5: =+$F5*K5 -> 98 | R5: =+$F5*L5 -> 0 | S5: =+$F5*M5 -> 0 | T5: =+$F5*N5 -> 0 | U5: =+$F5*O5 -> 98 | V5: =+$F5*P5 -> 0 | W5: =SUM(Q5:V5) -> 196 | Y5: =+W5-F5 -> 0 | AA5: 52 | AB5: =E147 -> 0.3286933 | AC5: =E148 -> 0.10336637 | AD5: =SUM(AB5:AC5) -> 0.43205966 | AE5: =E150 -> 0.09565284 | AF5: =E151 -> 0.11335309 | AG5: =E152 -> 0.12722211 | AH5: =E153 -> 0.2317123 | AI5: =SUM(AD5:AH5) -> 1
A6: =+IF(E6>0,1,0) -> 1 | B6: ATAKAHYR mayinga | C6: G1 | D6: cash | E6: 20 | F6: 140 | G6: 46013 | H6: =+IF(A6=1,(+TODAY())-G6,"Sans objet") -> 294 | I6: 3 | J6: =VLOOKUP(I6,Secteurs!$A$2:$C$4,3) -> Armel SOKAMBA | K6: 0.5 | O6: 0.5 | Q6: 70 | R6: =+$F6*L6 -> 0 | S6: =+$F6*M6 -> 0 | T6: =+$F6*N6 -> 0 | U6: =+$F6*O6 -> 70 | W6: =SUM(Q6:V6) -> 140 | Y6: =+W6-F6 -> 0 | AA6: Variation
A7: =+IF(E7>0,1,0) -> 1 | B7: MED MMB CEG vindoulou | C7: G1 | D7: cash | E7: 20 | F7: =E7*7 -> 140 | G7: 46008 | H7: =+IF(A7=1,(+TODAY())-G7,"Sans objet") -> 299 | I7: 3 | J7: Christelle ITOUA | K7: 0.5 | M7: 0.25 | P7: 0.25 | Q7: =+$F7*K7 -> 70 | R7: =+$F7*L7 -> 0 | S7: =+$F7*M7 -> 35 | T7: =+$F7*N7 -> 0 | U7: =+$F7*O7 -> 0 | V7: =+$F7*P7 -> 35 | W7: =SUM(Q7:V7) -> 140 | Y7: =+W7-F7 -> 0
A8: =+IF(E8>0,1,0) -> 1 | B8: MED globaline | C8: G1 | D8: cash | E8: 26 | F8: =E8*7 -> 182 | G8: 46014 | H8: =+IF(A8=1,(+TODAY())-G8,"Sans objet") -> 293 | I8: 3 | J8: =VLOOKUP(I8,Secteurs!$A$2:$C$4,3) -> Armel SOKAMBA | K8: 0.5 | N8: 0.5 | Q8: =+$F8*K8 -> 91 | R8: =+$F8*L8 -> 0 | S8: =+$F8*M8 -> 0 | T8: =+$F8*N8 -> 91 | U8: =+$F8*O8 -> 0 | V8: =+$F8*P8 -> 0 | W8: =SUM(Q8:V8) -> 182 | Y8: =+W8-F8 -> 0
A9: =+IF(E9>0,1,0) -> 1 | B9: Ets AMITIE ex BAGDAD1 grand marché révolution | C9: G1 | D9: cash | E9: 20 | F9: =E9*7 -> 140 | G9: 46000 | H9: =+IF(A9=1,(+TODAY())-G9,"Sans objet") -> 307 | I9: 2 | J9: =VLOOKUP(I9,Secteurs!$A$2:$C$4,3) -> Félix OVOURA | K9: 0.75 | P9: 0.25 | Q9: =+$F9*K9 -> 105 | R9: =+$F9*L9 -> 0 | S9: =+$F9*M9 -> 0 | T9: =+$F9*N9 -> 0 | U9: =+$F9*O9 -> 0 | V9: =+$F9*P9 -> 35 | W9: =SUM(Q9:V9) -> 140 | Y9: =+W9-F9 -> 0
A10: =+IF(E10>0,1,0) -> 1 | B10: Ets AMITIE ex CONGO2 voungou école primaire | C10: G1 | D10: cash | E10: 20 | F10: =E10*7 -> 140 | G10: 46007 | H10: =+IF(A10=1,(+TODAY())-G10,"Sans objet") -> 300 | I10: 3 | J10: =VLOOKUP(I10,Secteurs!$A$2:$C$4,3) -> Armel SOKAMBA | K10: 1 | Q10: =+$F10*K10 -> 140 | R10: =+$F10*L10 -> 0 | S10: =+$F10*M10 -> 0 | T10: =+$F10*N10 -> 0 | U10: =+$F10*O10 -> 0 | V10: =+$F10*P10 -> 0 | W10: =SUM(Q10:V10) -> 140 | Y10: =+W10-F10 -> 0
A11: =+IF(E11>0,1,0) -> 1 | B11: Ets AMITIE ex CONGO1 kitoko daniel | C11: G1 | D11: cash | E11: 24 | F11: =E11*7 -> 168 | G11: 46000 | H11: =+IF(A11=1,(+TODAY())-G11,"Sans objet") -> 307 | I11: 2 | J11: =VLOOKUP(I11,Secteurs!$A$2:$C$4,3) -> Félix OVOURA | K11: 0.5 | M11: 0.5 | Q11: =+$F11*K11 -> 84 | R11: =+$F11*L11 -> 0 | S11: =+$F11*M11 -> 84 | T11: =+$F11*N11 -> 0 | U11: =+$F11*O11 -> 0 | V11: =+$F11*P11 -> 0 | W11: =SUM(Q11:V11) -> 168 | Y11: =+W11-F11 -> 0
A12: =+IF(E12>0,1,0) -> 1 | B12: Ets AMITIE ex BAGDAD2 Rex grand marché | C12: G1 | D12: cash | E12: 26 | F12: =E12*7 -> 182 | G12: 46000 | H12: =+IF(A12=1,(+TODAY())-G12,"Sans objet") -> 307 | I12: 2 | J12: =VLOOKUP(I12,Secteurs!$A$2:$C$4,3) -> Félix OVOURA | K12: 1 | Q12: =+$F12*K12 -> 182 | R12: =+$F12*L12 -> 0 | S12: =+$F12*M12 -> 0 | T12: =+$F12*N12 -> 0 | U12: =+$F12*O12 -> 0 | V12: =+$F12*P12 -> 0 | W12: =SUM(Q12:V12) -> 182 | Y12: =+W12-F12 -> 0
A13: =+IF(E13>0,1,0) -> 1 | B13: Ets AMITIE ex BONNE CHANCE nkouinkou dénisia | C13: G1 | D13: cash | E13: 24 | F13: =E13*7 -> 168 | G13: 46013 | H13: =+IF(A13=1,(+TODAY())-G13,"Sans objet") -> 294 | I13: 1 | J13: =VLOOKUP(I13,Secteurs!$A$2:$C$4,3) -> Alexis MABOUNDA | K13: 0.5 | M13: 0.5 | Q13: =+$F13*K13 -> 84 | R13: =+$F13*L13 -> 0 | S13: =+$F13*M13 -> 84 | T13: =+$F13*N13 -> 0 | U13: =+$F13*O13 -> 0 | V13: =+$F13*P13 -> 0 | W13: =SUM(Q13:V13) -> 168 | Y13: =+W13-F13 -> 0
A14: =+IF(E14>0,1,0) -> 1 | B14: BAH ex HACEN fond tié-tié | C14: G1 | D14: cash | E14: 36 | F14: =E14*7 -> 252 | G14: 46009 | H14: =+IF(A14=1,(+TODAY())-G14,"Sans objet") -> 298 | I14: 3 | J14: =VLOOKUP(I14,Secteurs!$A$2:$C$4,3) -> Armel SOKAMBA | K14: 0.5 | P14: 0.5 | Q14: =+$F14*K14 -> 126 | R14: =+$F14*L14 -> 0 | S14: =+$F14*M14 -> 0 | T14: =+$F14*N14 -> 0 | U14: =+$F14*O14 -> 0 | V14: =+$F14*P14 -> 126 | W14: =SUM(Q14:V14) -> 252 | Y14: =+W14-F14 -> 0
A15: =+IF(E15>0,1,0) -> 1 | B15: BAH ex SASI tié tié massola | C15: G1 | D15: cash | E15: 20 | F15: =E15*7 -> 140 | G15: 46015 | H15: =+IF(A15=1,(+TODAY())-G15,"Sans objet") -> 292 | I15: 2 | J15: =VLOOKUP(I15,Secteurs!$A$2:$C$4,3) -> Félix OVOURA | K15: 0.5 | P15: 0.5 | Q15: =+$F15*K15 -> 70 | R15: =+$F15*L15 -> 0 | S15: =+$F15*M15 -> 0 | T15: =+$F15*N15 -> 0 | U15: =+$F15*O15 -> 0 | V15: =+$F15*P15 -> 70 | W15: =SUM(Q15:V15) -> 140 | Y15: =+W15-F15 -> 0
A16: =+IF(E16>0,1,0) -> 1 | B16: BAH ex BMM paka maison blanche | C16: G1 | D16: cash | E16: 20 | F16: =E16*7 -> 140 | G16: 46009 | H16: =+IF(A16=1,(+TODAY())-G16,"Sans objet") -> 298 | I16: 3 | J16: =VLOOKUP(I16,Secteurs!$A$2:$C$4,3) -> Armel SOKAMBA | K16: 1 | Q16: =+$F16*K16 -> 140 | R16: =+$F16*L16 -> 0 | S16: =+$F16*M16 -> 0 | T16: =+$F16*N16 -> 0 | U16: =+$F16*O16 -> 0 | V16: =+$F16*P16 -> 0 | W16: =SUM(Q16:V16) -> 140 | Y16: =+W16-F16 -> 0
A17: =+IF(E17>0,1,0) -> 1 | B17: BA mvoumvou immigration | C17: G1 | D17: cash | E17: 30 | F17: =E17*7 -> 210 | G17: 46000 | H17: =+IF(A17=1,(+TODAY())-G17,"Sans objet") -> 307 | I17: 2 | J17: =VLOOKUP(I17,Secteurs!$A$2:$C$4,3) -> Félix OVOURA | K17: 0.5 | M17: 0.5 | Q17: =+$F17*K17 -> 105 | R17: =+$F17*L17 -> 0 | S17: =+$F17*M17 -> 105 | T17: =+$F17*N17 -> 0 | U17: =+$F17*O17 -> 0 | V17: =+$F17*P17 -> 0 | W17: =SUM(Q17:V17) -> 210 | Y17: =+W17-F17 -> 0
A18: =+IF(E18>0,1,0) -> 1 | B18: BA thyster mongo mpoukou | C18: G1 | D18: cash | E18: 20 | F18: =E18*7 -> 140 | G18: 46013 | H18: =+IF(A18=1,(+TODAY())-G18,"Sans objet") -> 294 | I18: 1 | J18: =VLOOKUP(I18,Secteurs!$A$2:$C$4,3) -> Alexis MABOUNDA | K18: 0.5 | M18: 0.5 | Q18: =+$F18*K18 -> 70 | R18: =+$F18*L18 -> 0 | S18: =+$F18*M18 -> 70 | T18: =+$F18*N18 -> 0 | U18: =+$F18*O18 -> 0 | V18: =+$F18*P18 -> 0 | W18: =SUM(Q18:V18) -> 140 | Y18: =+W18-F18 -> 0
A19: =+IF(E19>0,1,0) -> 1 | B19: BA mpaka dalette | C19: G1 | D19: cash | E19: 26 | F19: =E19*7 -> 182 | G19: 46009 | H19: =+IF(A19=1,(+TODAY())-G19,"Sans objet") -> 298 | I19: 3 | J19: =VLOOKUP(I19,Secteurs!$A$2:$C$4,3) -> Armel SOKAMBA | K19: 0.5 | O19: 0.5 | Q19: =+$F19*K19 -> 91 | R19: =+$F19*L19 -> 0 | S19: =+$F19*M19 -> 0 | T19: =+$F19*N19 -> 0 | U19: =+$F19*O19 -> 91 | V19: =+$F19*P19 -> 0 | W19: =SUM(Q19:V19) -> 182 | Y19: =+W19-F19 -> 0
A20: =+IF(E20>0,1,0) -> 1 | B20: BA fond tié-tié gar | C20: G1 | D20: cash | E20: 46 | F20: =E20*7 -> 322 | G20: 46007 | H20: =+IF(A20=1,(+TODAY())-G20,"Sans objet") -> 300 | I20: 3 | J20: =VLOOKUP(I20,Secteurs!$A$2:$C$4,3) -> Armel SOKAMBA | K20: 0.5 | M20: 0.5 | Q20: =+$F20*K20 -> 161 | R20: =+$F20*L20 -> 0 | S20: =+$F20*M20 -> 161 | T20: =+$F20*N20 -> 0 | U20: =+$F20*O20 -> 0 | V20: =+$F20*P20 -> 0 | W20: =SUM(Q20:V20) -> 322 | Y20: =+W20-F20 -> 0
A21: =+IF(E21>0,1,0) -> 1 | B21: BA mpaka marché | C21: G1 | D21: cash | E21: 20 | F21: =E21*7 -> 140 | G21: 46009 | H21: =+IF(A21=1,(+TODAY())-G21,"Sans objet") -> 298 | I21: 3 | J21: =VLOOKUP(I21,Secteurs!$A$2:$C$4,3) -> Armel SOKAMBA | K21: 0.5 | P21: 0.5 | Q21: =+$F21*K21 -> 70 | R21: =+$F21*L21 -> 0 | S21: =+$F21*M21 -> 0 | T21: =+$F21*N21 -> 0 | U21: =+$F21*O21 -> 0 | V21: =+$F21*P21 -> 70 | W21: =SUM(Q21:V21) -> 140 | Y21: =+W21-F21 -> 0
A22: =+IF(E22>0,1,0) -> 1 | B22: BA ngoyo | C22: G1 | D22: cash | E22: 26 | F22: =E22*7 -> 182 | G22: 46014 | H22: =+IF(A22=1,(+TODAY())-G22,"Sans objet") -> 293 | I22: 3 | J22: =VLOOKUP(I22,Secteurs!$A$2:$C$4,3) -> Armel SOKAMBA | K22: 0.75 | P22: 0.25 | Q22: =+$F22*K22 -> 136.5 | R22: =+$F22*L22 -> 0 | S22: =+$F22*M22 -> 0 | T22: =+$F22*N22 -> 0 | U22: =+$F22*O22 -> 0 | V22: =+$F22*P22 -> 45.5 | W22: =SUM(Q22:V22) -> 182 | Y22: =+W22-F22 -> 0
A23: =+IF(E23>0,1,0) -> 1 | B23: BA fond tié-tié en allant vers voungou | C23: G1 | D23: cash | E23: 20 | F23: =E23*7 -> 140 | G23: 46007 | H23: =+IF(A23=1,(+TODAY())-G23,"Sans objet") -> 300 | I23: 3 | J23: =VLOOKUP(I23,Secteurs!$A$2:$C$4,3) -> Armel SOKAMBA | K23: 0.75 | P23: 0.25 | Q23: =+$F23*K23 -> 105 | R23: =+$F23*L23 -> 0 | S23: =+$F23*M23 -> 0 | T23: =+$F23*N23 -> 0 | U23: =+$F23*O23 -> 0 | V23: =+$F23*P23 -> 35 | W23: =SUM(Q23:V23) -> 140 | Y23: =+W23-F23 -> 0
A24: =+IF(E24>0,1,0) -> 1 | B24: NEINA REPUBLIQUE marché bissongo | C24: G1 | D24: cash | E24: 18 | F24: =E24*7 -> 126 | G24: 46007 | H24: =+IF(A24=1,(+TODAY())-G24,"Sans objet") -> 300 | I24: 3 | J24: =VLOOKUP(I24,Secteurs!$A$2:$C$4,3) -> Armel SOKAMBA | K24: 0.5 | P24: 0.5 | Q24: =+$F24*K24 -> 63 | R24: =+$F24*L24 -> 0 | S24: =+$F24*M24 -> 0 | T24: =+$F24*N24 -> 0 | U24: =+$F24*O24 -> 0 | V24: =+$F24*P24 -> 63 | W24: =SUM(Q24:V24) -> 126 | Y24: =+W24-F24 -> 0
A25: =+IF(E25>0,1,0) -> 1 | B25: NEINA REPUBLIQUE ngoyo central | C25: G1 | D25: cash | E25: 24 | F25: =E25*7 -> 168 | G25: 46014 | H25: =+IF(A25=1,(+TODAY())-G25,"Sans objet") -> 293 | I25: 3 | J25: =VLOOKUP(I25,Secteurs!$A$2:$C$4,3) -> Armel SOKAMBA | K25: 0.75 | P25: 0.25 | Q25: =+$F25*K25 -> 126 | R25: =+$F25*L25 -> 0 | S25: =+$F25*M25 -> 0 | T25: =+$F25*N25 -> 0 | U25: =+$F25*O25 -> 0 | V25: =+$F25*P25 -> 42 | W25: =SUM(Q25:V25) -> 168 | Y25: =+W25-F25 -> 0
A26: =+IF(E26>0,1,0) -> 1 | B26: NEINA REPUBLIQUE grand marché | C26: G1 | D26: cash | E26: 26 | F26: =E26*7 -> 182 | G26: 46000 | H26: =+IF(A26=1,(+TODAY())-G26,"Sans objet") -> 307 | I26: 2 | J26: =VLOOKUP(I26,Secteurs!$A$2:$C$4,3) -> Félix OVOURA | K26: 0.5 | P26: 0.5 | Q26: =+$F26*K26 -> 91 | R26: =+$F26*L26 -> 0 | S26: =+$F26*M26 -> 0 | T26: =+$F26*N26 -> 0 | U26: =+$F26*O26 -> 0 | V26: =+$F26*P26 -> 91 | W26: =SUM(Q26:V26) -> 182 | Y26: =+W26-F26 -> 0
A27: =+IF(E27>0,1,0) -> 1 | B27: NEINA REPUBLIQUE tchimbambouka | C27: G1 | D27: cash | E27: 20 | F27: =E27*7 -> 140 | G27: 46001 | H27: =+IF(A27=1,(+TODAY())-G27,"Sans objet") -> 306 | I27: 3 | J27: =VLOOKUP(I27,Secteurs!$A$2:$C$4,3) -> Armel SOKAMBA | K27: 1 | Q27: =+$F27*K27 -> 140 | R27: =+$F27*L27 -> 0 | S27: =+$F27*M27 -> 0 | T27: =+$F27*N27 -> 0 | U27: =+$F27*O27 -> 0 | V27: =+$F27*P27 -> 0 | W27: =SUM(Q27:V27) -> 140 | Y27: =+W27-F27 -> 0
A28: =+IF(E28>0,1,0) -> 1 | B28: MED MMB deux poteaux | C28: G1 | D28: cash | E28: 20 | F28: =E28*7 -> 140 | G28: 46013 | H28: =+IF(A28=1,(+TODAY())-G28,"Sans objet") -> 294 | I28: 3 | J28: =VLOOKUP(I28,Secteurs!$A$2:$C$4,3) -> Armel SOKAMBA | K28: 1 | Q28: =+$F28*K28 -> 140 | R28: =+$F28*L28 -> 0 | S28: =+$F28*M28 -> 0 | T28: =+$F28*N28 -> 0 | U28: =+$F28*O28 -> 0 | V28: =+$F28*P28 -> 0 | W28: =SUM(Q28:V28) -> 140 | Y28: =+W28-F28 -> 0
A29: =+IF(E29>0,1,0) -> 1 | B29: MED marché tchimbamba | C29: G1 | D29: cash | E29: 26 | F29: 24 | G29: 46013 | H29: =+IF(A29=1,(+TODAY())-G29,"Sans objet") -> 294 | I29: 3 | J29: =VLOOKUP(I29,Secteurs!$A$2:$C$4,3) -> Armel SOKAMBA | K29: 0.5 | O29: 0.5 | Q29: =+$F29*K29 -> 12 | R29: =+$F29*L29 -> 0 | S29: =+$F29*M29 -> 0 | T29: =+$F29*N29 -> 0 | U29: =+$F29*O29 -> 12 | V29: =+$F29*P29 -> 0 | W29: =SUM(Q29:V29) -> 24 | Y29: =+W29-F29 -> 0
A30: =+IF(E30>0,1,0) -> 1 | B30: MED ngoyo péage | C30: G1 | D30: cash | E30: 30 | F30: =E30*7 -> 210 | G30: 46014 | H30: =+IF(A30=1,(+TODAY())-G30,"Sans objet") -> 293 | I30: 3 | J30: =VLOOKUP(I30,Secteurs!$A$2:$C$4,3) -> Armel SOKAMBA | N30: 0.5 | O30: 0.5 | Q30: =+$F30*K30 -> 0 | R30: =+$F30*L30 -> 0 | S30: =+$F30*M30 -> 0 | T30: =+$F30*N30 -> 105 | U30: =+$F30*O30 -> 105 | V30: =+$F30*P30 -> 0 | W30: =SUM(Q30:V30) -> 210 | Y30: =+W30-F30 -> 0
A31: =+IF(E31>0,1,0) -> 1 | B31: MED ex la grace vindoulou | C31: G1 | D31: cash | E31: 26 | F31: =E31*7 -> 182 | G31: 46013 | H31: =+IF(A31=1,(+TODAY())-G31,"Sans objet") -> 294 | I31: 1 | J31: =VLOOKUP(I31,Secteurs!$A$2:$C$4,3) -> Alexis MABOUNDA | K31: 0.5 | M31: 0.25 | O31: 0.25 | Q31: =+$F31*K31 -> 91 | R31: =+$F31*L31 -> 0 | S31: =+$F31*M31 -> 45.5 | T31: =+$F31*N31 -> 0 | U31: =+$F31*O31 -> 45.5 | V31: =+$F31*P31 -> 0 | W31: =SUM(Q31:V31) -> 182 | Y31: =+W31-F31 -> 0
A32: =+IF(E32>0,1,0) -> 1 | B32: MMB Licee vindoulou | C32: G1 | D32: cash | E32: 10 | F32: =E32*7 -> 70 | G32: 46008 | H32: =+IF(A32=1,(+TODAY())-G32,"Sans objet") -> 299 | I32: 1 | J32: Christelle ITOUA | K32: 0.5 | M32: 0.5 | Q32: =+$F32*K32 -> 35 | R32: =+$F32*L32 -> 0 | S32: =+$F32*M32 -> 35 | T32: =+$F32*N32 -> 0 | U32: =+$F32*O32 -> 0 | V32: =+$F32*P32 -> 0 | W32: =SUM(Q32:V32) -> 70 | Y32: =+W32-F32 -> 0
A33: =+IF(E33>0,1,0) -> 1 | B33: MED marché tsourou thyster | C33: G1 | D33: cash | E33: 22 | F33: =E33*7 -> 154 | G33: 46008 | H33: =+IF(A33=1,(+TODAY())-G33,"Sans objet") -> 299 | I33: 1 | J33: =VLOOKUP(I33,Secteurs!$A$2:$C$4,3) -> Alexis MABOUNDA | K33: 0.5 | M33: 0.25 | O33: 0.25 | Q33: =+$F33*K33 -> 77 | R33: =+$F33*L33 -> 0 | S33: =+$F33*M33 -> 38.5 | T33: =+$F33*N33 -> 0 | U33: =+$F33*O33 -> 38.5 | V33: =+$F33*P33 -> 0 | W33: =SUM(Q33:V33) -> 154 | Y33: =+W33-F33 -> 0
A34: =+IF(E34>0,1,0) -> 1 | B34: MED MMB contre rail | C34: G1 | D34: cash | E34: 16 | F34: =E34*7 -> 112 | G34: 46009 | H34: =+IF(A34=1,(+TODAY())-G34,"Sans objet") -> 298 | I34: 3 | J34: =VLOOKUP(I34,Secteurs!$A$2:$C$4,3) -> Armel SOKAMBA | L34: 0.5 | N34: 0.5 | Q34: =+$F34*K34 -> 0 | R34: =+$F34*L34 -> 56 | S34: =+$F34*M34 -> 0 | T34: =+$F34*N34 -> 56 | U34: =+$F34*O34 -> 0 | V34: =+$F34*P34 -> 0 | W34: =SUM(Q34:V34) -> 112 | Y34: =+W34-F34 -> 0
A35: =+IF(E35>0,1,0) -> 1 | B35: TOD mvoumvou sympatique | C35: G1 | D35: cash | E35: 26 | F35: =E35*7 -> 182 | G35: 46006 | H35: =+IF(A35=1,(+TODAY())-G35,"Sans objet") -> 301 | I35: 2 | J35: =VLOOKUP(I35,Secteurs!$A$2:$C$4,3) -> Félix OVOURA | K35: 1 | Q35: =+$F35*K35 -> 182 | R35: =+$F35*L35 -> 0 | S35: =+$F35*M35 -> 0 | T35: =+$F35*N35 -> 0 | U35: =+$F35*O35 -> 0 | V35: =+$F35*P35 -> 0 | W35: =SUM(Q35:V35) -> 182 | Y35: =+W35-F35 -> 0
A36: =+IF(E36>0,1,0) -> 1 | B36: TOD roy | C36: G1 | D36: cash | E36: 20 | F36: =E36*7 -> 140 | G36: 46000 | H36: =+IF(A36=1,(+TODAY())-G36,"Sans objet") -> 307 | I36: 2 | J36: =VLOOKUP(I36,Secteurs!$A$2:$C$4,3) -> Félix OVOURA | K36: 1 | Q36: =+$F36*K36 -> 140 | R36: =+$F36*L36 -> 0 | S36: =+$F36*M36 -> 0 | T36: =+$F36*N36 -> 0 | U36: =+$F36*O36 -> 0 | V36: =+$F36*P36 -> 0 | W36: =SUM(Q36:V36) -> 140 | Y36: =+W36-F36 -> 0
A37: =+IF(E37>0,1,0) -> 1 | B37: TOD och | C37: G1 | D37: cash | E37: 20 | F37: =E37*7 -> 140 | G37: 46009 | H37: =+IF(A37=1,(+TODAY())-G37,"Sans objet") -> 298 | I37: 2 | J37: =VLOOKUP(I37,Secteurs!$A$2:$C$4,3) -> Félix OVOURA | K37: 0.5 | M37: 0.5 | Q37: =+$F37*K37 -> 70 | R37: =+$F37*L37 -> 0 | S37: =+$F37*M37 -> 70 | T37: =+$F37*N37 -> 0 | U37: =+$F37*O37 -> 0 | V37: =+$F37*P37 -> 0 | W37: =SUM(Q37:V37) -> 140 | Y37: =+W37-F37 -> 0
A38: =+IF(E38>0,1,0) -> 1 | B38: WAMAS ex moulin rouge | C38: Direct | D38: cash | E38: 18 | F38: =E38*7 -> 126 | G38: 46006 | H38: =+IF(A38=1,(+TODAY())-G38,"Sans objet") -> 301 | I38: 3 | J38: =VLOOKUP(I38,Secteurs!$A$2:$C$4,3) -> Armel SOKAMBA | K38: 1 | Q38: =+$F38*K38 -> 126 | R38: =+$F38*L38 -> 0 | S38: =+$F38*M38 -> 0 | T38: =+$F38*N38 -> 0 | U38: =+$F38*O38 -> 0 | V38: =+$F38*P38 -> 0 | W38: =SUM(Q38:V38) -> 126 | Y38: =+W38-F38 -> 0
A39: =+IF(E39>0,1,0) -> 1 | B39: CHRISTINA kitoko daniel | C39: Direct | D39: cash | E39: 24 | F39: =E39*7 -> 168 | G39: 46000 | H39: =+IF(A39=1,(+TODAY())-G39,"Sans objet") -> 307 | I39: 2 | J39: =VLOOKUP(I39,Secteurs!$A$2:$C$4,3) -> Félix OVOURA | K39: 0.5 | M39: 0.5 | Q39: =+$F39*K39 -> 84 | R39: =+$F39*L39 -> 0 | S39: =+$F39*M39 -> 84 | T39: =+$F39*N39 -> 0 | U39: =+$F39*O39 -> 0 | V39: =+$F39*P39 -> 0 | W39: =SUM(Q39:V39) -> 168 | Y39: =+W39-F39 -> 0
A40: =+IF(E40>0,1,0) -> 1 | B40: LOUKABOU grand marhé lumumba | C40: Direct | D40: cash | E40: 16 | F40: =E40*7 -> 112 | G40: 46007 | H40: =+IF(A40=1,(+TODAY())-G40,"Sans objet") -> 300 | I40: 2 | J40: =VLOOKUP(I40,Secteurs!$A$2:$C$4,3) -> Félix OVOURA | K40: 0.5 | M40: 0.5 | Q40: =+$F40*K40 -> 56 | R40: =+$F40*L40 -> 0 | S40: =+$F40*M40 -> 56 | T40: =+$F40*N40 -> 0 | U40: =+$F40*O40 -> 0 | V40: =+$F40*P40 -> 0 | W40: =SUM(Q40:V40) -> 112 | Y40: =+W40-F40 -> 0
A41: =+IF(E41>0,1,0) -> 1 | B41: LA CITRONNELLE | C41: Direct | D41: cash | E41: 16 | F41: =E41*7 -> 112 | G41: 45996 | H41: =+IF(A41=1,(+TODAY())-G41,"Sans objet") -> 311 | I41: 2 | J41: =VLOOKUP(I41,Secteurs!$A$2:$C$4,3) -> Félix OVOURA | K41: 1 | Q41: =+$F41*K41 -> 112 | R41: =+$F41*L41 -> 0 | S41: =+$F41*M41 -> 0 | T41: =+$F41*N41 -> 0 | U41: =+$F41*O41 -> 0 | V41: =+$F41*P41 -> 0 | W41: =SUM(Q41:V41) -> 112 | Y41: =+W41-F41 -> 0
A42: =+IF(E42>0,1,0) -> 1 | B42: CONTINENT | C42: Direct | D42: cash | E42: 10 | F42: =E42*7 -> 70 | G42: 46007 | H42: =+IF(A42=1,(+TODAY())-G42,"Sans objet") -> 300 | I42: 2 | J42: =VLOOKUP(I42,Secteurs!$A$2:$C$4,3) -> Félix OVOURA | O42: 1 | Q42: =+$F42*K42 -> 0 | R42: =+$F42*L42 -> 0 | S42: =+$F42*M42 -> 0 | T42: =+$F42*N42 -> 0 | U42: =+$F42*O42 -> 70 | V42: =+$F42*P42 -> 0 | W42: =SUM(Q42:V42) -> 70 | Y42: =+W42-F42 -> 0
A43: =+IF(E43>0,1,0) -> 1 | B43: ESPACE DE LA PROMESSE | C43: Direct | D43: crédit | E43: 14 | F43: =E43*7 -> 98 | G43: 46013 | H43: =+IF(A43=1,(+TODAY())-G43,"Sans objet") -> 294 | I43: 1 | J43: =VLOOKUP(I43,Secteurs!$A$2:$C$4,3) -> Alexis MABOUNDA | K43: 0.5 | P43: 0.5 | Q43: =+$F43*K43 -> 49 | R43: =+$F43*L43 -> 0 | S43: =+$F43*M43 -> 0 | T43: =+$F43*N43 -> 0 | U43: =+$F43*O43 -> 0 | V43: =+$F43*P43 -> 49 | W43: =SUM(Q43:V43) -> 98 | Y43: =+W43-F43 -> 0
A44: =+IF(E44>0,1,0) -> 1 | B44: ZAM-ZAM1 mpaka 5chemin | C44: G2 | D44: crédit | E44: 30 | F44: =E44*7 -> 210 | G44: 46009 | H44: =+IF(A44=1,(+TODAY())-G44,"Sans objet") -> 298 | I44: 3 | J44: =VLOOKUP(I44,Secteurs!$A$2:$C$4,3) -> Armel SOKAMBA | L44: 0.5 | O44: 0.25 | P44: 0.25 | Q44: =+$F44*K44 -> 0 | R44: =+$F44*L44 -> 105 | S44: =+$F44*M44 -> 0 | T44: =+$F44*N44 -> 0 | U44: =+$F44*O44 -> 52.5 | V44: =+$F44*P44 -> 52.5 | W44: =SUM(Q44:V44) -> 210 | Y44: =+W44-F44 -> 0
A45: =+IF(E45>0,1,0) -> 1 | B45: ZAM-ZAM2 tchimani | C45: G2 | D45: crédit | E45: 26 | F45: =E45*7 -> 182 | G45: 46007 | H45: =+IF(A45=1,(+TODAY())-G45,"Sans objet") -> 300 | I45: 3 | J45: =VLOOKUP(I45,Secteurs!$A$2:$C$4,3) -> Armel SOKAMBA | N45: 0.5 | P45: 0.5 | Q45: =+$F45*K45 -> 0 | R45: =+$F45*L45 -> 0 | S45: =+$F45*M45 -> 0 | T45: =+$F45*N45 -> 91 | U45: =+$F45*O45 -> 0 | V45: =+$F45*P45 -> 91 | W45: =SUM(Q45:V45) -> 182 | Y45: =+W45-F45 -> 0
A46: =+IF(E46>0,1,0) -> 1 | B46: YAYA BILAL1 tchimbambouka | C46: G2 | D46: crédit | E46: 30 | F46: =E46*7 -> 210 | G46: 46007 | H46: =+IF(A46=1,(+TODAY())-G46,"Sans objet") -> 300 | I46: 3 | J46: =VLOOKUP(I46,Secteurs!$A$2:$C$4,3) -> Armel SOKAMBA | M46: 0.5 | O46: 0.5 | Q46: =+$F46*K46 -> 0 | R46: =+$F46*L46 -> 0 | S46: =+$F46*M46 -> 105 | T46: =+$F46*N46 -> 0 | U46: =+$F46*O46 -> 105 | V46: =+$F46*P46 -> 0 | W46: =SUM(Q46:V46) -> 210 | Y46: =+W46-F46 -> 0
A47: =+IF(E47>0,1,0) -> 1 | B47: ZAM-ZAM ext 5chemin | C47: G2 | D47: crédit | E47: 26 | F47: =E47*7 -> 182 | G47: 46015 | H47: =+IF(A47=1,(+TODAY())-G47,"Sans objet") -> 292 | I47: 3 | J47: =VLOOKUP(I47,Secteurs!$A$2:$C$4,3) -> Armel SOKAMBA | M47: 0.25 | O47: 0.25 | P47: 0.5 | Q47: =+$F47*K47 -> 0 | R47: =+$F47*L47 -> 0 | S47: =+$F47*M47 -> 45.5 | T47: =+$F47*N47 -> 0 | U47: =+$F47*O47 -> 45.5 | V47: =+$F47*P47 -> 91 | W47: =SUM(Q47:V47) -> 182 | Y47: =+W47-F47 -> 0
A48: =+IF(E48>0,1,0) -> 1 | B48: AFRICAINE1 nkouikou nzango | C48: G2 | D48: cash | E48: 14 | F48: =E48*7 -> 98 | G48: 46014 | H48: =+IF(A48=1,(+TODAY())-G48,"Sans objet") -> 293 | I48: 1 | J48: =VLOOKUP(I48,Secteurs!$A$2:$C$4,3) -> Alexis MABOUNDA | K48: 0.5 | P48: 0.5 | Q48: =+$F48*K48 -> 49 | R48: =+$F48*L48 -> 0 | S48: =+$F48*M48 -> 0 | T48: =+$F48*N48 -> 0 | U48: =+$F48*O48 -> 0 | V48: =+$F48*P48 -> 49 | W48: =SUM(Q48:V48) -> 98 | Y48: =+W48-F48 -> 0
A49: =+IF(E49>0,1,0) -> 1 | B49: AFRICAINE2 nkouinkou vonvon | C49: G2 | D49: cash | E49: 12 | F49: =E49*7 -> 84 | G49: 46014 | H49: =+IF(A49=1,(+TODAY())-G49,"Sans objet") -> 293 | I49: 1 | J49: =VLOOKUP(I49,Secteurs!$A$2:$C$4,3) -> Alexis MABOUNDA | K49: 0.5 | P49: 0.5 | Q49: =+$F49*K49 -> 42 | R49: =+$F49*L49 -> 0 | S49: =+$F49*M49 -> 0 | T49: =+$F49*N49 -> 0 | U49: =+$F49*O49 -> 0 | V49: =+$F49*P49 -> 42 | W49: =SUM(Q49:V49) -> 84 | Y49: =+W49-F49 -> 0
A50: =+IF(E50>0,1,0) -> 1 | B50: AFRICAINE3 tchialli | C50: G2 | D50: cash | E50: 16 | F50: =E50*7 -> 112 | G50: 45994 | H50: =+IF(A50=1,(+TODAY())-G50,"Sans objet") -> 313 | I50: 1 | J50: =VLOOKUP(I50,Secteurs!$A$2:$C$4,3) -> Alexis MABOUNDA | K50: 0.5 | N50: 0.5 | Q50: =+$F50*K50 -> 56 | R50: =+$F50*L50 -> 0 | S50: =+$F50*M50 -> 0 | T50: =+$F50*N50 -> 56 | U50: =+$F50*O50 -> 0 | V50: =+$F50*P50 -> 0 | W50: =SUM(Q50:V50) -> 112 | Y50: =+W50-F50 -> 0
A51: =+IF(E51>0,1,0) -> 1 | B51: AFRICAINE4 la fontaine | C51: G2 | D51: cash | E51: 14 | F51: =E51*7 -> 98 | G51: 46007 | H51: =+IF(A51=1,(+TODAY())-G51,"Sans objet") -> 300 | I51: 3 | J51: =VLOOKUP(I51,Secteurs!$A$2:$C$4,3) -> Armel SOKAMBA | K51: 0.5 | P51: 0.5 | Q51: =+$F51*K51 -> 49 | R51: =+$F51*L51 -> 0 | S51: =+$F51*M51 -> 0 | T51: =+$F51*N51 -> 0 | U51: =+$F51*O51 -> 0 | V51: =+$F51*P51 -> 49 | W51: =SUM(Q51:V51) -> 98 | Y51: =+W51-F51 -> 0
A52: =+IF(E52>0,1,0) -> 1 | B52: AFRICAINE5 ngoyo avenue taty loutard | C52: G2 | D52: cash | E52: 24 | F52: =E52*7 -> 168 | G52: 46014 | H52: =+IF(A52=1,(+TODAY())-G52,"Sans objet") -> 293 | I52: 3 | J52: =VLOOKUP(I52,Secteurs!$A$2:$C$4,3) -> Armel SOKAMBA | K52: 0.5 | P52: 0.5 | Q52: =+$F52*K52 -> 84 | R52: =+$F52*L52 -> 0 | S52: =+$F52*M52 -> 0 | T52: =+$F52*N52 -> 0 | U52: =+$F52*O52 -> 0 | V52: =+$F52*P52 -> 84 | W52: =SUM(Q52:V52) -> 168 | Y52: =+W52-F52 -> 0
A53: =+IF(E53>0,1,0) -> 1 | B53: AFRICAINE6 ngoyo central | C53: G2 | D53: cash | E53: 24 | F53: =E53*7 -> 168 | G53: 46014 | H53: =+IF(A53=1,(+TODAY())-G53,"Sans objet") -> 293 | I53: 3 | J53: =VLOOKUP(I53,Secteurs!$A$2:$C$4,3) -> Armel SOKAMBA | K53: 0.5 | P53: 0.5 | Q53: =+$F53*K53 -> 84 | R53: =+$F53*L53 -> 0 | S53: =+$F53*M53 -> 0 | T53: =+$F53*N53 -> 0 | U53: =+$F53*O53 -> 0 | V53: =+$F53*P53 -> 84 | W53: =SUM(Q53:V53) -> 168 | Y53: =+W53-F53 -> 0
A54: =+IF(E54>0,1,0) -> 1 | B54: AFRICAINE7 nzassi | C54: G2 | D54: cash | E54: 18 | F54: =E54*7 -> 126 | G54: 45995 | H54: =+IF(A54=1,(+TODAY())-G54,"Sans objet") -> 312 | I54: 3 | J54: =VLOOKUP(I54,Secteurs!$A$2:$C$4,3) -> Armel SOKAMBA | K54: 0.5 | P54: 0.5 | Q54: =+$F54*K54 -> 63 | R54: =+$F54*L54 -> 0 | S54: =+$F54*M54 -> 0 | T54: =+$F54*N54 -> 0 | U54: =+$F54*O54 -> 0 | V54: =+$F54*P54 -> 63 | W54: =SUM(Q54:V54) -> 126 | Y54: =+W54-F54 -> 0
A55: =+IF(E55>0,1,0) -> 1 | B55: ML AFRICAINE marché faubourd | C55: G2 | D55: cash | E55: 14 | F55: =E55*7 -> 98 | G55: 46013 | H55: =+IF(A55=1,(+TODAY())-G55,"Sans objet") -> 294 | I55: 1 | J55: =VLOOKUP(I55,Secteurs!$A$2:$C$4,3) -> Alexis MABOUNDA | K55: 0.5 | P55: 0.5 | Q55: =+$F55*K55 -> 49 | R55: =+$F55*L55 -> 0 | S55: =+$F55*M55 -> 0 | T55: =+$F55*N55 -> 0 | U55: =+$F55*O55 -> 0 | V55: =+$F55*P55 -> 49 | W55: =SUM(Q55:V55) -> 98 | Y55: =+W55-F55 -> 0
A56: =+IF(E56>0,1,0) -> 1 | B56: SUPER MIE ex MLD raffinerie | C56: G2 | D56: crédit | E56: 28 | F56: =E56*7 -> 196 | G56: 46015 | H56: =+IF(A56=1,(+TODAY())-G56,"Sans objet") -> 292 | I56: 1 | J56: =VLOOKUP(I56,Secteurs!$A$2:$C$4,3) -> Alexis MABOUNDA | K56: 0.5 | L56: 0.25 | P56: 0.25 | Q56: =+$F56*K56 -> 98 | R56: =+$F56*L56 -> 49 | S56: =+$F56*M56 -> 0 | T56: =+$F56*N56 -> 0 | U56: =+$F56*O56 -> 0 | V56: =+$F56*P56 -> 49 | W56: =SUM(Q56:V56) -> 196 | Y56: =+W56-F56 -> 0
A57: =+IF(E57>0,1,0) -> 1 | B57: ELKOUZ marché faubourg | C57: G2 | D57: crédit | E57: 48 | F57: =E57*7 -> 336 | G57: 46014 | H57: =+IF(A57=1,(+TODAY())-G57,"Sans objet") -> 293 | I57: 1 | J57: =VLOOKUP(I57,Secteurs!$A$2:$C$4,3) -> Alexis MABOUNDA | K57: 0.5 | N57: 0.25 | P57: 0.25 | Q57: =+$F57*K57 -> 168 | R57: =+$F57*L57 -> 0 | S57: =+$F57*M57 -> 0 | T57: =+$F57*N57 -> 84 | U57: =+$F57*O57 -> 0 | V57: =+$F57*P57 -> 84 | W57: =SUM(Q57:V57) -> 336 | Y57: =+W57-F57 -> 0
A58: =+IF(E58>0,1,0) -> 1 | B58: AYA fond -tié-tié | C58: G2 | D58: cash | E58: 28 | F58: =E58*7 -> 196 | G58: 46007 | H58: =+IF(A58=1,(+TODAY())-G58,"Sans objet") -> 300 | I58: 3 | J58: =VLOOKUP(I58,Secteurs!$A$2:$C$4,3) -> Armel SOKAMBA | L58: 0.5 | O58: 0.5 | Q58: =+$F58*K58 -> 0 | R58: =+$F58*L58 -> 98 | S58: =+$F58*M58 -> 0 | T58: =+$F58*N58 -> 0 | U58: =+$F58*O58 -> 98 | V58: =+$F58*P58 -> 0 | W58: =SUM(Q58:V58) -> 196 | Y58: =+W58-F58 -> 0
A59: =+IF(E59>0,1,0) -> 1 | B59: LALA thyster | C59: G2 | D59: crédit | E59: 24 | F59: =E59*7 -> 168 | G59: 46013 | H59: =+IF(A59=1,(+TODAY())-G59,"Sans objet") -> 294 | I59: 1 | J59: =VLOOKUP(I59,Secteurs!$A$2:$C$4,3) -> Alexis MABOUNDA | K59: 0.5 | M59: 0.5 | Q59: =+$F59*K59 -> 84 | R59: =+$F59*L59 -> 0 | S59: =+$F59*M59 -> 84 | T59: =+$F59*N59 -> 0 | U59: =+$F59*O59 -> 0 | V59: =+$F59*P59 -> 0 | W59: =SUM(Q59:V59) -> 168 | Y59: =+W59-F59 -> 0
A60: =+IF(E60>0,1,0) -> 1 | B60: LALA thyster extension | C60: G2 | D60: crédit | E60: 20 | F60: =E60*7 -> 140 | G60: 46013 | H60: =+IF(A60=1,(+TODAY())-G60,"Sans objet") -> 294 | I60: 1 | J60: =VLOOKUP(I60,Secteurs!$A$2:$C$4,3) -> Alexis MABOUNDA | K60: 0.5 | M60: 0.5 | Q60: =+$F60*K60 -> 70 | R60: =+$F60*L60 -> 0 | S60: =+$F60*M60 -> 70 | T60: =+$F60*N60 -> 0 | U60: =+$F60*O60 -> 0 | V60: =+$F60*P60 -> 0 | W60: =SUM(Q60:V60) -> 140 | Y60: =+W60-F60 -> 0
A61: =+IF(E61>0,1,0) -> 1 | B61: EL WAVA vindoulou | C61: G2 | D61: crédit | E61: 22 | F61: =E61*7 -> 154 | G61: 46014 | H61: =+IF(A61=1,(+TODAY())-G61,"Sans objet") -> 293 | I61: 1 | J61: =VLOOKUP(I61,Secteurs!$A$2:$C$4,3) -> Alexis MABOUNDA | K61: 0.5 | M61: 0.5 | Q61: =+$F61*K61 -> 77 | R61: =+$F61*L61 -> 0 | S61: =+$F61*M61 -> 77 | T61: =+$F61*N61 -> 0 | U61: =+$F61*O61 -> 0 | V61: =+$F61*P61 -> 0 | W61: =SUM(Q61:V61) -> 154 | Y61: =+W61-F61 -> 0
A62: =+IF(E62>0,1,0) -> 1 | B62: MOUNGA PAIN avenue thyster movis | C62: G2 | D62: crédit | E62: 22 | F62: =E62*7 -> 154 | G62: 46008 | H62: =+IF(A62=1,(+TODAY())-G62,"Sans objet") -> 299 | I62: 1 | J62: =VLOOKUP(I62,Secteurs!$A$2:$C$4,3) -> Alexis MABOUNDA | M62: 0.5 | P62: 0.5 | Q62: =+$F62*K62 -> 0 | R62: =+$F62*L62 -> 0 | S62: =+$F62*M62 -> 77 | T62: =+$F62*N62 -> 0 | U62: =+$F62*O62 -> 0 | V62: =+$F62*P62 -> 77 | W62: =SUM(Q62:V62) -> 154 | Y62: =+W62-F62 -> 0
A63: =+IF(E63>0,1,0) -> 1 | B63: MOUNGA PAIN trabec mont kamba | C63: G2 | D63: crédit | E63: 36 | F63: =E63*7 -> 252 | G63: 46013 | H63: =+IF(A63=1,(+TODAY())-G63,"Sans objet") -> 294 | I63: 1 | J63: =VLOOKUP(I63,Secteurs!$A$2:$C$4,3) -> Alexis MABOUNDA | K63: 0.5 | M63: 0.25 | O63: 0.25 | Q63: =+$F63*K63 -> 126 | R63: =+$F63*L63 -> 0 | S63: =+$F63*M63 -> 63 | T63: =+$F63*N63 -> 0 | U63: =+$F63*O63 -> 63 | V63: =+$F63*P63 -> 0 | W63: =SUM(Q63:V63) -> 252 | Y63: =+W63-F63 -> 0
A64: =+IF(E64>0,1,0) -> 1 | B64: MOUNGA PAIN tsourou | C64: G2 | D64: crédit | E64: 30 | F64: =E64*7 -> 210 | G64: 46008 | H64: =+IF(A64=1,(+TODAY())-G64,"Sans objet") -> 299 | I64: 1 | J64: =VLOOKUP(I64,Secteurs!$A$2:$C$4,3) -> Alexis MABOUNDA | K64: 0.5 | P64: 0.5 | Q64: =+$F64*K64 -> 105 | R64: =+$F64*L64 -> 0 | S64: =+$F64*M64 -> 0 | T64: =+$F64*N64 -> 0 | U64: =+$F64*O64 -> 0 | V64: =+$F64*P64 -> 105 | W64: =SUM(Q64:V64) -> 210 | Y64: =+W64-F64 -> 0
A65: =+IF(E65>0,1,0) -> 1 | B65: PARIS PAIN 1 | C65: G2 | D65: crédit | E65: 20 | F65: =E65*7 -> 140 | G65: 46013 | H65: =+IF(A65=1,(+TODAY())-G65,"Sans objet") -> 294 | I65: 2 | J65: Thérèse LOUKEBA | K65: 0.5 | M65: 0.25 | N65: 0.25 | Q65: =+$F65*K65 -> 70 | R65: =+$F65*L65 -> 0 | S65: =+$F65*M65 -> 35 | T65: =+$F65*N65 -> 35 | U65: =+$F65*O65 -> 0 | V65: =+$F65*P65 -> 0 | W65: =SUM(Q65:V65) -> 140 | Y65: =+W65-F65 -> 0
A66: =+IF(E66>0,1,0) -> 1 | B66: MAKKAH GM ex baguette d'amour | C66: G2 | D66: crédit | E66: 26 | F66: =E66*7 -> 182 | G66: 45996 | H66: =+IF(A66=1,(+TODAY())-G66,"Sans objet") -> 311 | I66: 2 | J66: =VLOOKUP(I66,Secteurs!$A$2:$C$4,3) -> Félix OVOURA | O66: 0.5 | P66: 0.5 | Q66: =+$F66*K66 -> 0 | R66: =+$F66*L66 -> 0 | S66: =+$F66*M66 -> 0 | T66: =+$F66*N66 -> 0 | U66: =+$F66*O66 -> 91 | V66: =+$F66*P66 -> 91 | W66: =SUM(Q66:V66) -> 182 | Y66: =+W66-F66 -> 0
A67: =+IF(E67>0,1,0) -> 1 | B67: MAKKAH ex NAJAH Vindoulou station | C67: G2 | D67: crédit | E67: 24 | F67: =E67*7 -> 168 | G67: 46013 | H67: =+IF(A67=1,(+TODAY())-G67,"Sans objet") -> 294 | I67: 1 | J67: =VLOOKUP(I67,Secteurs!$A$2:$C$4,3) -> Alexis MABOUNDA | P67: 1 | Q67: =+$F67*K67 -> 0 | R67: =+$F67*L67 -> 0 | S67: =+$F67*M67 -> 0 | T67: =+$F67*N67 -> 0 | U67: =+$F67*O67 -> 0 | V67: =+$F67*P67 -> 168 | W67: =SUM(Q67:V67) -> 168 | Y67: =+W67-F67 -> 0
A68: =+IF(E68>0,1,0) -> 1 | B68: MAKKAH grand marché nina service | C68: G2 | D68: crédit | E68: 24 | F68: =E68*7 -> 168 | G68: 46000 | H68: =+IF(A68=1,(+TODAY())-G68,"Sans objet") -> 307 | I68: 2 | J68: =VLOOKUP(I68,Secteurs!$A$2:$C$4,3) -> Félix OVOURA | P68: 1 | Q68: =+$F68*K68 -> 0 | R68: =+$F68*L68 -> 0 | S68: =+$F68*M68 -> 0 | T68: =+$F68*N68 -> 0 | U68: =+$F68*O68 -> 0 | V68: =+$F68*P68 -> 168 | W68: =SUM(Q68:V68) -> 168 | Y68: =+W68-F68 -> 0
A69: =+IF(E69>0,1,0) -> 1 | B69: MAKKAH marché nkounikou1 | C69: G2 | D69: crédit | E69: 20 | F69: =E69*7 -> 140 | G69: 46014 | H69: =+IF(A69=1,(+TODAY())-G69,"Sans objet") -> 293 | I69: 1 | J69: =VLOOKUP(I69,Secteurs!$A$2:$C$4,3) -> Alexis MABOUNDA | P69: 1 | Q69: =+$F69*K69 -> 0 | R69: =+$F69*L69 -> 0 | S69: =+$F69*M69 -> 0 | T69: =+$F69*N69 -> 0 | U69: =+$F69*O69 -> 0 | V69: =+$F69*P69 -> 140 | W69: =SUM(Q69:V69) -> 140 | Y69: =+W69-F69 -> 0
A70: =+IF(E70>0,1,0) -> 1 | B70: MAKKAH voungou péchana | C70: G2 | D70: crédit | E70: 24 | F70: =E70*7 -> 168 | G70: 46007 | H70: =+IF(A70=1,(+TODAY())-G70,"Sans objet") -> 300 | I70: 3 | J70: =VLOOKUP(I70,Secteurs!$A$2:$C$4,3) -> Armel SOKAMBA | P70: 1 | Q70: =+$F70*K70 -> 0 | R70: =+$F70*L70 -> 0 | S70: =+$F70*M70 -> 0 | T70: =+$F70*N70 -> 0 | U70: =+$F70*O70 -> 0 | V70: =+$F70*P70 -> 168 | W70: =SUM(Q70:V70) -> 168 | Y70: =+W70-F70 -> 0
A71: =+IF(E71>0,1,0) -> 1 | B71: MAKKAH marché nkounikou2 | C71: G2 | D71: crédit | E71: 20 | F71: =E71*7 -> 140 | G71: 46014 | H71: =+IF(A71=1,(+TODAY())-G71,"Sans objet") -> 293 | I71: 1 | J71: =VLOOKUP(I71,Secteurs!$A$2:$C$4,3) -> Alexis MABOUNDA | P71: 1 | Q71: =+$F71*K71 -> 0 | R71: =+$F71*L71 -> 0 | S71: =+$F71*M71 -> 0 | T71: =+$F71*N71 -> 0 | U71: =+$F71*O71 -> 0 | V71: =+$F71*P71 -> 140 | W71: =SUM(Q71:V71) -> 140 | Y71: =+W71-F71 -> 0
A72: =+IF(E72>0,1,0) -> 1 | B72: MAKKAH fond tié tié ex El emele | C72: G2 | D72: crédit | E72: 20 | F72: =E72*7 -> 140 | G72: 46009 | H72: =+IF(A72=1,(+TODAY())-G72,"Sans objet") -> 298 | I72: 2 | J72: Thérèse LOUKEBA | L72: 0.5 | P72: 0.5 | Q72: =+$F72*K72 -> 0 | R72: =+$F72*L72 -> 70 | S72: =+$F72*M72 -> 0 | T72: =+$F72*N72 -> 0 | U72: =+$F72*O72 -> 0 | V72: =+$F72*P72 -> 70 | W72: =SUM(Q72:V72) -> 140 | Y72: =+W72-F72 -> 0
A73: =+IF(E73>0,1,0) -> 1 | B73: MAKKAH TR Balou constant loandjili | C73: G2 | D73: crédit | E73: 20 | F73: =E73*7 -> 140 | G73: 45996 | H73: =+IF(A73=1,(+TODAY())-G73,"Sans objet") -> 311 | I73: 1 | J73: =VLOOKUP(I73,Secteurs!$A$2:$C$4,3) -> Alexis MABOUNDA | L73: 0.5 | O73: 0.5 | Q73: =+$F73*K73 -> 0 | R73: =+$F73*L73 -> 70 | S73: =+$F73*M73 -> 0 | T73: =+$F73*N73 -> 0 | U73: =+$F73*O73 -> 70 | V73: =+$F73*P73 -> 0 | W73: =SUM(Q73:V73) -> 140 | Y73: =+W73-F73 -> 0
A74: =+IF(E74>0,1,0) -> 1 | B74: SOLIDARITE mpita | C74: G2 | D74: cash | E74: 20 | F74: =E74*7 -> 140 | G74: 46015 | H74: =+IF(A74=1,(+TODAY())-G74,"Sans objet") -> 292 | I74: 2 | J74: Thérèse LOUKEBA | L74: 0.5 | M74: 0.5 | Q74: =+$F74*K74 -> 0 | R74: =+$F74*L74 -> 70 | S74: =+$F74*M74 -> 70 | T74: =+$F74*N74 -> 0 | U74: =+$F74*O74 -> 0 | V74: =+$F74*P74 -> 0 | W74: =SUM(Q74:V74) -> 140 | Y74: =+W74-F74 -> 0
A75: =+IF(E75>0,1,0) -> 1 | B75: L-KAKARA ex SOLIDARITE makayabou | C75: G2 | D75: cash | E75: 24 | F75: =E75*7 -> 168 | G75: 45996 | H75: =+IF(A75=1,(+TODAY())-G75,"Sans objet") -> 311 | I75: 1 | J75: =VLOOKUP(I75,Secteurs!$A$2:$C$4,3) -> Alexis MABOUNDA | K75: 0.5 | N75: 0.5 | Q75: =+$F75*K75 -> 84 | R75: =+$F75*L75 -> 0 | S75: =+$F75*M75 -> 0 | T75: =+$F75*N75 -> 84 | U75: =+$F75*O75 -> 0 | V75: =+$F75*P75 -> 0 | W75: =SUM(Q75:V75) -> 168 | Y75: =+W75-F75 -> 0
A76: =+IF(E76>0,1,0) -> 1 | B76: ZEYNAB ex chebou loussala | C76: G2 | D76: crédit | E76: 18 | F76: =E76*7 -> 126 | G76: 46007 | H76: =+IF(A76=1,(+TODAY())-G76,"Sans objet") -> 300 | I76: 3 | J76: =VLOOKUP(I76,Secteurs!$A$2:$C$4,3) -> Armel SOKAMBA | K76: 0.5 | N76: 0.5 | Q76: =+$F76*K76 -> 63 | R76: =+$F76*L76 -> 0 | S76: =+$F76*M76 -> 0 | T76: =+$F76*N76 -> 63 | U76: =+$F76*O76 -> 0 | V76: =+$F76*P76 -> 0 | W76: =SUM(Q76:V76) -> 126 | Y76: =+W76-F76 -> 0
A77: =+IF(E77>0,1,0) -> 1 | B77: ZEYNAB ex chebou amour du pays | C77: G2 | D77: crédit | E77: 28 | F77: =E77*7 -> 196 | G77: 46009 | H77: =+IF(A77=1,(+TODAY())-G77,"Sans objet") -> 298 | I77: 3 | J77: =VLOOKUP(I77,Secteurs!$A$2:$C$4,3) -> Armel SOKAMBA | K77: 0.5 | O77: 0.5 | Q77: =+$F77*K77 -> 98 | R77: =+$F77*L77 -> 0 | S77: =+$F77*M77 -> 0 | T77: =+$F77*N77 -> 0 | U77: =+$F77*O77 -> 98 | V77: =+$F77*P77 -> 0 | W77: =SUM(Q77:V77) -> 196 | Y77: =+W77-F77 -> 0
A78: =+IF(E78>0,1,0) -> 1 | B78: ZEYNAB ex chebou marché tchinkounkou | C78: G2 | D78: crédit | E78: 14 | F78: =E78*7 -> 98 | G78: 46009 | H78: =+IF(A78=1,(+TODAY())-G78,"Sans objet") -> 298 | I78: 3 | J78: =VLOOKUP(I78,Secteurs!$A$2:$C$4,3) -> Armel SOKAMBA | K78: 0.5 | N78: 0.5 | Q78: =+$F78*K78 -> 49 | R78: =+$F78*L78 -> 0 | S78: =+$F78*M78 -> 0 | T78: =+$F78*N78 -> 49 | U78: =+$F78*O78 -> 0 | V78: =+$F78*P78 -> 0 | W78: =SUM(Q78:V78) -> 98 | Y78: =+W78-F78 -> 0
A79: =+IF(E79>0,1,0) -> 1 | B79: ZEYNAB PATRA hopital de base | C79: G2 | D79: crédit | E79: 20 | F79: =E79*7 -> 140 | G79: 46015 | H79: =+IF(A79=1,(+TODAY())-G79,"Sans objet") -> 292 | I79: 3 | J79: =VLOOKUP(I79,Secteurs!$A$2:$C$4,3) -> Armel SOKAMBA | L79: 0.5 | N79: 0.5 | Q79: =+$F79*K79 -> 0 | R79: =+$F79*L79 -> 70 | S79: =+$F79*M79 -> 0 | T79: =+$F79*N79 -> 70 | U79: =+$F79*O79 -> 0 | V79: =+$F79*P79 -> 0 | W79: =SUM(Q79:V79) -> 140 | Y79: =+W79-F79 -> 0
A80: =+IF(E80>0,1,0) -> 1 | B80: HASSAN nzasi | C80: G2 | D80: cash | E80: 20 | F80: =E80*7 -> 140 | G80: 45976 | H80: =+IF(A80=1,(+TODAY())-G80,"Sans objet") -> 331 | I80: 3 | J80: =VLOOKUP(I80,Secteurs!$A$2:$C$4,3) -> Armel SOKAMBA | K80: 0.5 | O80: 0.25 | P80: 0.25 | Q80: =+$F80*K80 -> 70 | R80: =+$F80*L80 -> 0 | S80: =+$F80*M80 -> 0 | T80: =+$F80*N80 -> 0 | U80: =+$F80*O80 -> 35 | V80: =+$F80*P80 -> 35 | W80: =SUM(Q80:V80) -> 140 | Y80: =+W80-F80 -> 0
A81: =+IF(E81>0,1,0) -> 1 | B81: SUPER QUALITE marhé foire | C81: G2 | D81: crédit | E81: 12 | F81: =E81*7 -> 84 | G81: 46000 | H81: =+IF(A81=1,(+TODAY())-G81,"Sans objet") -> 307 | I81: 1 | J81: =VLOOKUP(I81,Secteurs!$A$2:$C$4,3) -> Alexis MABOUNDA | N81: 1 | Q81: =+$F81*K81 -> 0 | R81: =+$F81*L81 -> 0 | S81: =+$F81*M81 -> 0 | T81: =+$F81*N81 -> 84 | U81: =+$F81*O81 -> 0 | V81: =+$F81*P81 -> 0 | W81: =SUM(Q81:V81) -> 84 | Y81: =+W81-F81 -> 0
A82: =+IF(E82>0,1,0) -> 1 | B82: BON CHOIX ngoyo | C82: Direct | D82: cash | E82: 18 | F82: =E82*7 -> 126 | G82: 46014 | H82: =+IF(A82=1,(+TODAY())-G82,"Sans objet") -> 293 | I82: 3 | J82: =VLOOKUP(I82,Secteurs!$A$2:$C$4,3) -> Armel SOKAMBA | K82: 0.5 | P82: 0.5 | Q82: =+$F82*K82 -> 63 | R82: =+$F82*L82 -> 0 | S82: =+$F82*M82 -> 0 | T82: =+$F82*N82 -> 0 | U82: =+$F82*O82 -> 0 | V82: =+$F82*P82 -> 63 | W82: =SUM(Q82:V82) -> 126 | Y82: =+W82-F82 -> 0
A83: =+IF(E83>0,1,0) -> 1 | B83: BON CHOIX ex GAZA2 km4 | C83: Direct | D83: cash | E83: 10 | F83: =E83*7 -> 70 | G83: 46015 | H83: =+IF(A83=1,(+TODAY())-G83,"Sans objet") -> 292 | I83: 2 | J83: Thérèse LOUKEBA | N83: 0.5 | P83: 0.5 | Q83: =+$F83*K83 -> 0 | R83: =+$F83*L83 -> 0 | S83: =+$F83*M83 -> 0 | T83: =+$F83*N83 -> 35 | U83: =+$F83*O83 -> 0 | V83: =+$F83*P83 -> 35 | W83: =SUM(Q83:V83) -> 70 | Y83: =+W83-F83 -> 0
A84: =+IF(E84>0,1,0) -> 1 | B84: BM EX ELKER WENVIR vindoulou arrêt sapin | C84: G2 | D84: cash | E84: 20 | F84: =E84*7 -> 140 | G84: 46013 | H84: =+IF(A84=1,(+TODAY())-G84,"Sans objet") -> 294 | I84: 1 | J84: =VLOOKUP(I84,Secteurs!$A$2:$C$4,3) -> Alexis MABOUNDA | K84: 0.5 | M84: 0.25 | O84: 0.25 | Q84: =+$F84*K84 -> 70 | R84: =+$F84*L84 -> 0 | S84: =+$F84*M84 -> 35 | T84: =+$F84*N84 -> 0 | U84: =+$F84*O84 -> 35 | V84: =+$F84*P84 -> 0 | W84: =SUM(Q84:V84) -> 140 | Y84: =+W84-F84 -> 0
A85: =+IF(E85>0,1,0) -> 1 | B85: CONGO FUTUR grand marché | C85: G2 | D85: crédit | E85: 40 | F85: =E85*7 -> 280 | G85: 46000 | H85: =+IF(A85=1,(+TODAY())-G85,"Sans objet") -> 307 | I85: 2 | J85: =VLOOKUP(I85,Secteurs!$A$2:$C$4,3) -> Félix OVOURA | L85: 0.25 | N85: 0.25 | P85: 0.5 | Q85: =+$F85*K85 -> 0 | R85: =+$F85*L85 -> 70 | S85: =+$F85*M85 -> 0 | T85: =+$F85*N85 -> 70 | U85: =+$F85*O85 -> 0 | V85: =+$F85*P85 -> 140 | W85: =SUM(Q85:V85) -> 280 | Y85: =+W85-F85 -> 0
A86: =+IF(E86>0,1,0) -> 1 | B86: CONGO FUTUR faubourg | C86: G2 | D86: crédit | E86: 26 | F86: =E86*7 -> 182 | G86: 46014 | H86: =+IF(A86=1,(+TODAY())-G86,"Sans objet") -> 293 | I86: 1 | J86: =VLOOKUP(I86,Secteurs!$A$2:$C$4,3) -> Alexis MABOUNDA | L86: 0.25 | N86: 0.25 | P86: 0.5 | Q86: =+$F86*K86 -> 0 | R86: =+$F86*L86 -> 45.5 | S86: =+$F86*M86 -> 0 | T86: =+$F86*N86 -> 45.5 | U86: =+$F86*O86 -> 0 | V86: =+$F86*P86 -> 91 | W86: =SUM(Q86:V86) -> 182 | Y86: =+W86-F86 -> 0
A87: =+IF(E87>0,1,0) -> 1 | B87: CONGO FUTUR carrefour rafinnerie | C87: G2 | D87: crédit | E87: 22 | F87: =E87*7 -> 154 | G87: 46015 | H87: =+IF(A87=1,(+TODAY())-G87,"Sans objet") -> 292 | I87: 1 | J87: =VLOOKUP(I87,Secteurs!$A$2:$C$4,3) -> Alexis MABOUNDA | O87: 0.5 | P87: 0.5 | Q87: =+$F87*K87 -> 0 | R87: =+$F87*L87 -> 0 | S87: =+$F87*M87 -> 0 | T87: =+$F87*N87 -> 0 | U87: =+$F87*O87 -> 77 | V87: =+$F87*P87 -> 77 | W87: =SUM(Q87:V87) -> 154 | Y87: =+W87-F87 -> 0
A88: =+IF(E88>0,1,0) -> 1 | B88: CONGO FUTUR terre jaune | C88: G2 | D88: crédit | E88: 26 | F88: =E88*7 -> 182 | G88: 46015 | H88: =+IF(A88=1,(+TODAY())-G88,"Sans objet") -> 292 | I88: 1 | J88: =VLOOKUP(I88,Secteurs!$A$2:$C$4,3) -> Alexis MABOUNDA | N88: 0.25 | O88: 0.25 | P88: 0.5 | Q88: =+$F88*K88 -> 0 | R88: =+$F88*L88 -> 0 | S88: =+$F88*M88 -> 0 | T88: =+$F88*N88 -> 45.5 | U88: =+$F88*O88 -> 45.5 | V88: =+$F88*P88 -> 91 | W88: =SUM(Q88:V88) -> 182 | Y88: =+W88-F88 -> 0
A89: =+IF(E89>0,1,0) -> 1 | B89: CONGO FUTUR arrêt manguier | C89: G2 | D89: crédit | E89: 24 | F89: =E89*7 -> 168 | G89: 46015 | H89: =+IF(A89=1,(+TODAY())-G89,"Sans objet") -> 292 | I89: 1 | J89: =VLOOKUP(I89,Secteurs!$A$2:$C$4,3) -> Alexis MABOUNDA | N89: 0.5 | O89: 0.25 | P89: 0.25 | Q89: =+$F89*K89 -> 0 | R89: =+$F89*L89 -> 0 | S89: =+$F89*M89 -> 0 | T89: =+$F89*N89 -> 84 | U89: =+$F89*O89 -> 42 | V89: =+$F89*P89 -> 42 | W89: =SUM(Q89:V89) -> 168 | Y89: =+W89-F89 -> 0
A90: =+IF(E90>0,1,0) -> 1 | B90: CONGO FUTUR rafinerie 1er camp | C90: G2 | D90: crédit | E90: 20 | F90: =E90*7 -> 140 | G90: 46015 | H90: =+IF(A90=1,(+TODAY())-G90,"Sans objet") -> 292 | I90: 1 | J90: =VLOOKUP(I90,Secteurs!$A$2:$C$4,3) -> Alexis MABOUNDA | N90: 0.25 | O90: 0.25 | P90: 0.5 | Q90: =+$F90*K90 -> 0 | R90: =+$F90*L90 -> 0 | S90: =+$F90*M90 -> 0 | T90: =+$F90*N90 -> 35 | U90: =+$F90*O90 -> 35 | V90: =+$F90*P90 -> 70 | W90: =SUM(Q90:V90) -> 140 | Y90: =+W90-F90 -> 0
A91: =+IF(E91>0,1,0) -> 1 | B91: CONGO FUTUR fond tié-tié | C91: G2 | D91: crédit | E91: 24 | F91: =E91*7 -> 168 | G91: 46009 | H91: =+IF(A91=1,(+TODAY())-G91,"Sans objet") -> 298 | I91: 2 | J91: Thérèse LOUKEBA | L91: 0.5 | N91: 0.25 | P91: 0.25 | Q91: =+$F91*K91 -> 0 | R91: =+$F91*L91 -> 84 | S91: =+$F91*M91 -> 0 | T91: =+$F91*N91 -> 42 | U91: =+$F91*O91 -> 0 | V91: =+$F91*P91 -> 42 | W91: =SUM(Q91:V91) -> 168 | Y91: =+W91-F91 -> 0
A92: =+IF(E92>0,1,0) -> 1 | B92: CONGO FUTUR moukondo | C92: G2 | D92: cash | E92: 24 | F92: =E92*7 -> 168 | G92: 46015 | H92: =+IF(A92=1,(+TODAY())-G92,"Sans objet") -> 292 | I92: 1 | J92: =VLOOKUP(I92,Secteurs!$A$2:$C$4,3) -> Alexis MABOUNDA | L92: 0.5 | N92: 0.5 | Q92: =+$F92*K92 -> 0 | R92: =+$F92*L92 -> 84 | S92: =+$F92*M92 -> 0 | T92: =+$F92*N92 -> 84 | U92: =+$F92*O92 -> 0 | V92: =+$F92*P92 -> 0 | W92: =SUM(Q92:V92) -> 168 | Y92: =+W92-F92 -> 0
A93: =+IF(E93>0,1,0) -> 1 | B93: CONGO FUTUR marché culotte | C93: G2 | D93: cash | E93: 30 | F93: =E93*7 -> 210 | G93: 46002 | H93: =+IF(A93=1,(+TODAY())-G93,"Sans objet") -> 305 | I93: 1 | J93: =VLOOKUP(I93,Secteurs!$A$2:$C$4,3) -> Alexis MABOUNDA | L93: 0.5 | N93: 0.25 | P93: 0.25 | Q93: =+$F93*K93 -> 0 | R93: 105 | S93: =+$F93*M93 -> 0 | T93: =+$F93*N93 -> 52.5 | U93: =+$F93*O93 -> 0 | V93: =+$F93*P93 -> 52.5 | W93: =SUM(Q93:V93) -> 210 | Y93: =+W93-F93 -> 0
A94: =+IF(E94>0,1,0) -> 1 | B94: MEA 7/7ex baguette d'asta | C94: Autre | D94: cash | E94: 18 | F94: =E94*7 -> 126 | G94: 46007 | H94: =+IF(A94=1,(+TODAY())-G94,"Sans objet") -> 300 | I94: 2 | J94: Thérèse LOUKEBA | L94: 0.5 | N94: 0.25 | P94: 0.25 | Q94: =+$F94*K94 -> 0 | R94: =+$F94*L94 -> 63 | S94: =+$F94*M94 -> 0 | T94: =+$F94*N94 -> 31.5 | U94: =+$F94*O94 -> 0 | V94: =+$F94*P94 -> 31.5 | W94: =SUM(Q94:V94) -> 126 | Y94: =+W94-F94 -> 0
A95: =+IF(E95>0,1,0) -> 1 | B95: PARIS PAIN 2 ex baguette d'asta mpita | C95: G2 | D95: crédit | E95: 20 | F95: =E95*7 -> 140 | G95: 46013 | H95: =+IF(A95=1,(+TODAY())-G95,"Sans objet") -> 294 | I95: 2 | J95: Thérèse LOUKEBA | K95: 0.5 | N95: 0.5 | Q95: =+$F95*K95 -> 70 | R95: =+$F95*L95 -> 0 | S95: =+$F95*M95 -> 0 | T95: =+$F95*N95 -> 70 | U95: =+$F95*O95 -> 0 | V95: =+$F95*P95 -> 0 | W95: =SUM(Q95:V95) -> 140 | Y95: =+W95-F95 -> 0
A96: =+IF(E96>0,1,0) -> 1 | B96: ELVOZ INCHALLA mbota | C96: Direct | D96: cash | E96: 24 | F96: =E96*7 -> 168 | G96: 46007 | H96: =+IF(A96=1,(+TODAY())-G96,"Sans objet") -> 300 | I96: 3 | J96: =VLOOKUP(I96,Secteurs!$A$2:$C$4,3) -> Armel SOKAMBA | N96: 0.5 | O96: 0.5 | Q96: =+$F96*K96 -> 0 | R96: =+$F96*L96 -> 0 | S96: =+$F96*M96 -> 0 | T96: =+$F96*N96 -> 84 | U96: =+$F96*O96 -> 84 | V96: =+$F96*P96 -> 0 | W96: =SUM(Q96:V96) -> 168 | Y96: =+W96-F96 -> 0
A97: =+IF(E97>0,1,0) -> 1 | B97: BAGUETTE D'EXCELLENCE nkouinkou | C97: Autre | D97: cash | E97: 6 | F97: =E97*7 -> 42 | G97: 46013 | H97: =+IF(A97=1,(+TODAY())-G97,"Sans objet") -> 294 | I97: 1 | J97: =VLOOKUP(I97,Secteurs!$A$2:$C$4,3) -> Alexis MABOUNDA | M97: 1 | Q97: =+$F97*K97 -> 0 | R97: =+$F97*L97 -> 0 | S97: =+$F97*M97 -> 42 | T97: =+$F97*N97 -> 0 | U97: =+$F97*O97 -> 0 | V97: =+$F97*P97 -> 0 | W97: =SUM(Q97:V97) -> 42 | Y97: =+W97-F97 -> 0
A98: =+IF(E98>0,1,0) -> 1 | B98: BOUDI mvou-mvou | C98: Autre | D98: cash | E98: 12 | F98: =E98*7 -> 84 | G98: 46000 | H98: =+IF(A98=1,(+TODAY())-G98,"Sans objet") -> 307 | I98: 2 | J98: =VLOOKUP(I98,Secteurs!$A$2:$C$4,3) -> Félix OVOURA | N98: 0.5 | O98: 0.5 | Q98: =+$F98*K98 -> 0 | R98: =+$F98*L98 -> 0 | S98: =+$F98*M98 -> 0 | T98: =+$F98*N98 -> 42 | U98: =+$F98*O98 -> 42 | V98: =+$F98*P98 -> 0 | W98: =SUM(Q98:V98) -> 84 | Y98: =+W98-F98 -> 0
A99: =+IF(E99>0,1,0) -> 1 | B99: ELVETH/ EX CONGO RIM patra | C99: Autre | D99: cash | E99: 14 | F99: =E99*7 -> 98 | G99: 46015 | H99: =+IF(A99=1,(+TODAY())-G99,"Sans objet") -> 292 | I99: 3 | J99: =VLOOKUP(I99,Secteurs!$A$2:$C$4,3) -> Armel SOKAMBA | K99: 1 | Q99: =+$F99*K99 -> 98 | R99: =+$F99*L99 -> 0 | S99: =+$F99*M99 -> 0 | T99: =+$F99*N99 -> 0 | U99: =+$F99*O99 -> 0 | V99: =+$F99*P99 -> 0 | W99: =SUM(Q99:V99) -> 98 | Y99: =+W99-F99 -> 0
A100: =+IF(E100>0,1,0) -> 1 | B100: EL MONA tié tié masola | C100: Autre | D100: cash | E100: 10 | F100: =E100*7 -> 70 | G100: 46015 | H100: =+IF(A100=1,(+TODAY())-G100,"Sans objet") -> 292 | I100: 2 | J100: Thérèse LOUKEBA | L100: 1 | Q100: =+$F100*K100 -> 0 | R100: =+$F100*L100 -> 70 | S100: =+$F100*M100 -> 0 | T100: =+$F100*N100 -> 0 | U100: =+$F100*O100 -> 0 | V100: =+$F100*P100 -> 0 | W100: =SUM(Q100:V100) -> 70 | Y100: =+W100-F100 -> 0
...

Sheet Week 3
B1: WEEK 02
G3: Cons° farine par boulangerie | Q3: WEEK | R3: GMPN | S3: GMK | T3: SGMP | U3: GMC | V3: PALCO | W3: M.FANTA | X3: %
A4: N° | B4: Boulangerie | C4: Type | D4: Cons/j | E4: C° heb | F4: FARINE UTILISEE | G4: GMPN | H4: MAMA F | I4: GMK | J4: SGMP | K4: PALCO | L4: GMC | M4: Total | N4: PRIORITE | O4: MAZALA / DIRECT | Q4: 1 | R4: 0.34 | S4: 0.12 | T4: 0.15 | U4: 0.39 | V4: 0 | W4: 0 | X4: =SUM(R4:W4) -> 1
A5: 77 | B5: Mayama( AQXA) | D5: 55 | E5: =D5*7 -> 385 | F5: 50%MIN+50%GMC | G5: 192.5 | L5: 192.5 | M5: =SUM(G5:L5) -> 385 | N5: ATTAQUER GMC | Q5: 2 | R5: 0.34 | S5: 0.11 | T5: =J151/E151 -> 0.12415016 | U5: =L151/E151 -> 0.4054094 | V5: =K151/E151 -> 0 | W5: 0 | X5: =SUM(R5:W5) -> 0.97955956
A6: 54 | B6: NOUVELLE ESPERANE 3 | D6: 50 | E6: =D6*7 -> 350 | F6: 50%MIN+50%GMC | G6: 175 | L6: 175 | M6: =SUM(G6:L6) -> 350 | N6: ATTAQUER GMC | Q6: Variation | R6: =R5-R4 -> 0 | S6: =S5-S4 -> -0.01 | T6: =T5-T4 -> -0.025849837 | U6: =U5-U4 -> 0.0154094 | V6: =V5-V4 -> 0 | W6: =W5-W4 -> 0
A7: 114 | B7: SABANA Moukondo | D7: 50 | E7: =D7*7 -> 350 | F7: 50%MIN+50%GMC | G7: 175 | L7: 175 | M7: =SUM(G7:L7) -> 350 | N7: ATTAQUER GMC
A8: 133 | B8: YA LOLO | C8: Crédit | D8: 50 | E8: =D8*7 -> 350 | F8: 100%MIN | G8: 350 | M8: =SUM(G8:L8) -> 350 | N8: A PRESERVER
A9: 3 | B9: 58e ANNIVERSAIRE | D9: 42 | E9: =D9*7 -> 294 | F9: 50%MIN+50%SGMP | G9: 147 | J9: 147 | M9: =SUM(G9:L9) -> 294 | N9: ATTAQUER SGMP
A10: 13 | B10: BECO | C10: Cash | D10: 40 | E10: =D10*7 -> 280 | F10: 50%GMK+50%GMC | I10: 140 | L10: 140 | M10: =SUM(G10:L10) -> 280 | N10: A RECUPERER
A11: 45 | B11: ELVOZ INCHALAH | C11: Cash | D11: 40 | E11: =D11*7 -> 280 | F11: 25%MIN+25%GMK+50%GMC | G11: 70 | I11: 70 | L11: 140 | M11: =SUM(G11:L11) -> 280 | N11: TARGET 50%
A12: 131 | B12: POTAL | D12: 38 | E12: =D12*7 -> 266 | F12: 50%GMC+50%GMK | I12: 133 | L12: 133 | M12: =SUM(G12:L12) -> 266 | N12: A RECUPERER
A13: 42 | B13: EL MABROUCK | D13: 38 | E13: =D13*7 -> 266 | F13: 25%MIN+75%GMC | G13: 66 | L13: 199.5 | M13: =SUM(G13:L13) -> 265.5 | N13: TARGET 50%
A14: 12 | B14: BAS PRIX (ex moderne nkombo) | D14: 36 | E14: =D14*7 -> 252 | F14: 50%MIN+50%GMC | G14: 126 | L14: 126 | M14: =SUM(G14:L14) -> 252 | N14: ATTAQUER GMC
A15: 27 | B15: COMUS | D15: 36 | E15: =D15*7 -> 252 | F15: 50%MIN+50%GMC | G15: 126 | L15: 126 | M15: =SUM(G15:L15) -> 252 | N15: ATTAQUER GMC
A16: 60 | B16: HOT BREAD2 Plazza | D16: 36 | E16: =D16*7 -> 252 | F16: 50%MIN+50%GMC | G16: 126 | L16: 126 | M16: =SUM(G16:L16) -> 252 | N16: ATTAQUER GMC
A17: 120 | B17: SID-SID | D17: 36 | E17: =D17*7 -> 252 | F17: 50%MIN+50%SGMP | G17: 126 | J17: 126 | M17: =SUM(G17:L17) -> 252 | N17: ATTAQUER SGMP
A18: 55 | B18: NOUVELLE ESPERANCE 4 | D18: 34 | E18: =D18*7 -> 238 | F18: 50%MIN+50%SGMP | G18: 119 | J18: 119 | M18: =SUM(G18:L18) -> 238 | N18: ATTAQUER SGMP
A19: 80 | B19: MODERNE & ARTISANALE 1 | D19: 34 | E19: =D19*7 -> 238 | F19: 50%GMC+50%SGMP | J19: 119 | L19: 119 | M19: =SUM(G19:L19) -> 238 | N19: A RECUPERER
A20: 96 | B20: NOUVELLE ESPERANCE 1 | C20: Cash | D20: 34 | E20: =D20*7 -> 238 | F20: 50%MIN+50%GMC | G20: 119 | L20: 119 | M20: =SUM(G20:L20) -> 238 | N20: ATTAQUER GMC
A21: 15 | B21: BEDRE NKOMBO | C21: Cash | D21: 32 | E21: =D21*7 -> 224 | F21: 50%MIN+50%SGMP | G21: 112 | J21: 112 | M21: =SUM(G21:L21) -> 224 | N21: ATTAQUER SGMP
A22: 17 | B22: ARTISANALE 3 ( Ex BLANCHE) | D22: 32 | E22: =D22*7 -> 224 | F22: 50%GMC+50%GMK | I22: 112 | L22: 112 | M22: =SUM(G22:L22) -> 224 | N22: A RECUPERER
A23: 44 | B23: Brazza Moderne 1 | C23: Dette | D23: 32 | E23: =D23*7 -> 224 | F23: 100%GMC | L23: 224 | M23: =SUM(G23:L23) -> 224 | N23: A RECUPERER
A24: 81 | B24: MODERNE & ARTISANALE 2 | D24: 32 | E24: =D24*7 -> 224 | F24: 50%GMC+50%SGMP | J24: 112 | L24: 112 | M24: =SUM(G24:L24) -> 224 | N24: A RECUPERER
A25: 97 | B25: EL MOURATH | D25: 32 | E25: =D25*7 -> 224 | F25: 50%MIN+50%GMC | G25: 112 | L25: 112 | M25: =SUM(G25:L25) -> 224 | N25: ATTAQUER GMC
A26: 115 | B26: SAHA(ex fournil) | D26: 32 | E26: =D26*7 -> 224 | F26: 50%SGMP+50%GMK | I26: 112 | L26: 112 | M26: =SUM(G26:L26) -> 224 | N26: A RECUPERER
A27: 141 | B27: Paris Pain | D27: 32 | E27: =D27*7 -> 224 | F27: 50%GMC+50%GMK | I27: 112 | L27: 112 | M27: =SUM(G27:L27) -> 224 | N27: A RECUPERER
A28: 11 | B28: EL MEJID ( Ex Baraka Talangai) | D28: 30 | E28: =D28*7 -> 210 | F28: 50%MIN+50%GMC | G28: 105 | L28: 105 | M28: =SUM(G28:L28) -> 210 | N28: ATTAQUER GMC
A29: 25 | B29: BRAZZA MODERNE 2 | D29: 30 | E29: =D29*7 -> 210 | F29: 50%MIN+50%GMC | G29: 105 | L29: 105 | M29: =SUM(G29:L29) -> 210 | N29: ATTAQUER GMC
A30: 31 | B30: DAHI ( ex préference) | D30: 30 | E30: =D30*7 -> 210 | F30: 50%MIN+50%SGMP | G30: 105 | J30: 105 | M30: =SUM(G30:L30) -> 210 | N30: ATTAQUER SGMP
A31: 39 | B31: EL MANSOUR | D31: 30 | E31: =D31*7 -> 210 | F31: 50%GMC+50%GMK | I31: 105 | L31: 105 | M31: =SUM(G31:L31) -> 210 | N31: A RECUPERER
A32: 53 | B32: NOUVELLE ESPERANCE 2 | C32: Cash | D32: 30 | E32: =D32*7 -> 210 | F32: 50%GMK+50%GMC | I32: 105 | L32: 105 | M32: =SUM(G32:L32) -> 210 | N32: A RECUPERER
A33: 73 | B33: MAHFOUD | D33: 30 | E33: =D33*7 -> 210 | F33: 50%GMC+50%GMK | I33: 105 | L33: 105 | M33: =SUM(G33:L33) -> 210 | N33: A RECUPERER
A34: 75 | B34: MANE | D34: 30 | E34: =D34*7 -> 210 | F34: 50%MIN+50%GMC | G34: 105 | L34: 105 | M34: =SUM(G34:L34) -> 210 | N34: ATTAQUER GMC
A35: 110 | B35: REVES 2 | D35: 30 | E35: =D35*7 -> 210 | F35: 50%MIN+50%GMC | G35: 105 | L35: 105 | M35: =SUM(G35:L35) -> 210 | N35: ATTAQUER GMC
A36: 117 | B36: SAVANA NKOMBO | D36: 30 | E36: =D36*7 -> 210 | F36: 50%MIN+50%GMC | G36: 105 | L36: 105 | M36: =SUM(G36:L36) -> 210 | N36: ATTAQUER GMC
A37: 119 | B37: SD1 CARREFOUR | C37: Crédit | D37: 30 | E37: =D37*7 -> 210 | F37: 50%MIN+25%SGMP+25%GMC | G37: 105 | J37: 52.5 | L37: 52.5 | M37: =SUM(G37:L37) -> 210 | N37: ATTAQUER SGMP
A38: 5 | B38: ALMADINA (bama) | D38: 28 | E38: =D38*7 -> 196 | F38: 50%MIN+50%GMC | G38: 98 | J38: 98 | M38: =SUM(G38:L38) -> 196 | N38: ATTAQUER GMC
A39: 23 | B39: BONNE CHANCE 4 | D39: 28 | E39: =D39*7 -> 196 | F39: 50%MIN+50%GMC | G39: 98 | L39: 98 | M39: =SUM(G39:L39) -> 196 | N39: ATTAQUER GMC
A40: 30 | B40: DAHI (ex bab elkheire) | D40: 28 | E40: =D40*7 -> 196 | F40: 50%MIN+25%SGMP+25%GMC | G40: 98 | J40: 49 | L40: 49 | M40: =SUM(G40:L40) -> 196 | N40: ATTAQUER SGMP
A41: 49 | B41: ETOILE DE KINTELE | D41: 28 | E41: =D41*7 -> 196 | F41: 50%GMK+50%GMC | I41: 98 | L41: 98 | M41: =SUM(G41:L41) -> 196 | N41: A RECUPERER
A42: 58 | B42: HOT BREAD MOUKONDO | D42: 28 | E42: =D42*7 -> 196 | F42: 25%MIN+75%GMC | G42: 49 | L42: 147 | M42: =SUM(G42:L42) -> 196 | N42: TARGET 50%
A43: 59 | B43: HOT BREAD1 ( Mbochi ) | D43: 28 | E43: =D43*7 -> 196 | F43: 50%MIN+50%GMC | G43: 98 | L43: 98 | M43: =SUM(G43:L43) -> 196 | N43: ATTAQUER GMC
A44: 84 | B44: BONNE CHANCE 5( Ex Mouvida 1) | C44: Crédit | D44: 28 | E44: =D44*7 -> 196 | F44: 50%MIN+50%SGMP | G44: 98 | J44: 98 | M44: =SUM(G44:L44) -> 196 | N44: ATTAQUER SGMP
A45: 89 | B45: OUM EL KORA(Ex NAJAH MA) | D45: 28 | E45: =D45*7 -> 196 | F45: 50%MIN+50%GMC | G45: 98 | L45: 98 | M45: =SUM(G45:L45) -> 196 | N45: ATTAQUER GMC
A46: 99 | B46: PAIN VICTOIRE (Ex Sidina) | C46: Dette | D46: 28 | E46: =D46*7 -> 196 | F46: 50%SGMP+50%GMC | J46: 98 | L46: 98 | M46: =SUM(G46:L46) -> 196 | N46: A RECUPERER
A47: 127 | B47: TIK-TOK | D47: 28 | E47: =D47*7 -> 196 | F47: 50%MIN+50%SGMP | G47: 98 | J47: 98 | M47: =SUM(G47:L47) -> 196 | N47: ATTAQUER SGMP
A48: 137 | B48: D.A.H ( Bon Vivre) | D48: 28 | E48: =D48*7 -> 196 | F48: 50%MIN+50%GMC | G48: 98 | L48: 98 | M48: =SUM(G48:L48) -> 196 | N48: ATTAQUER GMC
A49: 142 | B49: FORAGE | D49: 28 | E49: =D49*7 -> 196 | F49: 50%GMC+50%GMK | I49: 98 | L49: 98 | M49: =SUM(G49:L49) -> 196 | N49: A RECUPERER
A50: 6 | B50: BABA-EL (Nganga lingolo Djoue ) | D50: 26 | E50: =D50*7 -> 182 | F50: 50%MIN+50%GMK | G50: 91 | I50: 91 | M50: =SUM(G50:L50) -> 182 | N50: ATTAQUER GMK
A51: 10 | B51: EL BARAKA 2024 | D51: 26 | E51: =D51*7 -> 182 | F51: 50%MIN+50%GMC | G51: 91 | L51: 91 | M51: =SUM(G51:L51) -> 182 | N51: ATTAQUER GMC
A52: 35 | B52: DORA MAYA | C52: Crédit | D52: 26 | E52: =D52*7 -> 182 | F52: 50%MIN+50%SGMP | G52: 91 | J52: 91 | M52: =SUM(G52:L52) -> 182 | N52: ATTAQUER SGMP
A53: 43 | B53: EL MEJED 1 makabandilou | D53: 26 | E53: =D53*7 -> 182 | F53: 50%MIN+25%GMC+25%GMK | G53: 91 | J53: 45.5 | L53: 45.5 | M53: =SUM(G53:L53) -> 182 | N53: ATTAQUER GMK
A54: 46 | B54: ELWEVA | D54: 26 | E54: =D54*7 -> 182 | F54: 50%MIN+50%GMC | G54: 91 | L54: 91 | M54: =SUM(G54:L54) -> 182 | N54: ATTAQUER GMC
A55: 47 | B55: ESCALE | C55: Crédit | D55: 26 | E55: =D55*7 -> 182 | F55: 50%MIN+50%SGMP | G55: 91 | J55: 91 | M55: =SUM(G55:L55) -> 182 | N55: ATTAQUER SGMP
A56: 52 | B56: FIRDAWS 1 | C56: Crédit | D56: 26 | E56: =D56*7 -> 182 | F56: 50%SGMP+50%GMC | J56: 91 | L56: 91 | M56: =SUM(G56:L56) -> 182 | N56: A RECUPERER
A57: 76 | B57: MARCHE DJIRI ext ESCALE | D57: 26 | E57: =D57*7 -> 182 | F57: 50%MIN+50%GMC | G57: 91 | L57: 91 | M57: =SUM(G57:L57) -> 182 | N57: ATTAQUER GMC
A58: 82 | B58: SALAM( Ex MODERNE AV France) | D58: 26 | E58: =D58*7 -> 182 | F58: 50%MIN+50%GMC | G58: 91 | L58: 91 | M58: =SUM(G58:L58) -> 182 | N58: ATTAQUER GMC
A59: 87 | B59: MSB EX FIRDAWS2 | D59: 26 | E59: =D59*7 -> 182 | F59: 50%MIN+50%SGMP | G59: 91 | J59: 91 | M59: =SUM(G59:L59) -> 182 | N59: ATTAQUER SGMP
A60: 105 | B60: SABANA ( Ex PUZZLE) | C60: Crédit | D60: 26 | E60: =D60*7 -> 182 | F60: 50%MIN+50%GMC | G60: 91 | L60: 91 | M60: =SUM(G60:L60) -> 182 | N60: ATTAQUER GMC
A61: 111 | B61: REVES 3 | D61: 26 | E61: =D61*7 -> 182 | F61: 50%MIN+50%GMC | G61: 91 | L61: 91 | M61: =SUM(G61:L61) -> 182 | N61: ATTAQUER GMC
A62: 126 | B62: TEYiBA | D62: 26 | E62: =D62*7 -> 182 | F62: 50%GMC+50%GMK | I62: 91 | L62: 91 | M62: =SUM(G62:L62) -> 182 | N62: A RECUPERER
A63: 140 | B63: Bonne Chance 1 (Digeco) | D63: 26 | E63: =D63*7 -> 182 | F63: 50%MIN+50%SGMP | G63: 91 | L63: 91 | M63: =SUM(G63:L63) -> 182 | N63: ATTAQUER SGMP
A64: 91 | B64: ND 2 BIFOUITI | D64: 25 | E64: =D64*7 -> 175 | F64: 50%SGMP+50%GMK | J64: 87.5 | L64: 87.5 | M64: =SUM(G64:L64) -> 175 | N64: A RECUPERER
A65: 92 | B65: ND1 | C65: Crédit | D65: 25 | E65: =D65*7 -> 175 | F65: 50%SGMP+50%GMC | I65: 87.5 | L65: 87.5 | M65: =SUM(G65:L65) -> 175 | N65: A RECUPERER
A66: 93 | B66: ND 3 PK | D66: 25 | E66: =D66*7 -> 175 | F66: 50%MIN+50%GMC | G66: 87.5 | L66: 87.5 | M66: =SUM(G66:L66) -> 175 | N66: ATTAQUER GMC
A67: 16 | B67: BENEDICTION NGAMAKOSSO | D67: 24 | E67: =D67*7 -> 168 | F67: 50%MIN+50%GMC | G67: 84 | L67: 84 | M67: =SUM(G67:L67) -> 168 | N67: ATTAQUER GMC
A68: 21 | B68: BONNE CHANCE 2 | D68: 24 | E68: =D68*7 -> 168 | F68: 50%MIN+50%GMC | G68: 84 | L68: 84 | M68: =SUM(G68:L68) -> 168 | N68: ATTAQUER GMC
A69: 24 | B69: BIFOUITI ( Ex BRAZZA 2005 ) | C69: Crédit | D69: 24 | E69: =D69*7 -> 168 | F69: 50%MIN+50%GMC | G69: 84 | L69: 84 | M69: =SUM(G69:L69) -> 168 | N69: ATTAQUER GMC
A70: 61 | B70: ILYAS EX KIGOUARIE | C70: Crédit | D70: 24 | E70: =D70*7 -> 168 | F70: 50%MIN+50%GMC | G70: 84 | L70: 84 | M70: =SUM(G70:L70) -> 168 | N70: ATTAQUER GMC
A71: 66 | B71: Paris Baguette (Ex KEITA BF) | D71: 24 | E71: =D71*7 -> 168 | F71: 50%GMC+50%SGMP | J71: 84 | L71: 84 | M71: =SUM(G71:L71) -> 168 | N71: A RECUPERER
A72: 68 | B72: LA CONGOLAISE 1 (Ouenze) | D72: 24 | E72: =D72*7 -> 168 | F72: 100%GMK | I72: 168 | M72: =SUM(G72:L72) -> 168 | N72: A RECUPERER
A73: 70 | B73: LA GLOIRE MAYANGA B52 | D73: 24 | E73: =D73*7 -> 168 | F73: 50%SGMP+50%GMC | J73: 84 | L73: 84 | M73: =SUM(G73:L73) -> 168 | N73: A RECUPERER
A74: 85 | B74: MOUVIDA 2 | D74: 24 | E74: =D74*7 -> 168 | F74: 50%MIN+50%GMC | G74: 84 | L74: 84 | M74: =SUM(G74:L74) -> 168 | N74: ATTAQUER GMC
A75: 90 | B75: NATIONALE ( Moukondo) | D75: 24 | E75: =D75*7 -> 168 | F75: 50%MIN+50%GMK | G75: 84 | L75: 84 | M75: =SUM(G75:L75) -> 168 | N75: ATTAQUER GMK
A76: 112 | B76: RIM D'OR 1 | C76: Cash | D76: 24 | E76: =D76*7 -> 168 | F76: 50%MIN+50%GMC | G76: 84 | L76: 84 | M76: =SUM(G76:L76) -> 168 | N76: ATTAQUER GMC
A77: 113 | B77: RIM D'OR 2 | D77: 24 | E77: =D77*7 -> 168 | F77: 50%MIN+50%GMC | G77: 84 | L77: 84 | M77: =SUM(G77:L77) -> 168 | N77: ATTAQUER GMC
A78: 118 | B78: SD MASSENGO | D78: 24 | E78: =D78*7 -> 168 | F78: 50%MIN+50%GMK | G78: 84 | I78: 84 | M78: =SUM(G78:L78) -> 168 | N78: ATTAQUER GMK
A79: 123 | B79: SUPER CAFE | D79: 24 | E79: =D79*7 -> 168 | F79: 50%GMC+50%GMK | I79: 84 | L79: 84 | M79: =SUM(G79:L79) -> 168 | N79: A RECUPERER
A80: 134 | B80: LE BON CHOIX (Ex YESLEM) | C80: Dette | D80: 24 | E80: =D80*7 -> 168 | F80: 50%MIN+50%GMC | G80: 84 | L80: 84 | M80: =SUM(G80:L80) -> 168 | N80: ATTAQUER GMC
A81: 71 | B81: LA PERLE MAYANGA | D81: 23 | E81: =D81*7 -> 161 | F81: 50%SGMP+50%GMC | J81: 80.5 | L81: 80.5 | M81: =SUM(G81:L81) -> 161 | N81: A RECUPERER
A82: 72 | B82: LA PLAINE | C82: Crédit | D82: 23 | E82: =D82*7 -> 161 | F82: 50%MIN+50%SGMP | G82: 80.5 | J82: 80.5 | M82: =SUM(G82:L82) -> 161 | N82: ATTAQUER SGMP
A83: 7 | B83: Babe Elkheire Total | D83: 22 | E83: =D83*7 -> 154 | F83: 25%MIN+25%GMK+50%GMC | G83: 38.5 | I83: 38.5 | L83: 77 | M83: =SUM(G83:L83) -> 154 | N83: TARGET 50%
A84: 8 | B84: BACO PAIN | C84: Dette | D84: 22 | E84: =D84*7 -> 154 | F84: 50%MIN+50%GMC | G84: 77 | L84: 77 | M84: =SUM(G84:L84) -> 154 | N84: ATTAQUER GMC
A85: 19 | B85: BLG EL MOURAD | D85: 22 | E85: =D85*7 -> 154 | F85: 50%MIN+50%GMC | G85: 77 | L85: 77 | M85: =SUM(G85:L85) -> 154 | N85: ATTAQUER GMC
A86: 33 | B86: DIGNITE 1 | D86: 22 | E86: =D86*7 -> 154 | F86: 50%MIN+50%GMC | G86: 77 | L86: 77 | M86: =SUM(G86:L86) -> 154 | N86: ATTAQUER GMC
A87: 37 | B87: EFFRAKATA 2 | D87: 22 | E87: =D87*7 -> 154 | F87: 50%MIN+50%GMC | G87: 77 | L87: 77 | M87: =SUM(G87:L87) -> 154 | N87: ATTAQUER GMC
A88: 38 | B88: BAB (EX EFFRAKATA1) | D88: 22 | E88: =D88*7 -> 154 | F88: 50%MIN+50%GMC | G88: 77 | L88: 77 | M88: =SUM(G88:L88) -> 154 | N88: ATTAQUER GMC
A89: 48 | B89: SAM 2 ( Ex ESPOIR) | C89: Dette | D89: 22 | E89: =D89*7 -> 154 | F89: 50%MIN+50%GMC | G89: 77 | L89: 77 | M89: =SUM(G89:L89) -> 154 | N89: ATTAQUER GMC
A90: 57 | B90: GRANDE BLG DE DIATA (ML) | D90: 22 | E90: =D90*7 -> 154 | F90: 50%MIN+50%GMC | G90: 77 | L90: 77 | M90: =SUM(G90:L90) -> 154 | N90: ATTAQUER GMC
A91: 74 | B91: MAMPASSI | D91: 22 | E91: =D91*7 -> 154 | F91: 50%MIN+50%GMC | G91: 77 | L91: 77 | M91: =SUM(G91:L91) -> 154 | N91: ATTAQUER GMC
A92: 83 | B92: MOUHOUMI | D92: 22 | E92: =D92*7 -> 154 | F92: 50%MIN+50%SGMP | G92: 77 | J92: 77 | M92: =SUM(G92:L92) -> 154 | N92: ATTAQUER SGMP
A93: 86 | B93: MR KINTELE | C93: Cash | D93: 22 | E93: =D93*7 -> 154 | F93: 50%MIN+50%GMC | G93: 77 | L93: 77 | M93: =SUM(G93:L93) -> 154 | N93: ATTAQUER GMC
A94: 95 | B94: NOUR 2 | D94: 22 | E94: =D94*7 -> 154 | F94: 100%GMC | L94: 154 | M94: =SUM(G94:L94) -> 154 | N94: A RECUPERER
A95: 106 | B95: RECONCILIATION ex iphone | D95: 22 | E95: =D95*7 -> 154 | F95: 50%MIN+50%GMC | G95: 77 | L95: 77 | M95: =SUM(G95:L95) -> 154 | N95: ATTAQUER GMC
A96: 121 | B96: SS TOTAL | C96: Crédit | D96: 22 | E96: =D96*7 -> 154 | F96: 50%MIN+50%GMK | G96: 77 | I96: 77 | M96: =SUM(G96:L96) -> 154 | N96: ATTAQUER GMK
A97: 130 | B97: TSOUEKE (ex Congo Pain) | D97: 22 | E97: =D97*7 -> 154 | F97: 50%MIN+50%GMC | G97: 77 | L97: 77 | M97: =SUM(G97:L97) -> 154 | N97: ATTAQUER GMC
A98: 135 | B98: POUR TOUS | D98: 22 | E98: =D98*7 -> 154 | F98: 100%GMC | L98: 154 | M98: =SUM(G98:L98) -> 154 | N98: A RECUPERER
A99: 22 | B99: BONNE CHANCE 3 | D99: 20 | E99: =D99*7 -> 140 | F99: 50%MIN+50%GMC | G99: 70 | L99: 70 | M99: =SUM(G99:L99) -> 140 | N99: ATTAQUER GMC
A100: 32 | B100: DIAMOND | C100: Dette | D100: 20 | E100: =D100*7 -> 140 | F100: 50%MIN+50%GMC | G100: 70 | L100: 70 | M100: =SUM(G100:L100) -> 140 | N100: ATTAQUER GMC
A101: 34 | B101: DIGNITE 2 | D101: 20 | E101: =D101*7 -> 140 | F101: 50%MIN+50%GMC | G101: 70 | L101: 70 | M101: =SUM(G101:L101) -> 140 | N101: ATTAQUER GMC
...

Sheet PDM 2026
A1: Week | B1: Minoco | C1: Fanta | D1: GMPN | E1: GMK | F1: SGMP | G1: MFB | H1: GMC
