Workbook
Name MINOCO: #REF!

Sheet Secteurs
A1: N° | B1: Zone | C1: Technico-Commercial
A2: 1 | B2: Nord | C2: Alexis MABOUNDA
A3: 2 | B3: Centre | C3: Félix OVOURA
A4: 3 | B4: Sud | C4: Armel SOKAMBA

Sheet WEEK 49
A1: N° | B1: Boulangerie | C1: Type | D1: Cons/j | E1: C° heb | F1: Date Dernière Visite | G1: Période sans visite | H1: Secteur | I1: Technico Commercial | J1: %MINOCO | K1: %FANTA | L1: %GMK | M1: %SGMP | N1: %MFB | O1: %GMC | P1: MINOCO | Q1: FANTA | R1: GMK | S1: SGMP | T1: MFB | U1: GMC | V1: Total | W1: COMMENTAIRES | Z1: Week | AA1: Minoco | AB1: Fanta | AC1: GMPN | AD1: GMK | AE1: SGMP | AF1: MFB | AG1: GMC
A2: =+IF(D2>0,1,0) -> 1 | B2: CONGO FUTUR SIAFOUMOU | C2: cash | D2: 30 | E2: =D2*7 -> 210 | F2: 45994 | G2: =+IF(A2=1,(+TODAY())-F2,"Sans objet") -> 313 | H2: 1 | I2: =VLOOKUP(H2,Secteurs!$A$2:$C$4,3) -> Alexis MABOUNDA | M2: 0.5 | O2: 0.5 | P2: =+$E2*J2 -> 0 | Q2: =+$E2*K2 -> 0 | R2: =+$E2*L2 -> 0 | S2: =+$E2*M2 -> 105 | T2: =+$E2*N2 -> 0 | U2: =+$E2*O2 -> 105 | V2: =SUM(P2:U2) -> 210 | X2: =+V2-E2 -> 0 | Z2: 46 | AA2: 0.38 | AB2: 0.05 | AC2: =SUM(AA2:AB2) -> 0.43 | AD2: 0.153 | AE2: 0.094 | AF2: 0.101 | AG2: 0.219 | AH2: =SUM(AC2:AG2) -> 0.997
A3: =+IF(D3>0,1,0) -> 1 | B3: EL ATIGH mengo péage | C3: cash | D3: 24 | E3: =D3*7 -> 168 | F3: 45992 | G3: =+IF(A3=1,(+TODAY())-F3,"Sans objet") -> 315 | H3: 1 | I3: =VLOOKUP(H3,Secteurs!$A$2:$C$4,3) -> Alexis MABOUNDA | J3: 0.5 | L3: 0.5 | P3: =+$E3*J3 -> 84 | Q3: =+$E3*K3 -> 0 | R3: =+$E3*L3 -> 84 | S3: =+$E3*M3 -> 0 | T3: =+$E3*N3 -> 0 | U3: =+$E3*O3 -> 0 | V3: =SUM(P3:U3) -> 168 | X3: =+V3-E3 -> 0 | Z3: 47 | AA3: 0.36 | AB3: 0.07 | AC3: =SUM(AA3:AB3) -> 0.43 | AD3: 0.109 | AE3: 0.135 | AF3: 0.104 | AG3: 0.224 | AH3: =SUM(AC3:AG3) -> 1.002
A4: =+IF(D4>0,1,0) -> 1 | B4: ATAKAHYR loandjili | C4: cash | D4: 54 | E4: =D4*7 -> 378 | F4: 45992 | G4: =+IF(A4=1,(+TODAY())-F4,"Sans objet") -> 315 | H4: 1 | I4: =VLOOKUP(H4,Secteurs!$A$2:$C$4,3) -> Alexis MABOUNDA | J4: 0.75 | N4: 0.25 | P4: =+$E4*J4 -> 283.5 | Q4: =+$E4*K4 -> 0 | R4: =+$E4*L4 -> 0 | S4: =+$E4*M4 -> 0 | T4: =+$E4*N4 -> 94.5 | U4: =+$E4*O4 -> 0 | V4: =SUM(P4:U4) -> 378 | X4: =+V4-E4 -> 0 | Z4: 48 | AA4: 0.33 | AB4: 0.1 | AC4: =SUM(AA4:AB4) -> 0.43 | AD4: 0.093 | AE4: 0.139 | AF4: 0.109 | AG4: 0.231 | AH4: =SUM(AC4:AG4) -> 1.002
A5: =+IF(D5>0,1,0) -> 1 | B5: ATAKAHYR fouks | C5: cash | D5: 28 | E5: =D5*7 -> 196 | F5: 45995 | G5: =+IF(A5=1,(+TODAY())-F5,"Sans objet") -> 312 | H5: 2 | I5: =VLOOKUP(H5,Secteurs!$A$2:$C$4,3) -> Félix OVOURA | J5: 0.5 | N5: 0.5 | P5: =+$E5*J5 -> 98 | Q5: =+$E5*K5 -> 0 | R5: =+$E5*L5 -> 0 | S5: =+$E5*M5 -> 0 | T5: =+$E5*N5 -> 98 | U5: =+$E5*O5 -> 0 | V5: =SUM(P5:U5) -> 196 | X5: =+V5-E5 -> 0 | Z5: 49 | AA5: =D145 -> 0.3274473 | AB5: =D146 -> 0.11030604 | AC5: =SUM(AA5:AB5) -> 0.43775334 | AD5: =D148 -> 0.092039927 | AE5: =D149 -> 0.14187272 | AF5: =D150 -> 0.093281313 | AG5: =D151 -> 0.2350527 | AH5: =SUM(AC5:AG5) -> 1
A6: =+IF(D6>0,1,0) -> 1 | B6: ATAKAHYR mayinga | C6: cash | D6: 20 | E6: =D6*7 -> 140 | F6: 45995 | G6: =+IF(A6=1,(+TODAY())-F6,"Sans objet") -> 312 | H6: 3 | I6: =VLOOKUP(H6,Secteurs!$A$2:$C$4,3) -> Armel SOKAMBA | J6: 0.5 | O6: 0.5 | P6: =+$E6*J6 -> 70 | Q6: =+$E6*K6 -> 0 | R6: =+$E6*L6 -> 0 | S6: =+$E6*M6 -> 0 | T6: =+$E6*N6 -> 0 | U6: =+$E6*O6 -> 70 | V6: =SUM(P6:U6) -> 140 | X6: =+V6-E6 -> 0 | Z6: Variation
A7: =+IF(D7>0,1,0) -> 1 | B7: MED MMB voungou | C7: cash | D7: 36 | E7: =D7*7 -> 252 | F7: 45995 | G7: =+IF(A7=1,(+TODAY())-F7,"Sans objet") -> 312 | H7: 3 | I7: =VLOOKUP(H7,Secteurs!$A$2:$C$4,3) -> Armel SOKAMBA | J7: 0.5 | L7: 0.25 | O7: 0.25 | P7: =+$E7*J7 -> 126 | Q7: =+$E7*K7 -> 0 | R7: =+$E7*L7 -> 63 | S7: =+$E7*M7 -> 0 | T7: =+$E7*N7 -> 0 | U7: =+$E7*O7 -> 63 | V7: =SUM(P7:U7) -> 252 | X7: =+V7-E7 -> 0
A8: =+IF(D8>0,1,0) -> 1 | B8: MED globaline | C8: cash | D8: 34 | E8: =D8*7 -> 238 | F8: 45995 | G8: =+IF(A8=1,(+TODAY())-F8,"Sans objet") -> 312 | H8: 3 | I8: =VLOOKUP(H8,Secteurs!$A$2:$C$4,3) -> Armel SOKAMBA | J8: 0.5 | L8: 0.5 | P8: =+$E8*J8 -> 119 | Q8: =+$E8*K8 -> 0 | R8: =+$E8*L8 -> 119 | S8: =+$E8*M8 -> 0 | T8: =+$E8*N8 -> 0 | U8: =+$E8*O8 -> 0 | V8: =SUM(P8:U8) -> 238 | X8: =+V8-E8 -> 0
A9: =+IF(D9>0,1,0) -> 1 | B9: Ets AMITIE ex BAGDAD1 grand marché révolution | C9: cash | D9: 30 | E9: =D9*7 -> 210 | F9: 45996 | G9: =+IF(A9=1,(+TODAY())-F9,"Sans objet") -> 311 | H9: 2 | I9: =VLOOKUP(H9,Secteurs!$A$2:$C$4,3) -> Félix OVOURA | J9: 0.5 | O9: 0.5 | P9: =+$E9*J9 -> 105 | Q9: =+$E9*K9 -> 0 | R9: =+$E9*L9 -> 0 | S9: =+$E9*M9 -> 0 | T9: =+$E9*N9 -> 0 | U9: =+$E9*O9 -> 105 | V9: =SUM(P9:U9) -> 210 | X9: =+V9-E9 -> 0
A10: =+IF(D10>0,1,0) -> 1 | B10: Ets AMITIE ex CONGO2 voungou école primaire | C10: cash | D10: 20 | E10: =D10*7 -> 140 | F10: 45993 | G10: =+IF(A10=1,(+TODAY())-F10,"Sans objet") -> 314 | H10: 3 | I10: =VLOOKUP(H10,Secteurs!$A$2:$C$4,3) -> Armel SOKAMBA | J10: 1 | P10: =+$E10*J10 -> 140 | Q10: =+$E10*K10 -> 0 | R10: =+$E10*L10 -> 0 | S10: =+$E10*M10 -> 0 | T10: =+$E10*N10 -> 0 | U10: =+$E10*O10 -> 0 | V10: =SUM(P10:U10) -> 140 | X10: =+V10-E10 -> 0
A11: =+IF(D11>0,1,0) -> 1 | B11: Ets AMITIE ex CONGO1 kitoko daniel | C11: cash | D11: 26 | E11: =D11*7 -> 182 | F11: 45996 | G11: =+IF(A11=1,(+TODAY())-F11,"Sans objet") -> 311 | H11: 2 | I11: =VLOOKUP(H11,Secteurs!$A$2:$C$4,3) -> Félix OVOURA | J11: 0.5 | N11: 0.5 | P11: =+$E11*J11 -> 91 | Q11: =+$E11*K11 -> 0 | R11: =+$E11*L11 -> 0 | S11: =+$E11*M11 -> 0 | T11: =+$E11*N11 -> 91 | U11: =+$E11*O11 -> 0 | V11: =SUM(P11:U11) -> 182 | X11: =+V11-E11 -> 0
A12: =+IF(D12>0,1,0) -> 1 | B12: Ets AMITIE ex BAGDAD2 Rex grand marché | C12: cash | D12: 24 | E12: =D12*7 -> 168 | F12: 45996 | G12: =+IF(A12=1,(+TODAY())-F12,"Sans objet") -> 311 | H12: 2 | I12: =VLOOKUP(H12,Secteurs!$A$2:$C$4,3) -> Félix OVOURA | J12: 1 | P12: =+$E12*J12 -> 168 | Q12: =+$E12*K12 -> 0 | R12: =+$E12*L12 -> 0 | S12: =+$E12*M12 -> 0 | T12: =+$E12*N12 -> 0 | U12: =+$E12*O12 -> 0 | V12: =SUM(P12:U12) -> 168 | X12: =+V12-E12 -> 0
A13: =+IF(D13>0,1,0) -> 1 | B13: Ets AMITIE ex BONNE CHANCE nkouinkou dénisia | C13: cash | D13: 24 | E13: =D13*7 -> 168 | F13: 45992 | G13: =+IF(A13=1,(+TODAY())-F13,"Sans objet") -> 315 | H13: 1 | I13: =VLOOKUP(H13,Secteurs!$A$2:$C$4,3) -> Alexis MABOUNDA | J13: 0.5 | L13: 0.5 | P13: =+$E13*J13 -> 84 | Q13: =+$E13*K13 -> 0 | R13: =+$E13*L13 -> 84 | S13: =+$E13*M13 -> 0 | T13: =+$E13*N13 -> 0 | U13: =+$E13*O13 -> 0 | V13: =SUM(P13:U13) -> 168 | X13: =+V13-E13 -> 0
A14: =+IF(D14>0,1,0) -> 1 | B14: BAH ex HACEN fond tié-tié | C14: cash | D14: 36 | E14: =D14*7 -> 252 | F14: 45995 | G14: =+IF(A14=1,(+TODAY())-F14,"Sans objet") -> 312 | H14: 3 | I14: =VLOOKUP(H14,Secteurs!$A$2:$C$4,3) -> Armel SOKAMBA | J14: 0.5 | O14: 0.5 | P14: =+$E14*J14 -> 126 | Q14: =+$E14*K14 -> 0 | R14: =+$E14*L14 -> 0 | S14: =+$E14*M14 -> 0 | T14: =+$E14*N14 -> 0 | U14: =+$E14*O14 -> 126 | V14: =SUM(P14:U14) -> 252 | X14: =+V14-E14 -> 0
A15: =+IF(D15>0,1,0) -> 1 | B15: BAH ex SASI tié tié massola | C15: cash | D15: 20 | E15: =D15*7 -> 140 | F15: 45995 | G15: =+IF(A15=1,(+TODAY())-F15,"Sans objet") -> 312 | H15: 2 | I15: =VLOOKUP(H15,Secteurs!$A$2:$C$4,3) -> Félix OVOURA | J15: 0.5 | O15: 0.5 | P15: =+$E15*J15 -> 70 | Q15: =+$E15*K15 -> 0 | R15: =+$E15*L15 -> 0 | S15: =+$E15*M15 -> 0 | T15: =+$E15*N15 -> 0 | U15: =+$E15*O15 -> 70 | V15: =SUM(P15:U15) -> 140 | X15: =+V15-E15 -> 0
A16: =+IF(D16>0,1,0) -> 1 | B16: BAH ex BMM paka maison blanche | C16: cash | D16: 20 | E16: =D16*7 -> 140 | F16: 45995 | G16: =+IF(A16=1,(+TODAY())-F16,"Sans objet") -> 312 | H16: 3 | I16: =VLOOKUP(H16,Secteurs!$A$2:$C$4,3) -> Armel SOKAMBA | J16: 1 | P16: =+$E16*J16 -> 140 | Q16: =+$E16*K16 -> 0 | R16: =+$E16*L16 -> 0 | S16: =+$E16*M16 -> 0 | T16: =+$E16*N16 -> 0 | U16: =+$E16*O16 -> 0 | V16: =SUM(P16:U16) -> 140 | X16: =+V16-E16 -> 0
A17: =+IF(D17>0,1,0) -> 1 | B17: BA mvoumvou immigration | C17: cash | D17: 28 | E17: =D17*7 -> 196 | F17: 45996 | G17: =+IF(A17=1,(+TODAY())-F17,"Sans objet") -> 311 | H17: 2 | I17: =VLOOKUP(H17,Secteurs!$A$2:$C$4,3) -> Félix OVOURA | J17: 0.5 | M17: 0.5 | P17: =+$E17*J17 -> 98 | Q17: =+$E17*K17 -> 0 | R17: =+$E17*L17 -> 0 | S17: =+$E17*M17 -> 98 | T17: =+$E17*N17 -> 0 | U17: =+$E17*O17 -> 0 | V17: =SUM(P17:U17) -> 196 | X17: =+V17-E17 -> 0
A18: =+IF(D18>0,1,0) -> 1 | B18: BA thyster mongo mpoukou | C18: cash | D18: 16 | E18: =D18*7 -> 112 | F18: 45992 | G18: =+IF(A18=1,(+TODAY())-F18,"Sans objet") -> 315 | H18: 1 | I18: =VLOOKUP(H18,Secteurs!$A$2:$C$4,3) -> Alexis MABOUNDA | J18: 0.5 | N18: 0.5 | P18: =+$E18*J18 -> 56 | Q18: =+$E18*K18 -> 0 | R18: =+$E18*L18 -> 0 | S18: =+$E18*M18 -> 0 | T18: =+$E18*N18 -> 56 | U18: =+$E18*O18 -> 0 | V18: =SUM(P18:U18) -> 112 | X18: =+V18-E18 -> 0
A19: =+IF(D19>0,1,0) -> 1 | B19: BA mpaka dalette | C19: cash | D19: 26 | E19: =D19*7 -> 182 | F19: 45993 | G19: =+IF(A19=1,(+TODAY())-F19,"Sans objet") -> 314 | H19: 3 | I19: =VLOOKUP(H19,Secteurs!$A$2:$C$4,3) -> Armel SOKAMBA | J19: 0.5 | L19: 0.25 | M19: 0.25 | P19: =+$E19*J19 -> 91 | Q19: =+$E19*K19 -> 0 | R19: =+$E19*L19 -> 45.5 | S19: =+$E19*M19 -> 45.5 | T19: =+$E19*N19 -> 0 | U19: =+$E19*O19 -> 0 | V19: =SUM(P19:U19) -> 182 | X19: =+V19-E19 -> 0
A20: =+IF(D20>0,1,0) -> 1 | B20: BA fond tié-tié gar | C20: cash | D20: 46 | E20: =D20*7 -> 322 | F20: 45995 | G20: =+IF(A20=1,(+TODAY())-F20,"Sans objet") -> 312 | H20: 3 | I20: =VLOOKUP(H20,Secteurs!$A$2:$C$4,3) -> Armel SOKAMBA | J20: 0.5 | N20: 0.5 | P20: =+$E20*J20 -> 161 | Q20: =+$E20*K20 -> 0 | R20: =+$E20*L20 -> 0 | S20: =+$E20*M20 -> 0 | T20: =+$E20*N20 -> 161 | U20: =+$E20*O20 -> 0 | V20: =SUM(P20:U20) -> 322 | X20: =+V20-E20 -> 0
A21: =+IF(D21>0,1,0) -> 1 | B21: BA mpaka marché | C21: cash | D21: 20 | E21: =D21*7 -> 140 | F21: 45995 | G21: =+IF(A21=1,(+TODAY())-F21,"Sans objet") -> 312 | H21: 3 | I21: =VLOOKUP(H21,Secteurs!$A$2:$C$4,3) -> Armel SOKAMBA | J21: 0.5 | M21: 0.5 | P21: =+$E21*J21 -> 70 | Q21: =+$E21*K21 -> 0 | R21: =+$E21*L21 -> 0 | S21: =+$E21*M21 -> 70 | T21: =+$E21*N21 -> 0 | U21: =+$E21*O21 -> 0 | V21: =SUM(P21:U21) -> 140 | X21: =+V21-E21 -> 0
A22: =+IF(D22>0,1,0) -> 1 | B22: BA ngoyo | C22: cash | D22: 26 | E22: =D22*7 -> 182 | F22: 45995 | G22: =+IF(A22=1,(+TODAY())-F22,"Sans objet") -> 312 | H22: 3 | I22: =VLOOKUP(H22,Secteurs!$A$2:$C$4,3) -> Armel SOKAMBA | J22: 1 | P22: =+$E22*J22 -> 182 | Q22: =+$E22*K22 -> 0 | R22: =+$E22*L22 -> 0 | S22: =+$E22*M22 -> 0 | T22: =+$E22*N22 -> 0 | U22: =+$E22*O22 -> 0 | V22: =SUM(P22:U22) -> 182 | X22: =+V22-E22 -> 0
A23: =+IF(D23>0,1,0) -> 1 | B23: BA fond tié-tié en allant vers voungou | C23: cash | D23: 20 | E23: =D23*7 -> 140 | F23: 45995 | G23: =+IF(A23=1,(+TODAY())-F23,"Sans objet") -> 312 | H23: 3 | I23: =VLOOKUP(H23,Secteurs!$A$2:$C$4,3) -> Armel SOKAMBA | J23: 0.75 | L23: 0.25 | P23: =+$E23*J23 -> 105 | Q23: =+$E23*K23 -> 0 | R23: =+$E23*L23 -> 35 | S23: =+$E23*M23 -> 0 | T23: =+$E23*N23 -> 0 | U23: =+$E23*O23 -> 0 | V23: =SUM(P23:U23) -> 140 | X23: =+V23-E23 -> 0
A24: =+IF(D24>0,1,0) -> 1 | B24: NEINA REPUBLIQUE marché bissongo | C24: cash | D24: 18 | E24: =D24*7 -> 126 | F24: 45993 | G24: =+IF(A24=1,(+TODAY())-F24,"Sans objet") -> 314 | H24: 3 | I24: =VLOOKUP(H24,Secteurs!$A$2:$C$4,3) -> Armel SOKAMBA | J24: 0.5 | O24: 0.5 | P24: =+$E24*J24 -> 63 | Q24: =+$E24*K24 -> 0 | R24: =+$E24*L24 -> 0 | S24: =+$E24*M24 -> 0 | T24: =+$E24*N24 -> 0 | U24: =+$E24*O24 -> 63 | V24: =SUM(P24:U24) -> 126 | X24: =+V24-E24 -> 0
A25: =+IF(D25>0,1,0) -> 1 | B25: NEINA REPUBLIQUE ngoyo central | C25: cash | D25: 24 | E25: =D25*7 -> 168 | F25: 45993 | G25: =+IF(A25=1,(+TODAY())-F25,"Sans objet") -> 314 | H25: 3 | I25: =VLOOKUP(H25,Secteurs!$A$2:$C$4,3) -> Armel SOKAMBA | J25: 0.5 | O25: 0.5 | P25: =+$E25*J25 -> 84 | Q25: =+$E25*K25 -> 0 | R25: =+$E25*L25 -> 0 | S25: =+$E25*M25 -> 0 | T25: =+$E25*N25 -> 0 | U25: =+$E25*O25 -> 84 | V25: =SUM(P25:U25) -> 168 | X25: =+V25-E25 -> 0
A26: =+IF(D26>0,1,0) -> 1 | B26: NEINA REPUBLIQUE grand marché | C26: cash | D26: 24 | E26: =D26*7 -> 168 | F26: 45996 | G26: =+IF(A26=1,(+TODAY())-F26,"Sans objet") -> 311 | H26: 2 | I26: =VLOOKUP(H26,Secteurs!$A$2:$C$4,3) -> Félix OVOURA | J26: 0.5 | O26: 0.5 | P26: =+$E26*J26 -> 84 | Q26: =+$E26*K26 -> 0 | R26: =+$E26*L26 -> 0 | S26: =+$E26*M26 -> 0 | T26: =+$E26*N26 -> 0 | U26: =+$E26*O26 -> 84 | V26: =SUM(P26:U26) -> 168 | X26: =+V26-E26 -> 0
A27: =+IF(D27>0,1,0) -> 1 | B27: NEINA REPUBLIQUE tchimbambouka | C27: cash | D27: 20 | E27: =D27*7 -> 140 | F27: 45993 | G27: =+IF(A27=1,(+TODAY())-F27,"Sans objet") -> 314 | H27: 3 | I27: =VLOOKUP(H27,Secteurs!$A$2:$C$4,3) -> Armel SOKAMBA | J27: 0.5 | O27: 0.5 | P27: =+$E27*J27 -> 70 | Q27: =+$E27*K27 -> 0 | R27: =+$E27*L27 -> 0 | S27: =+$E27*M27 -> 0 | T27: =+$E27*N27 -> 0 | U27: =+$E27*O27 -> 70 | V27: =SUM(P27:U27) -> 140 | X27: =+V27-E27 -> 0
A28: =+IF(D28>0,1,0) -> 1 | B28: MED MMB deux poteaux | C28: cash | D28: 20 | E28: =D28*7 -> 140 | F28: 45993 | G28: =+IF(A28=1,(+TODAY())-F28,"Sans objet") -> 314 | H28: 3 | I28: =VLOOKUP(H28,Secteurs!$A$2:$C$4,3) -> Armel SOKAMBA | J28: 0.5 | L28: 0.5 | P28: =+$E28*J28 -> 70 | Q28: =+$E28*K28 -> 0 | R28: =+$E28*L28 -> 70 | S28: =+$E28*M28 -> 0 | T28: =+$E28*N28 -> 0 | U28: =+$E28*O28 -> 0 | V28: =SUM(P28:U28) -> 140 | X28: =+V28-E28 -> 0
A29: =+IF(D29>0,1,0) -> 1 | B29: MED marché tchimbamba | C29: cash | D29: 40 | E29: 24 | F29: 45995 | G29: =+IF(A29=1,(+TODAY())-F29,"Sans objet") -> 312 | H29: 3 | I29: =VLOOKUP(H29,Secteurs!$A$2:$C$4,3) -> Armel SOKAMBA | J29: 0.5 | O29: 0.5 | P29: =+$E29*J29 -> 12 | Q29: =+$E29*K29 -> 0 | R29: =+$E29*L29 -> 0 | S29: =+$E29*M29 -> 0 | T29: =+$E29*N29 -> 0 | U29: =+$E29*O29 -> 12 | V29: =SUM(P29:U29) -> 24 | X29: =+V29-E29 -> 0
A30: =+IF(D30>0,1,0) -> 1 | B30: MED ngoyo péage | C30: cash | D30: 30 | E30: =D30*7 -> 210 | F30: 45995 | G30: =+IF(A30=1,(+TODAY())-F30,"Sans objet") -> 312 | H30: 3 | I30: =VLOOKUP(H30,Secteurs!$A$2:$C$4,3) -> Armel SOKAMBA | J30: 0.5 | L30: 0.25 | M30: 0.25 | P30: =+$E30*J30 -> 105 | Q30: =+$E30*K30 -> 0 | R30: =+$E30*L30 -> 52.5 | S30: =+$E30*M30 -> 52.5 | T30: =+$E30*N30 -> 0 | U30: =+$E30*O30 -> 0 | V30: =SUM(P30:U30) -> 210 | X30: =+V30-E30 -> 0
A31: =+IF(D31>0,1,0) -> 1 | B31: MED ex la grace vindoulou | C31: cash | D31: 22 | E31: =D31*7 -> 154 | F31: 45992 | G31: =+IF(A31=1,(+TODAY())-F31,"Sans objet") -> 315 | H31: 1 | I31: =VLOOKUP(H31,Secteurs!$A$2:$C$4,3) -> Alexis MABOUNDA | J31: 0.75 | L31: 0.25 | P31: =+$E31*J31 -> 115.5 | Q31: =+$E31*K31 -> 0 | R31: =+$E31*L31 -> 38.5 | S31: =+$E31*M31 -> 0 | T31: =+$E31*N31 -> 0 | U31: =+$E31*O31 -> 0 | V31: =SUM(P31:U31) -> 154 | X31: =+V31-E31 -> 0
A32: =+IF(D32>0,1,0) -> 1 | B32: MED marché tsourou thyster | C32: cash | D32: 26 | E32: =D32*7 -> 182 | F32: 45992 | G32: =+IF(A32=1,(+TODAY())-F32,"Sans objet") -> 315 | H32: 1 | I32: =VLOOKUP(H32,Secteurs!$A$2:$C$4,3) -> Alexis MABOUNDA | J32: 0.5 | L32: 0.5 | P32: =+$E32*J32 -> 91 | Q32: =+$E32*K32 -> 0 | R32: =+$E32*L32 -> 91 | S32: =+$E32*M32 -> 0 | T32: =+$E32*N32 -> 0 | U32: =+$E32*O32 -> 0 | V32: =SUM(P32:U32) -> 182 | X32: =+V32-E32 -> 0
A33: =+IF(D33>0,1,0) -> 1 | B33: MED MMB contre rail | C33: cash | D33: 16 | E33: =D33*7 -> 112 | F33: 45995 | G33: =+IF(A33=1,(+TODAY())-F33,"Sans objet") -> 312 | H33: 3 | I33: =VLOOKUP(H33,Secteurs!$A$2:$C$4,3) -> Armel SOKAMBA | J33: 0.5 | L33: 0.5 | P33: =+$E33*J33 -> 56 | Q33: =+$E33*K33 -> 0 | R33: =+$E33*L33 -> 56 | S33: =+$E33*M33 -> 0 | T33: =+$E33*N33 -> 0 | U33: =+$E33*O33 -> 0 | V33: =SUM(P33:U33) -> 112 | X33: =+V33-E33 -> 0
A34: =+IF(D34>0,1,0) -> 1 | B34: TOD mvoumvou sympatique | C34: cash | D34: 26 | E34: =D34*7 -> 182 | F34: 45996 | G34: =+IF(A34=1,(+TODAY())-F34,"Sans objet") -> 311 | H34: 2 | I34: =VLOOKUP(H34,Secteurs!$A$2:$C$4,3) -> Félix OVOURA | J34: 1 | P34: =+$E34*J34 -> 182 | Q34: =+$E34*K34 -> 0 | R34: =+$E34*L34 -> 0 | S34: =+$E34*M34 -> 0 | T34: =+$E34*N34 -> 0 | U34: =+$E34*O34 -> 0 | V34: =SUM(P34:U34) -> 182 | X34: =+V34-E34 -> 0
A35: =+IF(D35>0,1,0) -> 1 | B35: TOD roy | C35: cash | D35: 24 | E35: =D35*7 -> 168 | F35: 45996 | G35: =+IF(A35=1,(+TODAY())-F35,"Sans objet") -> 311 | H35: 2 | I35: =VLOOKUP(H35,Secteurs!$A$2:$C$4,3) -> Félix OVOURA | J35: 0.5 | L35: 0.5 | P35: =+$E35*J35 -> 84 | Q35: =+$E35*K35 -> 0 | R35: =+$E35*L35 -> 84 | S35: =+$E35*M35 -> 0 | T35: =+$E35*N35 -> 0 | U35: =+$E35*O35 -> 0 | V35: =SUM(P35:U35) -> 168 | X35: =+V35-E35 -> 0
A36: =+IF(D36>0,1,0) -> 1 | B36: TOD och | C36: cash | D36: 30 | E36: =D36*7 -> 210 | F36: 45996 | G36: =+IF(A36=1,(+TODAY())-F36,"Sans objet") -> 311 | H36: 2 | I36: =VLOOKUP(H36,Secteurs!$A$2:$C$4,3) -> Félix OVOURA | J36: 1 | P36: =+$E36*J36 -> 210 | Q36: =+$E36*K36 -> 0 | R36: =+$E36*L36 -> 0 | S36: =+$E36*M36 -> 0 | T36: =+$E36*N36 -> 0 | U36: =+$E36*O36 -> 0 | V36: =SUM(P36:U36) -> 210 | X36: =+V36-E36 -> 0
A37: =+IF(D37>0,1,0) -> 1 | B37: WAMAS ex moulin rouge | C37: cash | D37: 18 | E37: =D37*7 -> 126 | F37: 45993 | G37: =+IF(A37=1,(+TODAY())-F37,"Sans objet") -> 314 | H37: 3 | I37: =VLOOKUP(H37,Secteurs!$A$2:$C$4,3) -> Armel SOKAMBA | J37: 1 | P37: =+$E37*J37 -> 126 | Q37: =+$E37*K37 -> 0 | R37: =+$E37*L37 -> 0 | S37: =+$E37*M37 -> 0 | T37: =+$E37*N37 -> 0 | U37: =+$E37*O37 -> 0 | V37: =SUM(P37:U37) -> 126 | X37: =+V37-E37 -> 0
A38: =+IF(D38>0,1,0) -> 1 | B38: CHRISTINA kitoko daniel | C38: cash | D38: 24 | E38: =D38*7 -> 168 | F38: 45996 | G38: =+IF(A38=1,(+TODAY())-F38,"Sans objet") -> 311 | H38: 2 | I38: =VLOOKUP(H38,Secteurs!$A$2:$C$4,3) -> Félix OVOURA | J38: 0.5 | N38: 0.5 | P38: =+$E38*J38 -> 84 | Q38: =+$E38*K38 -> 0 | R38: =+$E38*L38 -> 0 | S38: =+$E38*M38 -> 0 | T38: =+$E38*N38 -> 84 | U38: =+$E38*O38 -> 0 | V38: =SUM(P38:U38) -> 168 | X38: =+V38-E38 -> 0
A39: =+IF(D39>0,1,0) -> 1 | B39: LOUKABOU grand marhé lumumba | C39: cash | D39: 16 | E39: =D39*7 -> 112 | F39: 45995 | G39: =+IF(A39=1,(+TODAY())-F39,"Sans objet") -> 312 | H39: 2 | I39: =VLOOKUP(H39,Secteurs!$A$2:$C$4,3) -> Félix OVOURA | J39: 0.5 | L39: 0.5 | P39: =+$E39*J39 -> 56 | Q39: =+$E39*K39 -> 0 | R39: =+$E39*L39 -> 56 | S39: =+$E39*M39 -> 0 | T39: =+$E39*N39 -> 0 | U39: =+$E39*O39 -> 0 | V39: =SUM(P39:U39) -> 112 | X39: =+V39-E39 -> 0
A40: =+IF(D40>0,1,0) -> 1 | B40: LA CITRONNELLE | C40: cash | D40: 16 | E40: =D40*7 -> 112 | F40: 45996 | G40: =+IF(A40=1,(+TODAY())-F40,"Sans objet") -> 311 | H40: 2 | I40: =VLOOKUP(H40,Secteurs!$A$2:$C$4,3) -> Félix OVOURA | J40: 1 | P40: =+$E40*J40 -> 112 | Q40: =+$E40*K40 -> 0 | R40: =+$E40*L40 -> 0 | S40: =+$E40*M40 -> 0 | T40: =+$E40*N40 -> 0 | U40: =+$E40*O40 -> 0 | V40: =SUM(P40:U40) -> 112 | X40: =+V40-E40 -> 0
...

Sheet WEEK 50
A1: N° | B1: Boulangerie | C1: Groupe | D1: Type | E1: Cons/j | F1: C° heb | G1: Date Dernière Visite | H1: Période sans visite | I1: Secteur | J1: Technico Commercial | K1: %MINOCO | L1: %FANTA | M1: %GMK | N1: %SGMP | O1: %MFB | P1: %GMC | Q1: MINOCO | R1: FANTA | S1: GMK | T1: SGMP | U1: MFB | V1: GMC | W1: Total | X1: COMMENTAIRES | AA1: Week | AB1: Minoco | AC1: Fanta | AD1: GMPN | AE1: GMK | AF1: SGMP | AG1: MFB | AH1: GMC
A2: =+IF(E2>0,1,0) -> 1 | B2: CONGO FUTUR SIAFOUMOU | C2: G2 | D2: cash | E2: 20 | F2: =E2*7 -> 140 | G2: 46000 | H2: =+IF(A2=1,(+TODAY())-G2,"Sans objet") -> 307 | I2: 1 | J2: =VLOOKUP(I2,Secteurs!$A$2:$C$4,3) -> Alexis MABOUNDA | N2: 0.5 | P2: 0.5 | Q2: =+$F2*K2 -> 0 | R2: =+$F2*L2 -> 0 | S2: =+$F2*M2 -> 0 | T2: =+$F2*N2 -> 70 | U2: =+$F2*O2 -> 0 | V2: =+$F2*P2 -> 70 | W2: =SUM(Q2:V2) -> 140 | Y2: =+W2-F2 -> 0 | AA2: 47 | AB2: 0.36 | AC2: 0.07 | AD2: =SUM(AB2:AC2) -> 0.43 | AE2: 0.109 | AF2: 0.135 | AG2: 0.104 | AH2: 0.224 | AI2: =SUM(AD2:AH2) -> 1.002
A3: =+IF(E3>0,1,0) -> 1 | B3: EL ATIGH mengo péage | C3: G1 | D3: cash | E3: 24 | F3: =E3*7 -> 168 | G3: 46002 | H3: =+IF(A3=1,(+TODAY())-G3,"Sans objet") -> 305 | I3: 1 | J3: =VLOOKUP(I3,Secteurs!$A$2:$C$4,3) -> Alexis MABOUNDA | K3: 0.5 | M3: 0.5 | Q3: =+$F3*K3 -> 84 | R3: =+$F3*L3 -> 0 | S3: =+$F3*M3 -> 84 | T3: =+$F3*N3 -> 0 | U3: =+$F3*O3 -> 0 | V3: =+$F3*P3 -> 0 | W3: =SUM(Q3:V3) -> 168 | Y3: =+W3-F3 -> 0 | AA3: 48 | AB3: 0.33 | AC3: 0.1 | AD3: =SUM(AB3:AC3) -> 0.43 | AE3: 0.093 | AF3: 0.139 | AG3: 0.109 | AH3: 0.231 | AI3: =SUM(AD3:AH3) -> 1.002
A4: =+IF(E4>0,1,0) -> 1 | B4: ATAKAHYR loandjili | C4: G1 | D4: cash | E4: 54 | F4: =E4*7 -> 378 | G4: 45992 | H4: =+IF(A4=1,(+TODAY())-G4,"Sans objet") -> 315 | I4: 1 | J4: =VLOOKUP(I4,Secteurs!$A$2:$C$4,3) -> Alexis MABOUNDA | K4: 0.75 | O4: 0.25 | Q4: 252 | R4: =+$F4*L4 -> 0 | S4: =+$F4*M4 -> 0 | T4: =+$F4*N4 -> 0 | U4: 126 | V4: =+$F4*P4 -> 0 | W4: =SUM(Q4:V4) -> 378 | Y4: =+W4-F4 -> 0 | AA4: 49 | AB4: 0.3274473 | AC4: 0.11030604 | AD4: =SUM(AB4:AC4) -> 0.43775334 | AE4: 0.092039927 | AF4: 0.14187272 | AG4: 0.093281313 | AH4: 0.2350527 | AI4: =SUM(AD4:AH4) -> 1
A5: =+IF(E5>0,1,0) -> 1 | B5: ATAKAHYR fouks | C5: G1 | D5: cash | E5: 28 | F5: =E5*7 -> 196 | G5: 45995 | H5: =+IF(A5=1,(+TODAY())-G5,"Sans objet") -> 312 | I5: 2 | J5: =VLOOKUP(I5,Secteurs!$A$2:$C$4,3) -> Félix OVOURA | K5: 0.5 | O5: 0.5 | Q5: =+$F5*K5 -> 98 | R5: =+$F5*L5 -> 0 | S5: =+$F5*M5 -> 0 | T5: =+$F5*N5 -> 0 | U5: =+$F5*O5 -> 98 | V5: =+$F5*P5 -> 0 | W5: =SUM(Q5:V5) -> 196 | Y5: =+W5-F5 -> 0 | AA5: 50 | AB5: =E146 -> 0.34874188 | AC5: =E147 -> 0.11209652 | AD5: =SUM(AB5:AC5) -> 0.4608384 | AE5: =E149 -> 0.089409096 | AF5: =E150 -> 0.11784573 | AG5: =E151 -> 0.089177065 | AH5: =E152 -> 0.24272971 | AI5: =SUM(AD5:AH5) -> 1
A6: =+IF(E6>0,1,0) -> 1 | B6: ATAKAHYR mayinga | C6: G1 | D6: cash | E6: 20 | F6: 140 | G6: 45999 | H6: =+IF(A6=1,(+TODAY())-G6,"Sans objet") -> 308 | I6: 3 | J6: =VLOOKUP(I6,Secteurs!$A$2:$C$4,3) -> Armel SOKAMBA | K6: 0.5 | P6: 0.5 | Q6: 70 | R6: =+$F6*L6 -> 0 | S6: =+$F6*M6 -> 0 | T6: =+$F6*N6 -> 0 | U6: =+$F6*O6 -> 0 | V6: 70 | W6: =SUM(Q6:V6) -> 140 | Y6: =+W6-F6 -> 0 | AA6: Variation
A7: =+IF(E7>0,1,0) -> 1 | B7: MED MMB CEG vindoulou | C7: G1 | D7: cash | E7: 20 | F7: =E7*7 -> 140 | G7: 46002 | H7: =+IF(A7=1,(+TODAY())-G7,"Sans objet") -> 305 | I7: 3 | J7: =VLOOKUP(I7,Secteurs!$A$2:$C$4,3) -> Armel SOKAMBA | K7: 0.5 | M7: 0.25 | P7: 0.25 | Q7: =+$F7*K7 -> 70 | R7: =+$F7*L7 -> 0 | S7: =+$F7*M7 -> 35 | T7: =+$F7*N7 -> 0 | U7: =+$F7*O7 -> 0 | V7: =+$F7*P7 -> 35 | W7: =SUM(Q7:V7) -> 140 | Y7: =+W7-F7 -> 0
A8: =+IF(E8>0,1,0) -> 1 | B8: MED globaline | C8: G1 | D8: cash | E8: 26 | F8: =E8*7 -> 182 | G8: 46001 | H8: =+IF(A8=1,(+TODAY())-G8,"Sans objet") -> 306 | I8: 3 | J8: =VLOOKUP(I8,Secteurs!$A$2:$C$4,3) -> Armel SOKAMBA | K8: 1 | Q8: =+$F8*K8 -> 182 | R8: =+$F8*L8 -> 0 | S8: =+$F8*M8 -> 0 | T8: =+$F8*N8 -> 0 | U8: =+$F8*O8 -> 0 | V8: =+$F8*P8 -> 0 | W8: =SUM(Q8:V8) -> 182 | Y8: =+W8-F8 -> 0
A9: =+IF(E9>0,1,0) -> 1 | B9: Ets AMITIE ex BAGDAD1 grand marché révolution | C9: G1 | D9: cash | E9: 20 | F9: =E9*7 -> 140 | G9: 46000 | H9: =+IF(A9=1,(+TODAY())-G9,"Sans objet") -> 307 | I9: 2 | J9: =VLOOKUP(I9,Secteurs!$A$2:$C$4,3) -> Félix OVOURA | K9: 0.75 | P9: 0.25 | Q9: =+$F9*K9 -> 105 | R9: =+$F9*L9 -> 0 | S9: =+$F9*M9 -> 0 | T9: =+$F9*N9 -> 0 | U9: =+$F9*O9 -> 0 | V9: =+$F9*P9 -> 35 | W9: =SUM(Q9:V9) -> 140 | Y9: =+W9-F9 -> 0
A10: =+IF(E10>0,1,0) -> 1 | B10: Ets AMITIE ex CONGO2 voungou école primaire | C10: G1 | D10: cash | E10: 20 | F10: =E10*7 -> 140 | G10: 45993 | H10: =+IF(A10=1,(+TODAY())-G10,"Sans objet") -> 314 | I10: 3 | J10: =VLOOKUP(I10,Secteurs!$A$2:$C$4,3) -> Armel SOKAMBA | K10: 1 | Q10: =+$F10*K10 -> 140 | R10: =+$F10*L10 -> 0 | S10: =+$F10*M10 -> 0 | T10: =+$F10*N10 -> 0 | U10: =+$F10*O10 -> 0 | V10: =+$F10*P10 -> 0 | W10: =SUM(Q10:V10) -> 140 | Y10: =+W10-F10 -> 0
A11: =+IF(E11>0,1,0) -> 1 | B11: Ets AMITIE ex CONGO1 kitoko daniel | C11: G1 | D11: cash | E11: 24 | F11: =E11*7 -> 168 | G11: 46000 | H11: =+IF(A11=1,(+TODAY())-G11,"Sans objet") -> 307 | I11: 2 | J11: =VLOOKUP(I11,Secteurs!$A$2:$C$4,3) -> Félix OVOURA | K11: 0.5 | M11: 0.5 | Q11: =+$F11*K11 -> 84 | R11: =+$F11*L11 -> 0 | S11: =+$F11*M11 -> 84 | T11: =+$F11*N11 -> 0 | U11: =+$F11*O11 -> 0 | V11: =+$F11*P11 -> 0 | W11: =SUM(Q11:V11) -> 168 | Y11: =+W11-F11 -> 0
A12: =+IF(E12>0,1,0) -> 1 | B12: Ets AMITIE ex BAGDAD2 Rex grand marché | C12: G1 | D12: cash | E12: 26 | F12: =E12*7 -> 182 | G12: 46000 | H12: =+IF(A12=1,(+TODAY())-G12,"Sans objet") -> 307 | I12: 2 | J12: =VLOOKUP(I12,Secteurs!$A$2:$C$4,3) -> Félix OVOURA | K12: 1 | Q12: =+$F12*K12 -> 182 | R12: =+$F12*L12 -> 0 | S12: =+$F12*M12 -> 0 | T12: =+$F12*N12 -> 0 | U12: =+$F12*O12 -> 0 | V12: =+$F12*P12 -> 0 | W12: =SUM(Q12:V12) -> 182 | Y12: =+W12-F12 -> 0
A13: =+IF(E13>0,1,0) -> 1 | B13: Ets AMITIE ex BONNE CHANCE nkouinkou dénisia | C13: G1 | D13: cash | E13: 24 | F13: =E13*7 -> 168 | G13: 46002 | H13: =+IF(A13=1,(+TODAY())-G13,"Sans objet") -> 305 | I13: 1 | J13: =VLOOKUP(I13,Secteurs!$A$2:$C$4,3) -> Alexis MABOUNDA | K13: 0.5 | M13: 0.5 | Q13: =+$F13*K13 -> 84 | R13: =+$F13*L13 -> 0 | S13: =+$F13*M13 -> 84 | T13: =+$F13*N13 -> 0 | U13: =+$F13*O13 -> 0 | V13: =+$F13*P13 -> 0 | W13: =SUM(Q13:V13) -> 168 | Y13: =+W13-F13 -> 0
A14: =+IF(E14>0,1,0) -> 1 | B14: BAH ex HACEN fond tié-tié | C14: G1 | D14: cash | E14: 36 | F14: =E14*7 -> 252 | G14: 45995 | H14: =+IF(A14=1,(+TODAY())-G14,"Sans objet") -> 312 | I14: 3 | J14: =VLOOKUP(I14,Secteurs!$A$2:$C$4,3) -> Armel SOKAMBA | K14: 0.5 | P14: 0.5 | Q14: =+$F14*K14 -> 126 | R14: =+$F14*L14 -> 0 | S14: =+$F14*M14 -> 0 | T14: =+$F14*N14 -> 0 | U14: =+$F14*O14 -> 0 | V14: =+$F14*P14 -> 126 | W14: =SUM(Q14:V14) -> 252 | Y14: =+W14-F14 -> 0
A15: =+IF(E15>0,1,0) -> 1 | B15: BAH ex SASI tié tié massola | C15: G1 | D15: cash | E15: 20 | F15: =E15*7 -> 140 | G15: 45995 | H15: =+IF(A15=1,(+TODAY())-G15,"Sans objet") -> 312 | I15: 2 | J15: =VLOOKUP(I15,Secteurs!$A$2:$C$4,3) -> Félix OVOURA | K15: 0.5 | P15: 0.5 | Q15: =+$F15*K15 -> 70 | R15: =+$F15*L15 -> 0 | S15: =+$F15*M15 -> 0 | T15: =+$F15*N15 -> 0 | U15: =+$F15*O15 -> 0 | V15: =+$F15*P15 -> 70 | W15: =SUM(Q15:V15) -> 140 | Y15: =+W15-F15 -> 0
A16: =+IF(E16>0,1,0) -> 1 | B16: BAH ex BMM paka maison blanche | C16: G1 | D16: cash | E16: 20 | F16: =E16*7 -> 140 | G16: 45995 | H16: =+IF(A16=1,(+TODAY())-G16,"Sans objet") -> 312 | I16: 3 | J16: =VLOOKUP(I16,Secteurs!$A$2:$C$4,3) -> Armel SOKAMBA | K16: 1 | Q16: =+$F16*K16 -> 140 | R16: =+$F16*L16 -> 0 | S16: =+$F16*M16 -> 0 | T16: =+$F16*N16 -> 0 | U16: =+$F16*O16 -> 0 | V16: =+$F16*P16 -> 0 | W16: =SUM(Q16:V16) -> 140 | Y16: =+W16-F16 -> 0
A17: =+IF(E17>0,1,0) -> 1 | B17: BA mvoumvou immigration | C17: G1 | D17: cash | E17: 30 | F17: =E17*7 -> 210 | G17: 46000 | H17: =+IF(A17=1,(+TODAY())-G17,"Sans objet") -> 307 | I17: 2 | J17: =VLOOKUP(I17,Secteurs!$A$2:$C$4,3) -> Félix OVOURA | K17: 0.5 | M17: 0.5 | Q17: =+$F17*K17 -> 105 | R17: =+$F17*L17 -> 0 | S17: =+$F17*M17 -> 105 | T17: =+$F17*N17 -> 0 | U17: =+$F17*O17 -> 0 | V17: =+$F17*P17 -> 0 | W17: =SUM(Q17:V17) -> 210 | Y17: =+W17-F17 -> 0
A18: =+IF(E18>0,1,0) -> 1 | B18: BA thyster mongo mpoukou | C18: G1 | D18: cash | E18: 16 | F18: =E18*7 -> 112 | G18: 46002 | H18: =+IF(A18=1,(+TODAY())-G18,"Sans objet") -> 305 | I18: 1 | J18: =VLOOKUP(I18,Secteurs!$A$2:$C$4,3) -> Alexis MABOUNDA | K18: 0.5 | M18: 0.5 | Q18: =+$F18*K18 -> 56 | R18: =+$F18*L18 -> 0 | S18: =+$F18*M18 -> 56 | T18: =+$F18*N18 -> 0 | U18: =+$F18*O18 -> 0 | V18: =+$F18*P18 -> 0 | W18: =SUM(Q18:V18) -> 112 | Y18: =+W18-F18 -> 0
A19: =+IF(E19>0,1,0) -> 1 | B19: BA mpaka dalette | C19: G1 | D19: cash | E19: 26 | F19: =E19*7 -> 182 | G19: 45993 | H19: =+IF(A19=1,(+TODAY())-G19,"Sans objet") -> 314 | I19: 3 | J19: =VLOOKUP(I19,Secteurs!$A$2:$C$4,3) -> Armel SOKAMBA | K19: 0.5 | M19: 0.25 | N19: 0.25 | Q19: =+$F19*K19 -> 91 | R19: =+$F19*L19 -> 0 | S19: =+$F19*M19 -> 45.5 | T19: =+$F19*N19 -> 45.5 | U19: =+$F19*O19 -> 0 | V19: =+$F19*P19 -> 0 | W19: =SUM(Q19:V19) -> 182 | Y19: =+W19-F19 -> 0
A20: =+IF(E20>0,1,0) -> 1 | B20: BA fond tié-tié gar | C20: G1 | D20: cash | E20: 46 | F20: =E20*7 -> 322 | G20: 45995 | H20: =+IF(A20=1,(+TODAY())-G20,"Sans objet") -> 312 | I20: 3 | J20: =VLOOKUP(I20,Secteurs!$A$2:$C$4,3) -> Armel SOKAMBA | K20: 0.5 | O20: 0.5 | Q20: =+$F20*K20 -> 161 | R20: =+$F20*L20 -> 0 | S20: =+$F20*M20 -> 0 | T20: =+$F20*N20 -> 0 | U20: =+$F20*O20 -> 161 | V20: =+$F20*P20 -> 0 | W20: =SUM(Q20:V20) -> 322 | Y20: =+W20-F20 -> 0
A21: =+IF(E21>0,1,0) -> 1 | B21: BA mpaka marché | C21: G1 | D21: cash | E21: 20 | F21: =E21*7 -> 140 | G21: 45995 | H21: =+IF(A21=1,(+TODAY())-G21,"Sans objet") -> 312 | I21: 3 | J21: =VLOOKUP(I21,Secteurs!$A$2:$C$4,3) -> Armel SOKAMBA | K21: 0.5 | N21: 0.5 | Q21: =+$F21*K21 -> 70 | R21: =+$F21*L21 -> 0 | S21: =+$F21*M21 -> 0 | T21: =+$F21*N21 -> 70 | U21: =+$F21*O21 -> 0 | V21: =+$F21*P21 -> 0 | W21: =SUM(Q21:V21) -> 140 | Y21: =+W21-F21 -> 0
A22: =+IF(E22>0,1,0) -> 1 | B22: BA ngoyo | C22: G1 | D22: cash | E22: 26 | F22: =E22*7 -> 182 | G22: 46001 | H22: =+IF(A22=1,(+TODAY())-G22,"Sans objet") -> 306 | I22: 3 | J22: =VLOOKUP(I22,Secteurs!$A$2:$C$4,3) -> Armel SOKAMBA | K22: 1 | Q22: =+$F22*K22 -> 182 | R22: =+$F22*L22 -> 0 | S22: =+$F22*M22 -> 0 | T22: =+$F22*N22 -> 0 | U22: =+$F22*O22 -> 0 | V22: =+$F22*P22 -> 0 | W22: =SUM(Q22:V22) -> 182 | Y22: =+W22-F22 -> 0
A23: =+IF(E23>0,1,0) -> 1 | B23: BA fond tié-tié en allant vers voungou | C23: G1 | D23: cash | E23: 20 | F23: =E23*7 -> 140 | G23: 45995 | H23: =+IF(A23=1,(+TODAY())-G23,"Sans objet") -> 312 | I23: 3 | J23: =VLOOKUP(I23,Secteurs!$A$2:$C$4,3) -> Armel SOKAMBA | K23: 0.75 | M23: 0.25 | Q23: =+$F23*K23 -> 105 | R23: =+$F23*L23 -> 0 | S23: =+$F23*M23 -> 35 | T23: =+$F23*N23 -> 0 | U23: =+$F23*O23 -> 0 | V23: =+$F23*P23 -> 0 | W23: =SUM(Q23:V23) -> 140 | Y23: =+W23-F23 -> 0
A24: =+IF(E24>0,1,0) -> 1 | B24: NEINA REPUBLIQUE marché bissongo | C24: G1 | D24: cash | E24: 18 | F24: =E24*7 -> 126 | G24: 45993 | H24: =+IF(A24=1,(+TODAY())-G24,"Sans objet") -> 314 | I24: 3 | J24: =VLOOKUP(I24,Secteurs!$A$2:$C$4,3) -> Armel SOKAMBA | K24: 0.5 | P24: 0.5 | Q24: =+$F24*K24 -> 63 | R24: =+$F24*L24 -> 0 | S24: =+$F24*M24 -> 0 | T24: =+$F24*N24 -> 0 | U24: =+$F24*O24 -> 0 | V24: =+$F24*P24 -> 63 | W24: =SUM(Q24:V24) -> 126 | Y24: =+W24-F24 -> 0
A25: =+IF(E25>0,1,0) -> 1 | B25: NEINA REPUBLIQUE ngoyo central | C25: G1 | D25: cash | E25: 24 | F25: =E25*7 -> 168 | G25: 46001 | H25: =+IF(A25=1,(+TODAY())-G25,"Sans objet") -> 306 | I25: 3 | J25: =VLOOKUP(I25,Secteurs!$A$2:$C$4,3) -> Armel SOKAMBA | K25: 0.5 | P25: 0.5 | Q25: =+$F25*K25 -> 84 | R25: =+$F25*L25 -> 0 | S25: =+$F25*M25 -> 0 | T25: =+$F25*N25 -> 0 | U25: =+$F25*O25 -> 0 | V25: =+$F25*P25 -> 84 | W25: =SUM(Q25:V25) -> 168 | Y25: =+W25-F25 -> 0
A26: =+IF(E26>0,1,0) -> 1 | B26: NEINA REPUBLIQUE grand marché | C26: G1 | D26: cash | E26: 26 | F26: =E26*7 -> 182 | G26: 46000 | H26: =+IF(A26=1,(+TODAY())-G26,"Sans objet") -> 307 | I26: 2 | J26: =VLOOKUP(I26,Secteurs!$A$2:$C$4,3) -> Félix OVOURA | K26: 0.5 | P26: 0.5 | Q26: =+$F26*K26 -> 91 | R26: =+$F26*L26 -> 0 | S26: =+$F26*M26 -> 0 | T26: =+$F26*N26 -> 0 | U26: =+$F26*O26 -> 0 | V26: =+$F26*P26 -> 91 | W26: =SUM(Q26:V26) -> 182 | Y26: =+W26-F26 -> 0
A27: =+IF(E27>0,1,0) -> 1 | B27: NEINA REPUBLIQUE tchimbambouka | C27: G1 | D27: cash | E27: 20 | F27: =E27*7 -> 140 | G27: 46001 | H27: =+IF(A27=1,(+TODAY())-G27,"Sans objet") -> 306 | I27: 3 | J27: =VLOOKUP(I27,Secteurs!$A$2:$C$4,3) -> Armel SOKAMBA | K27: 1 | Q27: =+$F27*K27 -> 140 | R27: =+$F27*L27 -> 0 | S27: =+$F27*M27 -> 0 | T27: =+$F27*N27 -> 0 | U27: =+$F27*O27 -> 0 | V27: =+$F27*P27 -> 0 | W27: =SUM(Q27:V27) -> 140 | Y27: =+W27-F27 -> 0
A28: =+IF(E28>0,1,0) -> 1 | B28: MED MMB deux poteaux | C28: G1 | D28: cash | E28: 20 | F28: =E28*7 -> 140 | G28: 45999 | H28: =+IF(A28=1,(+TODAY())-G28,"Sans objet") -> 308 | I28: 3 | J28: =VLOOKUP(I28,Secteurs!$A$2:$C$4,3) -> Armel SOKAMBA | K28: 1 | Q28: =+$F28*K28 -> 140 | R28: =+$F28*L28 -> 0 | S28: =+$F28*M28 -> 0 | T28: =+$F28*N28 -> 0 | U28: =+$F28*O28 -> 0 | V28: =+$F28*P28 -> 0 | W28: =SUM(Q28:V28) -> 140 | Y28: =+W28-F28 -> 0
A29: =+IF(E29>0,1,0) -> 1 | B29: MED marché tchimbamba | C29: G1 | D29: cash | E29: 26 | F29: 24 | G29: 45995 | H29: =+IF(A29=1,(+TODAY())-G29,"Sans objet") -> 312 | I29: 3 | J29: =VLOOKUP(I29,Secteurs!$A$2:$C$4,3) -> Armel SOKAMBA | K29: 0.5 | M29: 0.5 | Q29: =+$F29*K29 -> 12 | R29: =+$F29*L29 -> 0 | S29: =+$F29*M29 -> 12 | T29: =+$F29*N29 -> 0 | U29: =+$F29*O29 -> 0 | V29: =+$F29*P29 -> 0 | W29: =SUM(Q29:V29) -> 24 | Y29: =+W29-F29 -> 0
A30: =+IF(E30>0,1,0) -> 1 | B30: MED ngoyo péage | C30: G1 | D30: cash | E30: 30 | F30: =E30*7 -> 210 | G30: 46001 | H30: =+IF(A30=1,(+TODAY())-G30,"Sans objet") -> 306 | I30: 3 | J30: =VLOOKUP(I30,Secteurs!$A$2:$C$4,3) -> Armel SOKAMBA | K30: 0.5 | M30: 0.25 | N30: 0.25 | Q30: =+$F30*K30 -> 105 | R30: =+$F30*L30 -> 0 | S30: =+$F30*M30 -> 52.5 | T30: =+$F30*N30 -> 52.5 | U30: =+$F30*O30 -> 0 | V30: =+$F30*P30 -> 0 | W30: =SUM(Q30:V30) -> 210 | Y30: =+W30-F30 -> 0
A31: =+IF(E31>0,1,0) -> 1 | B31: MED ex la grace vindoulou | C31: G1 | D31: cash | E31: 24 | F31: =E31*7 -> 168 | G31: 46002 | H31: =+IF(A31=1,(+TODAY())-G31,"Sans objet") -> 305 | I31: 1 | J31: =VLOOKUP(I31,Secteurs!$A$2:$C$4,3) -> Alexis MABOUNDA | K31: 0.75 | M31: 0.25 | Q31: =+$F31*K31 -> 126 | R31: =+$F31*L31 -> 0 | S31: =+$F31*M31 -> 42 | T31: =+$F31*N31 -> 0 | U31: =+$F31*O31 -> 0 | V31: =+$F31*P31 -> 0 | W31: =SUM(Q31:V31) -> 168 | Y31: =+W31-F31 -> 0
A32: =+IF(E32>0,1,0) -> 1 | B32: MED marché tsourou thyster | C32: G1 | D32: cash | E32: 22 | F32: =E32*7 -> 154 | G32: 46002 | H32: =+IF(A32=1,(+TODAY())-G32,"Sans objet") -> 305 | I32: 1 | J32: =VLOOKUP(I32,Secteurs!$A$2:$C$4,3) -> Alexis MABOUNDA | K32: 0.75 | M32: 0.25 | Q32: =+$F32*K32 -> 115.5 | R32: =+$F32*L32 -> 0 | S32: =+$F32*M32 -> 38.5 | T32: =+$F32*N32 -> 0 | U32: =+$F32*O32 -> 0 | V32: =+$F32*P32 -> 0 | W32: =SUM(Q32:V32) -> 154 | Y32: =+W32-F32 -> 0
A33: =+IF(E33>0,1,0) -> 1 | B33: MED MMB contre rail | C33: G1 | D33: cash | E33: 16 | F33: =E33*7 -> 112 | G33: 45995 | H33: =+IF(A33=1,(+TODAY())-G33,"Sans objet") -> 312 | I33: 3 | J33: =VLOOKUP(I33,Secteurs!$A$2:$C$4,3) -> Armel SOKAMBA | K33: 0.5 | M33: 0.5 | Q33: =+$F33*K33 -> 56 | R33: =+$F33*L33 -> 0 | S33: =+$F33*M33 -> 56 | T33: =+$F33*N33 -> 0 | U33: =+$F33*O33 -> 0 | V33: =+$F33*P33 -> 0 | W33: =SUM(Q33:V33) -> 112 | Y33: =+W33-F33 -> 0
A34: =+IF(E34>0,1,0) -> 1 | B34: TOD mvoumvou sympatique | C34: G1 | D34: cash | E34: 26 | F34: =E34*7 -> 182 | G34: 45996 | H34: =+IF(A34=1,(+TODAY())-G34,"Sans objet") -> 311 | I34: 2 | J34: =VLOOKUP(I34,Secteurs!$A$2:$C$4,3) -> Félix OVOURA | K34: 1 | Q34: =+$F34*K34 -> 182 | R34: =+$F34*L34 -> 0 | S34: =+$F34*M34 -> 0 | T34: =+$F34*N34 -> 0 | U34: =+$F34*O34 -> 0 | V34: =+$F34*P34 -> 0 | W34: =SUM(Q34:V34) -> 182 | Y34: =+W34-F34 -> 0
A35: =+IF(E35>0,1,0) -> 1 | B35: TOD roy | C35: G1 | D35: cash | E35: 20 | F35: =E35*7 -> 140 | G35: 46000 | H35: =+IF(A35=1,(+TODAY())-G35,"Sans objet") -> 307 | I35: 2 | J35: =VLOOKUP(I35,Secteurs!$A$2:$C$4,3) -> Félix OVOURA | K35: 1 | Q35: =+$F35*K35 -> 140 | R35: =+$F35*L35 -> 0 | S35: =+$F35*M35 -> 0 | T35: =+$F35*N35 -> 0 | U35: =+$F35*O35 -> 0 | V35: =+$F35*P35 -> 0 | W35: =SUM(Q35:V35) -> 140 | Y35: =+W35-F35 -> 0
A36: =+IF(E36>0,1,0) -> 1 | B36: TOD och | C36: G1 | D36: cash | E36: 20 | F36: =E36*7 -> 140 | G36: 46001 | H36: =+IF(A36=1,(+TODAY())-G36,"Sans objet") -> 306 | I36: 2 | J36: =VLOOKUP(I36,Secteurs!$A$2:$C$4,3) -> Félix OVOURA | K36: 0.5 | P36: 0.5 | Q36: =+$F36*K36 -> 70 | R36: =+$F36*L36 -> 0 | S36: =+$F36*M36 -> 0 | T36: =+$F36*N36 -> 0 | U36: =+$F36*O36 -> 0 | V36: =+$F36*P36 -> 70 | W36: =SUM(Q36:V36) -> 140 | Y36: =+W36-F36 -> 0
A37: =+IF(E37>0,1,0) -> 1 | B37: WAMAS ex moulin rouge | C37: Direct | D37: cash | E37: 18 | F37: =E37*7 -> 126 | G37: 45993 | H37: =+IF(A37=1,(+TODAY())-G37,"Sans objet") -> 314 | I37: 3 | J37: =VLOOKUP(I37,Secteurs!$A$2:$C$4,3) -> Armel SOKAMBA | K37: 1 | Q37: =+$F37*K37 -> 126 | R37: =+$F37*L37 -> 0 | S37: =+$F37*M37 -> 0 | T37: =+$F37*N37 -> 0 | U37: =+$F37*O37 -> 0 | V37: =+$F37*P37 -> 0 | W37: =SUM(Q37:V37) -> 126 | Y37: =+W37-F37 -> 0
A38: =+IF(E38>0,1,0) -> 1 | B38: CHRISTINA kitoko daniel | C38: Direct | D38: cash | E38: 24 | F38: =E38*7 -> 168 | G38: 46000 | H38: =+IF(A38=1,(+TODAY())-G38,"Sans objet") -> 307 | I38: 2 | J38: =VLOOKUP(I38,Secteurs!$A$2:$C$4,3) -> Félix OVOURA | K38: 0.5 | M38: 0.5 | Q38: =+$F38*K38 -> 84 | R38: =+$F38*L38 -> 0 | S38: =+$F38*M38 -> 84 | T38: =+$F38*N38 -> 0 | U38: =+$F38*O38 -> 0 | V38: =+$F38*P38 -> 0 | W38: =SUM(Q38:V38) -> 168 | Y38: =+W38-F38 -> 0
A39: =+IF(E39>0,1,0) -> 1 | B39: LOUKABOU grand marhé lumumba | C39: Direct | D39: cash | E39: 16 | F39: =E39*7 -> 112 | G39: 45995 | H39: =+IF(A39=1,(+TODAY())-G39,"Sans objet") -> 312 | I39: 2 | J39: =VLOOKUP(I39,Secteurs!$A$2:$C$4,3) -> Félix OVOURA | K39: 0.5 | M39: 0.5 | Q39: =+$F39*K39 -> 56 | R39: =+$F39*L39 -> 0 | S39: =+$F39*M39 -> 56 | T39: =+$F39*N39 -> 0 | U39: =+$F39*O39 -> 0 | V39: =+$F39*P39 -> 0 | W39: =SUM(Q39:V39) -> 112 | Y39: =+W39-F39 -> 0
A40: =+IF(E40>0,1,0) -> 1 | B40: LA CITRONNELLE | C40: Direct | D40: cash | E40: 16 | F40: =E40*7 -> 112 | G40: 45996 | H40: =+IF(A40=1,(+TODAY())-G40,"Sans objet") -> 311 | I40: 2 | J40: =VLOOKUP(I40,Secteurs!$A$2:$C$4,3) -> Félix OVOURA | K40: 1 | Q40: =+$F40*K40 -> 112 | R40: =+$F40*L40 -> 0 | S40: =+$F40*M40 -> 0 | T40: =+$F40*N40 -> 0 | U40: =+$F40*O40 -> 0 | V40: =+$F40*P40 -> 0 | W40: =SUM(Q40:V40) -> 112 | Y40: =+W40-F40 -> 0
...

Sheet WEEK 51
A1: N° | B1: Boulangerie | C1: Groupe | D1: Type | E1: Cons/j | F1: C° heb | G1: Date Dernière Visite | H1: Période sans visite | I1: Secteur | J1: Technico Commercial | K1: %MINOCO | L1: %FANTA | M1: %GMK | N1: %SGMP | O1: %MFB | P1: %GMC | Q1: MINOCO | R1: FANTA | S1: GMK | T1: SGMP | U1: MFB | V1: GMC | W1: Total | X1: COMMENTAIRES | AA1: Week | AB1: Minoco | AC1: Fanta | AD1: GMPN | AE1: GMK | AF1: SGMP | AG1: MFB | AH1: GMC
A2: =+IF(E2>0,1,0) -> 1 | B2: CONGO FUTUR SIAFOUMOU | C2: G2 | D2: crédit | E2: 20 | F2: =E2*7 -> 140 | G2: 46000 | H2: =+IF(A2=1,(+TODAY())-G2,"Sans objet") -> 307 | I2: 1 | J2: =VLOOKUP(I2,Secteurs!$A$2:$C$4,3) -> Alexis MABOUNDA | N2: 0.5 | P2: 0.5 | Q2: =+$F2*K2 -> 0 | R2: =+$F2*L2 -> 0 | S2: =+$F2*M2 -> 0 | T2: =+$F2*N2 -> 70 | U2: =+$F2*O2 -> 0 | V2: =+$F2*P2 -> 70 | W2: =SUM(Q2:V2) -> 140 | Y2: =+W2-F2 -> 0 | AA2: 48 | AB2: 0.33 | AC2: 0.1 | AD2: =SUM(AB2:AC2) -> 0.43 | AE2: 0.093 | AF2: 0.139 | AG2: 0.109 | AH2: 0.231 | AI2: =SUM(AD2:AH2) -> 1.002
A3: =+IF(E3>0,1,0) -> 1 | B3: EL ATIGH mengo péage | C3: G1 | D3: cash | E3: 24 | F3: =E3*7 -> 168 | G3: 46008 | H3: =+IF(A3=1,(+TODAY())-G3,"Sans objet") -> 299 | I3: 1 | J3: =VLOOKUP(I3,Secteurs!$A$2:$C$4,3) -> Alexis MABOUNDA | K3: 0.75 | M3: 0.25 | Q3: =+$F3*K3 -> 126 | R3: =+$F3*L3 -> 0 | S3: =+$F3*M3 -> 42 | T3: =+$F3*N3 -> 0 | U3: =+$F3*O3 -> 0 | V3: =+$F3*P3 -> 0 | W3: =SUM(Q3:V3) -> 168 | Y3: =+W3-F3 -> 0 | AA3: 49 | AB3: 0.3274473 | AC3: 0.11030604 | AD3: =SUM(AB3:AC3) -> 0.43775334 | AE3: 0.092039927 | AF3: 0.14187272 | AG3: 0.093281313 | AH3: 0.2350527 | AI3: =SUM(AD3:AH3) -> 1
A4: =+IF(E4>0,1,0) -> 1 | B4: ATAKAHYR loandjili | C4: G1 | D4: cash | E4: 54 | F4: =E4*7 -> 378 | G4: 45992 | H4: =+IF(A4=1,(+TODAY())-G4,"Sans objet") -> 315 | I4: 1 | J4: =VLOOKUP(I4,Secteurs!$A$2:$C$4,3) -> Alexis MABOUNDA | K4: 0.75 | O4: 0.25 | Q4: 252 | R4: =+$F4*L4 -> 0 | S4: =+$F4*M4 -> 0 | T4: =+$F4*N4 -> 0 | U4: 126 | V4: =+$F4*P4 -> 0 | W4: =SUM(Q4:V4) -> 378 | Y4: =+W4-F4 -> 0 | AA4: 50 | AB4: 0.34874188 | AC4: 0.11209652 | AD4: =SUM(AB4:AC4) -> 0.4608384 | AE4: 0.089409096 | AF4: 0.11784573 | AG4: 0.089177065 | AH4: 0.24272971 | AI4: =SUM(AD4:AH4) -> 1
A5: =+IF(E5>0,1,0) -> 1 | B5: ATAKAHYR fouks | C5: G1 | D5: cash | E5: 28 | F5: =E5*7 -> 196 | G5: 45999 | H5: =+IF(A5=1,(+TODAY())-G5,"Sans objet") -> 308 | I5: 2 | J5: =VLOOKUP(I5,Secteurs!$A$2:$C$4,3) -> Félix OVOURA | K5: 0.5 | O5: 0.5 | Q5: =+$F5*K5 -> 98 | R5: =+$F5*L5 -> 0 | S5: =+$F5*M5 -> 0 | T5: =+$F5*N5 -> 0 | U5: =+$F5*O5 -> 98 | V5: =+$F5*P5 -> 0 | W5: =SUM(Q5:V5) -> 196 | Y5: =+W5-F5 -> 0 | AA5: 51 | AB5: =E147 -> 0.37605907 | AC5: =E148 -> 0.11292665 | AD5: =SUM(AB5:AC5) -> 0.48898572 | AE5: =E150 -> 0.10663278 | AF5: =E151 -> 0.073499153 | AG5: =E152 -> 0.09852336 | AH5: =E153 -> 0.23235899 | AI5: =SUM(AD5:AH5) -> 1
A6: =+IF(E6>0,1,0) -> 1 | B6: ATAKAHYR mayinga | C6: G1 | D6: cash | E6: 20 | F6: 140 | G6: 46007 | H6: =+IF(A6=1,(+TODAY())-G6,"Sans objet") -> 300 | I6: 3 | J6: =VLOOKUP(I6,Secteurs!$A$2:$C$4,3) -> Armel SOKAMBA | K6: 0.5 | P6: 0.5 | Q6: 70 | R6: =+$F6*L6 -> 0 | S6: =+$F6*M6 -> 0 | T6: =+$F6*N6 -> 0 | U6: =+$F6*O6 -> 0 | V6: 70 | W6: =SUM(Q6:V6) -> 140 | Y6: =+W6-F6 -> 0 | AA6: Variation
A7: =+IF(E7>0,1,0) -> 1 | B7: MED MMB CEG vindoulou | C7: G1 | D7: cash | E7: 20 | F7: =E7*7 -> 140 | G7: 46008 | H7: =+IF(A7=1,(+TODAY())-G7,"Sans objet") -> 299 | I7: 3 | J7: Christelle ITOUA | K7: 0.5 | M7: 0.25 | P7: 0.25 | Q7: =+$F7*K7 -> 70 | R7: =+$F7*L7 -> 0 | S7: =+$F7*M7 -> 35 | T7: =+$F7*N7 -> 0 | U7: =+$F7*O7 -> 0 | V7: =+$F7*P7 -> 35 | W7: =SUM(Q7:V7) -> 140 | Y7: =+W7-F7 -> 0
A8: =+IF(E8>0,1,0) -> 1 | B8: MED globaline | C8: G1 | D8: cash | E8: 26 | F8: =E8*7 -> 182 | G8: 46007 | H8: =+IF(A8=1,(+TODAY())-G8,"Sans objet") -> 300 | I8: 3 | J8: =VLOOKUP(I8,Secteurs!$A$2:$C$4,3) -> Armel SOKAMBA | K8: 1 | Q8: =+$F8*K8 -> 182 | R8: =+$F8*L8 -> 0 | S8: =+$F8*M8 -> 0 | T8: =+$F8*N8 -> 0 | U8: =+$F8*O8 -> 0 | V8: =+$F8*P8 -> 0 | W8: =SUM(Q8:V8) -> 182 | Y8: =+W8-F8 -> 0
A9: =+IF(E9>0,1,0) -> 1 | B9: Ets AMITIE ex BAGDAD1 grand marché révolution | C9: G1 | D9: cash | E9: 20 | F9: =E9*7 -> 140 | G9: 46000 | H9: =+IF(A9=1,(+TODAY())-G9,"Sans objet") -> 307 | I9: 2 | J9: =VLOOKUP(I9,Secteurs!$A$2:$C$4,3) -> Félix OVOURA | K9: 0.75 | P9: 0.25 | Q9: =+$F9*K9 -> 105 | R9: =+$F9*L9 -> 0 | S9: =+$F9*M9 -> 0 | T9: =+$F9*N9 -> 0 | U9: =+$F9*O9 -> 0 | V9: =+$F9*P9 -> 35 | W9: =SUM(Q9:V9) -> 140 | Y9: =+W9-F9 -> 0
A10: =+IF(E10>0,1,0) -> 1 | B10: Ets AMITIE ex CONGO2 voungou école primaire | C10: G1 | D10: cash | E10: 20 | F10: =E10*7 -> 140 | G10: 46007 | H10: =+IF(A10=1,(+TODAY())-G10,"Sans objet") -> 300 | I10: 3 | J10: =VLOOKUP(I10,Secteurs!$A$2:$C$4,3) -> Armel SOKAMBA | K10: 1 | Q10: =+$F10*K10 -> 140 | R10: =+$F10*L10 -> 0 | S10: =+$F10*M10 -> 0 | T10: =+$F10*N10 -> 0 | U10: =+$F10*O10 -> 0 | V10: =+$F10*P10 -> 0 | W10: =SUM(Q10:V10) -> 140 | Y10: =+W10-F10 -> 0
A11: =+IF(E11>0,1,0) -> 1 | B11: Ets AMITIE ex CONGO1 kitoko daniel | C11: G1 | D11: cash | E11: 24 | F11: =E11*7 -> 168 | G11: 46000 | H11: =+IF(A11=1,(+TODAY())-G11,"Sans objet") -> 307 | I11: 2 | J11: =VLOOKUP(I11,Secteurs!$A$2:$C$4,3) -> Félix OVOURA | K11: 0.5 | M11: 0.5 | Q11: =+$F11*K11 -> 84 | R11: =+$F11*L11 -> 0 | S11: =+$F11*M11 -> 84 | T11: =+$F11*N11 -> 0 | U11: =+$F11*O11 -> 0 | V11: =+$F11*P11 -> 0 | W11: =SUM(Q11:V11) -> 168 | Y11: =+W11-F11 -> 0
A12: =+IF(E12>0,1,0) -> 1 | B12: Ets AMITIE ex BAGDAD2 Rex grand marché | C12: G1 | D12: cash | E12: 26 | F12: =E12*7 -> 182 | G12: 46000 | H12: =+IF(A12=1,(+TODAY())-G12,"Sans objet") -> 307 | I12: 2 | J12: =VLOOKUP(I12,Secteurs!$A$2:$C$4,3) -> Félix OVOURA | K12: 1 | Q12: =+$F12*K12 -> 182 | R12: =+$F12*L12 -> 0 | S12: =+$F12*M12 -> 0 | T12: =+$F12*N12 -> 0 | U12: =+$F12*O12 -> 0 | V12: =+$F12*P12 -> 0 | W12: =SUM(Q12:V12) -> 182 | Y12: =+W12-F12 -> 0
A13: =+IF(E13>0,1,0) -> 1 | B13: Ets AMITIE ex BONNE CHANCE nkouinkou dénisia | C13: G1 | D13: cash | E13: 24 | F13: =E13*7 -> 168 | G13: 46008 | H13: =+IF(A13=1,(+TODAY())-G13,"Sans objet") -> 299 | I13: 1 | J13: =VLOOKUP(I13,Secteurs!$A$2:$C$4,3) -> Alexis MABOUNDA | K13: 0.5 | M13: 0.5 | Q13: =+$F13*K13 -> 84 | R13: =+$F13*L13 -> 0 | S13: =+$F13*M13 -> 84 | T13: =+$F13*N13 -> 0 | U13: =+$F13*O13 -> 0 | V13: =+$F13*P13 -> 0 | W13: =SUM(Q13:V13) -> 168 | Y13: =+W13-F13 -> 0
A14: =+IF(E14>0,1,0) -> 1 | B14: BAH ex HACEN fond tié-tié | C14: G1 | D14: cash | E14: 36 | F14: =E14*7 -> 252 | G14: 46009 | H14: =+IF(A14=1,(+TODAY())-G14,"Sans objet") -> 298 | I14: 3 | J14: =VLOOKUP(I14,Secteurs!$A$2:$C$4,3) -> Armel SOKAMBA | K14: 0.5 | P14: 0.5 | Q14: =+$F14*K14 -> 126 | R14: =+$F14*L14 -> 0 | S14: =+$F14*M14 -> 0 | T14: =+$F14*N14 -> 0 | U14: =+$F14*O14 -> 0 | V14: =+$F14*P14 -> 126 | W14: =SUM(Q14:V14) -> 252 | Y14: =+W14-F14 -> 0
A15: =+IF(E15>0,1,0) -> 1 | B15: BAH ex SASI tié tié massola | C15: G1 | D15: cash | E15: 20 | F15: =E15*7 -> 140 | G15: 46009 | H15: =+IF(A15=1,(+TODAY())-G15,"Sans objet") -> 298 | I15: 2 | J15: =VLOOKUP(I15,Secteurs!$A$2:$C$4,3) -> Félix OVOURA | K15: 0.75 | P15: 0.25 | Q15: =+$F15*K15 -> 105 | R15: =+$F15*L15 -> 0 | S15: =+$F15*M15 -> 0 | T15: =+$F15*N15 -> 0 | U15: =+$F15*O15 -> 0 | V15: =+$F15*P15 -> 35 | W15: =SUM(Q15:V15) -> 140 | Y15: =+W15-F15 -> 0
A16: =+IF(E16>0,1,0) -> 1 | B16: BAH ex BMM paka maison blanche | C16: G1 | D16: cash | E16: 20 | F16: =E16*7 -> 140 | G16: 46009 | H16: =+IF(A16=1,(+TODAY())-G16,"Sans objet") -> 298 | I16: 3 | J16: =VLOOKUP(I16,Secteurs!$A$2:$C$4,3) -> Armel SOKAMBA | K16: 1 | Q16: =+$F16*K16 -> 140 | R16: =+$F16*L16 -> 0 | S16: =+$F16*M16 -> 0 | T16: =+$F16*N16 -> 0 | U16: =+$F16*O16 -> 0 | V16: =+$F16*P16 -> 0 | W16: =SUM(Q16:V16) -> 140 | Y16: =+W16-F16 -> 0
A17: =+IF(E17>0,1,0) -> 1 | B17: BA mvoumvou immigration | C17: G1 | D17: cash | E17: 30 | F17: =E17*7 -> 210 | G17: 46000 | H17: =+IF(A17=1,(+TODAY())-G17,"Sans objet") -> 307 | I17: 2 | J17: =VLOOKUP(I17,Secteurs!$A$2:$C$4,3) -> Félix OVOURA | K17: 0.5 | M17: 0.5 | Q17: =+$F17*K17 -> 105 | R17: =+$F17*L17 -> 0 | S17: =+$F17*M17 -> 105 | T17: =+$F17*N17 -> 0 | U17: =+$F17*O17 -> 0 | V17: =+$F17*P17 -> 0 | W17: =SUM(Q17:V17) -> 210 | Y17: =+W17-F17 -> 0
A18: =+IF(E18>0,1,0) -> 1 | B18: BA thyster mongo mpoukou | C18: G1 | D18: cash | E18: 16 | F18: =E18*7 -> 112 | G18: 46008 | H18: =+IF(A18=1,(+TODAY())-G18,"Sans objet") -> 299 | I18: 1 | J18: =VLOOKUP(I18,Secteurs!$A$2:$C$4,3) -> Alexis MABOUNDA | K18: 0.5 | M18: 0.5 | Q18: =+$F18*K18 -> 56 | R18: =+$F18*L18 -> 0 | S18: =+$F18*M18 -> 56 | T18: =+$F18*N18 -> 0 | U18: =+$F18*O18 -> 0 | V18: =+$F18*P18 -> 0 | W18: =SUM(Q18:V18) -> 112 | Y18: =+W18-F18 -> 0
A19: =+IF(E19>0,1,0) -> 1 | B19: BA mpaka dalette | C19: G1 | D19: cash | E19: 26 | F19: =E19*7 -> 182 | G19: 46009 | H19: =+IF(A19=1,(+TODAY())-G19,"Sans objet") -> 298 | I19: 3 | J19: =VLOOKUP(I19,Secteurs!$A$2:$C$4,3) -> Armel SOKAMBA | K19: 0.5 | O19: 0.5 | Q19: =+$F19*K19 -> 91 | R19: =+$F19*L19 -> 0 | S19: =+$F19*M19 -> 0 | T19: =+$F19*N19 -> 0 | U19: =+$F19*O19 -> 91 | V19: =+$F19*P19 -> 0 | W19: =SUM(Q19:V19) -> 182 | Y19: =+W19-F19 -> 0
A20: =+IF(E20>0,1,0) -> 1 | B20: BA fond tié-tié gar | C20: G1 | D20: cash | E20: 46 | F20: =E20*7 -> 322 | G20: 46007 | H20: =+IF(A20=1,(+TODAY())-G20,"Sans objet") -> 300 | I20: 3 | J20: =VLOOKUP(I20,Secteurs!$A$2:$C$4,3) -> Armel SOKAMBA | K20: 0.5 | M20: 0.5 | Q20: =+$F20*K20 -> 161 | R20: =+$F20*L20 -> 0 | S20: =+$F20*M20 -> 161 | T20: =+$F20*N20 -> 0 | U20: =+$F20*O20 -> 0 | V20: =+$F20*P20 -> 0 | W20: =SUM(Q20:V20) -> 322 | Y20: =+W20-F20 -> 0
A21: =+IF(E21>0,1,0) -> 1 | B21: BA mpaka marché | C21: G1 | D21: cash | E21: 20 | F21: =E21*7 -> 140 | G21: 46009 | H21: =+IF(A21=1,(+TODAY())-G21,"Sans objet") -> 298 | I21: 3 | J21: =VLOOKUP(I21,Secteurs!$A$2:$C$4,3) -> Armel SOKAMBA | K21: 0.5 | P21: 0.5 | Q21: =+$F21*K21 -> 70 | R21: =+$F21*L21 -> 0 | S21: =+$F21*M21 -> 0 | T21: =+$F21*N21 -> 0 | U21: =+$F21*O21 -> 0 | V21: =+$F21*P21 -> 70 | W21: =SUM(Q21:V21) -> 140 | Y21: =+W21-F21 -> 0
A22: =+IF(E22>0,1,0) -> 1 | B22: BA ngoyo | C22: G1 | D22: cash | E22: 26 | F22: =E22*7 -> 182 | G22: 46001 | H22: =+IF(A22=1,(+TODAY())-G22,"Sans objet") -> 306 | I22: 3 | J22: =VLOOKUP(I22,Secteurs!$A$2:$C$4,3) -> Armel SOKAMBA | K22: 1 | Q22: =+$F22*K22 -> 182 | R22: =+$F22*L22 -> 0 | S22: =+$F22*M22 -> 0 | T22: =+$F22*N22 -> 0 | U22: =+$F22*O22 -> 0 | V22: =+$F22*P22 -> 0 | W22: =SUM(Q22:V22) -> 182 | Y22: =+W22-F22 -> 0
A23: =+IF(E23>0,1,0) -> 1 | B23: BA fond tié-tié en allant vers voungou | C23: G1 | D23: cash | E23: 20 | F23: =E23*7 -> 140 | G23: 46007 | H23: =+IF(A23=1,(+TODAY())-G23,"Sans objet") -> 300 | I23: 3 | J23: =VLOOKUP(I23,Secteurs!$A$2:$C$4,3) -> Armel SOKAMBA | K23: 0.75 | P23: 0.25 | Q23: =+$F23*K23 -> 105 | R23: =+$F23*L23 -> 0 | S23: =+$F23*M23 -> 0 | T23: =+$F23*N23 -> 0 | U23: =+$F23*O23 -> 0 | V23: =+$F23*P23 -> 35 | W23: =SUM(Q23:V23) -> 140 | Y23: =+W23-F23 -> 0
A24: =+IF(E24>0,1,0) -> 1 | B24: NEINA REPUBLIQUE marché bissongo | C24: G1 | D24: cash | E24: 18 | F24: =E24*7 -> 126 | G24: 46007 | H24: =+IF(A24=1,(+TODAY())-G24,"Sans objet") -> 300 | I24: 3 | J24: =VLOOKUP(I24,Secteurs!$A$2:$C$4,3) -> Armel SOKAMBA | K24: 0.5 | P24: 0.5 | Q24: =+$F24*K24 -> 63 | R24: =+$F24*L24 -> 0 | S24: =+$F24*M24 -> 0 | T24: =+$F24*N24 -> 0 | U24: =+$F24*O24 -> 0 | V24: =+$F24*P24 -> 63 | W24: =SUM(Q24:V24) -> 126 | Y24: =+W24-F24 -> 0
A25: =+IF(E25>0,1,0) -> 1 | B25: NEINA REPUBLIQUE ngoyo central | C25: G1 | D25: cash | E25: 24 | F25: =E25*7 -> 168 | G25: 46001 | H25: =+IF(A25=1,(+TODAY())-G25,"Sans objet") -> 306 | I25: 3 | J25: =VLOOKUP(I25,Secteurs!$A$2:$C$4,3) -> Armel SOKAMBA | K25: 0.5 | P25: 0.5 | Q25: =+$F25*K25 -> 84 | R25: =+$F25*L25 -> 0 | S25: =+$F25*M25 -> 0 | T25: =+$F25*N25 -> 0 | U25: =+$F25*O25 -> 0 | V25: =+$F25*P25 -> 84 | W25: =SUM(Q25:V25) -> 168 | Y25: =+W25-F25 -> 0
A26: =+IF(E26>0,1,0) -> 1 | B26: NEINA REPUBLIQUE grand marché | C26: G1 | D26: cash | E26: 26 | F26: =E26*7 -> 182 | G26: 46000 | H26: =+IF(A26=1,(+TODAY())-G26,"Sans objet") -> 307 | I26: 2 | J26: =VLOOKUP(I26,Secteurs!$A$2:$C$4,3) -> Félix OVOURA | K26: 0.5 | P26: 0.5 | Q26: =+$F26*K26 -> 91 | R26: =+$F26*L26 -> 0 | S26: =+$F26*M26 -> 0 | T26: =+$F26*N26 -> 0 | U26: =+$F26*O26 -> 0 | V26: =+$F26*P26 -> 91 | W26: =SUM(Q26:V26) -> 182 | Y26: =+W26-F26 -> 0
A27: =+IF(E27>0,1,0) -> 1 | B27: NEINA REPUBLIQUE tchimbambouka | C27: G1 | D27: cash | E27: 20 | F27: =E27*7 -> 140 | G27: 46001 | H27: =+IF(A27=1,(+TODAY())-G27,"Sans objet") -> 306 | I27: 3 | J27: =VLOOKUP(I27,Secteurs!$A$2:$C$4,3) -> Armel SOKAMBA | K27: 1 | Q27: =+$F27*K27 -> 140 | R27: =+$F27*L27 -> 0 | S27: =+$F27*M27 -> 0 | T27: =+$F27*N27 -> 0 | U27: =+$F27*O27 -> 0 | V27: =+$F27*P27 -> 0 | W27: =SUM(Q27:V27) -> 140 | Y27: =+W27-F27 -> 0
A28: =+IF(E28>0,1,0) -> 1 | B28: MED MMB deux poteaux | C28: G1 | D28: cash | E28: 20 | F28: =E28*7 -> 140 | G28: 46001 | H28: =+IF(A28=1,(+TODAY())-G28,"Sans objet") -> 306 | I28: 3 | J28: =VLOOKUP(I28,Secteurs!$A$2:$C$4,3) -> Armel SOKAMBA | K28: 1 | Q28: =+$F28*K28 -> 140 | R28: =+$F28*L28 -> 0 | S28: =+$F28*M28 -> 0 | T28: =+$F28*N28 -> 0 | U28: =+$F28*O28 -> 0 | V28: =+$F28*P28 -> 0 | W28: =SUM(Q28:V28) -> 140 | Y28: =+W28-F28 -> 0
A29: =+IF(E29>0,1,0) -> 1 | B29: MED marché tchimbamba | C29: G1 | D29: cash | E29: 26 | F29: 24 | G29: 46001 | H29: =+IF(A29=1,(+TODAY())-G29,"Sans objet") -> 306 | I29: 3 | J29: =VLOOKUP(I29,Secteurs!$A$2:$C$4,3) -> Armel SOKAMBA | K29: 0.5 | M29: 0.5 | Q29: =+$F29*K29 -> 12 | R29: =+$F29*L29 -> 0 | S29: =+$F29*M29 -> 12 | T29: =+$F29*N29 -> 0 | U29: =+$F29*O29 -> 0 | V29: =+$F29*P29 -> 0 | W29: =SUM(Q29:V29) -> 24 | Y29: =+W29-F29 -> 0
A30: =+IF(E30>0,1,0) -> 1 | B30: MED ngoyo péage | C30: G1 | D30: cash | E30: 30 | F30: =E30*7 -> 210 | G30: 46001 | H30: =+IF(A30=1,(+TODAY())-G30,"Sans objet") -> 306 | I30: 3 | J30: =VLOOKUP(I30,Secteurs!$A$2:$C$4,3) -> Armel SOKAMBA | K30: 0.5 | M30: 0.5 | Q30: =+$F30*K30 -> 105 | R30: =+$F30*L30 -> 0 | S30: =+$F30*M30 -> 105 | T30: =+$F30*N30 -> 0 | U30: =+$F30*O30 -> 0 | V30: =+$F30*P30 -> 0 | W30: =SUM(Q30:V30) -> 210 | Y30: =+W30-F30 -> 0
A31: =+IF(E31>0,1,0) -> 1 | B31: MED ex la grace vindoulou | C31: G1 | D31: cash | E31: 24 | F31: =E31*7 -> 168 | G31: 46008 | H31: =+IF(A31=1,(+TODAY())-G31,"Sans objet") -> 299 | I31: 1 | J31: =VLOOKUP(I31,Secteurs!$A$2:$C$4,3) -> Alexis MABOUNDA | K31: 0.75 | M31: 0.25 | Q31: =+$F31*K31 -> 126 | R31: =+$F31*L31 -> 0 | S31: =+$F31*M31 -> 42 | T31: =+$F31*N31 -> 0 | U31: =+$F31*O31 -> 0 | V31: =+$F31*P31 -> 0 | W31: =SUM(Q31:V31) -> 168 | Y31: =+W31-F31 -> 0
A32: =+IF(E32>0,1,0) -> 1 | B32: MMB Licee vindoulou | D32: cash | E32: 10 | F32: =E32*7 -> 70 | G32: 46008 | H32: =+IF(A32=1,(+TODAY())-G32,"Sans objet") -> 299 | I32: 1 | J32: Christelle ITOUA | K32: 0.5 | M32: 0.5 | Q32: =+$F32*K32 -> 35 | R32: =+$F32*L32 -> 0 | S32: =+$F32*M32 -> 35 | T32: =+$F32*N32 -> 0 | U32: =+$F32*O32 -> 0 | V32: =+$F32*P32 -> 0 | W32: =SUM(Q32:V32) -> 70 | Y32: =+W32-F32 -> 0
A33: =+IF(E33>0,1,0) -> 1 | B33: MED marché tsourou thyster | C33: G1 | D33: cash | E33: 22 | F33: =E33*7 -> 154 | G33: 46008 | H33: =+IF(A33=1,(+TODAY())-G33,"Sans objet") -> 299 | I33: 1 | J33: =VLOOKUP(I33,Secteurs!$A$2:$C$4,3) -> Alexis MABOUNDA | K33: 0.5 | M33: 0.25 | O33: 0.25 | Q33: =+$F33*K33 -> 77 | R33: =+$F33*L33 -> 0 | S33: =+$F33*M33 -> 38.5 | T33: =+$F33*N33 -> 0 | U33: =+$F33*O33 -> 38.5 | V33: =+$F33*P33 -> 0 | W33: =SUM(Q33:V33) -> 154 | Y33: =+W33-F33 -> 0
A34: =+IF(E34>0,1,0) -> 1 | B34: MED MMB contre rail | C34: G1 | D34: cash | E34: 16 | F34: =E34*7 -> 112 | G34: 46009 | H34: =+IF(A34=1,(+TODAY())-G34,"Sans objet") -> 298 | I34: 3 | J34: =VLOOKUP(I34,Secteurs!$A$2:$C$4,3) -> Armel SOKAMBA | L34: 0.5 | N34: 0.5 | Q34: =+$F34*K34 -> 0 | R34: =+$F34*L34 -> 56 | S34: =+$F34*M34 -> 0 | T34: =+$F34*N34 -> 56 | U34: =+$F34*O34 -> 0 | V34: =+$F34*P34 -> 0 | W34: =SUM(Q34:V34) -> 112 | Y34: =+W34-F34 -> 0
A35: =+IF(E35>0,1,0) -> 1 | B35: TOD mvoumvou sympatique | C35: G1 | D35: cash | E35: 26 | F35: =E35*7 -> 182 | G35: 46006 | H35: =+IF(A35=1,(+TODAY())-G35,"Sans objet") -> 301 | I35: 2 | J35: =VLOOKUP(I35,Secteurs!$A$2:$C$4,3) -> Félix OVOURA | K35: 1 | Q35: =+$F35*K35 -> 182 | R35: =+$F35*L35 -> 0 | S35: =+$F35*M35 -> 0 | T35: =+$F35*N35 -> 0 | U35: =+$F35*O35 -> 0 | V35: =+$F35*P35 -> 0 | W35: =SUM(Q35:V35) -> 182 | Y35: =+W35-F35 -> 0
A36: =+IF(E36>0,1,0) -> 1 | B36: TOD roy | C36: G1 | D36: cash | E36: 20 | F36: =E36*7 -> 140 | G36: 46000 | H36: =+IF(A36=1,(+TODAY())-G36,"Sans objet") -> 307 | I36: 2 | J36: =VLOOKUP(I36,Secteurs!$A$2:$C$4,3) -> Félix OVOURA | K36: 1 | Q36: =+$F36*K36 -> 140 | R36: =+$F36*L36 -> 0 | S36: =+$F36*M36 -> 0 | T36: =+$F36*N36 -> 0 | U36: =+$F36*O36 -> 0 | V36: =+$F36*P36 -> 0 | W36: =SUM(Q36:V36) -> 140 | Y36: =+W36-F36 -> 0
A37: =+IF(E37>0,1,0) -> 1 | B37: TOD och | C37: G1 | D37: cash | E37: 20 | F37: =E37*7 -> 140 | G37: 46009 | H37: =+IF(A37=1,(+TODAY())-G37,"Sans objet") -> 298 | I37: 2 | J37: =VLOOKUP(I37,Secteurs!$A$2:$C$4,3) -> Félix OVOURA | K37: 0.5 | M37: 0.5 | Q37: =+$F37*K37 -> 70 | R37: =+$F37*L37 -> 0 | S37: =+$F37*M37 -> 70 | T37: =+$F37*N37 -> 0 | U37: =+$F37*O37 -> 0 | V37: =+$F37*P37 -> 0 | W37: =SUM(Q37:V37) -> 140 | Y37: =+W37-F37 -> 0
A38: =+IF(E38>0,1,0) -> 1 | B38: WAMAS ex moulin rouge | C38: Direct | D38: cash | E38: 18 | F38: =E38*7 -> 126 | G38: 46006 | H38: =+IF(A38=1,(+TODAY())-G38,"Sans objet") -> 301 | I38: 3 | J38: =VLOOKUP(I38,Secteurs!$A$2:$C$4,3) -> Armel SOKAMBA | K38: 1 | Q38: =+$F38*K38 -> 126 | R38: =+$F38*L38 -> 0 | S38: =+$F38*M38 -> 0 | T38: =+$F38*N38 -> 0 | U38: =+$F38*O38 -> 0 | V38: =+$F38*P38 -> 0 | W38: =SUM(Q38:V38) -> 126 | Y38: =+W38-F38 -> 0
A39: =+IF(E39>0,1,0) -> 1 | B39: CHRISTINA kitoko daniel | C39: Direct | D39: cash | E39: 24 | F39: =E39*7 -> 168 | G39: 46000 | H39: =+IF(A39=1,(+TODAY())-G39,"Sans objet") -> 307 | I39: 2 | J39: =VLOOKUP(I39,Secteurs!$A$2:$C$4,3) -> Félix OVOURA | K39: 0.5 | M39: 0.5 | Q39: =+$F39*K39 -> 84 | R39: =+$F39*L39 -> 0 | S39: =+$F39*M39 -> 84 | T39: =+$F39*N39 -> 0 | U39: =+$F39*O39 -> 0 | V39: =+$F39*P39 -> 0 | W39: =SUM(Q39:V39) -> 168 | Y39: =+W39-F39 -> 0
A40: =+IF(E40>0,1,0) -> 1 | B40: LOUKABOU grand marhé lumumba | C40: Direct | D40: cash | E40: 16 | F40: =E40*7 -> 112 | G40: 46007 | H40: =+IF(A40=1,(+TODAY())-G40,"Sans objet") -> 300 | I40: 2 | J40: =VLOOKUP(I40,Secteurs!$A$2:$C$4,3) -> Félix OVOURA | K40: 0.5 | M40: 0.5 | Q40: =+$F40*K40 -> 56 | R40: =+$F40*L40 -> 0 | S40: =+$F40*M40 -> 56 | T40: =+$F40*N40 -> 0 | U40: =+$F40*O40 -> 0 | V40: =+$F40*P40 -> 0 | W40: =SUM(Q40:V40) -> 112 | Y40: =+W40-F40 -> 0
...

Sheet WEEK 52
A1: N° | B1: Boulangerie | C1: Groupe | D1: Type | E1: Cons/j | F1: C° heb | G1: Date Dernière Visite | H1: Période sans visite | I1: Secteur | J1: Technico Commercial | K1: %MINOCO | L1: %FANTA | M1: %GMK | N1: %SGMP | O1: %MFB | P1: %GMC | Q1: MINOCO | R1: FANTA | S1: GMK | T1: SGMP | U1: MFB | V1: GMC | W1: Total | X1: COMMENTAIRES | AA1: Week | AB1: Minoco | AC1: Fanta | AD1: GMPN | AE1: GMK | AF1: SGMP | AG1: MFB | AH1: GMC
A2: =+IF(E2>0,1,0) -> 1 | B2: CONGO FUTUR SIAFOUMOU | C2: G2 | D2: crédit | E2: 20 | F2: =E2*7 -> 140 | G2: 46015 | H2: =+IF(A2=1,(+TODAY())-G2,"Sans objet") -> 292 | I2: 1 | J2: =VLOOKUP(I2,Secteurs!$A$2:$C$4,3) -> Alexis MABOUNDA | N2: 0.5 | P2: 0.5 | Q2: =+$F2*K2 -> 0 | R2: =+$F2*L2 -> 0 | S2: =+$F2*M2 -> 0 | T2: =+$F2*N2 -> 70 | U2: =+$F2*O2 -> 0 | V2: =+$F2*P2 -> 70 | W2: =SUM(Q2:V2) -> 140 | Y2: =+W2-F2 -> 0 | AA2: 49 | AB2: 0.3274473 | AC2: 0.11030604 | AD2: =SUM(AB2:AC2) -> 0.43775334 | AE2: 0.092039927 | AF2: 0.14187272 | AG2: 0.093281313 | AH2: 0.2350527 | AI2: =SUM(AD2:AH2) -> 1
A3: =+IF(E3>0,1,0) -> 1 | B3: EL ATIGH mengo péage | C3: G1 | D3: cash | E3: 24 | F3: =E3*7 -> 168 | G3: 46008 | H3: =+IF(A3=1,(+TODAY())-G3,"Sans objet") -> 299 | I3: 1 | J3: =VLOOKUP(I3,Secteurs!$A$2:$C$4,3) -> Alexis MABOUNDA | K3: 0.75 | M3: 0.25 | Q3: =+$F3*K3 -> 126 | R3: =+$F3*L3 -> 0 | S3: =+$F3*M3 -> 42 | T3: =+$F3*N3 -> 0 | U3: =+$F3*O3 -> 0 | V3: =+$F3*P3 -> 0 | W3: =SUM(Q3:V3) -> 168 | Y3: =+W3-F3 -> 0 | AA3: 50 | AB3: 0.34874188 | AC3: 0.11209652 | AD3: =SUM(AB3:AC3) -> 0.4608384 | AE3: 0.089409096 | AF3: 0.11784573 | AG3: 0.089177065 | AH3: 0.24272971 | AI3: =SUM(AD3:AH3) -> 1
A4: =+IF(E4>0,1,0) -> 1 | B4: ATAKAHYR loandjili | C4: G1 | D4: cash | E4: 54 | F4: =E4*7 -> 378 | G4: 45992 | H4: =+IF(A4=1,(+TODAY())-G4,"Sans objet") -> 315 | I4: 1 | J4: =VLOOKUP(I4,Secteurs!$A$2:$C$4,3) -> Alexis MABOUNDA | K4: 0.75 | O4: 0.25 | Q4: 252 | R4: =+$F4*L4 -> 0 | S4: =+$F4*M4 -> 0 | T4: =+$F4*N4 -> 0 | U4: 126 | V4: =+$F4*P4 -> 0 | W4: =SUM(Q4:V4) -> 378 | Y4: =+W4-F4 -> 0 | AA4: 51 | AB4: 0.3501863 | AC4: 0.11721176 | AD4: =SUM(AB4:AC4) -> 0.46739805 | AE4: 0.095166632 | AF4: 0.10541296 | AG4: 0.088956738 | AH4: 0.24306562 | AI4: =SUM(AD4:AH4) -> 1
A5: =+IF(E5>0,1,0) -> 1 | B5: ATAKAHYR fouks | C5: G1 | D5: cash | E5: 28 | F5: =E5*7 -> 196 | G5: 46015 | H5: =+IF(A5=1,(+TODAY())-G5,"Sans objet") -> 292 | I5: 2 | J5: =VLOOKUP(I5,Secteurs!$A$2:$C$4,3) -> Félix OVOURA | K5: 0.5 | O5: 0.5 | Q5: =+$F5*K5 -> 98 | R5: =+$F5*L5 -> 0 | S5: =+$F5*M5 -> 0 | T5: =+$F5*N5 -> 0 | U5: =+$F5*O5 -> 98 | V5: =+$F5*P5 -> 0 | W5: =SUM(Q5:V5) -> 196 | Y5: =+W5-F5 -> 0 | AA5: 52 | AB5: =E147 -> 0.3286933 | AC5: =E148 -> 0.10336637 | AD5: =SUM(AB5:AC5) -> 0.43205966 | AE5: =E150 -> 0.09565284 | AF5: =E151 -> 0.11335309 | AG5: =E152 -> 0.12722211 | AH5: =E153 -> 0.2317123 | AI5: =SUM(AD5:AH5) -> 1
A6: =+IF(E6>0,1,0) -> 1 | B6: ATAKAHYR mayinga | C6: G1 | D6: cash | E6: 20 | F6: 140 | G6: 46013 | H6: =+IF(A6=1,(+TODAY())-G6,"Sans objet") -> 294 | I6: 3 | J6: =VLOOKUP(I6,Secteurs!$A$2:$C$4,3) -> Armel SOKAMBA | K6: 0.5 | O6: 0.5 | Q6: 70 | R6: =+$F6*L6 -> 0 | S6: =+$F6*M6 -> 0 | T6: =+$F6*N6 -> 0 | U6: =+$F6*O6 -> 70 | W6: =SUM(Q6:V6) -> 140 | Y6: =+W6-F6 -> 0 | AA6: Variation
A7: =+IF(E7>0,1,0) -> 1 | B7: MED MMB CEG vindoulou | C7: G1 | D7: cash | E7: 20 | F7: =E7*7 -> 140 | G7: 46008 | H7: =+IF(A7=1,(+TODAY())-G7,"Sans objet") -> 299 | I7: 3 | J7: Christelle ITOUA | K7: 0.5 | M7: 0.25 | P7: 0.25 | Q7: =+$F7*K7 -> 70 | R7: =+$F7*L7 -> 0 | S7: =+$F7*M7 -> 35 | T7: =+$F7*N7 -> 0 | U7: =+$F7*O7 -> 0 | V7: =+$F7*P7 -> 35 | W7: =SUM(Q7:V7) -> 140 | Y7: =+W7-F7 -> 0
A8: =+IF(E8>0,1,0) -> 1 | B8: MED globaline | C8: G1 | D8: cash | E8: 26 | F8: =E8*7 -> 182 | G8: 46014 | H8: =+IF(A8=1,(+TODAY())-G8,"Sans objet") -> 293 | I8: 3 | J8: =VLOOKUP(I8,Secteurs!$A$2:$C$4,3) -> Armel SOKAMBA | K8: 0.5 | N8: 0.5 | Q8: =+$F8*K8 -> 91 | R8: =+$F8*L8 -> 0 | S8: =+$F8*M8 -> 0 | T8: =+$F8*N8 -> 91 | U8: =+$F8*O8 -> 0 | V8: =+$F8*P8 -> 0 | W8: =SUM(Q8:V8) -> 182 | Y8: =+W8-F8 -> 0
A9: =+IF(E9>0,1,0) -> 1 | B9: Ets AMITIE ex BAGDAD1 grand marché révolution | C9: G1 | D9: cash | E9: 20 | F9: =E9*7 -> 140 | G9: 46000 | H9: =+IF(A9=1,(+TODAY())-G9,"Sans objet") -> 307 | I9: 2 | J9: =VLOOKUP(I9,Secteurs!$A$2:$C$4,3) -> Félix OVOURA | K9: 0.75 | P9: 0.25 | Q9: =+$F9*K9 -> 105 | R9: =+$F9*L9 -> 0 | S9: =+$F9*M9 -> 0 | T9: =+$F9*N9 -> 0 | U9: =+$F9*O9 -> 0 | V9: =+$F9*P9 -> 35 | W9: =SUM(Q9:V9) -> 140 | Y9: =+W9-F9 -> 0
