Workbook
Name ActifInactif: OFFSET(Instructions!$M$1,1,0,COUNTA(Instructions!$M:$M)-1,1)
Name ClientList: OFFSET(Clients!$G$1,1,0,COUNTA(Clients!$G:$G)-1,1)

Sheet Secteurs
A1: N° | B1: Zone | C1: Technico-Commercial
A2: 1 | B2: Nord | C2: Alexis MABOUNDA
A3: 2 | B3: Centre | C3: Félix OVOURA
A4: 3 | B4: Sud | C4: Armel SOKAMBA

Sheet WEEK 43
A1: N° | B1: Boulangerie | C1: ID client | D1: Cons/j | E1: C° heb | F1: Date Dernière Visite | G1: Période sans visite | H1: perc_MINOCO | I1: perc_FANTA | J1: perc_GMK | K1: perc_SGMP | L1: perc_MFB | M1: perc_GMC | N1: cons_MINOCO | O1: cons_FANTA | P1: cons_GMK | Q1: cons_SGMP | R1: cons_MFB | S1: cons_GMC | T1: cons_Total | U1: verification_1 | V1: verification_2 | W1: verification_3 | X1: verification_4 | Y1: COMMENTAIRES
A2: =+IF(D2>0,1,0) -> 1 | B2: NAJAH | C2: =IF(B2="","", _xlfn.XLOOKUP(B2, Clients!G:G, Clients!F:F, "Not found") ) -> DLS-00001 | D2: 28 | E2: =D2*7 -> 196 | F2: 46235 | G2: =+IF(A2=1,(+TODAY())-F2,"Sans objet") -> 74 | H2: 0.75 | M2: 0.25 | N2: =+$E2*H2 -> 147 | O2: =+$E2*I2 -> 0 | P2: =+$E2*J2 -> 0 | Q2: =+$E2*K2 -> 0 | R2: =+$E2*L2 -> 0 | S2: =+$E2*M2 -> 49 | T2: =SUM(N2:S2) -> 196 | Z2: =+T2-E2 -> 0 | AB2: Week | AC2: Minoco | AD2: Fanta | AE2: GMPN | AF2: GMK | AG2: SGMP | AH2: MFB | AI2: GMC
A3: =+IF(D3>0,1,0) -> 1 | B3: M | C3: =IF(B3="","", _xlfn.XLOOKUP(B3, Clients!G:G, Clients!F:F, "Not found") ) -> DLS-00002 | D3: 18 | E3: =D3*7 -> 126 | F3: 46236 | G3: =+IF(A3=1,(+TODAY())-F3,"Sans objet") -> 73 | H3: 1 | N3: =+$E3*H3 -> 126 | O3: =+$E3*I3 -> 0 | P3: =+$E3*J3 -> 0 | Q3: =+$E3*K3 -> 0 | R3: =+$E3*L3 -> 0 | S3: =+$E3*M3 -> 0 | T3: =SUM(N3:S3) -> 126 | Z3: =+T3-E3 -> 0 | AB3: 39 | AC3: 0.28 | AD3: 0.07 | AE3: =+AC3+AD3 -> 0.35 | AF3: 0.19 | AG3: 0.12 | AH3: 0.15 | AI3: 0.19 | AJ3: =SUM(AE3:AI3) -> 1
A4: =+IF(D4>0,1,0) -> 1 | B4: ALBARAKA MABOMBO | C4: =IF(B4="","", _xlfn.XLOOKUP(B4, Clients!G:G, Clients!F:F, "Not found") ) -> DLS-00003 | D4: 20 | E4: =D4*7 -> 140 | F4: 46237 | G4: =+IF(A4=1,(+TODAY())-F4,"Sans objet") -> 72 | H4: 0.75 | M4: 0.25 | N4: =+$E4*H4 -> 105 | O4: =+$E4*I4 -> 0 | P4: =+$E4*J4 -> 0 | Q4: =+$E4*K4 -> 0 | R4: =+$E4*L4 -> 0 | S4: =+$E4*M4 -> 35 | T4: =SUM(N4:S4) -> 140 | Z4: =+T4-E4 -> 0 | AB4: 40 | AC4: 0.33 | AD4: 0.09 | AE4: =+AC4+AD4 -> 0.42 | AF4: 0.15 | AG4: 0.12 | AH4: 0.11 | AI4: 0.2 | AJ4: =SUM(AE4:AI4) -> 1
A5: =+IF(D5>0,1,0) -> 1 | B5: ALBARAKA GD MARCHE | C5: =IF(B5="","", _xlfn.XLOOKUP(B5, Clients!G:G, Clients!F:F, "Not found") ) -> DLS-00004 | D5: 18 | E5: =D5*7 -> 126 | F5: 46238 | G5: =+IF(A5=1,(+TODAY())-F5,"Sans objet") -> 71 | H5: 1 | M5: 0.5 | N5: =+$E5*H5 -> 126 | O5: =+$E5*I5 -> 0 | P5: =+$E5*J5 -> 0 | Q5: =+$E5*K5 -> 0 | R5: =+$E5*L5 -> 0 | S5: =+$E5*M5 -> 63 | T5: =SUM(N5:S5) -> 189 | Z5: =+T5-E5 -> 63 | AB5: 41 | AC5: 0.331901 | AD5: 0.084393262 | AE5: =+AC5+AD5 -> 0.41629426 | AF5: 0.15520798 | AG5: 0.11816776 | AH5: 0.11112066 | AI5: 0.19920935 | AJ5: =SUM(AE5:AI5) -> 1
A6: =+IF(D6>0,1,0) -> 1 | B6: BARKEOL | C6: =IF(B6="","", _xlfn.XLOOKUP(B6, Clients!G:G, Clients!F:F, "Not found") ) -> DLS-00005 | D6: 10 | E6: =D6*7 -> 70 | F6: 46239 | G6: =+IF(A6=1,(+TODAY())-F6,"Sans objet") -> 70 | H6: 0.75 | J6: 0.25 | N6: =+$E6*H6 -> 52.5 | O6: =+$E6*I6 -> 0 | P6: =+$E6*J6 -> 17.5 | Q6: =+$E6*K6 -> 0 | R6: =+$E6*L6 -> 0 | S6: =+$E6*M6 -> 0 | T6: =SUM(N6:S6) -> 70 | Z6: =+T6-E6 -> 0 | AB6: 42 | AC6: =N163 -> 0.6 | AD6: =O163 -> 0 | AE6: =+AC6+AD6 -> 0.6 | AF6: =P163 -> 0.048148148 | AG6: =Q163 -> 0.083333333 | AH6: =R163 -> 0 | AI6: =S163 -> 0.26851852 | AJ6: =SUM(AE6:AI6) -> 1
A7: =+IF(D7>0,1,0) -> 1 | B7: MODERNE NKY | C7: =IF(B7="","", _xlfn.XLOOKUP(B7, Clients!G:G, Clients!F:F, "Not found") ) -> DLS-00006 | D7: 28 | E7: =D7*7 -> 196 | F7: 46240 | G7: =+IF(A7=1,(+TODAY())-F7,"Sans objet") -> 69 | H7: 1 | N7: =+$E7*H7 -> 196 | O7: =+$E7*I7 -> 0 | P7: =+$E7*J7 -> 0 | Q7: =+$E7*K7 -> 0 | R7: =+$E7*L7 -> 0 | S7: =+$E7*M7 -> 0 | T7: =SUM(N7:S7) -> 196 | Z7: =+T7-E7 -> 0 | AB7: Variation
A8: =+IF(D8>0,1,0) -> 1 | B8: LA MECQUE | C8: =IF(B8="","", _xlfn.XLOOKUP(B8, Clients!G:G, Clients!F:F, "Not found") ) -> DLS-00007 | D8: 12 | E8: =D8*7 -> 84 | F8: 46241 | G8: =+IF(A8=1,(+TODAY())-F8,"Sans objet") -> 68 | H8: 1 | N8: =+$E8*H8 -> 84 | O8: =+$E8*I8 -> 0 | P8: =+$E8*J8 -> 0 | Q8: =+$E8*K8 -> 0 | R8: =+$E8*L8 -> 0 | S8: =+$E8*M8 -> 0 | T8: =SUM(N8:S8) -> 84 | Z8: =+T8-E8 -> 0
A9: =+IF(D9>0,1,0) -> 1 | B9: CENTRALE | C9: =IF(B9="","", _xlfn.XLOOKUP(B9, Clients!G:G, Clients!F:F, "Not found") ) -> DLS-00008 | D9: 14 | E9: =D9*7 -> 98 | F9: 46242 | G9: =+IF(A9=1,(+TODAY())-F9,"Sans objet") -> 67 | H9: 0.75 | M9: 0.25 | N9: =+$E9*H9 -> 73.5 | O9: =+$E9*I9 -> 0 | P9: =+$E9*J9 -> 0 | Q9: =+$E9*K9 -> 0 | R9: =+$E9*L9 -> 0 | S9: =+$E9*M9 -> 24.5 | T9: =SUM(N9:S9) -> 98 | Z9: =+T9-E9 -> 0
A10: =+IF(D10>0,1,0) -> 1 | B10: ALKERE 1 | C10: =IF(B10="","", _xlfn.XLOOKUP(B10, Clients!G:G, Clients!F:F, "Not found") ) -> DLS-00009 | D10: 14 | E10: =D10*7 -> 98 | F10: 46243 | G10: =+IF(A10=1,(+TODAY())-F10,"Sans objet") -> 66 | H10: 0.5 | M10: 0.5 | N10: =+$E10*H10 -> 49 | O10: =+$E10*I10 -> 0 | P10: =+$E10*J10 -> 0 | Q10: =+$E10*K10 -> 0 | R10: =+$E10*L10 -> 0 | S10: =+$E10*M10 -> 49 | T10: =SUM(N10:S10) -> 98 | Z10: =+T10-E10 -> 0
A11: =+IF(D11>0,1,0) -> 1 | B11: ALKERE2 | C11: =IF(B11="","", _xlfn.XLOOKUP(B11, Clients!G:G, Clients!F:F, "Not found") ) -> DLS-00010 | D11: 18 | E11: =D11*7 -> 126 | F11: 46244 | G11: =+IF(A11=1,(+TODAY())-F11,"Sans objet") -> 65 | H11: 1 | N11: =+$E11*H11 -> 126 | O11: =+$E11*I11 -> 0 | P11: =+$E11*J11 -> 0 | Q11: =+$E11*K11 -> 0 | R11: =+$E11*L11 -> 0 | S11: =+$E11*M11 -> 0 | T11: =SUM(N11:S11) -> 126 | Z11: =+T11-E11 -> 0
A12: =+IF(D12>0,1,0) -> 1 | B12: FLORA | C12: =IF(B12="","", _xlfn.XLOOKUP(B12, Clients!G:G, Clients!F:F, "Not found") ) -> DLS-00011 | D12: 8 | E12: =D12*7 -> 56 | F12: 46245 | G12: =+IF(A12=1,(+TODAY())-F12,"Sans objet") -> 64 | H12: 0.5 | K12: 0.25 | M12: 0.25 | N12: =+$E12*H12 -> 28 | O12: =+$E12*I12 -> 0 | P12: =+$E12*J12 -> 0 | Q12: =+$E12*K12 -> 14 | R12: =+$E12*L12 -> 0 | S12: =+$E12*M12 -> 14 | T12: =SUM(N12:S12) -> 56 | Z12: =+T12-E12 -> 0
A13: =+IF(D13>0,1,0) -> 1 | B13: TOI ET MOI | C13: =IF(B13="","", _xlfn.XLOOKUP(B13, Clients!G:G, Clients!F:F, "Not found") ) -> DLS-00012 | D13: 20 | E13: =D13*7 -> 140 | F13: 46246 | G13: =+IF(A13=1,(+TODAY())-F13,"Sans objet") -> 63 | H13: 0.5 | J13: 0.25 | N13: =+$E13*H13 -> 70 | O13: =+$E13*I13 -> 0 | P13: =+$E13*J13 -> 35 | Q13: =+$E13*K13 -> 0 | R13: =+$E13*L13 -> 0 | S13: =+$E13*M13 -> 0 | T13: =SUM(N13:S13) -> 105 | Z13: =+T13-E13 -> -35
A14: =+IF(D14>0,1,0) -> 1 | B14: VETH | C14: =IF(B14="","", _xlfn.XLOOKUP(B14, Clients!G:G, Clients!F:F, "Not found") ) -> DLS-00013 | D14: 22 | E14: =D14*7 -> 154 | F14: 46247 | G14: =+IF(A14=1,(+TODAY())-F14,"Sans objet") -> 62 | H14: 1 | N14: =+$E14*H14 -> 154 | O14: =+$E14*I14 -> 0 | P14: =+$E14*J14 -> 0 | Q14: =+$E14*K14 -> 0 | R14: =+$E14*L14 -> 0 | S14: =+$E14*M14 -> 0 | T14: =SUM(N14:S14) -> 154 | Z14: =+T14-E14 -> 0
A15: =+IF(D15>0,1,0) -> 1 | B15: MK | C15: =IF(B15="","", _xlfn.XLOOKUP(B15, Clients!G:G, Clients!F:F, "Not found") ) -> DLS-00014 | D15: 12 | E15: =D15*7 -> 84 | F15: 46248 | G15: =+IF(A15=1,(+TODAY())-F15,"Sans objet") -> 61 | H15: 1 | N15: =+$E15*H15 -> 84 | O15: =+$E15*I15 -> 0 | P15: =+$E15*J15 -> 0 | Q15: =+$E15*K15 -> 0 | R15: =+$E15*L15 -> 0 | S15: =+$E15*M15 -> 0 | T15: =SUM(N15:S15) -> 84 | Z15: =+T15-E15 -> 0
A16: =+IF(D16>0,1,0) -> 1 | B16: MEILLEURS PAINS (Loutété) | C16: =IF(B16="","", _xlfn.XLOOKUP(B16, Clients!G:G, Clients!F:F, "Not found") ) -> DLS-00015 | D16: 14 | E16: =D16*7 -> 98 | F16: 46249 | G16: =+IF(A16=1,(+TODAY())-F16,"Sans objet") -> 60 | H16: 0.5 | M16: 0.5 | N16: =+$E16*H16 -> 49 | O16: =+$E16*I16 -> 0 | P16: =+$E16*J16 -> 0 | Q16: =+$E16*K16 -> 0 | R16: =+$E16*L16 -> 0 | S16: =+$E16*M16 -> 49 | T16: =SUM(N16:S16) -> 98 | Z16: =+T16-E16 -> 0
A17: =+IF(D17>0,1,0) -> 1 | B17: MEILLEURS PAINS (mouyondzi) | C17: =IF(B17="","", _xlfn.XLOOKUP(B17, Clients!G:G, Clients!F:F, "Not found") ) -> DLS-00016 | D17: 14 | E17: =D17*7 -> 98 | F17: 46250 | G17: =+IF(A17=1,(+TODAY())-F17,"Sans objet") -> 59 | H17: 0.75 | J17: 0.25 | N17: =+$E17*H17 -> 73.5 | O17: =+$E17*I17 -> 0 | P17: =+$E17*J17 -> 24.5 | Q17: =+$E17*K17 -> 0 | R17: =+$E17*L17 -> 0 | S17: =+$E17*M17 -> 0 | T17: =SUM(N17:S17) -> 98 | Z17: =+T17-E17 -> 0
A18: =+IF(D18>0,1,0) -> 1 | B18: CORNICHE | C18: =IF(B18="","", _xlfn.XLOOKUP(B18, Clients!G:G, Clients!F:F, "Not found") ) -> DLS-00017 | D18: 6 | E18: =D18*7 -> 42 | F18: 46251 | G18: =+IF(A18=1,(+TODAY())-F18,"Sans objet") -> 58 | H18: 0.5 | M18: 0.5 | N18: =+$E18*H18 -> 21 | O18: =+$E18*I18 -> 0 | P18: =+$E18*J18 -> 0 | Q18: =+$E18*K18 -> 0 | R18: =+$E18*L18 -> 0 | S18: =+$E18*M18 -> 21 | T18: =SUM(N18:S18) -> 42 | Z18: =+T18-E18 -> 0
A19: =+IF(D19>0,1,0) -> 1 | B19: MABIO FILS | C19: =IF(B19="","", _xlfn.XLOOKUP(B19, Clients!G:G, Clients!F:F, "Not found") ) -> DLS-00018 | D19: 8 | E19: =D19*7 -> 56 | F19: 46252 | G19: =+IF(A19=1,(+TODAY())-F19,"Sans objet") -> 57 | H19: 0.5 | M19: 0.5 | N19: =+$E19*H19 -> 28 | O19: =+$E19*I19 -> 0 | P19: =+$E19*J19 -> 0 | Q19: =+$E19*K19 -> 0 | R19: =+$E19*L19 -> 0 | S19: =+$E19*M19 -> 28 | T19: =SUM(N19:S19) -> 56 | Z19: =+T19-E19 -> 0
A20: =+IF(D20>0,1,0) -> 1 | B20: CHARDON | C20: =IF(B20="","", _xlfn.XLOOKUP(B20, Clients!G:G, Clients!F:F, "Not found") ) -> DLS-00019 | D20: 26 | E20: =D20*7 -> 182 | F20: 46253 | G20: =+IF(A20=1,(+TODAY())-F20,"Sans objet") -> 56 | H20: 0.5 | M20: 0.5 | N20: =+$E20*H20 -> 91 | O20: =+$E20*I20 -> 0 | P20: =+$E20*J20 -> 0 | Q20: =+$E20*K20 -> 0 | R20: =+$E20*L20 -> 0 | S20: =+$E20*M20 -> 91 | T20: =SUM(N20:S20) -> 182 | Z20: =+T20-E20 -> 0
A21: =+IF(D21>0,1,0) -> 1 | B21: LALIMI | C21: =IF(B21="","", _xlfn.XLOOKUP(B21, Clients!G:G, Clients!F:F, "Not found") ) -> DLS-00020 | D21: 8 | E21: =D21*7 -> 56 | F21: 46254 | G21: =+IF(A21=1,(+TODAY())-F21,"Sans objet") -> 55 | K21: 0.5 | M21: 0.5 | N21: =+$E21*H21 -> 0 | O21: =+$E21*I21 -> 0 | P21: =+$E21*J21 -> 0 | Q21: =+$E21*K21 -> 28 | R21: =+$E21*L21 -> 0 | S21: =+$E21*M21 -> 28 | T21: =SUM(N21:S21) -> 56 | Z21: =+T21-E21 -> 0
A22: =+IF(D22>0,1,0) -> 1 | B22: MAMOUN | C22: =IF(B22="","", _xlfn.XLOOKUP(B22, Clients!G:G, Clients!F:F, "Not found") ) -> DLS-00021 | D22: 20 | E22: =D22*7 -> 140 | F22: 46255 | G22: =+IF(A22=1,(+TODAY())-F22,"Sans objet") -> 54 | H22: 0.25 | K22: 0.25 | M22: 0.5 | N22: =+$E22*H22 -> 35 | O22: =+$E22*I22 -> 0 | P22: =+$E22*J22 -> 0 | Q22: =+$E22*K22 -> 35 | R22: =+$E22*L22 -> 0 | S22: =+$E22*M22 -> 70 | T22: =SUM(N22:S22) -> 140 | Z22: =+T22-E22 -> 0
A23: =+IF(D23>0,1,0) -> 1 | B23: ML | C23: =IF(B23="","", _xlfn.XLOOKUP(B23, Clients!G:G, Clients!F:F, "Not found") ) -> DLS-00022 | D23: 22 | E23: =D23*7 -> 154 | F23: 46256 | G23: =+IF(A23=1,(+TODAY())-F23,"Sans objet") -> 53 | H23: 0.5 | K23: 0.25 | M23: 0.25 | N23: =+$E23*H23 -> 77 | O23: =+$E23*I23 -> 0 | P23: =+$E23*J23 -> 0 | Q23: =+$E23*K23 -> 38.5 | R23: =+$E23*L23 -> 0 | S23: =+$E23*M23 -> 38.5 | T23: =SUM(N23:S23) -> 154 | Z23: =+T23-E23 -> 0
A24: =+IF(D24>0,1,0) -> 1 | B24: ML1 | C24: =IF(B24="","", _xlfn.XLOOKUP(B24, Clients!G:G, Clients!F:F, "Not found") ) -> DLS-00023 | D24: 22 | E24: =D24*7 -> 154 | F24: 46257 | G24: =+IF(A24=1,(+TODAY())-F24,"Sans objet") -> 52 | H24: 0.5 | J24: 0.25 | M24: 0.25 | N24: =+$E24*H24 -> 77 | O24: =+$E24*I24 -> 0 | P24: =+$E24*J24 -> 38.5 | Q24: =+$E24*K24 -> 0 | R24: =+$E24*L24 -> 0 | S24: =+$E24*M24 -> 38.5 | T24: =SUM(N24:S24) -> 154 | Z24: =+T24-E24 -> 0
A25: =+IF(D25>0,1,0) -> 1 | B25: ML2 | C25: =IF(B25="","", _xlfn.XLOOKUP(B25, Clients!G:G, Clients!F:F, "Not found") ) -> DLS-00024 | D25: 16 | E25: =D25*7 -> 112 | F25: 46258 | G25: =+IF(A25=1,(+TODAY())-F25,"Sans objet") -> 51 | H25: 0.5 | M25: 0.5 | N25: =+$E25*H25 -> 56 | O25: =+$E25*I25 -> 0 | P25: =+$E25*J25 -> 0 | Q25: =+$E25*K25 -> 0 | R25: =+$E25*L25 -> 0 | S25: =+$E25*M25 -> 56 | T25: =SUM(N25:S25) -> 112 | Z25: =+T25-E25 -> 0
A26: =+IF(D26>0,1,0) -> 1 | B26: ML3 | C26: =IF(B26="","", _xlfn.XLOOKUP(B26, Clients!G:G, Clients!F:F, "Not found") ) -> DLS-00025 | D26: 16 | E26: =D26*7 -> 112 | F26: 46259 | G26: =+IF(A26=1,(+TODAY())-F26,"Sans objet") -> 50 | H26: 0.5 | M26: 0.5 | N26: =+$E26*H26 -> 56 | O26: =+$E26*I26 -> 0 | P26: =+$E26*J26 -> 0 | Q26: =+$E26*K26 -> 0 | R26: =+$E26*L26 -> 0 | S26: =+$E26*M26 -> 56 | T26: =SUM(N26:S26) -> 112 | Z26: =+T26-E26 -> 0
A27: =+IF(D27>0,1,0) -> 0 | B27: ML4 ( Fermée) | C27: =IF(B27="","", _xlfn.XLOOKUP(B27, Clients!G:G, Clients!F:F, "Not found") ) -> DLS-00026 | D27: 0 | E27: =D27*7 -> 0 | F27: 46260 | G27: =+IF(A27=1,(+TODAY())-F27,"Sans objet") -> Sans objet | H27: 1 | N27: =+$E27*H27 -> 0 | O27: =+$E27*I27 -> 0 | P27: =+$E27*J27 -> 0 | Q27: =+$E27*K27 -> 0 | R27: =+$E27*L27 -> 0 | S27: =+$E27*M27 -> 0 | T27: =SUM(N27:S27) -> 0 | Z27: =+T27-E27 -> 0
A28: =+IF(D28>0,1,0) -> 1 | B28: MEILLEURS PAINS | C28: =IF(B28="","", _xlfn.XLOOKUP(B28, Clients!G:G, Clients!F:F, "Not found") ) -> DLS-00027 | D28: 18 | E28: =D28*7 -> 126 | F28: 46261 | G28: =+IF(A28=1,(+TODAY())-F28,"Sans objet") -> 48 | H28: 0.5 | M28: 0.5 | N28: =+$E28*H28 -> 63 | O28: =+$E28*I28 -> 0 | P28: =+$E28*J28 -> 0 | Q28: =+$E28*K28 -> 0 | R28: =+$E28*L28 -> 0 | S28: =+$E28*M28 -> 63 | T28: =SUM(N28:S28) -> 126 | Z28: =+T28-E28 -> 0
A29: =+IF(D29>0,1,0) -> 1 | B29: LA PAIX | C29: =IF(B29="","", _xlfn.XLOOKUP(B29, Clients!G:G, Clients!F:F, "Not found") ) -> DLS-00028 | D29: 32 | E29: =D29*7 -> 224 | F29: 46262 | G29: =+IF(A29=1,(+TODAY())-F29,"Sans objet") -> 47 | H29: 0.5 | K29: 0.25 | M29: 0.25 | N29: =+$E29*H29 -> 112 | O29: =+$E29*I29 -> 0 | P29: =+$E29*J29 -> 0 | Q29: =+$E29*K29 -> 56 | R29: =+$E29*L29 -> 0 | S29: =+$E29*M29 -> 56 | T29: =SUM(N29:S29) -> 224 | Z29: =+T29-E29 -> 0
A30: =+IF(D30>0,1,0) -> 1 | B30: MB1 | C30: =IF(B30="","", _xlfn.XLOOKUP(B30, Clients!G:G, Clients!F:F, "Not found") ) -> DLS-00029 | D30: 16 | E30: =D30*7 -> 112 | F30: 46263 | G30: =+IF(A30=1,(+TODAY())-F30,"Sans objet") -> 46 | H30: 0.5 | J30: 0.25 | M30: 0.25 | N30: =+$E30*H30 -> 56 | O30: =+$E30*I30 -> 0 | P30: =+$E30*J30 -> 28 | Q30: =+$E30*K30 -> 0 | R30: =+$E30*L30 -> 0 | S30: =+$E30*M30 -> 28 | T30: =SUM(N30:S30) -> 112 | Z30: =+T30-E30 -> 0
A31: =+IF(D31>0,1,0) -> 1 | B31: MB2 | C31: =IF(B31="","", _xlfn.XLOOKUP(B31, Clients!G:G, Clients!F:F, "Not found") ) -> DLS-00030 | D31: 14 | E31: =D31*7 -> 98 | F31: 46264 | G31: =+IF(A31=1,(+TODAY())-F31,"Sans objet") -> 45 | H31: 0.5 | J31: 0.25 | M31: 0.25 | N31: =+$E31*H31 -> 49 | O31: =+$E31*I31 -> 0 | P31: =+$E31*J31 -> 24.5 | Q31: =+$E31*K31 -> 0 | R31: =+$E31*L31 -> 0 | S31: =+$E31*M31 -> 24.5 | T31: =SUM(N31:S31) -> 98 | Z31: =+T31-E31 -> 0
A32: =+IF(D32>0,1,0) -> 1 | B32: MB3 | C32: =IF(B32="","", _xlfn.XLOOKUP(B32, Clients!G:G, Clients!F:F, "Not found") ) -> DLS-00031 | D32: 14 | E32: =D32*7 -> 98 | F32: 46265 | G32: =+IF(A32=1,(+TODAY())-F32,"Sans objet") -> 44 | H32: 0.5 | M32: 0.5 | N32: =+$E32*H32 -> 49 | O32: =+$E32*I32 -> 0 | P32: =+$E32*J32 -> 0 | Q32: =+$E32*K32 -> 0 | R32: =+$E32*L32 -> 0 | S32: =+$E32*M32 -> 49 | T32: =SUM(N32:S32) -> 98 | Z32: =+T32-E32 -> 0
A33: =+IF(D33>0,1,0) -> 1 | B33: BON GARD | C33: =IF(B33="","", _xlfn.XLOOKUP(B33, Clients!G:G, Clients!F:F, "Not found") ) -> DLS-00032 | D33: 12 | E33: =D33*7 -> 84 | F33: 46266 | G33: =+IF(A33=1,(+TODAY())-F33,"Sans objet") -> 43 | H33: 1 | N33: =+$E33*H33 -> 84 | O33: =+$E33*I33 -> 0 | P33: =+$E33*J33 -> 0 | Q33: =+$E33*K33 -> 0 | R33: =+$E33*L33 -> 0 | S33: =+$E33*M33 -> 0 | T33: =SUM(N33:S33) -> 84 | Z33: =+T33-E33 -> 0
A34: =+IF(D34>0,1,0) -> 1 | B34: BONS PAINS | C34: =IF(B34="","", _xlfn.XLOOKUP(B34, Clients!G:G, Clients!F:F, "Not found") ) -> DLS-00033 | D34: 8 | E34: =D34*7 -> 56 | F34: 46267 | G34: =+IF(A34=1,(+TODAY())-F34,"Sans objet") -> 42 | H34: 1 | N34: =+$E34*H34 -> 56 | O34: =+$E34*I34 -> 0 | P34: =+$E34*J34 -> 0 | Q34: =+$E34*K34 -> 0 | R34: =+$E34*L34 -> 0 | S34: =+$E34*M34 -> 0 | T34: =SUM(N34:S34) -> 56 | Z34: =+T34-E34 -> 0
A35: =+IF(D35>0,1,0) -> 1 | B35: SAMY MAPA KITOKO | C35: =IF(B35="","", _xlfn.XLOOKUP(B35, Clients!G:G, Clients!F:F, "Not found") ) -> DLS-00034 | D35: 10 | E35: =D35*7 -> 70 | F35: 46268 | G35: =+IF(A35=1,(+TODAY())-F35,"Sans objet") -> 41 | H35: 1 | N35: =+$E35*H35 -> 70 | O35: =+$E35*I35 -> 0 | P35: =+$E35*J35 -> 0 | Q35: =+$E35*K35 -> 0 | R35: =+$E35*L35 -> 0 | S35: =+$E35*M35 -> 0 | T35: =SUM(N35:S35) -> 70 | Z35: =+T35-E35 -> 0
A36: =+IF(D36>0,1,0) -> 1 | B36: MODERNE | C36: =IF(B36="","", _xlfn.XLOOKUP(B36, Clients!G:G, Clients!F:F, "Not found") ) -> DLS-00035 | D36: 30 | E36: =D36*7 -> 210 | F36: 46269 | G36: =+IF(A36=1,(+TODAY())-F36,"Sans objet") -> 40 | H36: 1 | N36: =+$E36*H36 -> 210 | O36: =+$E36*I36 -> 0 | P36: =+$E36*J36 -> 0 | Q36: =+$E36*K36 -> 0 | R36: =+$E36*L36 -> 0 | S36: =+$E36*M36 -> 0 | T36: =SUM(N36:S36) -> 210 | Z36: =+T36-E36 -> 0
A37: =+IF(D37>0,1,0) -> 1 | B37: LANDSCHOT | C37: =IF(B37="","", _xlfn.XLOOKUP(B37, Clients!G:G, Clients!F:F, "Not found") ) -> DLS-00036 | D37: 4 | E37: =D37*7 -> 28 | F37: 46270 | G37: =+IF(A37=1,(+TODAY())-F37,"Sans objet") -> 39 | H37: 1 | N37: =+$E37*H37 -> 28 | O37: =+$E37*I37 -> 0 | P37: =+$E37*J37 -> 0 | Q37: =+$E37*K37 -> 0 | R37: =+$E37*L37 -> 0 | S37: =+$E37*M37 -> 0 | T37: =SUM(N37:S37) -> 28 | Z37: =+T37-E37 -> 0
A38: =+IF(D38>0,1,0) -> 1 | B38: DEDJOUE FILS | C38: =IF(B38="","", _xlfn.XLOOKUP(B38, Clients!G:G, Clients!F:F, "Not found") ) -> DLS-00037 | D38: 8 | E38: =D38*7 -> 56 | F38: 46271 | G38: =+IF(A38=1,(+TODAY())-F38,"Sans objet") -> 38 | H38: 1 | N38: =+$E38*H38 -> 56 | O38: =+$E38*I38 -> 0 | P38: =+$E38*J38 -> 0 | Q38: =+$E38*K38 -> 0 | R38: =+$E38*L38 -> 0 | S38: =+$E38*M38 -> 0 | T38: =SUM(N38:S38) -> 56 | Z38: =+T38-E38 -> 0
A39: =+IF(D39>0,1,0) -> 0 | C39: =IF(B39="","", _xlfn.XLOOKUP(B39, Clients!G:G, Clients!F:F, "Not found") ) | E39: =D39*7 -> 0 | G39: =+IF(A39=1,(+TODAY())-F39,"Sans objet") -> Sans objet | N39: =+$E39*H39 -> 0 | O39: =+$E39*I39 -> 0 | P39: =+$E39*J39 -> 0 | Q39: =+$E39*K39 -> 0 | R39: =+$E39*L39 -> 0 | S39: =+$E39*M39 -> 0 | T39: =SUM(N39:S39) -> 0 | Z39: =+T39-E39 -> 0
A40: =+IF(D40>0,1,0) -> 0 | C40: =IF(B40="","", _xlfn.XLOOKUP(B40, Clients!G:G, Clients!F:F, "Not found") ) | E40: =D40*7 -> 0 | G40: =+IF(A40=1,(+TODAY())-F40,"Sans objet") -> Sans objet | N40: =+$E40*H40 -> 0 | O40: =+$E40*I40 -> 0 | P40: =+$E40*J40 -> 0 | Q40: =+$E40*K40 -> 0 | R40: =+$E40*L40 -> 0 | S40: =+$E40*M40 -> 0 | T40: =SUM(N40:S40) -> 0 | Z40: =+T40-E40 -> 0
...

Sheet PDM 2026
A1: Week | B1: Minoco | C1: Fanta | D1: GMPN | E1: GMK | F1: SGMP | G1: MFB | H1: GMC
A2: 6 | B2: 0.3565445 | C2: 0.097033159 | D2: =SUM(B2:C2) -> 0.45357766 | E2: 0.087609075 | F2: 0.1460733 | G2: 0.10575916 | H2: 0.2069808 | I2: 1
A3: 7 | B3: 0.31935143 | C3: 0.090236165 | D3: =SUM(B3:C3) -> 0.40958759 | E3: 0.09693338 | F3: 0.13447303 | G3: 0.14663377 | H3: 0.21237222 | I3: 1
A4: 8 | B4: 0.31935143 | C4: 0.090236165 | D4: =SUM(B4:C4) -> 0.40958759 | E4: 0.09693338 | F4: 0.13447303 | G4: 0.14663377 | H4: 0.21237222 | I4: 1
A5: 9 | B5: 0.34106769 | C5: 0.077808793 | D5: =SUM(B5:C5) -> 0.41887648 | E5: 0.076413119 | F5: 0.16591068 | G5: 0.102582 | H5: 0.23621773 | I5: 1
A6: 10 | B6: 0.34106769 | C6: 0.077808793 | D6: =SUM(B6:C6) -> 0.41887648 | E6: 0.076413119 | F6: 0.16591068 | G6: 0.102582 | H6: 0.23621773 | I6: 1
A7: 11 | B7: 0.26022928 | C7: 0.095061728 | D7: =SUM(B7:C7) -> 0.35529101 | E7: 0.063844797 | F7: 0.14691358 | G7: 0.18439153 | H7: 0.24955908 | I7: 1
A8: 12 | B8: 0.19 | C8: 0.07 | D8: =SUM(B8:C8) -> 0.26 | E8: 0.067 | F8: 0.162 | G8: 0.228 | H8: 0.284 | I8: 1.001
A9: 13 | B9: 0.17 | C9: 0.07 | D9: =SUM(B9:C9) -> 0.24 | E9: 0.063 | F9: 0.176 | G9: 0.242 | H9: 0.275 | I9: 0.996
A10: 14 | B10: 0.18 | C10: 0.1 | D10: =SUM(B10:C10) -> 0.28 | E10: 0.064 | F10: 0.169 | G10: 0.24 | H10: 0.247 | I10: 1
A11: 15 | B11: 0.19 | C11: 0.08 | D11: =SUM(B11:C11) -> 0.27 | E11: 0.073 | F11: 0.141 | G11: 0.246 | H11: 0.27 | I11: 1
A12: 16 | B12: 0.18 | C12: 0.08 | D12: =SUM(B12:C12) -> 0.26 | E12: 0.077 | F12: 0.111 | G12: 0.246 | H12: 0.309 | I12: 1.003
A13: 17 | B13: 0.22 | C13: 0.12 | D13: =SUM(B13:C13) -> 0.34 | E13: 0.076 | F13: 0.114 | G13: 0.239 | H13: 0.235 | I13: 1.004
... A32: 36 | B32: 0.2629 | C32: 0.068 | D32: =SUM(B32:C32) -> 0.3309 | E32: 0.103 | F32: 0.239 | G32: 0.257 | H32: 0.069 | I32: 0.9995
A33: 37 | B33: 0.267 | C33: 0.046 | D33: =SUM(B33:C33) -> 0.313 | E33: 0.099 | F33: 0.23 | G33: 0.27 | H33: 0.089 | I33: =SUM(D33:H33) -> 1.001
A34: 38 | B34: 0.2475 | C34: 0.047 | D34: =SUM(B34:C34) -> 0.2945 | E34: 0.121 | F34: 0.194 | G34: 0.226 | H34: 0.164 | I34: =+D34+E34+F34+G34+H34 -> 0.9995
A35: 39 | B35: 0.2475 | C35: 0.064 | D35: =SUM(B35:C35) -> 0.3115 | E35: 0.076 | F35: 0.187 | G35: 0.222 | H35: 0.204 | I35: =SUM(D35:H35) -> 1.0005
A36: 40 | B36: 0.2504 | C36: 0.046 | D36: =SUM(B36:C36) -> 0.2964 | E36: 0.051 | F36: 0.168 | G36: 0.247 | H36: 0.236 | I36: =+D36+E36+F36+G36+H36 -> 0.9984
D37: =SUM(B37:C37) -> 0 | I37: =+D37+E37+F37+G37+H37 -> 0
D38: =SUM(B38:C38) -> 0 | I38: =+D38+E38+F38+G38+H38 -> 0
D39: =SUM(B39:C39) -> 0 | I39: =+D39+E39+F39+G39+H39 -> 0
D40: =SUM(B40:C40) -> 0 | I40: =+D40+E40+F40+G40+H40 -> 0
D41: =SUM(B41:C41) -> 0 | I41: =+D41+E41+F41+G41+H41 -> 0
D42: =SUM(B42:C42) -> 0 | I42: =+D42+E42+F42+G42+H42 -> 0
D43: =SUM(B43:C43) -> 0 | I43: =+D43+E43+F43+G43+H43 -> 0

Sheet Clients
A1: Index | B1: Actif | C1: Type | D1: Secteur | E1: Technico Commercial | F1: ID client | G1: Boulangerie | H1: Latitude | I1: Longitude | J1: TBD | K1: TBD | L1: TBD | M1: TBD | N1: TBD | O1: TBD | P1: TBD | Q1: TBD | R1: TBD | S1: TBD
A2: 1 | B2: Oui | C2: cash | D2: NKY | E2: PRINCE | F2: DLS-00001 | G2: NAJAH | H2: -4.179417 | I2: 13.2835
A3: 2 | B3: Oui | C3: Crédit | D3: NKY | E3: PRINCE | F3: DLS-00002 | G3: M | H3: -4.161066 | I3: 13.047184
A4: 3 | B4: Oui | C4: cash | D4: NKY | E4: PRINCE | F4: DLS-00003 | G4: ALBARAKA MABOMBO | H4: -3.997153 | I4: 13.926271
A5: 4 | B5: Oui | C5: cash | D5: NKY | E5: PRINCE | F5: DLS-00004 | G5: ALBARAKA GD MARCHE | H5: -4.188558 | I5: 13.286219
A6: 5 | B6: Oui | C6: cash | D6: NKY | E6: PRINCE | F6: DLS-00005 | G6: BARKEOL | H6: -4.181565 | I6: 13.292479
A7: 6 | B7: Oui | C7: cash | D7: NKY | E7: PRINCE | F7: DLS-00006 | G7: MODERNE NKY | H7: -4.1896 | I7: 13.283756
A8: 7 | B8: Oui | C8: cash | D8: NKY | E8: PRINCE | F8: DLS-00007 | G8: LA MECQUE | H8: -4.162949 | I8: 13.262612
A9: 8 | B9: Oui | C9: Crédit | D9: NKY | E9: PRINCE | F9: DLS-00008 | G9: CENTRALE | H9: -4.187827 | I9: 13.285066
A10: 9 | B10: Oui | C10: Crédit | D10: MDG | E10: PRINCE | F10: DLS-00009 | G10: ALKERE 1 | H10: -4.162413 | I10: 13.554905
A11: 10 | B11: Oui | C11: Crédit | D11: MDG | E11: PRINCE | F11: DLS-00010 | G11: ALKERE2 | H11: -4.191756 | I11: 13.532421
A12: 11 | B12: Oui | C12: Cash | D12: MDG | E12: PRINCE | F12: DLS-00011 | G12: FLORA | H12: -4.159651 | I12: 13.553094
A13: 12 | B13: Oui | C13: Crédit | D13: BSA | E13: PRINCE | F13: DLS-00012 | G13: TOI ET MOI | H13: -4.21729 | I13: 13.758309
... A38: 37 | B38: Oui | C38: cash | D38: LTETE | E38: PRINCE | F38: DLS-00037 | G38: DEDJOUE FILS | H38: -4.283358 | I38: 13.864081
A39: 38 | B39: Non | F39: DLS-00038
A40: 39 | B40: Non | F40: DLS-00039
A41: 40 | B41: Non | F41: DLS-00040
A42: 41 | B42: Non | F42: DLS-00041
A43: 42 | B43: Non | F43: DLS-00042
A44: 43 | B44: Non | F44: DLS-00043
A45: 44 | B45: Non | F45: DLS-00044
A46: 45 | B46: Non | F46: DLS-00045
A47: 46 | B47: Non | F47: DLS-00046
A48: 47 | B48: Non | F48: DLS-00047
A49: 48 | B49: Non | F49: DLS-00048
A50: 49 | B50: Non | F50: DLS-00049
... A1037: 1036 | B1037: Non | F1037: DLS-01036

Sheet Instructions
A1: Rajouter les nouveaux clients dans l'onglet "Clients". | M1: Actif/Inactif
M2: Oui
M3: Non
A5: Choisir le client dans le menu déroulant de la semaine
