Workbook
Name ActifInactif: OFFSET(Instructions!$M$1,1,0,COUNTA(Instructions!$M:$M)-1,1)
Name ClientList: OFFSET(Clients!$G$1,1,0,COUNTA(Clients!$G:$G)-1,1)

Sheet Secteurs
A1: N° | B1: Zone | C1: Technico-Commercial
A2: 1 | B2: Nord | C2: Alexis MABOUNDA
A3: 2 | B3: Centre | C3: Félix OVOURA
A4: 3 | B4: Sud | C4: Armel SOKAMBA

Sheet Week 3
B1: WEEK 02
G3: Cons° farine par boulangerie | Q3: WEEK | R3: GMPN | S3: GMK | T3: SGMP | U3: GMC | V3: PALCO | W3: M.FANTA | X3: %
A4: N° | B4: Boulangerie | C4: Type | D4: Cons/j | E4: C° heb | F4: FARINE UTILISEE | G4: GMPN | H4: MAMA F | I4: GMK | J4: SGMP | K4: PALCO | L4: GMC | M4: Total | N4: PRIORITE | O4: MAZALA / DIRECT | Q4: 1 | R4: 0.34 | S4: 0.12 | T4: 0.15 | U4: 0.39 | V4: 0 | W4: 0 | X4: =SUM(R4:W4) -> 1
A5: 77 | B5: Mayama( AQXA) | D5: 55 | E5: =D5*7 -> 385 | F5: 50%MIN+50%GMC | G5: 192.5 | L5: 192.5 | M5: =SUM(G5:L5) -> 385 | N5: ATTAQUER GMC | Q5: 2 | R5: 0.34 | S5: 0.11 | T5: =J151/E151 -> 0.12415016 | U5: =L151/E151 -> 0.4054094 | V5: =K151/E151 -> 0 | W5: 0 | X5: =SUM(R5:W5) -> 0.97955956
A6: 54 | B6: NOUVELLE ESPERANE 3 | D6: 50 | E6: =D6*7 -> 350 | F6: 50%MIN+50%GMC | G6: 175 | L6: 175 | M6: =SUM(G6:L6) -> 350 | N6: ATTAQUER GMC | Q6: Variation | R6: =R5-R4 -> 0 | S6: =S5-S4 -> -0.01 | T6: =T5-T4 -> -0.025849837 | U6: =U5-U4 -> 0.0154094 | V6: =V5-V4 -> 0 | W6: =W5-W4 -> 0
A7: 114 | B7: SABANA Moukondo | D7: 50 | E7: =D7*7 -> 350 | F7: 50%MIN+50%GMC | G7: 175 | L7: 175 | M7: =SUM(G7:L7) -> 350 | N7: ATTAQUER GMC
A8: 133 | B8: YA LOLO | C8: Crédit | D8: 50 | E8: =D8*7 -> 350 | F8: 100%MIN | G8: 350 | M8: =SUM(G8:L8) -> 350 | N8: A PRESERVER
A9: 3 | B9: 58e ANNIVERSAIRE | D9: 42 | E9: =D9*7 -> 294 | F9: 50%MIN+50%SGMP | G9: 147 | J9: 147 | M9: =SUM(G9:L9) -> 294 | N9: ATTAQUER SGMP
A10: 13 | B10: BECO | C10: Cash | D10: 40 | E10: =D10*7 -> 280 | F10: 50%GMK+50%GMC | I10: 140 | L10: 140 | M10: =SUM(G10:L10) -> 280 | N10: A RECUPERER
A11: 45 | B11: ELVOZ INCHALAH | C11: Cash | D11: 40 | E11: =D11*7 -> 280 | F11: 25%MIN+25%GMK+50%GMC | G11: 70 | I11: 70 | L11: 140 | M11: =SUM(G11:L11) -> 280 | N11: TARGET 50%
A12: 131 | B12: POTAL | D12: 38 | E12: =D12*7 -> 266 | F12: 50%GMC+50%GMK | I12: 133 | L12: 133 | M12: =SUM(G12:L12) -> 266 | N12: A RECUPERER
A13: 42 | B13: EL MABROUCK | D13: 38 | E13: =D13*7 -> 266 | F13: 25%MIN+75%GMC | G13: 66 | L13: 199.5 | M13: =SUM(G13:L13) -> 265.5 | N13: TARGET 50%
A14: 12 | B14: BAS PRIX (ex moderne nkombo) | D14: 36 | E14: =D14*7 -> 252 | F14: 50%MIN+50%GMC | G14: 126 | L14: 126 | M14: =SUM(G14:L14) -> 252 | N14: ATTAQUER GMC
A15: 27 | B15: COMUS | D15: 36 | E15: =D15*7 -> 252 | F15: 50%MIN+50%GMC | G15: 126 | L15: 126 | M15: =SUM(G15:L15) -> 252 | N15: ATTAQUER GMC
A16: 60 | B16: HOT BREAD2 Plazza | D16: 36 | E16: =D16*7 -> 252 | F16: 50%MIN+50%GMC | G16: 126 | L16: 126 | M16: =SUM(G16:L16) -> 252 | N16: ATTAQUER GMC
A17: 120 | B17: SID-SID | D17: 36 | E17: =D17*7 -> 252 | F17: 50%MIN+50%SGMP | G17: 126 | J17: 126 | M17: =SUM(G17:L17) -> 252 | N17: ATTAQUER SGMP
A18: 55 | B18: NOUVELLE ESPERANCE 4 | D18: 34 | E18: =D18*7 -> 238 | F18: 50%MIN+50%SGMP | G18: 119 | J18: 119 | M18: =SUM(G18:L18) -> 238 | N18: ATTAQUER SGMP
A19: 80 | B19: MODERNE & ARTISANALE 1 | D19: 34 | E19: =D19*7 -> 238 | F19: 50%GMC+50%SGMP | J19: 119 | L19: 119 | M19: =SUM(G19:L19) -> 238 | N19: A RECUPERER
A20: 96 | B20: NOUVELLE ESPERANCE 1 | C20: Cash | D20: 34 | E20: =D20*7 -> 238 | F20: 50%MIN+50%GMC | G20: 119 | L20: 119 | M20: =SUM(G20:L20) -> 238 | N20: ATTAQUER GMC
A21: 15 | B21: BEDRE NKOMBO | C21: Cash | D21: 32 | E21: =D21*7 -> 224 | F21: 50%MIN+50%SGMP | G21: 112 | J21: 112 | M21: =SUM(G21:L21) -> 224 | N21: ATTAQUER SGMP
A22: 17 | B22: ARTISANALE 3 ( Ex BLANCHE) | D22: 32 | E22: =D22*7 -> 224 | F22: 50%GMC+50%GMK | I22: 112 | L22: 112 | M22: =SUM(G22:L22) -> 224 | N22: A RECUPERER
A23: 44 | B23: Brazza Moderne 1 | C23: Dette | D23: 32 | E23: =D23*7 -> 224 | F23: 100%GMC | L23: 224 | M23: =SUM(G23:L23) -> 224 | N23: A RECUPERER
A24: 81 | B24: MODERNE & ARTISANALE 2 | D24: 32 | E24: =D24*7 -> 224 | F24: 50%GMC+50%SGMP | J24: 112 | L24: 112 | M24: =SUM(G24:L24) -> 224 | N24: A RECUPERER
A25: 97 | B25: EL MOURATH | D25: 32 | E25: =D25*7 -> 224 | F25: 50%MIN+50%GMC | G25: 112 | L25: 112 | M25: =SUM(G25:L25) -> 224 | N25: ATTAQUER GMC
A26: 115 | B26: SAHA(ex fournil) | D26: 32 | E26: =D26*7 -> 224 | F26: 50%SGMP+50%GMK | I26: 112 | L26: 112 | M26: =SUM(G26:L26) -> 224 | N26: A RECUPERER
A27: 141 | B27: Paris Pain | D27: 32 | E27: =D27*7 -> 224 | F27: 50%GMC+50%GMK | I27: 112 | L27: 112 | M27: =SUM(G27:L27) -> 224 | N27: A RECUPERER
A28: 11 | B28: EL MEJID ( Ex Baraka Talangai) | D28: 30 | E28: =D28*7 -> 210 | F28: 50%MIN+50%GMC | G28: 105 | L28: 105 | M28: =SUM(G28:L28) -> 210 | N28: ATTAQUER GMC
A29: 25 | B29: BRAZZA MODERNE 2 | D29: 30 | E29: =D29*7 -> 210 | F29: 50%MIN+50%GMC | G29: 105 | L29: 105 | M29: =SUM(G29:L29) -> 210 | N29: ATTAQUER GMC
A30: 31 | B30: DAHI ( ex préference) | D30: 30 | E30: =D30*7 -> 210 | F30: 50%MIN+50%SGMP | G30: 105 | J30: 105 | M30: =SUM(G30:L30) -> 210 | N30: ATTAQUER SGMP
A31: 39 | B31: EL MANSOUR | D31: 30 | E31: =D31*7 -> 210 | F31: 50%GMC+50%GMK | I31: 105 | L31: 105 | M31: =SUM(G31:L31) -> 210 | N31: A RECUPERER
A32: 53 | B32: NOUVELLE ESPERANCE 2 | C32: Cash | D32: 30 | E32: =D32*7 -> 210 | F32: 50%GMK+50%GMC | I32: 105 | L32: 105 | M32: =SUM(G32:L32) -> 210 | N32: A RECUPERER
A33: 73 | B33: MAHFOUD | D33: 30 | E33: =D33*7 -> 210 | F33: 50%GMC+50%GMK | I33: 105 | L33: 105 | M33: =SUM(G33:L33) -> 210 | N33: A RECUPERER
A34: 75 | B34: MANE | D34: 30 | E34: =D34*7 -> 210 | F34: 50%MIN+50%GMC | G34: 105 | L34: 105 | M34: =SUM(G34:L34) -> 210 | N34: ATTAQUER GMC
A35: 110 | B35: REVES 2 | D35: 30 | E35: =D35*7 -> 210 | F35: 50%MIN+50%GMC | G35: 105 | L35: 105 | M35: =SUM(G35:L35) -> 210 | N35: ATTAQUER GMC
A36: 117 | B36: SAVANA NKOMBO | D36: 30 | E36: =D36*7 -> 210 | F36: 50%MIN+50%GMC | G36: 105 | L36: 105 | M36: =SUM(G36:L36) -> 210 | N36: ATTAQUER GMC
A37: 119 | B37: SD1 CARREFOUR | C37: Crédit | D37: 30 | E37: =D37*7 -> 210 | F37: 50%MIN+25%SGMP+25%GMC | G37: 105 | J37: 52.5 | L37: 52.5 | M37: =SUM(G37:L37) -> 210 | N37: ATTAQUER SGMP
A38: 5 | B38: ALMADINA (bama) | D38: 28 | E38: =D38*7 -> 196 | F38: 50%MIN+50%GMC | G38: 98 | J38: 98 | M38: =SUM(G38:L38) -> 196 | N38: ATTAQUER GMC
A39: 23 | B39: BONNE CHANCE 4 | D39: 28 | E39: =D39*7 -> 196 | F39: 50%MIN+50%GMC | G39: 98 | L39: 98 | M39: =SUM(G39:L39) -> 196 | N39: ATTAQUER GMC
A40: 30 | B40: DAHI (ex bab elkheire) | D40: 28 | E40: =D40*7 -> 196 | F40: 50%MIN+25%SGMP+25%GMC | G40: 98 | J40: 49 | L40: 49 | M40: =SUM(G40:L40) -> 196 | N40: ATTAQUER SGMP
A41: 49 | B41: ETOILE DE KINTELE | D41: 28 | E41: =D41*7 -> 196 | F41: 50%GMK+50%GMC | I41: 98 | L41: 98 | M41: =SUM(G41:L41) -> 196 | N41: A RECUPERER
...

Sheet WEEK 43
A1: N° | B1: Boulangerie | C1: ID client | D1: Cons/j | E1: C° heb | F1: Date Dernière Visite | G1: Période sans visite | H1: perc_MINOCO | I1: perc_FANTA | J1: perc_GMK | K1: perc_SGMP | L1: perc_MFB | M1: perc_GMC | N1: cons_MINOCO | O1: cons_FANTA | P1: cons_GMK | Q1: cons_SGMP | R1: cons_MFB | S1: cons_GMC | T1: cons_Total | U1: verification_1 | V1: verification_2 | W1: verification_3 | X1: verification_4 | Y1: COMMENTAIRES
A2: =+IF(D2>0,1,0) -> 1 | B2: AFRICAINE1 nkouikou nzango | C2: =IF(B2="","", _xlfn.XLOOKUP(B2, Clients!G:G, Clients!F:F, "Not found") ) -> PNR-00001 | D2: 14 | E2: =D2*7 -> 98 | F2: 46023 | G2: =+IF(A2=1,(+TODAY())-F2,"Sans objet") -> 286 | M2: 1 | N2: =+$E2*H2 -> 0 | O2: =+$E2*I2 -> 0 | P2: =+$E2*J2 -> 0 | Q2: =+$E2*K2 -> 0 | R2: =+$E2*L2 -> 0 | S2: =+$E2*M2 -> 98 | T2: =SUM(N2:S2) -> 98 | Z2: =+T2-E2 -> 0 | AB2: Week | AC2: Minoco | AD2: Fanta | AE2: GMPN | AF2: GMK | AG2: SGMP | AH2: MFB | AI2: GMC
A3: =+IF(D3>0,1,0) -> 1 | B3: AFRICAINE2 nkouinkou vonvon | C3: =IF(B3="","", _xlfn.XLOOKUP(B3, Clients!G:G, Clients!F:F, "Not found") ) -> PNR-00002 | D3: 34 | E3: =D3*7 -> 238 | F3: 46024 | G3: =+IF(A3=1,(+TODAY())-F3,"Sans objet") -> 285 | J3: 0.5 | L3: 0.5 | N3: =+$E3*H3 -> 0 | O3: =+$E3*I3 -> 0 | P3: =+$E3*J3 -> 119 | Q3: =+$E3*K3 -> 0 | R3: =+$E3*L3 -> 119 | S3: =+$E3*M3 -> 0 | T3: =SUM(N3:S3) -> 238 | Z3: =+T3-E3 -> 0 | AB3: 39 | AC3: 0.28 | AD3: 0.07 | AE3: =+AC3+AD3 -> 0.35 | AF3: 0.19 | AG3: 0.12 | AH3: 0.15 | AI3: 0.19 | AJ3: =SUM(AE3:AI3) -> 1
A4: =+IF(D4>0,1,0) -> 1 | B4: AFRICAINE3 tchialli | C4: =IF(B4="","", _xlfn.XLOOKUP(B4, Clients!G:G, Clients!F:F, "Not found") ) -> PNR-00003 | D4: 26 | E4: =D4*7 -> 182 | F4: 46025 | G4: =+IF(A4=1,(+TODAY())-F4,"Sans objet") -> 284 | H4: 0.5 | L4: 0.5 | N4: =+$E4*H4 -> 91 | O4: =+$E4*I4 -> 0 | P4: =+$E4*J4 -> 0 | Q4: =+$E4*K4 -> 0 | R4: =+$E4*L4 -> 91 | S4: =+$E4*M4 -> 0 | T4: =SUM(N4:S4) -> 182 | Z4: =+T4-E4 -> 0 | AB4: 40 | AC4: 0.33 | AD4: 0.09 | AE4: =+AC4+AD4 -> 0.42 | AF4: 0.15 | AG4: 0.12 | AH4: 0.11 | AI4: 0.2 | AJ4: =SUM(AE4:AI4) -> 1
A5: =+IF(D5>0,1,0) -> 1 | B5: AFRICAINE4 la fontaine | C5: =IF(B5="","", _xlfn.XLOOKUP(B5, Clients!G:G, Clients!F:F, "Not found") ) -> PNR-00004 | D5: 24 | E5: =D5*7 -> 168 | F5: 46026 | G5: =+IF(A5=1,(+TODAY())-F5,"Sans objet") -> 283 | H5: 0.5 | L5: 0.5 | N5: =+$E5*H5 -> 84 | O5: =+$E5*I5 -> 0 | P5: =+$E5*J5 -> 0 | Q5: =+$E5*K5 -> 0 | R5: =+$E5*L5 -> 84 | S5: =+$E5*M5 -> 0 | T5: =SUM(N5:S5) -> 168 | Z5: =+T5-E5 -> 0 | AB5: 41 | AC5: 0.331901 | AD5: 0.084393262 | AE5: =+AC5+AD5 -> 0.41629426 | AF5: 0.15520798 | AG5: 0.11816776 | AH5: 0.11112066 | AI5: 0.19920935 | AJ5: =SUM(AE5:AI5) -> 1
A6: =+IF(D6>0,1,0) -> 1 | B6: AFRICAINE5 ngoyo avenue taty loutard | C6: =IF(B6="","", _xlfn.XLOOKUP(B6, Clients!G:G, Clients!F:F, "Not found") ) -> PNR-00005 | D6: 7 | E6: =D6*7 -> 49 | F6: 46027 | G6: =+IF(A6=1,(+TODAY())-F6,"Sans objet") -> 282 | H6: 0.5 | L6: 0.5 | N6: =+$E6*H6 -> 24.5 | O6: =+$E6*I6 -> 0 | P6: =+$E6*J6 -> 0 | Q6: =+$E6*K6 -> 0 | R6: =+$E6*L6 -> 24.5 | S6: =+$E6*M6 -> 0 | T6: =SUM(N6:S6) -> 49 | Z6: =+T6-E6 -> 0 | AB6: 42 | AC6: =N163 -> 0.22417934 | AD6: =O163 -> 0.088070456 | AE6: =+AC6+AD6 -> 0.3122498 | AF6: =P163 -> 0.037830264 | AG6: =Q163 -> 0.22497998 | AH6: =R163 -> 0.20396317 | AI6: =S163 -> 0.22097678 | AJ6: =SUM(AE6:AI6) -> 1
A7: =+IF(D7>0,1,0) -> 1 | B7: AFRICAINE6 ngoyo central | C7: =IF(B7="","", _xlfn.XLOOKUP(B7, Clients!G:G, Clients!F:F, "Not found") ) -> PNR-00006 | D7: 36 | E7: =D7*7 -> 252 | F7: 46028 | G7: =+IF(A7=1,(+TODAY())-F7,"Sans objet") -> 281 | H7: 0.25 | I7: 0.5 | L7: 0.25 | N7: =+$E7*H7 -> 63 | O7: =+$E7*I7 -> 126 | P7: =+$E7*J7 -> 0 | Q7: =+$E7*K7 -> 0 | R7: =+$E7*L7 -> 63 | S7: =+$E7*M7 -> 0 | T7: =SUM(N7:S7) -> 252 | Z7: =+T7-E7 -> 0 | AB7: Variation
A8: =+IF(D8>0,1,0) -> 1 | B8: AFRICAINE7 nzassi | C8: =IF(B8="","", _xlfn.XLOOKUP(B8, Clients!G:G, Clients!F:F, "Not found") ) -> PNR-00007 | D8: 26 | E8: =D8*7 -> 182 | F8: 46029 | G8: =+IF(A8=1,(+TODAY())-F8,"Sans objet") -> 280 | H8: 0.5 | L8: 0.5 | N8: =+$E8*H8 -> 91 | O8: =+$E8*I8 -> 0 | P8: =+$E8*J8 -> 0 | Q8: =+$E8*K8 -> 0 | R8: =+$E8*L8 -> 91 | S8: =+$E8*M8 -> 0 | T8: =SUM(N8:S8) -> 182 | Z8: =+T8-E8 -> 0
A9: =+IF(D9>0,1,0) -> 1 | B9: AL MONA rond point sogolo | C9: =IF(B9="","", _xlfn.XLOOKUP(B9, Clients!G:G, Clients!F:F, "Not found") ) -> PNR-00008 | D9: 20 | E9: =D9*7 -> 140 | F9: 46030 | G9: =+IF(A9=1,(+TODAY())-F9,"Sans objet") -> 279 | H9: 0.75 | L9: 0.25 | N9: =+$E9*H9 -> 105 | O9: =+$E9*I9 -> 0 | P9: =+$E9*J9 -> 0 | Q9: =+$E9*K9 -> 0 | R9: =+$E9*L9 -> 35 | S9: =+$E9*M9 -> 0 | T9: =SUM(N9:S9) -> 140 | Z9: =+T9-E9 -> 0
A10: =+IF(D10>0,1,0) -> 1 | B10: AMOUR DE MPAKA | C10: =IF(B10="","", _xlfn.XLOOKUP(B10, Clients!G:G, Clients!F:F, "Not found") ) -> PNR-00009 | D10: 24 | E10: =D10*7 -> 168 | F10: 46031 | G10: =+IF(A10=1,(+TODAY())-F10,"Sans objet") -> 278 | H10: 0.5 | L10: 0.5 | N10: =+$E10*H10 -> 84 | O10: =+$E10*I10 -> 0 | P10: =+$E10*J10 -> 0 | Q10: =+$E10*K10 -> 0 | R10: =+$E10*L10 -> 84 | S10: =+$E10*M10 -> 0 | T10: =SUM(N10:S10) -> 168 | Z10: =+T10-E10 -> 0
A11: =+IF(D11>0,1,0) -> 1 | B11: ARC EN CIEL EX LISA ngoyo péage | C11: =IF(B11="","", _xlfn.XLOOKUP(B11, Clients!G:G, Clients!F:F, "Not found") ) -> PNR-00010 | D11: 24 | E11: =D11*7 -> 168 | F11: 46032 | G11: =+IF(A11=1,(+TODAY())-F11,"Sans objet") -> 277 | H11: 0.5 | L11: 0.5 | N11: =+$E11*H11 -> 84 | O11: =+$E11*I11 -> 0 | P11: =+$E11*J11 -> 0 | Q11: =+$E11*K11 -> 0 | R11: =+$E11*L11 -> 84 | S11: =+$E11*M11 -> 0 | T11: =SUM(N11:S11) -> 168 | Z11: =+T11-E11 -> 0
A12: =+IF(D12>0,1,0) -> 1 | B12: ARDOSSON 1 | C12: =IF(B12="","", _xlfn.XLOOKUP(B12, Clients!G:G, Clients!F:F, "Not found") ) -> PNR-00011 | D12: 24 | E12: =D12*7 -> 168 | F12: 46033 | G12: =+IF(A12=1,(+TODAY())-F12,"Sans objet") -> 276 | H12: 0.5 | L12: 0.5 | N12: =+$E12*H12 -> 84 | O12: =+$E12*I12 -> 0 | P12: =+$E12*J12 -> 0 | Q12: =+$E12*K12 -> 0 | R12: =+$E12*L12 -> 84 | S12: =+$E12*M12 -> 0 | T12: =SUM(N12:S12) -> 168 | Z12: =+T12-E12 -> 0
A13: =+IF(D13>0,1,0) -> 1 | B13: ARDOSSON 2 | C13: =IF(B13="","", _xlfn.XLOOKUP(B13, Clients!G:G, Clients!F:F, "Not found") ) -> PNR-00012 | D13: 36 | E13: =D13*7 -> 252 | F13: 46034 | G13: =+IF(A13=1,(+TODAY())-F13,"Sans objet") -> 275 | L13: 0.5 | M13: 0.5 | N13: =+$E13*H13 -> 0 | O13: =+$E13*I13 -> 0 | P13: =+$E13*J13 -> 0 | Q13: =+$E13*K13 -> 0 | R13: =+$E13*L13 -> 126 | S13: =+$E13*M13 -> 126 | T13: =SUM(N13:S13) -> 252 | Z13: =+T13-E13 -> 0
A14: =+IF(D14>0,1,0) -> 1 | B14: ATAKAHYR mayinga | C14: =IF(B14="","", _xlfn.XLOOKUP(B14, Clients!G:G, Clients!F:F, "Not found") ) -> PNR-00013 | D14: 20 | E14: =D14*7 -> 140 | F14: 46035 | G14: =+IF(A14=1,(+TODAY())-F14,"Sans objet") -> 274 | K14: 0.5 | M14: 0.5 | N14: =+$E14*H14 -> 0 | O14: =+$E14*I14 -> 0 | P14: =+$E14*J14 -> 0 | Q14: =+$E14*K14 -> 70 | R14: =+$E14*L14 -> 0 | S14: =+$E14*M14 -> 70 | T14: =SUM(N14:S14) -> 140 | Z14: =+T14-E14 -> 0
A15: =+IF(D15>0,1,0) -> 1 | B15: ATAKALKHAYR fouks | C15: =IF(B15="","", _xlfn.XLOOKUP(B15, Clients!G:G, Clients!F:F, "Not found") ) -> PNR-00014 | D15: 10 | E15: =D15*7 -> 70 | F15: 46036 | G15: =+IF(A15=1,(+TODAY())-F15,"Sans objet") -> 273 | L15: 0.5 | M15: 0.5 | N15: =+$E15*H15 -> 0 | O15: =+$E15*I15 -> 0 | P15: =+$E15*J15 -> 0 | Q15: =+$E15*K15 -> 0 | R15: =+$E15*L15 -> 35 | S15: =+$E15*M15 -> 35 | T15: =SUM(N15:S15) -> 70 | Z15: =+T15-E15 -> 0
A16: =+IF(D16>0,1,0) -> 1 | B16: ATAKALKHAYR loandjili | C16: =IF(B16="","", _xlfn.XLOOKUP(B16, Clients!G:G, Clients!F:F, "Not found") ) -> PNR-00015 | D16: 26 | E16: =D16*7 -> 182 | F16: 46037 | G16: =+IF(A16=1,(+TODAY())-F16,"Sans objet") -> 272 | H16: 0.5 | L16: 0.5 | N16: =+$E16*H16 -> 91 | O16: =+$E16*I16 -> 0 | P16: =+$E16*J16 -> 0 | Q16: =+$E16*K16 -> 0 | R16: =+$E16*L16 -> 91 | S16: =+$E16*M16 -> 0 | T16: =SUM(N16:S16) -> 182 | Z16: =+T16-E16 -> 0
A17: =+IF(D17>0,1,0) -> 1 | B17: AYA fond -tié-tié | C17: =IF(B17="","", _xlfn.XLOOKUP(B17, Clients!G:G, Clients!F:F, "Not found") ) -> PNR-00016 | D17: 26 | E17: =D17*7 -> 182 | F17: 46038 | G17: =+IF(A17=1,(+TODAY())-F17,"Sans objet") -> 271 | J17: 0.5 | L17: 0.5 | N17: =+$E17*H17 -> 0 | O17: =+$E17*I17 -> 0 | P17: =+$E17*J17 -> 91 | Q17: =+$E17*K17 -> 0 | R17: =+$E17*L17 -> 91 | S17: =+$E17*M17 -> 0 | T17: =SUM(N17:S17) -> 182 | Z17: =+T17-E17 -> 0
A18: =+IF(D18>0,1,0) -> 1 | B18: AYOUNE MAKAYABOU | C18: =IF(B18="","", _xlfn.XLOOKUP(B18, Clients!G:G, Clients!F:F, "Not found") ) -> PNR-00017 | D18: 24 | E18: =D18*7 -> 168 | F18: 46039 | G18: =+IF(A18=1,(+TODAY())-F18,"Sans objet") -> 270 | H18: 0.5 | L18: 0.5 | N18: =+$E18*H18 -> 84 | O18: =+$E18*I18 -> 0 | P18: =+$E18*J18 -> 0 | Q18: =+$E18*K18 -> 0 | R18: =+$E18*L18 -> 84 | S18: =+$E18*M18 -> 0 | T18: =SUM(N18:S18) -> 168 | Z18: =+T18-E18 -> 0
A19: =+IF(D19>0,1,0) -> 1 | B19: AZALAYE makulungulu | C19: =IF(B19="","", _xlfn.XLOOKUP(B19, Clients!G:G, Clients!F:F, "Not found") ) -> PNR-00018 | D19: 36 | E19: =D19*7 -> 252 | F19: 46040 | G19: =+IF(A19=1,(+TODAY())-F19,"Sans objet") -> 269 | H19: 0.5 | L19: 0.5 | N19: =+$E19*H19 -> 126 | O19: =+$E19*I19 -> 0 | P19: =+$E19*J19 -> 0 | Q19: =+$E19*K19 -> 0 | R19: =+$E19*L19 -> 126 | S19: =+$E19*M19 -> 0 | T19: =SUM(N19:S19) -> 252 | Z19: =+T19-E19 -> 0
A20: =+IF(D20>0,1,0) -> 1 | B20: BA fond tié-tié gare | C20: =IF(B20="","", _xlfn.XLOOKUP(B20, Clients!G:G, Clients!F:F, "Not found") ) -> PNR-00019 | D20: 28 | E20: =D20*7 -> 196 | F20: 46041 | G20: =+IF(A20=1,(+TODAY())-F20,"Sans objet") -> 268 | H20: 0.75 | L20: 0.25 | N20: =+$E20*H20 -> 147 | O20: =+$E20*I20 -> 0 | P20: =+$E20*J20 -> 0 | Q20: =+$E20*K20 -> 0 | R20: =+$E20*L20 -> 49 | S20: =+$E20*M20 -> 0 | T20: =SUM(N20:S20) -> 196 | Z20: =+T20-E20 -> 0
A21: =+IF(D21>0,1,0) -> 1 | B21: BA fond tié-tié en allant vers voungou | C21: =IF(B21="","", _xlfn.XLOOKUP(B21, Clients!G:G, Clients!F:F, "Not found") ) -> PNR-00020 | D21: 36 | E21: =D21*7 -> 252 | F21: 46042 | G21: =+IF(A21=1,(+TODAY())-F21,"Sans objet") -> 267 | H21: 0.5 | L21: 0.5 | N21: =+$E21*H21 -> 126 | O21: =+$E21*I21 -> 0 | P21: =+$E21*J21 -> 0 | Q21: =+$E21*K21 -> 0 | R21: =+$E21*L21 -> 126 | S21: =+$E21*M21 -> 0 | T21: =SUM(N21:S21) -> 252 | Z21: =+T21-E21 -> 0
A22: =+IF(D22>0,1,0) -> 1 | B22: BA mpaka dalette | C22: =IF(B22="","", _xlfn.XLOOKUP(B22, Clients!G:G, Clients!F:F, "Not found") ) -> PNR-00021 | D22: 28 | E22: =D22*7 -> 196 | F22: 46043 | G22: =+IF(A22=1,(+TODAY())-F22,"Sans objet") -> 266 | H22: 0.5 | M22: 0.5 | N22: =+$E22*H22 -> 98 | O22: =+$E22*I22 -> 0 | P22: =+$E22*J22 -> 0 | Q22: =+$E22*K22 -> 0 | R22: =+$E22*L22 -> 0 | S22: =+$E22*M22 -> 98 | T22: =SUM(N22:S22) -> 196 | Z22: =+T22-E22 -> 0
A23: =+IF(D23>0,1,0) -> 1 | B23: BA mpaka marché LEWILIS | C23: =IF(B23="","", _xlfn.XLOOKUP(B23, Clients!G:G, Clients!F:F, "Not found") ) -> PNR-00022 | D23: 22 | E23: =D23*7 -> 154 | F23: 46044 | G23: =+IF(A23=1,(+TODAY())-F23,"Sans objet") -> 265 | H23: 0.5 | L23: 0.5 | N23: =+$E23*H23 -> 77 | O23: =+$E23*I23 -> 0 | P23: =+$E23*J23 -> 0 | Q23: =+$E23*K23 -> 0 | R23: =+$E23*L23 -> 77 | S23: =+$E23*M23 -> 0 | T23: =SUM(N23:S23) -> 154 | Z23: =+T23-E23 -> 0
A24: =+IF(D24>0,1,0) -> 1 | B24: BA mvoumvou immigration | C24: =IF(B24="","", _xlfn.XLOOKUP(B24, Clients!G:G, Clients!F:F, "Not found") ) -> PNR-00023 | D24: 24 | E24: =D24*7 -> 168 | F24: 46045 | G24: =+IF(A24=1,(+TODAY())-F24,"Sans objet") -> 264 | H24: 0.5 | L24: 0.5 | N24: =+$E24*H24 -> 84 | O24: =+$E24*I24 -> 0 | P24: =+$E24*J24 -> 0 | Q24: =+$E24*K24 -> 0 | R24: =+$E24*L24 -> 84 | S24: =+$E24*M24 -> 0 | T24: =SUM(N24:S24) -> 168 | Z24: =+T24-E24 -> 0
A25: =+IF(D25>0,1,0) -> 1 | B25: BA ngoyo | C25: =IF(B25="","", _xlfn.XLOOKUP(B25, Clients!G:G, Clients!F:F, "Not found") ) -> PNR-00024 | D25: 22 | E25: =D25*7 -> 154 | F25: 46046 | G25: =+IF(A25=1,(+TODAY())-F25,"Sans objet") -> 263 | H25: 0.5 | L25: 0.5 | N25: =+$E25*H25 -> 77 | O25: =+$E25*I25 -> 0 | P25: =+$E25*J25 -> 0 | Q25: =+$E25*K25 -> 0 | R25: =+$E25*L25 -> 77 | S25: =+$E25*M25 -> 0 | T25: =SUM(N25:S25) -> 154 | Z25: =+T25-E25 -> 0
A26: =+IF(D26>0,1,0) -> 0 | B26: BA thyster mongo mpoukou | C26: =IF(B26="","", _xlfn.XLOOKUP(B26, Clients!G:G, Clients!F:F, "Not found") ) -> PNR-00025 | D26: 0 | E26: =D26*7 -> 0 | F26: 46047 | G26: =+IF(A26=1,(+TODAY())-F26,"Sans objet") -> Sans objet | H26: 1 | N26: =+$E26*H26 -> 0 | O26: =+$E26*I26 -> 0 | P26: =+$E26*J26 -> 0 | Q26: =+$E26*K26 -> 0 | R26: =+$E26*L26 -> 0 | S26: =+$E26*M26 -> 0 | T26: =SUM(N26:S26) -> 0 | Z26: =+T26-E26 -> 0
A27: =+IF(D27>0,1,0) -> 1 | B27: BABA.M EX MAKKAH Vindoulou station | C27: =IF(B27="","", _xlfn.XLOOKUP(B27, Clients!G:G, Clients!F:F, "Not found") ) -> PNR-00026 | D27: 26 | E27: =D27*7 -> 182 | F27: 46048 | G27: =+IF(A27=1,(+TODAY())-F27,"Sans objet") -> 261 | H27: 0.5 | K27: 0.5 | N27: =+$E27*H27 -> 91 | O27: =+$E27*I27 -> 0 | P27: =+$E27*J27 -> 0 | Q27: =+$E27*K27 -> 91 | R27: =+$E27*L27 -> 0 | S27: =+$E27*M27 -> 0 | T27: =SUM(N27:S27) -> 182 | Z27: =+T27-E27 -> 0
A28: =+IF(D28>0,1,0) -> 1 | B28: BABA.M EX MAKKAH marché nkounikou1 | C28: =IF(B28="","", _xlfn.XLOOKUP(B28, Clients!G:G, Clients!F:F, "Not found") ) -> PNR-00027 | D28: 26 | E28: =D28*7 -> 182 | F28: 46049 | G28: =+IF(A28=1,(+TODAY())-F28,"Sans objet") -> 260 | H28: 0.75 | M28: 0.25 | N28: =+$E28*H28 -> 136.5 | O28: =+$E28*I28 -> 0 | P28: =+$E28*J28 -> 0 | Q28: =+$E28*K28 -> 0 | R28: =+$E28*L28 -> 0 | S28: =+$E28*M28 -> 45.5 | T28: =SUM(N28:S28) -> 182 | Z28: =+T28-E28 -> 0
A29: =+IF(D29>0,1,0) -> 1 | B29: BAGUETTE D'EXCELLENCE nkouinkou | C29: =IF(B29="","", _xlfn.XLOOKUP(B29, Clients!G:G, Clients!F:F, "Not found") ) -> PNR-00028 | D29: 28 | E29: =D29*7 -> 196 | F29: 46050 | G29: =+IF(A29=1,(+TODAY())-F29,"Sans objet") -> 259 | H29: 0.5 | L29: 0.5 | N29: =+$E29*H29 -> 98 | O29: =+$E29*I29 -> 0 | P29: =+$E29*J29 -> 0 | Q29: =+$E29*K29 -> 0 | R29: =+$E29*L29 -> 98 | S29: =+$E29*M29 -> 0 | T29: =SUM(N29:S29) -> 196 | Z29: =+T29-E29 -> 0
A30: =+IF(D30>0,1,0) -> 1 | B30: BAH ex BMM paka maison blanche | C30: =IF(B30="","", _xlfn.XLOOKUP(B30, Clients!G:G, Clients!F:F, "Not found") ) -> PNR-00029 | D30: 8 | E30: =D30*7 -> 56 | F30: 46051 | G30: =+IF(A30=1,(+TODAY())-F30,"Sans objet") -> 258 | H30: 0.5 | L30: 0.5 | N30: =+$E30*H30 -> 28 | O30: =+$E30*I30 -> 0 | P30: =+$E30*J30 -> 0 | Q30: =+$E30*K30 -> 0 | R30: =+$E30*L30 -> 28 | S30: =+$E30*M30 -> 0 | T30: =SUM(N30:S30) -> 56 | Z30: =+T30-E30 -> 0
A31: =+IF(D31>0,1,0) -> 1 | B31: BAH ex HACEN fond tié-tié | C31: =IF(B31="","", _xlfn.XLOOKUP(B31, Clients!G:G, Clients!F:F, "Not found") ) -> PNR-00030 | D31: 20 | E31: =D31*7 -> 140 | F31: 46052 | G31: =+IF(A31=1,(+TODAY())-F31,"Sans objet") -> 257 | H31: 0.5 | L31: 0.5 | N31: =+$E31*H31 -> 70 | O31: =+$E31*I31 -> 0 | P31: =+$E31*J31 -> 0 | Q31: =+$E31*K31 -> 0 | R31: =+$E31*L31 -> 70 | S31: =+$E31*M31 -> 0 | T31: =SUM(N31:S31) -> 140 | Z31: =+T31-E31 -> 0
A32: =+IF(D32>0,1,0) -> 1 | B32: BAH ex SASI tié tié massola | C32: =IF(B32="","", _xlfn.XLOOKUP(B32, Clients!G:G, Clients!F:F, "Not found") ) -> PNR-00031 | D32: 20 | E32: =D32*7 -> 140 | F32: 46053 | G32: =+IF(A32=1,(+TODAY())-F32,"Sans objet") -> 256 | H32: 0.5 | K32: 0.5 | N32: =+$E32*H32 -> 70 | O32: =+$E32*I32 -> 0 | P32: =+$E32*J32 -> 0 | Q32: =+$E32*K32 -> 70 | R32: =+$E32*L32 -> 0 | S32: =+$E32*M32 -> 0 | T32: =SUM(N32:S32) -> 140 | Z32: =+T32-E32 -> 0
A33: =+IF(D33>0,1,0) -> 1 | B33: BENI EX GORGOL 2 mpaka dalette | C33: =IF(B33="","", _xlfn.XLOOKUP(B33, Clients!G:G, Clients!F:F, "Not found") ) -> PNR-00032 | D33: 40 | E33: =D33*7 -> 280 | F33: 46054 | G33: =+IF(A33=1,(+TODAY())-F33,"Sans objet") -> 255 | H33: 0.5 | K33: 0.5 | N33: =+$E33*H33 -> 140 | O33: =+$E33*I33 -> 0 | P33: =+$E33*J33 -> 0 | Q33: =+$E33*K33 -> 140 | R33: =+$E33*L33 -> 0 | S33: =+$E33*M33 -> 0 | T33: =SUM(N33:S33) -> 280 | Z33: =+T33-E33 -> 0
A34: =+IF(D34>0,1,0) -> 1 | B34: BICLE | C34: =IF(B34="","", _xlfn.XLOOKUP(B34, Clients!G:G, Clients!F:F, "Not found") ) -> PNR-00033 | D34: 36 | E34: =D34*7 -> 252 | F34: 46055 | G34: =+IF(A34=1,(+TODAY())-F34,"Sans objet") -> 254 | H34: 0.5 | K34: 0.5 | N34: =+$E34*H34 -> 126 | O34: =+$E34*I34 -> 0 | P34: =+$E34*J34 -> 0 | Q34: =+$E34*K34 -> 126 | R34: =+$E34*L34 -> 0 | S34: =+$E34*M34 -> 0 | T34: =SUM(N34:S34) -> 252 | Z34: =+T34-E34 -> 0
A35: =+IF(D35>0,1,0) -> 1 | B35: BM EX ELKER WENVIR vindoulou arrêt sapin | C35: =IF(B35="","", _xlfn.XLOOKUP(B35, Clients!G:G, Clients!F:F, "Not found") ) -> PNR-00034 | D35: 22 | E35: =D35*7 -> 154 | F35: 46056 | G35: =+IF(A35=1,(+TODAY())-F35,"Sans objet") -> 253 | H35: 0.5 | L35: 0.5 | N35: =+$E35*H35 -> 77 | O35: =+$E35*I35 -> 0 | P35: =+$E35*J35 -> 0 | Q35: =+$E35*K35 -> 0 | R35: =+$E35*L35 -> 77 | S35: =+$E35*M35 -> 0 | T35: =SUM(N35:S35) -> 154 | Z35: =+T35-E35 -> 0
A36: =+IF(D36>0,1,0) -> 1 | B36: BON CHOIX FOND TIE TIE | C36: =IF(B36="","", _xlfn.XLOOKUP(B36, Clients!G:G, Clients!F:F, "Not found") ) -> PNR-00035 | D36: 6 | E36: =D36*7 -> 42 | F36: 46057 | G36: =+IF(A36=1,(+TODAY())-F36,"Sans objet") -> 252 | H36: 1 | N36: =+$E36*H36 -> 42 | O36: =+$E36*I36 -> 0 | P36: =+$E36*J36 -> 0 | Q36: =+$E36*K36 -> 0 | R36: =+$E36*L36 -> 0 | S36: =+$E36*M36 -> 0 | T36: =SUM(N36:S36) -> 42 | Z36: =+T36-E36 -> 0
A37: =+IF(D37>0,1,0) -> 1 | B37: BON CHOIX ngoyo | C37: =IF(B37="","", _xlfn.XLOOKUP(B37, Clients!G:G, Clients!F:F, "Not found") ) -> PNR-00036 | D37: 22 | E37: =D37*7 -> 154 | F37: 46058 | G37: =+IF(A37=1,(+TODAY())-F37,"Sans objet") -> 251 | K37: 0.5 | M37: 0.5 | N37: =+$E37*H37 -> 0 | O37: =+$E37*I37 -> 0 | P37: =+$E37*J37 -> 0 | Q37: =+$E37*K37 -> 77 | R37: =+$E37*L37 -> 0 | S37: =+$E37*M37 -> 77 | T37: =SUM(N37:S37) -> 154 | Z37: =+T37-E37 -> 0
A38: =+IF(D38>0,1,0) -> 1 | B38: BON CHOIX ex GAZA 2 km4 | C38: =IF(B38="","", _xlfn.XLOOKUP(B38, Clients!G:G, Clients!F:F, "Not found") ) -> PNR-00037 | D38: 10 | E38: =D38*7 -> 70 | F38: 46059 | G38: =+IF(A38=1,(+TODAY())-F38,"Sans objet") -> 250 | H38: 1 | N38: =+$E38*H38 -> 70 | O38: =+$E38*I38 -> 0 | P38: =+$E38*J38 -> 0 | Q38: =+$E38*K38 -> 0 | R38: =+$E38*L38 -> 0 | S38: =+$E38*M38 -> 0 | T38: =SUM(N38:S38) -> 70 | Z38: =+T38-E38 -> 0
A39: =+IF(D39>0,1,0) -> 1 | B39: BON CHOIX tié tié masola | C39: =IF(B39="","", _xlfn.XLOOKUP(B39, Clients!G:G, Clients!F:F, "Not found") ) -> PNR-00038 | D39: 5 | E39: =D39*7 -> 35 | F39: 46060 | G39: =+IF(A39=1,(+TODAY())-F39,"Sans objet") -> 249 | H39: 1 | N39: =+$E39*H39 -> 35 | O39: =+$E39*I39 -> 0 | P39: =+$E39*J39 -> 0 | Q39: =+$E39*K39 -> 0 | R39: =+$E39*L39 -> 0 | S39: =+$E39*M39 -> 0 | T39: =SUM(N39:S39) -> 35 | Z39: =+T39-E39 -> 0
A40: =+IF(D40>0,1,0) -> 1 | B40: BOPAIN Tié-tié Congo Malembé | C40: =IF(B40="","", _xlfn.XLOOKUP(B40, Clients!G:G, Clients!F:F, "Not found") ) -> PNR-00039 | D40: 5 | E40: =D40*7 -> 35 | F40: 46061 | G40: =+IF(A40=1,(+TODAY())-F40,"Sans objet") -> 248 | K40: 1 | N40: =+$E40*H40 -> 0 | O40: =+$E40*I40 -> 0 | P40: =+$E40*J40 -> 0 | Q40: =+$E40*K40 -> 35 | R40: =+$E40*L40 -> 0 | S40: =+$E40*M40 -> 0 | T40: =SUM(N40:S40) -> 35 | Z40: =+T40-E40 -> 0
...

Sheet PDM 2026
A1: Week | B1: Minoco | C1: Fanta | D1: GMPN | E1: GMK | F1: SGMP | G1: MFB | H1: GMC
A2: 6 | B2: 0.3565445 | C2: 0.097033159 | D2: =SUM(B2:C2) -> 0.45357766 | E2: 0.087609075 | F2: 0.1460733 | G2: 0.10575916 | H2: 0.2069808 | I2: 1
A3: 7 | B3: 0.31935143 | C3: 0.090236165 | D3: =SUM(B3:C3) -> 0.40958759 | E3: 0.09693338 | F3: 0.13447303 | G3: 0.14663377 | H3: 0.21237222 | I3: 1
A4: 8 | B4: 0.31935143 | C4: 0.090236165 | D4: =SUM(B4:C4) -> 0.40958759 | E4: 0.09693338 | F4: 0.13447303 | G4: 0.14663377 | H4: 0.21237222 | I4: 1
A5: 9 | B5: 0.34106769 | C5: 0.077808793 | D5: =SUM(B5:C5) -> 0.41887648 | E5: 0.076413119 | F5: 0.16591068 | G5: 0.102582 | H5: 0.23621773 | I5: 1
A6: 10 | B6: 0.34106769 | C6: 0.077808793 | D6: =SUM(B6:C6) -> 0.41887648 | E6: 0.076413119 | F6: 0.16591068 | G6: 0.102582 | H6: 0.23621773 | I6: 1
A7: 11 | B7: 0.26022928 | C7: 0.095061728 | D7: =SUM(B7:C7) -> 0.35529101 | E7: 0.063844797 | F7: 0.14691358 | G7: 0.18439153 | H7: 0.24955908 | I7: 1
A8: 12 | B8: 0.19 | C8: 0.07 | D8: =SUM(B8:C8) -> 0.26 | E8: 0.067 | F8: 0.162 | G8: 0.228 | H8: 0.284 | I8: 1.001
A9: 13 | B9: 0.17 | C9: 0.07 | D9: =SUM(B9:C9) -> 0.24 | E9: 0.063 | F9: 0.176 | G9: 0.242 | H9: 0.275 | I9: 0.996
A10: 14 | B10: 0.18 | C10: 0.1 | D10: =SUM(B10:C10) -> 0.28 | E10: 0.064 | F10: 0.169 | G10: 0.24 | H10: 0.247 | I10: 1
A11: 15 | B11: 0.19 | C11: 0.08 | D11: =SUM(B11:C11) -> 0.27 | E11: 0.073 | F11: 0.141 | G11: 0.246 | H11: 0.27 | I11: 1
A12: 16 | B12: 0.18 | C12: 0.08 | D12: =SUM(B12:C12) -> 0.26 | E12: 0.077 | F12: 0.111 | G12: 0.246 | H12: 0.309 | I12: 1.003
A13: 17 | B13: 0.22 | C13: 0.12 | D13: =SUM(B13:C13) -> 0.34 | E13: 0.076 | F13: 0.114 | G13: 0.239 | H13: 0.235 | I13: 1.004
... A32: 36 | B32: 0.2629 | C32: 0.068 | D32: =SUM(B32:C32) -> 0.3309 | E32: 0.103 | F32: 0.239 | G32: 0.257 | H32: 0.069 | I32: 0.9995
A33: 37 | B33: 0.267 | C33: 0.046 | D33: =SUM(B33:C33) -> 0.313 | E33: 0.099 | F33: 0.23 | G33: 0.27 | H33: 0.089 | I33: =SUM(D33:H33) -> 1.001
A34: 38 | B34: 0.2475 | C34: 0.047 | D34: =SUM(B34:C34) -> 0.2945 | E34: 0.121 | F34: 0.194 | G34: 0.226 | H34: 0.164 | I34: =+D34+E34+F34+G34+H34 -> 0.9995
A35: 39 | B35: 0.2475 | C35: 0.064 | D35: =SUM(B35:C35) -> 0.3115 | E35: 0.076 | F35: 0.187 | G35: 0.222 | H35: 0.204 | I35: =SUM(D35:H35) -> 1.0005
A36: 40 | B36: 0.2504 | C36: 0.046 | D36: =SUM(B36:C36) -> 0.2964 | E36: 0.051 | F36: 0.168 | G36: 0.247 | H36: 0.236 | I36: =+D36+E36+F36+G36+H36 -> 0.9984
D37: =SUM(B37:C37) -> 0 | I37: =+D37+E37+F37+G37+H37 -> 0
D38: =SUM(B38:C38) -> 0 | I38: =+D38+E38+F38+G38+H38 -> 0
D39: =SUM(B39:C39) -> 0 | I39: =+D39+E39+F39+G39+H39 -> 0
D40: =SUM(B40:C40) -> 0 | I40: =+D40+E40+F40+G40+H40 -> 0
D41: =SUM(B41:C41) -> 0 | I41: =+D41+E41+F41+G41+H41 -> 0
D42: =SUM(B42:C42) -> 0 | I42: =+D42+E42+F42+G42+H42 -> 0
D43: =SUM(B43:C43) -> 0 | I43: =+D43+E43+F43+G43+H43 -> 0

Sheet Clients
A1: Index | B1: Actif | C1: Type | D1: Secteur | E1: Technico Commercial | F1: ID client | G1: Boulangerie | H1: Latitude | I1: Longitude | J1: TBD | K1: TBD | L1: TBD | M1: TBD | N1: TBD | O1: TBD | P1: TBD | Q1: TBD | R1: TBD | S1: TBD
A2: 1 | B2: Oui | C2: cash | D2: 2 | E2: =VLOOKUP(D2,Secteurs!$A$2:$C$4,3) -> Félix OVOURA | F2: PNR-00001 | G2: AFRICAINE1 nkouikou nzango | H2: -4.760972 | I2: 11.894225
A3: 2 | B3: Oui | C3: cash | D3: 2 | E3: =VLOOKUP(D3,Secteurs!$A$2:$C$4,3) -> Félix OVOURA | F3: PNR-00002 | G3: AFRICAINE2 nkouinkou vonvon | H3: -4.7653793 | I3: 11.888867
A4: 3 | B4: Oui | C4: cash | D4: 2 | E4: =VLOOKUP(D4,Secteurs!$A$2:$C$4,3) -> Félix OVOURA | F4: PNR-00003 | G4: AFRICAINE3 tchialli | H4: -4.740813 | I4: 11.872248
A5: 4 | B5: Oui | C5: cash | D5: 1 | E5: =VLOOKUP(D5,Secteurs!$A$2:$C$4,3) -> Alexis MABOUNDA | F5: PNR-00004 | G5: AFRICAINE4 la fontaine | H5: -4.7847704 | I5: 11.890808
A6: 5 | B6: Oui | C6: cash | D6: 1 | E6: =VLOOKUP(D6,Secteurs!$A$2:$C$4,3) -> Alexis MABOUNDA | F6: PNR-00005 | G6: AFRICAINE5 ngoyo avenue taty loutard | H6: -4.8459595 | I6: 11.90738
A7: 6 | B7: Oui | C7: cash | D7: 3 | E7: =VLOOKUP(D7,Secteurs!$A$2:$C$4,3) -> Armel SOKAMBA | F7: PNR-00006 | G7: AFRICAINE6 ngoyo central | H7: -4.8559791 | I7: 11.913618
A8: 7 | B8: Oui | C8: cash | D8: 2 | E8: =VLOOKUP(D8,Secteurs!$A$2:$C$4,3) -> Félix OVOURA | F8: PNR-00007 | G8: AFRICAINE7 nzassi
A9: 8 | B9: Oui | C9: cash | D9: 3 | E9: =VLOOKUP(D9,Secteurs!$A$2:$C$4,3) -> Armel SOKAMBA | F9: PNR-00008 | G9: AL MONA rond point sogolo | H9: -4.763584 | I9: 11.86124
A10: 9 | B10: Oui | F10: PNR-00009 | G10: AMOUR DE MPAKA | H10: -4.8042877 | I10: 11.921242
A11: 10 | B11: Oui | F11: PNR-00010 | G11: ARC EN CIEL EX LISA ngoyo péage | H11: -4.885089 | I11: 11.928425
A12: 11 | B12: Oui | C12: cash | D12: 3 | E12: =VLOOKUP(D12,Secteurs!$A$2:$C$4,3) -> Armel SOKAMBA | F12: PNR-00011 | G12: ARDOSSON 1
A13: 12 | B13: Oui | C13: cash | D13: 2 | E13: =VLOOKUP(D13,Secteurs!$A$2:$C$4,3) -> Félix OVOURA | F13: PNR-00012 | G13: ARDOSSON 2
A14: 13 | B14: Oui | C14: cash | D14: 1 | E14: =VLOOKUP(D14,Secteurs!$A$2:$C$4,3) -> Alexis MABOUNDA | F14: PNR-00013 | G14: ATAKAHYR mayinga | H14: -4.8393837 | I14: 11.895826
A15: 14 | B15: Oui | C15: cash | D15: 2 | E15: =VLOOKUP(D15,Secteurs!$A$2:$C$4,3) -> Félix OVOURA | F15: PNR-00014 | G15: ATAKALKHAYR fouks | H15: -4.783137 | I15: 11.882978
A16: 15 | B16: Oui | C16: cash | D16: 2 | E16: =VLOOKUP(D16,Secteurs!$A$2:$C$4,3) -> Félix OVOURA | F16: PNR-00015 | G16: ATAKALKHAYR loandjili | H16: -4.762534 | I16: 11.873727
A17: 16 | B17: Oui | C17: cash | D17: 2 | E17: =VLOOKUP(D17,Secteurs!$A$2:$C$4,3) -> Félix OVOURA | F17: PNR-00016 | G17: AYA fond -tié-tié | H17: -4.8069357 | I17: 11.900482
A18: 17 | B18: Oui | F18: PNR-00017 | G18: AYOUNE MAKAYABOU | H18: -4.7570185 | I18: 11.883769
A19: 18 | B19: Oui | C19: crédit | D19: 1 | E19: =VLOOKUP(D19,Secteurs!$A$2:$C$4,3) -> Alexis MABOUNDA | F19: PNR-00018 | G19: AZALAYE makulungulu | H19: -4.7677697 | I19: 11.894995
A20: 19 | B20: Oui | C20: cash | D20: 3 | E20: =VLOOKUP(D20,Secteurs!$A$2:$C$4,3) -> Armel SOKAMBA | F20: PNR-00019 | G20: BA fond tié-tié gare | H20: -4.8037731 | I20: 11.897428
A21: 20 | B21: Oui | C21: cash | D21: 2 | E21: =VLOOKUP(D21,Secteurs!$A$2:$C$4,3) -> Félix OVOURA | F21: PNR-00020 | G21: BA fond tié-tié en allant vers voungou | H21: -4.8020165 | I21: 11.899555
A22: 21 | B22: Oui | C22: cash | D22: 2 | E22: =VLOOKUP(D22,Secteurs!$A$2:$C$4,3) -> Félix OVOURA | F22: PNR-00021 | G22: BA mpaka dalette | H22: -4.8240881 | I22: 11.907605
A23: 22 | B23: Oui | C23: cash | D23: 2 | E23: =VLOOKUP(D23,Secteurs!$A$2:$C$4,3) -> Félix OVOURA | F23: PNR-00022 | G23: BA mpaka marché LEWILIS | H23: -4.8170914 | I23: 11.911328
A24: 23 | B24: Oui | C24: cash | D24: 3 | E24: =VLOOKUP(D24,Secteurs!$A$2:$C$4,3) -> Armel SOKAMBA | F24: PNR-00023 | G24: BA mvoumvou immigration | H24: -4.778628 | I24: 11.867432
A25: 24 | B25: Oui | C25: cash | D25: 3 | E25: =VLOOKUP(D25,Secteurs!$A$2:$C$4,3) -> Armel SOKAMBA | F25: PNR-00024 | G25: BA ngoyo | H25: -4.8608653 | I25: 11.981989
A26: 25 | B26: Oui | C26: cash | D26: 2 | E26: =VLOOKUP(D26,Secteurs!$A$2:$C$4,3) -> Félix OVOURA | F26: PNR-00025 | G26: BA thyster mongo mpoukou | H26: -4.7495164 | I26: 11.904749
A27: 26 | B27: Oui | F27: PNR-00026 | G27: BABA.M EX MAKKAH Vindoulou station | H27: -4.7438044 | I27: 11.909114
A28: 27 | B28: Oui | F28: PNR-00027 | G28: BABA.M EX MAKKAH marché nkounikou1 | H28: -4.764176 | I28: 11.884369
A29: 28 | B29: Oui | C29: crédit | D29: 3 | E29: =VLOOKUP(D29,Secteurs!$A$2:$C$4,3) -> Armel SOKAMBA | F29: PNR-00028 | G29: BAGUETTE D'EXCELLENCE nkouinkou | H29: -4.7648739 | I29: 11.889282
A30: 29 | B30: Oui | C30: cash | D30: 3 | E30: =VLOOKUP(D30,Secteurs!$A$2:$C$4,3) -> Armel SOKAMBA | F30: PNR-00029 | G30: BAH ex BMM paka maison blanche | H30: -4.8140059 | I30: 11.908191
A31: 30 | B31: Oui | C31: cash | D31: 3 | E31: =VLOOKUP(D31,Secteurs!$A$2:$C$4,3) -> Armel SOKAMBA | F31: PNR-00030 | G31: BAH ex HACEN fond tié-tié | H31: -4.8022432 | I31: 11.895797
A32: 31 | B32: Oui | C32: cash | D32: 2 | E32: =VLOOKUP(D32,Secteurs!$A$2:$C$4,3) -> Félix OVOURA | F32: PNR-00031 | G32: BAH ex SASI tié tié massola | H32: -4.792651 | I32: 11.885542
A33: 32 | B33: Oui | C33: cash | D33: 3 | E33: =VLOOKUP(D33,Secteurs!$A$2:$C$4,3) -> Armel SOKAMBA | F33: PNR-00032 | G33: BENI EX GORGOL 2 mpaka dalette | H33: -4.8225801 | I33: 11.904747
A34: 33 | B34: Oui | C34: cash | D34: 1 | E34: =VLOOKUP(D34,Secteurs!$A$2:$C$4,3) -> Alexis MABOUNDA | F34: PNR-00033 | G34: BICLE | H34: -4.8447844 | I34: 11.898438
A35: 34 | B35: Oui | C35: crédit | D35: 2 | E35: =VLOOKUP(D35,Secteurs!$A$2:$C$4,3) -> Félix OVOURA | F35: PNR-00034 | G35: BM EX ELKER WENVIR vindoulou arrêt sapin | H35: -4.7404305 | I35: 11.911613
A36: 35 | B36: Oui | F36: PNR-00035 | G36: BON CHOIX FOND TIE TIE | H36: -4.8039516 | I36: 11.894482
A37: 36 | B37: Oui | C37: crédit | D37: 1 | E37: =VLOOKUP(D37,Secteurs!$A$2:$C$4,3) -> Alexis MABOUNDA | F37: PNR-00036 | G37: BON CHOIX ngoyo | H37: -4.8642673 | I37: 11.922325
A38: 37 | B38: Oui | C38: crédit | D38: 1 | E38: =VLOOKUP(D38,Secteurs!$A$2:$C$4,3) -> Alexis MABOUNDA | F38: PNR-00037 | G38: BON CHOIX ex GAZA 2 km4
A39: 38 | B39: Oui | F39: PNR-00038 | G39: BON CHOIX tié tié masola | H39: -4.7899 | I39: 11.882686
A40: 39 | B40: Oui | F40: PNR-00039 | G40: BOPAIN Tié-tié Congo Malembé | H40: -4.7948189 | I40: 11.887858
...

Sheet Instructions
A1: Rajouter les nouveaux clients dans l'onglet "Clients". | M1: Actif/Inactif
M2: Oui
M3: Non
A5: Choisir le client dans le menu déroulant de la semaine
