Workbook
Name MINOCO: #REF!

Sheet Secteurs
A1: N° | B1: Zone | C1: Technico-Commercial
A2: 1 | B2: Nord | C2: Alexis MABOUNDA
A3: 2 | B3: Centre | C3: Félix OVOURA
A4: 3 | B4: Sud | C4: Armel SOKAMBA

Sheet WEEK 50
A1: N° | B1: Boulangerie | C1: Groupe | D1: Type | E1: Cons/j | F1: C° heb | G1: Date Dernière Visite | H1: Période sans visite | I1: Secteur | J1: Technico Commercial | K1: %MINOCO | L1: %FANTA | M1: %GMK | N1: %SGMP | O1: %MFB | P1: %GMC | Q1: MINOCO | R1: FANTA | S1: GMK | T1: SGMP | U1: MFB | V1: GMC | W1: Total | X1: COMMENTAIRES | AA1: Week | AB1: Minoco | AC1: Fanta | AD1: GMPN | AE1: GMK | AF1: SGMP | AG1: MFB | AH1: GMC
A2: =+IF(E2>0,1,0) -> 1 | B2: BZV CLIENT 1 | C2: G2 | D2: cash | E2: 20 | F2: =E2*7 -> 140 | G2: 46000 | H2: =+IF(A2=1,(+TODAY())-G2,"Sans objet") -> 307 | I2: 1 | J2: =VLOOKUP(I2,Secteurs!$A$2:$C$4,3) -> Alexis MABOUNDA | N2: 0.5 | P2: 0.5 | Q2: =+$F2*K2 -> 0 | R2: =+$F2*L2 -> 0 | S2: =+$F2*M2 -> 0 | T2: =+$F2*N2 -> 70 | U2: =+$F2*O2 -> 0 | V2: =+$F2*P2 -> 70 | W2: =SUM(Q2:V2) -> 140 | Y2: =+W2-F2 -> 0 | AA2: 47 | AB2: 0.36 | AC2: 0.07 | AD2: =SUM(AB2:AC2) -> 0.43 | AE2: 0.109 | AF2: 0.135 | AG2: 0.104 | AH2: 0.224 | AI2: =SUM(AD2:AH2) -> 1.002
A3: =+IF(E3>0,1,0) -> 1 | B3: BZV CLIENT 2 | C3: G1 | D3: cash | E3: 24 | F3: =E3*7 -> 168 | G3: 46002 | H3: =+IF(A3=1,(+TODAY())-G3,"Sans objet") -> 305 | I3: 1 | J3: =VLOOKUP(I3,Secteurs!$A$2:$C$4,3) -> Alexis MABOUNDA | K3: 0.5 | M3: 0.5 | Q3: =+$F3*K3 -> 84 | R3: =+$F3*L3 -> 0 | S3: =+$F3*M3 -> 84 | T3: =+$F3*N3 -> 0 | U3: =+$F3*O3 -> 0 | V3: =+$F3*P3 -> 0 | W3: =SUM(Q3:V3) -> 168 | Y3: =+W3-F3 -> 0 | AA3: 48 | AB3: 0.33 | AC3: 0.1 | AD3: =SUM(AB3:AC3) -> 0.43 | AE3: 0.093 | AF3: 0.139 | AG3: 0.109 | AH3: 0.231 | AI3: =SUM(AD3:AH3) -> 1.002
A4: =+IF(E4>0,1,0) -> 1 | B4: BZV CLIENT 3 | C4: G1 | D4: cash | E4: 54 | F4: =E4*7 -> 378 | G4: 45992 | H4: =+IF(A4=1,(+TODAY())-G4,"Sans objet") -> 315 | I4: 1 | J4: =VLOOKUP(I4,Secteurs!$A$2:$C$4,3) -> Alexis MABOUNDA | K4: 0.75 | O4: 0.25 | Q4: 252 | R4: =+$F4*L4 -> 0 | S4: =+$F4*M4 -> 0 | T4: =+$F4*N4 -> 0 | U4: 126 | V4: =+$F4*P4 -> 0 | W4: =SUM(Q4:V4) -> 378 | Y4: =+W4-F4 -> 0 | AA4: 49 | AB4: 0.3274473 | AC4: 0.11030604 | AD4: =SUM(AB4:AC4) -> 0.43775334 | AE4: 0.092039927 | AF4: 0.14187272 | AG4: 0.093281313 | AH4: 0.2350527 | AI4: =SUM(AD4:AH4) -> 1
A5: =+IF(E5>0,1,0) -> 1 | B5: BZV CLIENT 4 | C5: G1 | D5: cash | E5: 28 | F5: =E5*7 -> 196 | G5: 45995 | H5: =+IF(A5=1,(+TODAY())-G5,"Sans objet") -> 312 | I5: 2 | J5: =VLOOKUP(I5,Secteurs!$A$2:$C$4,3) -> Félix OVOURA | K5: 0.5 | O5: 0.5 | Q5: =+$F5*K5 -> 98 | R5: =+$F5*L5 -> 0 | S5: =+$F5*M5 -> 0 | T5: =+$F5*N5 -> 0 | U5: =+$F5*O5 -> 98 | V5: =+$F5*P5 -> 0 | W5: =SUM(Q5:V5) -> 196 | Y5: =+W5-F5 -> 0 | AA5: 50 | AB5: =E48 -> 0.64628651 | AC5: =E49 -> 0 | AD5: =SUM(AB5:AC5) -> 0.64628651 | AE5: =E51 -> 0.13509944 | AF5: =E52 -> 0.03697949 | AG5: =E53 -> 0.070696085 | AH5: =E54 -> 0.11093847 | AI5: =SUM(AD5:AH5) -> 1
A6: =+IF(E6>0,1,0) -> 1 | B6: BZV CLIENT 5 | C6: G1 | D6: cash | E6: 20 | F6: 140 | G6: 45999 | H6: =+IF(A6=1,(+TODAY())-G6,"Sans objet") -> 308 | I6: 3 | J6: =VLOOKUP(I6,Secteurs!$A$2:$C$4,3) -> Armel SOKAMBA | K6: 0.5 | P6: 0.5 | Q6: 70 | R6: =+$F6*L6 -> 0 | S6: =+$F6*M6 -> 0 | T6: =+$F6*N6 -> 0 | U6: =+$F6*O6 -> 0 | V6: 70 | W6: =SUM(Q6:V6) -> 140 | Y6: =+W6-F6 -> 0 | AA6: Variation
A7: =+IF(E7>0,1,0) -> 1 | B7: BZV CLIENT 6 | C7: G1 | D7: cash | E7: 20 | F7: =E7*7 -> 140 | G7: 46002 | H7: =+IF(A7=1,(+TODAY())-G7,"Sans objet") -> 305 | I7: 3 | J7: =VLOOKUP(I7,Secteurs!$A$2:$C$4,3) -> Armel SOKAMBA | K7: 0.5 | M7: 0.25 | P7: 0.25 | Q7: =+$F7*K7 -> 70 | R7: =+$F7*L7 -> 0 | S7: =+$F7*M7 -> 35 | T7: =+$F7*N7 -> 0 | U7: =+$F7*O7 -> 0 | V7: =+$F7*P7 -> 35 | W7: =SUM(Q7:V7) -> 140 | Y7: =+W7-F7 -> 0
A8: =+IF(E8>0,1,0) -> 1 | B8: BZV CLIENT 7 | C8: G1 | D8: cash | E8: 26 | F8: =E8*7 -> 182 | G8: 46001 | H8: =+IF(A8=1,(+TODAY())-G8,"Sans objet") -> 306 | I8: 3 | J8: =VLOOKUP(I8,Secteurs!$A$2:$C$4,3) -> Armel SOKAMBA | K8: 1 | Q8: =+$F8*K8 -> 182 | R8: =+$F8*L8 -> 0 | S8: =+$F8*M8 -> 0 | T8: =+$F8*N8 -> 0 | U8: =+$F8*O8 -> 0 | V8: =+$F8*P8 -> 0 | W8: =SUM(Q8:V8) -> 182 | Y8: =+W8-F8 -> 0
A9: =+IF(E9>0,1,0) -> 1 | B9: BZV CLIENT 8 | C9: G1 | D9: cash | E9: 20 | F9: =E9*7 -> 140 | G9: 46000 | H9: =+IF(A9=1,(+TODAY())-G9,"Sans objet") -> 307 | I9: 2 | J9: =VLOOKUP(I9,Secteurs!$A$2:$C$4,3) -> Félix OVOURA | K9: 0.75 | P9: 0.25 | Q9: =+$F9*K9 -> 105 | R9: =+$F9*L9 -> 0 | S9: =+$F9*M9 -> 0 | T9: =+$F9*N9 -> 0 | U9: =+$F9*O9 -> 0 | V9: =+$F9*P9 -> 35 | W9: =SUM(Q9:V9) -> 140 | Y9: =+W9-F9 -> 0
A10: =+IF(E10>0,1,0) -> 1 | B10: BZV CLIENT 9 | C10: G1 | D10: cash | E10: 20 | F10: =E10*7 -> 140 | G10: 45993 | H10: =+IF(A10=1,(+TODAY())-G10,"Sans objet") -> 314 | I10: 3 | J10: =VLOOKUP(I10,Secteurs!$A$2:$C$4,3) -> Armel SOKAMBA | K10: 1 | Q10: =+$F10*K10 -> 140 | R10: =+$F10*L10 -> 0 | S10: =+$F10*M10 -> 0 | T10: =+$F10*N10 -> 0 | U10: =+$F10*O10 -> 0 | V10: =+$F10*P10 -> 0 | W10: =SUM(Q10:V10) -> 140 | Y10: =+W10-F10 -> 0
A11: =+IF(E11>0,1,0) -> 1 | B11: BZV CLIENT 10 | C11: G1 | D11: cash | E11: 24 | F11: =E11*7 -> 168 | G11: 46000 | H11: =+IF(A11=1,(+TODAY())-G11,"Sans objet") -> 307 | I11: 2 | J11: =VLOOKUP(I11,Secteurs!$A$2:$C$4,3) -> Félix OVOURA | K11: 0.5 | M11: 0.5 | Q11: =+$F11*K11 -> 84 | R11: =+$F11*L11 -> 0 | S11: =+$F11*M11 -> 84 | T11: =+$F11*N11 -> 0 | U11: =+$F11*O11 -> 0 | V11: =+$F11*P11 -> 0 | W11: =SUM(Q11:V11) -> 168 | Y11: =+W11-F11 -> 0
A12: =+IF(E12>0,1,0) -> 1 | B12: BZV CLIENT 11 | C12: G1 | D12: cash | E12: 26 | F12: =E12*7 -> 182 | G12: 46000 | H12: =+IF(A12=1,(+TODAY())-G12,"Sans objet") -> 307 | I12: 2 | J12: =VLOOKUP(I12,Secteurs!$A$2:$C$4,3) -> Félix OVOURA | K12: 1 | Q12: =+$F12*K12 -> 182 | R12: =+$F12*L12 -> 0 | S12: =+$F12*M12 -> 0 | T12: =+$F12*N12 -> 0 | U12: =+$F12*O12 -> 0 | V12: =+$F12*P12 -> 0 | W12: =SUM(Q12:V12) -> 182 | Y12: =+W12-F12 -> 0
A13: =+IF(E13>0,1,0) -> 1 | B13: BZV CLIENT 12 | C13: G1 | D13: cash | E13: 24 | F13: =E13*7 -> 168 | G13: 46002 | H13: =+IF(A13=1,(+TODAY())-G13,"Sans objet") -> 305 | I13: 1 | J13: =VLOOKUP(I13,Secteurs!$A$2:$C$4,3) -> Alexis MABOUNDA | K13: 0.5 | M13: 0.5 | Q13: =+$F13*K13 -> 84 | R13: =+$F13*L13 -> 0 | S13: =+$F13*M13 -> 84 | T13: =+$F13*N13 -> 0 | U13: =+$F13*O13 -> 0 | V13: =+$F13*P13 -> 0 | W13: =SUM(Q13:V13) -> 168 | Y13: =+W13-F13 -> 0
A14: =+IF(E14>0,1,0) -> 1 | B14: BZV CLIENT 13 | C14: G1 | D14: cash | E14: 36 | F14: =E14*7 -> 252 | G14: 45995 | H14: =+IF(A14=1,(+TODAY())-G14,"Sans objet") -> 312 | I14: 3 | J14: =VLOOKUP(I14,Secteurs!$A$2:$C$4,3) -> Armel SOKAMBA | K14: 0.5 | P14: 0.5 | Q14: =+$F14*K14 -> 126 | R14: =+$F14*L14 -> 0 | S14: =+$F14*M14 -> 0 | T14: =+$F14*N14 -> 0 | U14: =+$F14*O14 -> 0 | V14: =+$F14*P14 -> 126 | W14: =SUM(Q14:V14) -> 252 | Y14: =+W14-F14 -> 0
A15: =+IF(E15>0,1,0) -> 1 | B15: BZV CLIENT 14 | C15: G1 | D15: cash | E15: 20 | F15: =E15*7 -> 140 | G15: 45995 | H15: =+IF(A15=1,(+TODAY())-G15,"Sans objet") -> 312 | I15: 2 | J15: =VLOOKUP(I15,Secteurs!$A$2:$C$4,3) -> Félix OVOURA | K15: 0.5 | P15: 0.5 | Q15: =+$F15*K15 -> 70 | R15: =+$F15*L15 -> 0 | S15: =+$F15*M15 -> 0 | T15: =+$F15*N15 -> 0 | U15: =+$F15*O15 -> 0 | V15: =+$F15*P15 -> 70 | W15: =SUM(Q15:V15) -> 140 | Y15: =+W15-F15 -> 0
A16: =+IF(E16>0,1,0) -> 1 | B16: BZV CLIENT 15 | C16: G1 | D16: cash | E16: 20 | F16: =E16*7 -> 140 | G16: 45995 | H16: =+IF(A16=1,(+TODAY())-G16,"Sans objet") -> 312 | I16: 3 | J16: =VLOOKUP(I16,Secteurs!$A$2:$C$4,3) -> Armel SOKAMBA | K16: 1 | Q16: =+$F16*K16 -> 140 | R16: =+$F16*L16 -> 0 | S16: =+$F16*M16 -> 0 | T16: =+$F16*N16 -> 0 | U16: =+$F16*O16 -> 0 | V16: =+$F16*P16 -> 0 | W16: =SUM(Q16:V16) -> 140 | Y16: =+W16-F16 -> 0
A17: =+IF(E17>0,1,0) -> 1 | B17: BZV CLIENT 16 | C17: G1 | D17: cash | E17: 30 | F17: =E17*7 -> 210 | G17: 46000 | H17: =+IF(A17=1,(+TODAY())-G17,"Sans objet") -> 307 | I17: 2 | J17: =VLOOKUP(I17,Secteurs!$A$2:$C$4,3) -> Félix OVOURA | K17: 0.5 | M17: 0.5 | Q17: =+$F17*K17 -> 105 | R17: =+$F17*L17 -> 0 | S17: =+$F17*M17 -> 105 | T17: =+$F17*N17 -> 0 | U17: =+$F17*O17 -> 0 | V17: =+$F17*P17 -> 0 | W17: =SUM(Q17:V17) -> 210 | Y17: =+W17-F17 -> 0
A18: =+IF(E18>0,1,0) -> 1 | B18: BZV CLIENT 17 | C18: G1 | D18: cash | E18: 16 | F18: =E18*7 -> 112 | G18: 46002 | H18: =+IF(A18=1,(+TODAY())-G18,"Sans objet") -> 305 | I18: 1 | J18: =VLOOKUP(I18,Secteurs!$A$2:$C$4,3) -> Alexis MABOUNDA | K18: 0.5 | M18: 0.5 | Q18: =+$F18*K18 -> 56 | R18: =+$F18*L18 -> 0 | S18: =+$F18*M18 -> 56 | T18: =+$F18*N18 -> 0 | U18: =+$F18*O18 -> 0 | V18: =+$F18*P18 -> 0 | W18: =SUM(Q18:V18) -> 112 | Y18: =+W18-F18 -> 0
A19: =+IF(E19>0,1,0) -> 1 | B19: BZV CLIENT 18 | C19: G1 | D19: cash | E19: 26 | F19: =E19*7 -> 182 | G19: 45993 | H19: =+IF(A19=1,(+TODAY())-G19,"Sans objet") -> 314 | I19: 3 | J19: =VLOOKUP(I19,Secteurs!$A$2:$C$4,3) -> Armel SOKAMBA | K19: 0.5 | M19: 0.25 | N19: 0.25 | Q19: =+$F19*K19 -> 91 | R19: =+$F19*L19 -> 0 | S19: =+$F19*M19 -> 45.5 | T19: =+$F19*N19 -> 45.5 | U19: =+$F19*O19 -> 0 | V19: =+$F19*P19 -> 0 | W19: =SUM(Q19:V19) -> 182 | Y19: =+W19-F19 -> 0
A20: =+IF(E20>0,1,0) -> 1 | B20: BZV CLIENT 19 | C20: G1 | D20: cash | E20: 46 | F20: =E20*7 -> 322 | G20: 45995 | H20: =+IF(A20=1,(+TODAY())-G20,"Sans objet") -> 312 | I20: 3 | J20: =VLOOKUP(I20,Secteurs!$A$2:$C$4,3) -> Armel SOKAMBA | K20: 0.5 | O20: 0.5 | Q20: =+$F20*K20 -> 161 | R20: =+$F20*L20 -> 0 | S20: =+$F20*M20 -> 0 | T20: =+$F20*N20 -> 0 | U20: =+$F20*O20 -> 161 | V20: =+$F20*P20 -> 0 | W20: =SUM(Q20:V20) -> 322 | Y20: =+W20-F20 -> 0
A21: =+IF(E21>0,1,0) -> 1 | B21: BZV CLIENT 20 | C21: G1 | D21: cash | E21: 20 | F21: =E21*7 -> 140 | G21: 45995 | H21: =+IF(A21=1,(+TODAY())-G21,"Sans objet") -> 312 | I21: 3 | J21: =VLOOKUP(I21,Secteurs!$A$2:$C$4,3) -> Armel SOKAMBA | K21: 0.5 | N21: 0.5 | Q21: =+$F21*K21 -> 70 | R21: =+$F21*L21 -> 0 | S21: =+$F21*M21 -> 0 | T21: =+$F21*N21 -> 70 | U21: =+$F21*O21 -> 0 | V21: =+$F21*P21 -> 0 | W21: =SUM(Q21:V21) -> 140 | Y21: =+W21-F21 -> 0
A22: =+IF(E22>0,1,0) -> 1 | B22: BZV CLIENT 21 | C22: G1 | D22: cash | E22: 26 | F22: =E22*7 -> 182 | G22: 46001 | H22: =+IF(A22=1,(+TODAY())-G22,"Sans objet") -> 306 | I22: 3 | J22: =VLOOKUP(I22,Secteurs!$A$2:$C$4,3) -> Armel SOKAMBA | K22: 1 | Q22: =+$F22*K22 -> 182 | R22: =+$F22*L22 -> 0 | S22: =+$F22*M22 -> 0 | T22: =+$F22*N22 -> 0 | U22: =+$F22*O22 -> 0 | V22: =+$F22*P22 -> 0 | W22: =SUM(Q22:V22) -> 182 | Y22: =+W22-F22 -> 0
A23: =+IF(E23>0,1,0) -> 1 | B23: BZV CLIENT 22 | C23: G1 | D23: cash | E23: 20 | F23: =E23*7 -> 140 | G23: 45995 | H23: =+IF(A23=1,(+TODAY())-G23,"Sans objet") -> 312 | I23: 3 | J23: =VLOOKUP(I23,Secteurs!$A$2:$C$4,3) -> Armel SOKAMBA | K23: 0.75 | M23: 0.25 | Q23: =+$F23*K23 -> 105 | R23: =+$F23*L23 -> 0 | S23: =+$F23*M23 -> 35 | T23: =+$F23*N23 -> 0 | U23: =+$F23*O23 -> 0 | V23: =+$F23*P23 -> 0 | W23: =SUM(Q23:V23) -> 140 | Y23: =+W23-F23 -> 0
A24: =+IF(E24>0,1,0) -> 1 | B24: BZV CLIENT 23 | C24: G1 | D24: cash | E24: 18 | F24: =E24*7 -> 126 | G24: 45993 | H24: =+IF(A24=1,(+TODAY())-G24,"Sans objet") -> 314 | I24: 3 | J24: =VLOOKUP(I24,Secteurs!$A$2:$C$4,3) -> Armel SOKAMBA | K24: 0.5 | P24: 0.5 | Q24: =+$F24*K24 -> 63 | R24: =+$F24*L24 -> 0 | S24: =+$F24*M24 -> 0 | T24: =+$F24*N24 -> 0 | U24: =+$F24*O24 -> 0 | V24: =+$F24*P24 -> 63 | W24: =SUM(Q24:V24) -> 126 | Y24: =+W24-F24 -> 0
A25: =+IF(E25>0,1,0) -> 1 | B25: BZV CLIENT 24 | C25: G1 | D25: cash | E25: 24 | F25: =E25*7 -> 168 | G25: 46001 | H25: =+IF(A25=1,(+TODAY())-G25,"Sans objet") -> 306 | I25: 3 | J25: =VLOOKUP(I25,Secteurs!$A$2:$C$4,3) -> Armel SOKAMBA | K25: 0.5 | P25: 0.5 | Q25: =+$F25*K25 -> 84 | R25: =+$F25*L25 -> 0 | S25: =+$F25*M25 -> 0 | T25: =+$F25*N25 -> 0 | U25: =+$F25*O25 -> 0 | V25: =+$F25*P25 -> 84 | W25: =SUM(Q25:V25) -> 168 | Y25: =+W25-F25 -> 0
A26: =+IF(E26>0,1,0) -> 1 | B26: BZV CLIENT 25 | C26: G1 | D26: cash | E26: 26 | F26: =E26*7 -> 182 | G26: 46000 | H26: =+IF(A26=1,(+TODAY())-G26,"Sans objet") -> 307 | I26: 2 | J26: =VLOOKUP(I26,Secteurs!$A$2:$C$4,3) -> Félix OVOURA | K26: 0.5 | P26: 0.5 | Q26: =+$F26*K26 -> 91 | R26: =+$F26*L26 -> 0 | S26: =+$F26*M26 -> 0 | T26: =+$F26*N26 -> 0 | U26: =+$F26*O26 -> 0 | V26: =+$F26*P26 -> 91 | W26: =SUM(Q26:V26) -> 182 | Y26: =+W26-F26 -> 0
A27: =+IF(E27>0,1,0) -> 1 | B27: BZV CLIENT 26 | C27: G1 | D27: cash | E27: 20 | F27: =E27*7 -> 140 | G27: 46001 | H27: =+IF(A27=1,(+TODAY())-G27,"Sans objet") -> 306 | I27: 3 | J27: =VLOOKUP(I27,Secteurs!$A$2:$C$4,3) -> Armel SOKAMBA | K27: 1 | Q27: =+$F27*K27 -> 140 | R27: =+$F27*L27 -> 0 | S27: =+$F27*M27 -> 0 | T27: =+$F27*N27 -> 0 | U27: =+$F27*O27 -> 0 | V27: =+$F27*P27 -> 0 | W27: =SUM(Q27:V27) -> 140 | Y27: =+W27-F27 -> 0
A28: =+IF(E28>0,1,0) -> 1 | B28: BZV CLIENT 27 | C28: G1 | D28: cash | E28: 20 | F28: =E28*7 -> 140 | G28: 45999 | H28: =+IF(A28=1,(+TODAY())-G28,"Sans objet") -> 308 | I28: 3 | J28: =VLOOKUP(I28,Secteurs!$A$2:$C$4,3) -> Armel SOKAMBA | K28: 1 | Q28: =+$F28*K28 -> 140 | R28: =+$F28*L28 -> 0 | S28: =+$F28*M28 -> 0 | T28: =+$F28*N28 -> 0 | U28: =+$F28*O28 -> 0 | V28: =+$F28*P28 -> 0 | W28: =SUM(Q28:V28) -> 140 | Y28: =+W28-F28 -> 0
A29: =+IF(E29>0,1,0) -> 1 | B29: BZV CLIENT 28 | C29: G1 | D29: cash | E29: 26 | F29: 24 | G29: 45995 | H29: =+IF(A29=1,(+TODAY())-G29,"Sans objet") -> 312 | I29: 3 | J29: =VLOOKUP(I29,Secteurs!$A$2:$C$4,3) -> Armel SOKAMBA | K29: 0.5 | M29: 0.5 | Q29: =+$F29*K29 -> 12 | R29: =+$F29*L29 -> 0 | S29: =+$F29*M29 -> 12 | T29: =+$F29*N29 -> 0 | U29: =+$F29*O29 -> 0 | V29: =+$F29*P29 -> 0 | W29: =SUM(Q29:V29) -> 24 | Y29: =+W29-F29 -> 0
A30: =+IF(E30>0,1,0) -> 1 | B30: BZV CLIENT 29 | C30: G1 | D30: cash | E30: 30 | F30: =E30*7 -> 210 | G30: 46001 | H30: =+IF(A30=1,(+TODAY())-G30,"Sans objet") -> 306 | I30: 3 | J30: =VLOOKUP(I30,Secteurs!$A$2:$C$4,3) -> Armel SOKAMBA | K30: 0.5 | M30: 0.25 | N30: 0.25 | Q30: =+$F30*K30 -> 105 | R30: =+$F30*L30 -> 0 | S30: =+$F30*M30 -> 52.5 | T30: =+$F30*N30 -> 52.5 | U30: =+$F30*O30 -> 0 | V30: =+$F30*P30 -> 0 | W30: =SUM(Q30:V30) -> 210 | Y30: =+W30-F30 -> 0
A31: =+IF(E31>0,1,0) -> 1 | B31: BZV CLIENT 30 | C31: G1 | D31: cash | E31: 24 | F31: =E31*7 -> 168 | G31: 46002 | H31: =+IF(A31=1,(+TODAY())-G31,"Sans objet") -> 305 | I31: 1 | J31: =VLOOKUP(I31,Secteurs!$A$2:$C$4,3) -> Alexis MABOUNDA | K31: 0.75 | M31: 0.25 | Q31: =+$F31*K31 -> 126 | R31: =+$F31*L31 -> 0 | S31: =+$F31*M31 -> 42 | T31: =+$F31*N31 -> 0 | U31: =+$F31*O31 -> 0 | V31: =+$F31*P31 -> 0 | W31: =SUM(Q31:V31) -> 168 | Y31: =+W31-F31 -> 0
A32: =+IF(E32>0,1,0) -> 1 | B32: BZV CLIENT 31 | C32: G1 | D32: cash | E32: 22 | F32: =E32*7 -> 154 | G32: 46002 | H32: =+IF(A32=1,(+TODAY())-G32,"Sans objet") -> 305 | I32: 1 | J32: =VLOOKUP(I32,Secteurs!$A$2:$C$4,3) -> Alexis MABOUNDA | K32: 0.75 | M32: 0.25 | Q32: =+$F32*K32 -> 115.5 | R32: =+$F32*L32 -> 0 | S32: =+$F32*M32 -> 38.5 | T32: =+$F32*N32 -> 0 | U32: =+$F32*O32 -> 0 | V32: =+$F32*P32 -> 0 | W32: =SUM(Q32:V32) -> 154 | Y32: =+W32-F32 -> 0
A33: =+IF(E33>0,1,0) -> 1 | B33: BZV CLIENT 32 | C33: G1 | D33: cash | E33: 16 | F33: =E33*7 -> 112 | G33: 45995 | H33: =+IF(A33=1,(+TODAY())-G33,"Sans objet") -> 312 | I33: 3 | J33: =VLOOKUP(I33,Secteurs!$A$2:$C$4,3) -> Armel SOKAMBA | K33: 0.5 | M33: 0.5 | Q33: =+$F33*K33 -> 56 | R33: =+$F33*L33 -> 0 | S33: =+$F33*M33 -> 56 | T33: =+$F33*N33 -> 0 | U33: =+$F33*O33 -> 0 | V33: =+$F33*P33 -> 0 | W33: =SUM(Q33:V33) -> 112 | Y33: =+W33-F33 -> 0
A34: =+IF(E34>0,1,0) -> 1 | B34: BZV CLIENT 33 | C34: G1 | D34: cash | E34: 26 | F34: =E34*7 -> 182 | G34: 45996 | H34: =+IF(A34=1,(+TODAY())-G34,"Sans objet") -> 311 | I34: 2 | J34: =VLOOKUP(I34,Secteurs!$A$2:$C$4,3) -> Félix OVOURA | K34: 1 | Q34: =+$F34*K34 -> 182 | R34: =+$F34*L34 -> 0 | S34: =+$F34*M34 -> 0 | T34: =+$F34*N34 -> 0 | U34: =+$F34*O34 -> 0 | V34: =+$F34*P34 -> 0 | W34: =SUM(Q34:V34) -> 182 | Y34: =+W34-F34 -> 0
A35: =+IF(E35>0,1,0) -> 1 | B35: BZV CLIENT 34 | C35: G1 | D35: cash | E35: 20 | F35: =E35*7 -> 140 | G35: 46000 | H35: =+IF(A35=1,(+TODAY())-G35,"Sans objet") -> 307 | I35: 2 | J35: =VLOOKUP(I35,Secteurs!$A$2:$C$4,3) -> Félix OVOURA | K35: 1 | Q35: =+$F35*K35 -> 140 | R35: =+$F35*L35 -> 0 | S35: =+$F35*M35 -> 0 | T35: =+$F35*N35 -> 0 | U35: =+$F35*O35 -> 0 | V35: =+$F35*P35 -> 0 | W35: =SUM(Q35:V35) -> 140 | Y35: =+W35-F35 -> 0
A36: =+IF(E36>0,1,0) -> 1 | B36: BZV CLIENT 35 | C36: G1 | D36: cash | E36: 20 | F36: =E36*7 -> 140 | G36: 46001 | H36: =+IF(A36=1,(+TODAY())-G36,"Sans objet") -> 306 | I36: 2 | J36: =VLOOKUP(I36,Secteurs!$A$2:$C$4,3) -> Félix OVOURA | K36: 0.5 | P36: 0.5 | Q36: =+$F36*K36 -> 70 | R36: =+$F36*L36 -> 0 | S36: =+$F36*M36 -> 0 | T36: =+$F36*N36 -> 0 | U36: =+$F36*O36 -> 0 | V36: =+$F36*P36 -> 70 | W36: =SUM(Q36:V36) -> 140 | Y36: =+W36-F36 -> 0
A37: =+IF(E37>0,1,0) -> 1 | B37: BZV CLIENT 36 | C37: Direct | D37: cash | E37: 18 | F37: =E37*7 -> 126 | G37: 45993 | H37: =+IF(A37=1,(+TODAY())-G37,"Sans objet") -> 314 | I37: 3 | J37: =VLOOKUP(I37,Secteurs!$A$2:$C$4,3) -> Armel SOKAMBA | K37: 1 | Q37: =+$F37*K37 -> 126 | R37: =+$F37*L37 -> 0 | S37: =+$F37*M37 -> 0 | T37: =+$F37*N37 -> 0 | U37: =+$F37*O37 -> 0 | V37: =+$F37*P37 -> 0 | W37: =SUM(Q37:V37) -> 126 | Y37: =+W37-F37 -> 0
A38: =+IF(E38>0,1,0) -> 1 | B38: BZV CLIENT 37 | C38: Direct | D38: cash | E38: 24 | F38: =E38*7 -> 168 | G38: 46000 | H38: =+IF(A38=1,(+TODAY())-G38,"Sans objet") -> 307 | I38: 2 | J38: =VLOOKUP(I38,Secteurs!$A$2:$C$4,3) -> Félix OVOURA | K38: 0.5 | M38: 0.5 | Q38: =+$F38*K38 -> 84 | R38: =+$F38*L38 -> 0 | S38: =+$F38*M38 -> 84 | T38: =+$F38*N38 -> 0 | U38: =+$F38*O38 -> 0 | V38: =+$F38*P38 -> 0 | W38: =SUM(Q38:V38) -> 168 | Y38: =+W38-F38 -> 0
A39: =+IF(E39>0,1,0) -> 1 | B39: BZV CLIENT 38 | C39: Direct | D39: cash | E39: 16 | F39: =E39*7 -> 112 | G39: 45995 | H39: =+IF(A39=1,(+TODAY())-G39,"Sans objet") -> 312 | I39: 2 | J39: =VLOOKUP(I39,Secteurs!$A$2:$C$4,3) -> Félix OVOURA | K39: 0.5 | M39: 0.5 | Q39: =+$F39*K39 -> 56 | R39: =+$F39*L39 -> 0 | S39: =+$F39*M39 -> 56 | T39: =+$F39*N39 -> 0 | U39: =+$F39*O39 -> 0 | V39: =+$F39*P39 -> 0 | W39: =SUM(Q39:V39) -> 112 | Y39: =+W39-F39 -> 0
A40: =+IF(E40>0,1,0) -> 1 | B40: BZV CLIENT 39 | C40: Direct | D40: cash | E40: 16 | F40: =E40*7 -> 112 | G40: 45996 | H40: =+IF(A40=1,(+TODAY())-G40,"Sans objet") -> 311 | I40: 2 | J40: =VLOOKUP(I40,Secteurs!$A$2:$C$4,3) -> Félix OVOURA | K40: 1 | Q40: =+$F40*K40 -> 112 | R40: =+$F40*L40 -> 0 | S40: =+$F40*M40 -> 0 | T40: =+$F40*N40 -> 0 | U40: =+$F40*O40 -> 0 | V40: =+$F40*P40 -> 0 | W40: =SUM(Q40:V40) -> 112 | Y40: =+W40-F40 -> 0
...

Sheet Week 3
B1: WEEK 02
G3: Cons° farine par boulangerie | Q3: WEEK | R3: GMPN | S3: GMK | T3: SGMP | U3: GMC | V3: PALCO | W3: M.FANTA | X3: %
A4: N° | B4: Boulangerie | C4: Type | D4: Cons/j | E4: C° heb | F4: FARINE UTILISEE | G4: GMPN | H4: MAMA F | I4: GMK | J4: SGMP | K4: PALCO | L4: GMC | M4: Total | N4: PRIORITE | O4: MAZALA / DIRECT | Q4: 1 | R4: 0.34 | S4: 0.12 | T4: 0.15 | U4: 0.39 | V4: 0 | W4: 0 | X4: =SUM(R4:W4) -> 1
A5: 77 | B5: Mayama( AQXA) | D5: 55 | E5: =D5*7 -> 385 | F5: 50%MIN+50%GMC | G5: 192.5 | L5: 192.5 | M5: =SUM(G5:L5) -> 385 | N5: ATTAQUER GMC | Q5: 2 | R5: 0.34 | S5: 0.11 | T5: =J151/E151 -> 0.12415016 | U5: =L151/E151 -> 0.4054094 | V5: =K151/E151 -> 0 | W5: 0 | X5: =SUM(R5:W5) -> 0.97955956
A6: 54 | B6: NOUVELLE ESPERANE 3 | D6: 50 | E6: =D6*7 -> 350 | F6: 50%MIN+50%GMC | G6: 175 | L6: 175 | M6: =SUM(G6:L6) -> 350 | N6: ATTAQUER GMC | Q6: Variation | R6: =R5-R4 -> 0 | S6: =S5-S4 -> -0.01 | T6: =T5-T4 -> -0.025849837 | U6: =U5-U4 -> 0.0154094 | V6: =V5-V4 -> 0 | W6: =W5-W4 -> 0
A7: 114 | B7: SABANA Moukondo | D7: 50 | E7: =D7*7 -> 350 | F7: 50%MIN+50%GMC | G7: 175 | L7: 175 | M7: =SUM(G7:L7) -> 350 | N7: ATTAQUER GMC
A8: 133 | B8: YA LOLO | C8: Crédit | D8: 50 | E8: =D8*7 -> 350 | F8: 100%MIN | G8: 350 | M8: =SUM(G8:L8) -> 350 | N8: A PRESERVER
A9: 3 | B9: 58e ANNIVERSAIRE | D9: 42 | E9: =D9*7 -> 294 | F9: 50%MIN+50%SGMP | G9: 147 | J9: 147 | M9: =SUM(G9:L9) -> 294 | N9: ATTAQUER SGMP
A10: 13 | B10: BECO | C10: Cash | D10: 40 | E10: =D10*7 -> 280 | F10: 50%GMK+50%GMC | I10: 140 | L10: 140 | M10: =SUM(G10:L10) -> 280 | N10: A RECUPERER
A11: 45 | B11: ELVOZ INCHALAH | C11: Cash | D11: 40 | E11: =D11*7 -> 280 | F11: 25%MIN+25%GMK+50%GMC | G11: 70 | I11: 70 | L11: 140 | M11: =SUM(G11:L11) -> 280 | N11: TARGET 50%
A12: 131 | B12: POTAL | D12: 38 | E12: =D12*7 -> 266 | F12: 50%GMC+50%GMK | I12: 133 | L12: 133 | M12: =SUM(G12:L12) -> 266 | N12: A RECUPERER
A13: 42 | B13: EL MABROUCK | D13: 38 | E13: =D13*7 -> 266 | F13: 25%MIN+75%GMC | G13: 66 | L13: 199.5 | M13: =SUM(G13:L13) -> 265.5 | N13: TARGET 50%
A14: 12 | B14: BAS PRIX (ex moderne nkombo) | D14: 36 | E14: =D14*7 -> 252 | F14: 50%MIN+50%GMC | G14: 126 | L14: 126 | M14: =SUM(G14:L14) -> 252 | N14: ATTAQUER GMC
A15: 27 | B15: COMUS | D15: 36 | E15: =D15*7 -> 252 | F15: 50%MIN+50%GMC | G15: 126 | L15: 126 | M15: =SUM(G15:L15) -> 252 | N15: ATTAQUER GMC
A16: 60 | B16: HOT BREAD2 Plazza | D16: 36 | E16: =D16*7 -> 252 | F16: 50%MIN+50%GMC | G16: 126 | L16: 126 | M16: =SUM(G16:L16) -> 252 | N16: ATTAQUER GMC
A17: 120 | B17: SID-SID | D17: 36 | E17: =D17*7 -> 252 | F17: 50%MIN+50%SGMP | G17: 126 | J17: 126 | M17: =SUM(G17:L17) -> 252 | N17: ATTAQUER SGMP
A18: 55 | B18: NOUVELLE ESPERANCE 4 | D18: 34 | E18: =D18*7 -> 238 | F18: 50%MIN+50%SGMP | G18: 119 | J18: 119 | M18: =SUM(G18:L18) -> 238 | N18: ATTAQUER SGMP
A19: 80 | B19: MODERNE & ARTISANALE 1 | D19: 34 | E19: =D19*7 -> 238 | F19: 50%GMC+50%SGMP | J19: 119 | L19: 119 | M19: =SUM(G19:L19) -> 238 | N19: A RECUPERER
A20: 96 | B20: NOUVELLE ESPERANCE 1 | C20: Cash | D20: 34 | E20: =D20*7 -> 238 | F20: 50%MIN+50%GMC | G20: 119 | L20: 119 | M20: =SUM(G20:L20) -> 238 | N20: ATTAQUER GMC
A21: 15 | B21: BEDRE NKOMBO | C21: Cash | D21: 32 | E21: =D21*7 -> 224 | F21: 50%MIN+50%SGMP | G21: 112 | J21: 112 | M21: =SUM(G21:L21) -> 224 | N21: ATTAQUER SGMP
A22: 17 | B22: ARTISANALE 3 ( Ex BLANCHE) | D22: 32 | E22: =D22*7 -> 224 | F22: 50%GMC+50%GMK | I22: 112 | L22: 112 | M22: =SUM(G22:L22) -> 224 | N22: A RECUPERER
A23: 44 | B23: Brazza Moderne 1 | C23: Dette | D23: 32 | E23: =D23*7 -> 224 | F23: 100%GMC | L23: 224 | M23: =SUM(G23:L23) -> 224 | N23: A RECUPERER
A24: 81 | B24: MODERNE & ARTISANALE 2 | D24: 32 | E24: =D24*7 -> 224 | F24: 50%GMC+50%SGMP | J24: 112 | L24: 112 | M24: =SUM(G24:L24) -> 224 | N24: A RECUPERER
A25: 97 | B25: EL MOURATH | D25: 32 | E25: =D25*7 -> 224 | F25: 50%MIN+50%GMC | G25: 112 | L25: 112 | M25: =SUM(G25:L25) -> 224 | N25: ATTAQUER GMC
A26: 115 | B26: SAHA(ex fournil) | D26: 32 | E26: =D26*7 -> 224 | F26: 50%SGMP+50%GMK | I26: 112 | L26: 112 | M26: =SUM(G26:L26) -> 224 | N26: A RECUPERER
A27: 141 | B27: Paris Pain | D27: 32 | E27: =D27*7 -> 224 | F27: 50%GMC+50%GMK | I27: 112 | L27: 112 | M27: =SUM(G27:L27) -> 224 | N27: A RECUPERER
A28: 11 | B28: EL MEJID ( Ex Baraka Talangai) | D28: 30 | E28: =D28*7 -> 210 | F28: 50%MIN+50%GMC | G28: 105 | L28: 105 | M28: =SUM(G28:L28) -> 210 | N28: ATTAQUER GMC
A29: 25 | B29: BRAZZA MODERNE 2 | D29: 30 | E29: =D29*7 -> 210 | F29: 50%MIN+50%GMC | G29: 105 | L29: 105 | M29: =SUM(G29:L29) -> 210 | N29: ATTAQUER GMC
A30: 31 | B30: DAHI ( ex préference) | D30: 30 | E30: =D30*7 -> 210 | F30: 50%MIN+50%SGMP | G30: 105 | J30: 105 | M30: =SUM(G30:L30) -> 210 | N30: ATTAQUER SGMP
A31: 39 | B31: EL MANSOUR | D31: 30 | E31: =D31*7 -> 210 | F31: 50%GMC+50%GMK | I31: 105 | L31: 105 | M31: =SUM(G31:L31) -> 210 | N31: A RECUPERER
A32: 53 | B32: NOUVELLE ESPERANCE 2 | C32: Cash | D32: 30 | E32: =D32*7 -> 210 | F32: 50%GMK+50%GMC | I32: 105 | L32: 105 | M32: =SUM(G32:L32) -> 210 | N32: A RECUPERER
A33: 73 | B33: MAHFOUD | D33: 30 | E33: =D33*7 -> 210 | F33: 50%GMC+50%GMK | I33: 105 | L33: 105 | M33: =SUM(G33:L33) -> 210 | N33: A RECUPERER
A34: 75 | B34: MANE | D34: 30 | E34: =D34*7 -> 210 | F34: 50%MIN+50%GMC | G34: 105 | L34: 105 | M34: =SUM(G34:L34) -> 210 | N34: ATTAQUER GMC
A35: 110 | B35: REVES 2 | D35: 30 | E35: =D35*7 -> 210 | F35: 50%MIN+50%GMC | G35: 105 | L35: 105 | M35: =SUM(G35:L35) -> 210 | N35: ATTAQUER GMC
A36: 117 | B36: SAVANA NKOMBO | D36: 30 | E36: =D36*7 -> 210 | F36: 50%MIN+50%GMC | G36: 105 | L36: 105 | M36: =SUM(G36:L36) -> 210 | N36: ATTAQUER GMC
A37: 119 | B37: SD1 CARREFOUR | C37: Crédit | D37: 30 | E37: =D37*7 -> 210 | F37: 50%MIN+25%SGMP+25%GMC | G37: 105 | J37: 52.5 | L37: 52.5 | M37: =SUM(G37:L37) -> 210 | N37: ATTAQUER SGMP
A38: 5 | B38: ALMADINA (bama) | D38: 28 | E38: =D38*7 -> 196 | F38: 50%MIN+50%GMC | G38: 98 | J38: 98 | M38: =SUM(G38:L38) -> 196 | N38: ATTAQUER GMC
A39: 23 | B39: BONNE CHANCE 4 | D39: 28 | E39: =D39*7 -> 196 | F39: 50%MIN+50%GMC | G39: 98 | L39: 98 | M39: =SUM(G39:L39) -> 196 | N39: ATTAQUER GMC
A40: 30 | B40: DAHI (ex bab elkheire) | D40: 28 | E40: =D40*7 -> 196 | F40: 50%MIN+25%SGMP+25%GMC | G40: 98 | J40: 49 | L40: 49 | M40: =SUM(G40:L40) -> 196 | N40: ATTAQUER SGMP
A41: 49 | B41: ETOILE DE KINTELE | D41: 28 | E41: =D41*7 -> 196 | F41: 50%GMK+50%GMC | I41: 98 | L41: 98 | M41: =SUM(G41:L41) -> 196 | N41: A RECUPERER
...

Sheet PDM 2026
A1: Week | B1: Minoco | C1: Fanta | D1: GMPN | E1: GMK | F1: SGMP | G1: MFB | H1: GMC
A2: 6 | B2: 0.3565445 | C2: 0.097033159 | D2: =SUM(B2:C2) -> 0.45357766 | E2: 0.087609075 | F2: 0.1460733 | G2: 0.10575916 | H2: 0.2069808 | I2: 1
A3: 7 | B3: 0.31935143 | C3: 0.090236165 | D3: =SUM(B3:C3) -> 0.40958759 | E3: 0.09693338 | F3: 0.13447303 | G3: 0.14663377 | H3: 0.21237222 | I3: 1
A4: 8 | B4: 0.31935143 | C4: 0.090236165 | D4: =SUM(B4:C4) -> 0.40958759 | E4: 0.09693338 | F4: 0.13447303 | G4: 0.14663377 | H4: 0.21237222 | I4: 1
A5: 9 | B5: 0.34106769 | C5: 0.077808793 | D5: =SUM(B5:C5) -> 0.41887648 | E5: 0.076413119 | F5: 0.16591068 | G5: 0.102582 | H5: 0.23621773 | I5: 1
A6: 10 | B6: 0.34106769 | C6: 0.077808793 | D6: =SUM(B6:C6) -> 0.41887648 | E6: 0.076413119 | F6: 0.16591068 | G6: 0.102582 | H6: 0.23621773 | I6: 1
A7: 11 | B7: 0.26022928 | C7: 0.095061728 | D7: =SUM(B7:C7) -> 0.35529101 | E7: 0.063844797 | F7: 0.14691358 | G7: 0.18439153 | H7: 0.24955908 | I7: 1
A8: 12 | B8: 0.19 | C8: 0.07 | D8: =SUM(B8:C8) -> 0.26 | E8: 0.067 | F8: 0.162 | G8: 0.228 | H8: 0.284 | I8: 1.001
A9: 13 | B9: 0.17 | C9: 0.07 | D9: =SUM(B9:C9) -> 0.24 | E9: 0.063 | F9: 0.176 | G9: 0.242 | H9: 0.275 | I9: 0.996
A10: 14 | B10: 0.18 | C10: 0.1 | D10: =SUM(B10:C10) -> 0.28 | E10: 0.064 | F10: 0.169 | G10: 0.24 | H10: 0.247 | I10: 1
A11: 15 | B11: 0.19 | C11: 0.08 | D11: =SUM(B11:C11) -> 0.27 | E11: 0.073 | F11: 0.141 | G11: 0.246 | H11: 0.27 | I11: 1
A12: 16 | B12: 0.18 | C12: 0.08 | D12: =SUM(B12:C12) -> 0.26 | E12: 0.077 | F12: 0.111 | G12: 0.246 | H12: 0.309 | I12: 1.003
A13: 17 | B13: 0.22 | C13: 0.12 | D13: =SUM(B13:C13) -> 0.34 | E13: 0.076 | F13: 0.114 | G13: 0.239 | H13: 0.235 | I13: 1.004
... A32: 36 | B32: 0.2629 | C32: 0.068 | D32: =SUM(B32:C32) -> 0.3309 | E32: 0.103 | F32: 0.239 | G32: 0.257 | H32: 0.069 | I32: 0.9995
A33: 37 | B33: 0.267 | C33: 0.046 | D33: =SUM(B33:C33) -> 0.313 | E33: 0.099 | F33: 0.23 | G33: 0.27 | H33: 0.089 | I33: =SUM(D33:H33) -> 1.001
A34: 38 | B34: 0.2475 | C34: 0.047 | D34: =SUM(B34:C34) -> 0.2945 | E34: 0.121 | F34: 0.194 | G34: 0.226 | H34: 0.164 | I34: =+D34+E34+F34+G34+H34 -> 0.9995
A35: 39 | B35: 0.2475 | C35: 0.064 | D35: =SUM(B35:C35) -> 0.3115 | E35: 0.076 | F35: 0.187 | G35: 0.222 | H35: 0.204 | I35: =SUM(D35:H35) -> 1.0005
A36: 40 | B36: 0.2504 | C36: 0.046 | D36: =SUM(B36:C36) -> 0.2964 | E36: 0.051 | F36: 0.168 | G36: 0.247 | H36: 0.236 | I36: =+D36+E36+F36+G36+H36 -> 0.9984
D37: =SUM(B37:C37) -> 0 | I37: =+D37+E37+F37+G37+H37 -> 0
D38: =SUM(B38:C38) -> 0 | I38: =+D38+E38+F38+G38+H38 -> 0
D39: =SUM(B39:C39) -> 0 | I39: =+D39+E39+F39+G39+H39 -> 0
D40: =SUM(B40:C40) -> 0 | I40: =+D40+E40+F40+G40+H40 -> 0
D41: =SUM(B41:C41) -> 0 | I41: =+D41+E41+F41+G41+H41 -> 0
D42: =SUM(B42:C42) -> 0 | I42: =+D42+E42+F42+G42+H42 -> 0
D43: =SUM(B43:C43) -> 0 | I43: =+D43+E43+F43+G43+H43 -> 0

Sheet GPS clients
A1: Boulangerie | B1: Latitude | C1: Longitude
A2: BZV CLIENT 1 | B2: -4.24 | C2: 15.255
A3: BZV CLIENT 2 | B3: -4.222 | C3: 15.255
A4: BZV CLIENT 3 | B4: -4.2273 | C4: 15.2677
A5: BZV CLIENT 4 | B5: -4.24 | C5: 15.273
A6: BZV CLIENT 5 | B6: -4.2527 | C6: 15.2677
A7: BZV CLIENT 6 | B7: -4.258 | C7: 15.255
A8: BZV CLIENT 7 | B8: -4.2527 | C8: 15.2423
A9: BZV CLIENT 8 | B9: -4.24 | C9: 15.237
A10: BZV CLIENT 9 | B10: -4.2273 | C10: 15.2423
A11: BZV CLIENT 10 | B11: -4.2109 | C11: 15.2671
A12: BZV CLIENT 11 | B12: -4.2691 | C12: 15.2429
A13: BZV CLIENT 12 | B13: -4.195 | C13: 15.255
... A41: BZV CLIENT 40 | B41: -4.24 | C41: 15.075
