Workbook
Name ActifInactif: OFFSET(Data!$M$1,1,0,COUNTA(Data!$M:$M)-1,1)
Name clientList: OFFSET(Clients!$D$1,1,0,COUNTA(Clients!$D:$D)-1,1)
Name siteList: OFFSET(Sites!$G$1,1,0,COUNTA(Sites!$G:$G)-1,1)

Sheet Secteurs
A1: N° | B1: Zone | C1: Technico-Commercial
A2: 1 | B2: Nord | C2: Alexis MABOUNDA
A3: 2 | B3: Centre | C3: Félix OVOURA
A4: 3 | B4: Sud | C4: Armel SOKAMBA

Sheet WEEK 42
A1: N° | B1: Site | C1: ID site | D1: Commercial | E1: Secteur | F1: Client | G1: ID client | H1: Cons/j | I1: C° heb | J1: Date Dernière Visite | K1: Période sans visite | L1: MINOCO% | M1: FANTA% | N1: GMK% | O1: SGMP% | P1: MFB% | Q1: GMC% | R1: MINOCO | S1: FANTA | T1: GMK | U1: SGMP | V1: MFB | W1: GMC | X1: Total conso | Y1: verif % | Z1: verif conso | AA1: verif date | AB1: verif 4 | AC1: COMMENTAIRES
A2: =+IF(H2>0,1,0) -> 1 | B2: AFRICAINE1 nkouikou nzango | C2: =IF(B2="","",_xlfn.XLOOKUP(B2, Sites!G:G, Sites!F:F, "N/A")) -> PNR-00001 | D2: =IF(B2="","",_xlfn.XLOOKUP(B2, Sites!G:G, Sites!E:E, "N/A")) -> Félix OVOURA | E2: =IF(B2="","",_xlfn.XLOOKUP(B2, Sites!G:G, Sites!D:D, "N/A")) -> 2 | F2: =IF(B2="","",_xlfn.XLOOKUP(B2, Sites!G:G, Sites!H:H, "N/A")) -> CLIENT 7 | G2: =IF(B2="","",_xlfn.XLOOKUP(B2, Sites!G:G, Sites!I:I, "N/A")) -> REF-00007 | H2: 14 | I2: =H2*7 -> 98 | J2: 46297 | K2: =IF(C2="","",IF(J2="","N/A",+IF(A2=1,(+TODAY())-J2,"N/A"))) -> 13 | Q2: 1 | R2: =+$I2*L2 -> 0 | S2: =+$I2*M2 -> 0 | T2: =+$I2*N2 -> 0 | U2: =+$I2*O2 -> 0 | V2: =+$I2*P2 -> 0 | W2: =+$I2*Q2 -> 98 | X2: =SUM(R2:W2) -> 98 | Y2: =IF(C2="","",IF(L2+M2+N2+O2+P2+Q2=1,"OK","ERREUR")) -> OK | Z2: =IF(C2="","",IF(H2="","ERREUR","OK")) -> OK | AA2: =IF(D2="","",IF(J2="","ERREUR","OK")) -> OK | AD2: =+X2-I2 -> 0 | AF2: Week | AG2: Minoco | AH2: Fanta | AI2: GMPN | AJ2: GMK | AK2: SGMP | AL2: MFB | AM2: GMC
A3: =+IF(H3>0,1,0) -> 1 | B3: AFRICAINE2 nkouinkou vonvon | C3: =IF(B3="","",_xlfn.XLOOKUP(B3, Sites!G:G, Sites!F:F, "N/A")) -> PNR-00002 | D3: =IF(B3="","",_xlfn.XLOOKUP(B3, Sites!G:G, Sites!E:E, "N/A")) -> Félix OVOURA | E3: =IF(B3="","",_xlfn.XLOOKUP(B3, Sites!G:G, Sites!D:D, "N/A")) -> 2 | F3: =IF(B3="","",_xlfn.XLOOKUP(B3, Sites!G:G, Sites!H:H, "N/A")) -> CLIENT 1 | G3: =IF(B3="","",_xlfn.XLOOKUP(B3, Sites!G:G, Sites!I:I, "N/A")) -> REF-00001 | H3: 34 | I3: =H3*7 -> 238 | J3: 46302 | K3: =IF(C3="","",IF(J3="","N/A",+IF(A3=1,(+TODAY())-J3,"N/A"))) -> 8 | N3: 0.5 | P3: 0.5 | R3: =+$I3*L3 -> 0 | S3: =+$I3*M3 -> 0 | T3: =+$I3*N3 -> 119 | U3: =+$I3*O3 -> 0 | V3: =+$I3*P3 -> 119 | W3: =+$I3*Q3 -> 0 | X3: =SUM(R3:W3) -> 238 | Y3: =IF(C3="","",IF(L3+M3+N3+O3+P3+Q3=1,"OK","ERREUR")) -> OK | Z3: =IF(C3="","",IF(H3="","ERREUR","OK")) -> OK | AA3: =IF(D3="","",IF(J3="","ERREUR","OK")) -> OK | AD3: =+X3-I3 -> 0 | AF3: 39 | AG3: 0.28 | AH3: 0.07 | AI3: =+AG3+AH3 -> 0.35 | AJ3: 0.19 | AK3: 0.12 | AL3: 0.15 | AM3: 0.19 | AN3: =SUM(AI3:AM3) -> 1
A4: =+IF(H4>0,1,0) -> 1 | B4: AFRICAINE3 tchialli | C4: =IF(B4="","",_xlfn.XLOOKUP(B4, Sites!G:G, Sites!F:F, "N/A")) -> PNR-00003 | D4: =IF(B4="","",_xlfn.XLOOKUP(B4, Sites!G:G, Sites!E:E, "N/A")) -> Félix OVOURA | E4: =IF(B4="","",_xlfn.XLOOKUP(B4, Sites!G:G, Sites!D:D, "N/A")) -> 2 | F4: =IF(B4="","",_xlfn.XLOOKUP(B4, Sites!G:G, Sites!H:H, "N/A")) -> CLIENT 3 | G4: =IF(B4="","",_xlfn.XLOOKUP(B4, Sites!G:G, Sites!I:I, "N/A")) -> REF-00003 | H4: 26 | I4: =H4*7 -> 182 | J4: 46296 | K4: =IF(C4="","",IF(J4="","N/A",+IF(A4=1,(+TODAY())-J4,"N/A"))) -> 14 | L4: 0.5 | P4: 0.5 | R4: =+$I4*L4 -> 91 | S4: =+$I4*M4 -> 0 | T4: =+$I4*N4 -> 0 | U4: =+$I4*O4 -> 0 | V4: =+$I4*P4 -> 91 | W4: =+$I4*Q4 -> 0 | X4: =SUM(R4:W4) -> 182 | Y4: =IF(C4="","",IF(L4+M4+N4+O4+P4+Q4=1,"OK","ERREUR")) -> OK | Z4: =IF(C4="","",IF(H4="","ERREUR","OK")) -> OK | AA4: =IF(D4="","",IF(J4="","ERREUR","OK")) -> OK | AD4: =+X4-I4 -> 0 | AF4: 40 | AG4: 0.33 | AH4: 0.09 | AI4: =+AG4+AH4 -> 0.42 | AJ4: 0.15 | AK4: 0.12 | AL4: 0.11 | AM4: 0.2 | AN4: =SUM(AI4:AM4) -> 1
A5: =+IF(H5>0,1,0) -> 1 | B5: AFRICAINE4 la fontaine | C5: =IF(B5="","",_xlfn.XLOOKUP(B5, Sites!G:G, Sites!F:F, "N/A")) -> PNR-00004 | D5: =IF(B5="","",_xlfn.XLOOKUP(B5, Sites!G:G, Sites!E:E, "N/A")) -> Alexis MABOUNDA | E5: =IF(B5="","",_xlfn.XLOOKUP(B5, Sites!G:G, Sites!D:D, "N/A")) -> 1 | F5: =IF(B5="","",_xlfn.XLOOKUP(B5, Sites!G:G, Sites!H:H, "N/A")) -> 0 | G5: =IF(B5="","",_xlfn.XLOOKUP(B5, Sites!G:G, Sites!I:I, "N/A")) | H5: 24 | I5: =H5*7 -> 168 | J5: 46294 | K5: =IF(C5="","",IF(J5="","N/A",+IF(A5=1,(+TODAY())-J5,"N/A"))) -> 16 | L5: 0.5 | P5: 0.5 | R5: =+$I5*L5 -> 84 | S5: =+$I5*M5 -> 0 | T5: =+$I5*N5 -> 0 | U5: =+$I5*O5 -> 0 | V5: =+$I5*P5 -> 84 | W5: =+$I5*Q5 -> 0 | X5: =SUM(R5:W5) -> 168 | Y5: =IF(C5="","",IF(L5+M5+N5+O5+P5+Q5=1,"OK","ERREUR")) -> OK | Z5: =IF(C5="","",IF(H5="","ERREUR","OK")) -> OK | AA5: =IF(D5="","",IF(J5="","ERREUR","OK")) -> OK | AD5: =+X5-I5 -> 0 | AF5: 41 | AG5: 0.331901 | AH5: 0.084393262 | AI5: =+AG5+AH5 -> 0.41629426 | AJ5: 0.15520798 | AK5: 0.11816776 | AL5: 0.11112066 | AM5: 0.19920935 | AN5: =SUM(AI5:AM5) -> 1
A6: =+IF(H6>0,1,0) -> 1 | B6: AFRICAINE5 ngoyo avenue taty loutard | C6: =IF(B6="","",_xlfn.XLOOKUP(B6, Sites!G:G, Sites!F:F, "N/A")) -> PNR-00005 | D6: =IF(B6="","",_xlfn.XLOOKUP(B6, Sites!G:G, Sites!E:E, "N/A")) -> Alexis MABOUNDA | E6: =IF(B6="","",_xlfn.XLOOKUP(B6, Sites!G:G, Sites!D:D, "N/A")) -> 1 | F6: =IF(B6="","",_xlfn.XLOOKUP(B6, Sites!G:G, Sites!H:H, "N/A")) -> 0 | G6: =IF(B6="","",_xlfn.XLOOKUP(B6, Sites!G:G, Sites!I:I, "N/A")) | H6: 7 | I6: =H6*7 -> 49 | J6: 46301 | K6: =IF(C6="","",IF(J6="","N/A",+IF(A6=1,(+TODAY())-J6,"N/A"))) -> 9 | L6: 0.5 | P6: 0.5 | R6: =+$I6*L6 -> 24.5 | S6: =+$I6*M6 -> 0 | T6: =+$I6*N6 -> 0 | U6: =+$I6*O6 -> 0 | V6: =+$I6*P6 -> 24.5 | W6: =+$I6*Q6 -> 0 | X6: =SUM(R6:W6) -> 49 | Y6: =IF(C6="","",IF(L6+M6+N6+O6+P6+Q6=1,"OK","ERREUR")) -> OK | Z6: =IF(C6="","",IF(H6="","ERREUR","OK")) -> OK | AA6: =IF(D6="","",IF(J6="","ERREUR","OK")) -> OK | AD6: =+X6-I6 -> 0 | AF6: 42 | AG6: =R173 -> 0.22812846 | AH6: =S173 -> 0.097083795 | AI6: =+AG6+AH6 -> 0.32521226 | AJ6: =T173 -> 0.062200074 | AK6: =U173 -> 0.20985604 | AL6: =V173 -> 0.1947213 | AM6: =W173 -> 0.20801034 | AN6: =SUM(AI6:AM6) -> 1
A7: =+IF(H7>0,1,0) -> 1 | B7: AFRICAINE6 ngoyo central | C7: =IF(B7="","",_xlfn.XLOOKUP(B7, Sites!G:G, Sites!F:F, "N/A")) -> PNR-00006 | D7: =IF(B7="","",_xlfn.XLOOKUP(B7, Sites!G:G, Sites!E:E, "N/A")) -> Armel SOKAMBA | E7: =IF(B7="","",_xlfn.XLOOKUP(B7, Sites!G:G, Sites!D:D, "N/A")) -> 3 | F7: =IF(B7="","",_xlfn.XLOOKUP(B7, Sites!G:G, Sites!H:H, "N/A")) -> 0 | G7: =IF(B7="","",_xlfn.XLOOKUP(B7, Sites!G:G, Sites!I:I, "N/A")) | H7: 36 | I7: =H7*7 -> 252 | J7: 46295 | K7: =IF(C7="","",IF(J7="","N/A",+IF(A7=1,(+TODAY())-J7,"N/A"))) -> 15 | L7: 0.25 | M7: 0.5 | P7: 0.25 | R7: =+$I7*L7 -> 63 | S7: =+$I7*M7 -> 126 | T7: =+$I7*N7 -> 0 | U7: =+$I7*O7 -> 0 | V7: =+$I7*P7 -> 63 | W7: =+$I7*Q7 -> 0 | X7: =SUM(R7:W7) -> 252 | Y7: =IF(C7="","",IF(L7+M7+N7+O7+P7+Q7=1,"OK","ERREUR")) -> OK | Z7: =IF(C7="","",IF(H7="","ERREUR","OK")) -> OK | AA7: =IF(D7="","",IF(J7="","ERREUR","OK")) -> OK | AD7: =+X7-I7 -> 0 | AF7: Variation
A8: =+IF(H8>0,1,0) -> 1 | B8: AFRICAINE7 nzassi | C8: =IF(B8="","",_xlfn.XLOOKUP(B8, Sites!G:G, Sites!F:F, "N/A")) -> PNR-00007 | D8: =IF(B8="","",_xlfn.XLOOKUP(B8, Sites!G:G, Sites!E:E, "N/A")) -> Félix OVOURA | E8: =IF(B8="","",_xlfn.XLOOKUP(B8, Sites!G:G, Sites!D:D, "N/A")) -> 2 | F8: =IF(B8="","",_xlfn.XLOOKUP(B8, Sites!G:G, Sites!H:H, "N/A")) -> 0 | G8: =IF(B8="","",_xlfn.XLOOKUP(B8, Sites!G:G, Sites!I:I, "N/A")) | H8: 26 | I8: =H8*7 -> 182 | J8: 46294 | K8: =IF(C8="","",IF(J8="","N/A",+IF(A8=1,(+TODAY())-J8,"N/A"))) -> 16 | L8: 0.5 | P8: 0.5 | R8: =+$I8*L8 -> 91 | S8: =+$I8*M8 -> 0 | T8: =+$I8*N8 -> 0 | U8: =+$I8*O8 -> 0 | V8: =+$I8*P8 -> 91 | W8: =+$I8*Q8 -> 0 | X8: =SUM(R8:W8) -> 182 | Y8: =IF(C8="","",IF(L8+M8+N8+O8+P8+Q8=1,"OK","ERREUR")) -> OK | Z8: =IF(C8="","",IF(H8="","ERREUR","OK")) -> OK | AA8: =IF(D8="","",IF(J8="","ERREUR","OK")) -> OK | AD8: =+X8-I8 -> 0
A9: =+IF(H9>0,1,0) -> 1 | B9: AL MONA rond point sogolo | C9: =IF(B9="","",_xlfn.XLOOKUP(B9, Sites!G:G, Sites!F:F, "N/A")) -> PNR-00008 | D9: =IF(B9="","",_xlfn.XLOOKUP(B9, Sites!G:G, Sites!E:E, "N/A")) -> Armel SOKAMBA | E9: =IF(B9="","",_xlfn.XLOOKUP(B9, Sites!G:G, Sites!D:D, "N/A")) -> 3 | F9: =IF(B9="","",_xlfn.XLOOKUP(B9, Sites!G:G, Sites!H:H, "N/A")) -> 0 | G9: =IF(B9="","",_xlfn.XLOOKUP(B9, Sites!G:G, Sites!I:I, "N/A")) | H9: 20 | I9: =H9*7 -> 140 | J9: 46300 | K9: =IF(C9="","",IF(J9="","N/A",+IF(A9=1,(+TODAY())-J9,"N/A"))) -> 10 | L9: 0.75 | P9: 0.25 | R9: =+$I9*L9 -> 105 | S9: =+$I9*M9 -> 0 | T9: =+$I9*N9 -> 0 | U9: =+$I9*O9 -> 0 | V9: =+$I9*P9 -> 35 | W9: =+$I9*Q9 -> 0 | X9: =SUM(R9:W9) -> 140 | Y9: =IF(C9="","",IF(L9+M9+N9+O9+P9+Q9=1,"OK","ERREUR")) -> OK | Z9: =IF(C9="","",IF(H9="","ERREUR","OK")) -> OK | AA9: =IF(D9="","",IF(J9="","ERREUR","OK")) -> OK | AD9: =+X9-I9 -> 0
A10: =+IF(H10>0,1,0) -> 1 | B10: AMOUR DE MPAKA | C10: =IF(B10="","",_xlfn.XLOOKUP(B10, Sites!G:G, Sites!F:F, "N/A")) -> PNR-00009 | D10: =IF(B10="","",_xlfn.XLOOKUP(B10, Sites!G:G, Sites!E:E, "N/A")) -> 0 | E10: =IF(B10="","",_xlfn.XLOOKUP(B10, Sites!G:G, Sites!D:D, "N/A")) -> 0 | F10: =IF(B10="","",_xlfn.XLOOKUP(B10, Sites!G:G, Sites!H:H, "N/A")) -> 0 | G10: =IF(B10="","",_xlfn.XLOOKUP(B10, Sites!G:G, Sites!I:I, "N/A")) | H10: 24 | I10: =H10*7 -> 168 | J10: 46300 | K10: =IF(C10="","",IF(J10="","N/A",+IF(A10=1,(+TODAY())-J10,"N/A"))) -> 10 | L10: 0.5 | P10: 0.5 | R10: =+$I10*L10 -> 84 | S10: =+$I10*M10 -> 0 | T10: =+$I10*N10 -> 0 | U10: =+$I10*O10 -> 0 | V10: =+$I10*P10 -> 84 | W10: =+$I10*Q10 -> 0 | X10: =SUM(R10:W10) -> 168 | Y10: =IF(C10="","",IF(L10+M10+N10+O10+P10+Q10=1,"OK","ERREUR")) -> OK | Z10: =IF(C10="","",IF(H10="","ERREUR","OK")) -> OK | AA10: =IF(D10="","",IF(J10="","ERREUR","OK")) -> OK | AD10: =+X10-I10 -> 0
A11: =+IF(H11>0,1,0) -> 1 | B11: ARC EN CIEL EX LISA ngoyo péage | C11: =IF(B11="","",_xlfn.XLOOKUP(B11, Sites!G:G, Sites!F:F, "N/A")) -> PNR-00010 | D11: =IF(B11="","",_xlfn.XLOOKUP(B11, Sites!G:G, Sites!E:E, "N/A")) -> 0 | E11: =IF(B11="","",_xlfn.XLOOKUP(B11, Sites!G:G, Sites!D:D, "N/A")) -> 0 | F11: =IF(B11="","",_xlfn.XLOOKUP(B11, Sites!G:G, Sites!H:H, "N/A")) -> 0 | G11: =IF(B11="","",_xlfn.XLOOKUP(B11, Sites!G:G, Sites!I:I, "N/A")) | H11: 24 | I11: =H11*7 -> 168 | J11: 46294 | K11: =IF(C11="","",IF(J11="","N/A",+IF(A11=1,(+TODAY())-J11,"N/A"))) -> 16 | L11: 0.5 | P11: 0.5 | R11: =+$I11*L11 -> 84 | S11: =+$I11*M11 -> 0 | T11: =+$I11*N11 -> 0 | U11: =+$I11*O11 -> 0 | V11: =+$I11*P11 -> 84 | W11: =+$I11*Q11 -> 0 | X11: =SUM(R11:W11) -> 168 | Y11: =IF(C11="","",IF(L11+M11+N11+O11+P11+Q11=1,"OK","ERREUR")) -> OK | Z11: =IF(C11="","",IF(H11="","ERREUR","OK")) -> OK | AA11: =IF(D11="","",IF(J11="","ERREUR","OK")) -> OK | AD11: =+X11-I11 -> 0
A12: =+IF(H12>0,1,0) -> 1 | B12: ARDOSSON 1 | C12: =IF(B12="","",_xlfn.XLOOKUP(B12, Sites!G:G, Sites!F:F, "N/A")) -> PNR-00011 | D12: =IF(B12="","",_xlfn.XLOOKUP(B12, Sites!G:G, Sites!E:E, "N/A")) -> Armel SOKAMBA | E12: =IF(B12="","",_xlfn.XLOOKUP(B12, Sites!G:G, Sites!D:D, "N/A")) -> 3 | F12: =IF(B12="","",_xlfn.XLOOKUP(B12, Sites!G:G, Sites!H:H, "N/A")) -> 0 | G12: =IF(B12="","",_xlfn.XLOOKUP(B12, Sites!G:G, Sites!I:I, "N/A")) | H12: 24 | I12: =H12*7 -> 168 | J12: 46301 | K12: =IF(C12="","",IF(J12="","N/A",+IF(A12=1,(+TODAY())-J12,"N/A"))) -> 9 | L12: 0.5 | P12: 0.5 | R12: =+$I12*L12 -> 84 | S12: =+$I12*M12 -> 0 | T12: =+$I12*N12 -> 0 | U12: =+$I12*O12 -> 0 | V12: =+$I12*P12 -> 84 | W12: =+$I12*Q12 -> 0 | X12: =SUM(R12:W12) -> 168 | Y12: =IF(C12="","",IF(L12+M12+N12+O12+P12+Q12=1,"OK","ERREUR")) -> OK | Z12: =IF(C12="","",IF(H12="","ERREUR","OK")) -> OK | AA12: =IF(D12="","",IF(J12="","ERREUR","OK")) -> OK | AD12: =+X12-I12 -> 0
A13: =+IF(H13>0,1,0) -> 1 | B13: ARDOSSON 2 | C13: =IF(B13="","",_xlfn.XLOOKUP(B13, Sites!G:G, Sites!F:F, "N/A")) -> PNR-00012 | D13: =IF(B13="","",_xlfn.XLOOKUP(B13, Sites!G:G, Sites!E:E, "N/A")) -> Félix OVOURA | E13: =IF(B13="","",_xlfn.XLOOKUP(B13, Sites!G:G, Sites!D:D, "N/A")) -> 2 | F13: =IF(B13="","",_xlfn.XLOOKUP(B13, Sites!G:G, Sites!H:H, "N/A")) -> 0 | G13: =IF(B13="","",_xlfn.XLOOKUP(B13, Sites!G:G, Sites!I:I, "N/A")) | H13: 36 | I13: =H13*7 -> 252 | J13: 46302 | K13: =IF(C13="","",IF(J13="","N/A",+IF(A13=1,(+TODAY())-J13,"N/A"))) -> 8 | P13: 0.5 | Q13: 0.5 | R13: =+$I13*L13 -> 0 | S13: =+$I13*M13 -> 0 | T13: =+$I13*N13 -> 0 | U13: =+$I13*O13 -> 0 | V13: =+$I13*P13 -> 126 | W13: =+$I13*Q13 -> 126 | X13: =SUM(R13:W13) -> 252 | Y13: =IF(C13="","",IF(L13+M13+N13+O13+P13+Q13=1,"OK","ERREUR")) -> OK | Z13: =IF(C13="","",IF(H13="","ERREUR","OK")) -> OK | AA13: =IF(D13="","",IF(J13="","ERREUR","OK")) -> OK | AD13: =+X13-I13 -> 0
A14: =+IF(H14>0,1,0) -> 1 | B14: ATAKAHYR mayinga | C14: =IF(B14="","",_xlfn.XLOOKUP(B14, Sites!G:G, Sites!F:F, "N/A")) -> PNR-00013 | D14: =IF(B14="","",_xlfn.XLOOKUP(B14, Sites!G:G, Sites!E:E, "N/A")) -> Alexis MABOUNDA | E14: =IF(B14="","",_xlfn.XLOOKUP(B14, Sites!G:G, Sites!D:D, "N/A")) -> 1 | F14: =IF(B14="","",_xlfn.XLOOKUP(B14, Sites!G:G, Sites!H:H, "N/A")) -> 0 | G14: =IF(B14="","",_xlfn.XLOOKUP(B14, Sites!G:G, Sites!I:I, "N/A")) | H14: 20 | I14: =H14*7 -> 140 | J14: 46294 | K14: =IF(C14="","",IF(J14="","N/A",+IF(A14=1,(+TODAY())-J14,"N/A"))) -> 16 | O14: 0.5 | Q14: 0.5 | R14: =+$I14*L14 -> 0 | S14: =+$I14*M14 -> 0 | T14: =+$I14*N14 -> 0 | U14: =+$I14*O14 -> 70 | V14: =+$I14*P14 -> 0 | W14: =+$I14*Q14 -> 70 | X14: =SUM(R14:W14) -> 140 | Y14: =IF(C14="","",IF(L14+M14+N14+O14+P14+Q14=1,"OK","ERREUR")) -> OK | Z14: =IF(C14="","",IF(H14="","ERREUR","OK")) -> OK | AA14: =IF(D14="","",IF(J14="","ERREUR","OK")) -> OK | AD14: =+X14-I14 -> 0
A15: =+IF(H15>0,1,0) -> 1 | B15: ATAKALKHAYR fouks | C15: =IF(B15="","",_xlfn.XLOOKUP(B15, Sites!G:G, Sites!F:F, "N/A")) -> PNR-00014 | D15: =IF(B15="","",_xlfn.XLOOKUP(B15, Sites!G:G, Sites!E:E, "N/A")) -> Félix OVOURA | E15: =IF(B15="","",_xlfn.XLOOKUP(B15, Sites!G:G, Sites!D:D, "N/A")) -> 2 | F15: =IF(B15="","",_xlfn.XLOOKUP(B15, Sites!G:G, Sites!H:H, "N/A")) -> 0 | G15: =IF(B15="","",_xlfn.XLOOKUP(B15, Sites!G:G, Sites!I:I, "N/A")) | H15: 10 | I15: =H15*7 -> 70 | J15: 46300 | K15: =IF(C15="","",IF(J15="","N/A",+IF(A15=1,(+TODAY())-J15,"N/A"))) -> 10 | P15: 0.5 | Q15: 0.5 | R15: =+$I15*L15 -> 0 | S15: =+$I15*M15 -> 0 | T15: =+$I15*N15 -> 0 | U15: =+$I15*O15 -> 0 | V15: =+$I15*P15 -> 35 | W15: =+$I15*Q15 -> 35 | X15: =SUM(R15:W15) -> 70 | Y15: =IF(C15="","",IF(L15+M15+N15+O15+P15+Q15=1,"OK","ERREUR")) -> OK | Z15: =IF(C15="","",IF(H15="","ERREUR","OK")) -> OK | AA15: =IF(D15="","",IF(J15="","ERREUR","OK")) -> OK | AD15: =+X15-I15 -> 0
A16: =+IF(H16>0,1,0) -> 1 | B16: ATAKALKHAYR loandjili | C16: =IF(B16="","",_xlfn.XLOOKUP(B16, Sites!G:G, Sites!F:F, "N/A")) -> PNR-00015 | D16: =IF(B16="","",_xlfn.XLOOKUP(B16, Sites!G:G, Sites!E:E, "N/A")) -> Félix OVOURA | E16: =IF(B16="","",_xlfn.XLOOKUP(B16, Sites!G:G, Sites!D:D, "N/A")) -> 2 | F16: =IF(B16="","",_xlfn.XLOOKUP(B16, Sites!G:G, Sites!H:H, "N/A")) -> 0 | G16: =IF(B16="","",_xlfn.XLOOKUP(B16, Sites!G:G, Sites!I:I, "N/A")) | H16: 26 | I16: =H16*7 -> 182 | J16: 46300 | K16: =IF(C16="","",IF(J16="","N/A",+IF(A16=1,(+TODAY())-J16,"N/A"))) -> 10 | L16: 0.5 | P16: 0.5 | R16: =+$I16*L16 -> 91 | S16: =+$I16*M16 -> 0 | T16: =+$I16*N16 -> 0 | U16: =+$I16*O16 -> 0 | V16: =+$I16*P16 -> 91 | W16: =+$I16*Q16 -> 0 | X16: =SUM(R16:W16) -> 182 | Y16: =IF(C16="","",IF(L16+M16+N16+O16+P16+Q16=1,"OK","ERREUR")) -> OK | Z16: =IF(C16="","",IF(H16="","ERREUR","OK")) -> OK | AA16: =IF(D16="","",IF(J16="","ERREUR","OK")) -> OK | AD16: =+X16-I16 -> 0
A17: =+IF(H17>0,1,0) -> 1 | B17: AYA fond -tié-tié | C17: =IF(B17="","",_xlfn.XLOOKUP(B17, Sites!G:G, Sites!F:F, "N/A")) -> PNR-00016 | D17: =IF(B17="","",_xlfn.XLOOKUP(B17, Sites!G:G, Sites!E:E, "N/A")) -> Félix OVOURA | E17: =IF(B17="","",_xlfn.XLOOKUP(B17, Sites!G:G, Sites!D:D, "N/A")) -> 2 | F17: =IF(B17="","",_xlfn.XLOOKUP(B17, Sites!G:G, Sites!H:H, "N/A")) -> 0 | G17: =IF(B17="","",_xlfn.XLOOKUP(B17, Sites!G:G, Sites!I:I, "N/A")) | H17: 26 | I17: =H17*7 -> 182 | J17: 46302 | K17: =IF(C17="","",IF(J17="","N/A",+IF(A17=1,(+TODAY())-J17,"N/A"))) -> 8 | N17: 0.5 | P17: 0.5 | R17: =+$I17*L17 -> 0 | S17: =+$I17*M17 -> 0 | T17: =+$I17*N17 -> 91 | U17: =+$I17*O17 -> 0 | V17: =+$I17*P17 -> 91 | W17: =+$I17*Q17 -> 0 | X17: =SUM(R17:W17) -> 182 | Y17: =IF(C17="","",IF(L17+M17+N17+O17+P17+Q17=1,"OK","ERREUR")) -> OK | Z17: =IF(C17="","",IF(H17="","ERREUR","OK")) -> OK | AA17: =IF(D17="","",IF(J17="","ERREUR","OK")) -> OK | AD17: =+X17-I17 -> 0
A18: =+IF(H18>0,1,0) -> 1 | B18: AYOUNE MAKAYABOU | C18: =IF(B18="","",_xlfn.XLOOKUP(B18, Sites!G:G, Sites!F:F, "N/A")) -> PNR-00017 | D18: =IF(B18="","",_xlfn.XLOOKUP(B18, Sites!G:G, Sites!E:E, "N/A")) -> 0 | E18: =IF(B18="","",_xlfn.XLOOKUP(B18, Sites!G:G, Sites!D:D, "N/A")) -> 0 | F18: =IF(B18="","",_xlfn.XLOOKUP(B18, Sites!G:G, Sites!H:H, "N/A")) -> 0 | G18: =IF(B18="","",_xlfn.XLOOKUP(B18, Sites!G:G, Sites!I:I, "N/A")) | H18: 24 | I18: =H18*7 -> 168 | J18: 46300 | K18: =IF(C18="","",IF(J18="","N/A",+IF(A18=1,(+TODAY())-J18,"N/A"))) -> 10 | L18: 0.5 | P18: 0.5 | R18: =+$I18*L18 -> 84 | S18: =+$I18*M18 -> 0 | T18: =+$I18*N18 -> 0 | U18: =+$I18*O18 -> 0 | V18: =+$I18*P18 -> 84 | W18: =+$I18*Q18 -> 0 | X18: =SUM(R18:W18) -> 168 | Y18: =IF(C18="","",IF(L18+M18+N18+O18+P18+Q18=1,"OK","ERREUR")) -> OK | Z18: =IF(C18="","",IF(H18="","ERREUR","OK")) -> OK | AA18: =IF(D18="","",IF(J18="","ERREUR","OK")) -> OK | AD18: =+X18-I18 -> 0
A19: =+IF(H19>0,1,0) -> 1 | B19: AZALAYE makulungulu | C19: =IF(B19="","",_xlfn.XLOOKUP(B19, Sites!G:G, Sites!F:F, "N/A")) -> PNR-00018 | D19: =IF(B19="","",_xlfn.XLOOKUP(B19, Sites!G:G, Sites!E:E, "N/A")) -> Alexis MABOUNDA | E19: =IF(B19="","",_xlfn.XLOOKUP(B19, Sites!G:G, Sites!D:D, "N/A")) -> 1 | F19: =IF(B19="","",_xlfn.XLOOKUP(B19, Sites!G:G, Sites!H:H, "N/A")) -> 0 | G19: =IF(B19="","",_xlfn.XLOOKUP(B19, Sites!G:G, Sites!I:I, "N/A")) | H19: 36 | I19: =H19*7 -> 252 | J19: 46301 | K19: =IF(C19="","",IF(J19="","N/A",+IF(A19=1,(+TODAY())-J19,"N/A"))) -> 9 | L19: 0.5 | P19: 0.5 | R19: =+$I19*L19 -> 126 | S19: =+$I19*M19 -> 0 | T19: =+$I19*N19 -> 0 | U19: =+$I19*O19 -> 0 | V19: =+$I19*P19 -> 126 | W19: =+$I19*Q19 -> 0 | X19: =SUM(R19:W19) -> 252 | Y19: =IF(C19="","",IF(L19+M19+N19+O19+P19+Q19=1,"OK","ERREUR")) -> OK | Z19: =IF(C19="","",IF(H19="","ERREUR","OK")) -> OK | AA19: =IF(D19="","",IF(J19="","ERREUR","OK")) -> OK | AD19: =+X19-I19 -> 0
A20: =+IF(H20>0,1,0) -> 1 | B20: BA fond tié-tié gare | C20: =IF(B20="","",_xlfn.XLOOKUP(B20, Sites!G:G, Sites!F:F, "N/A")) -> PNR-00019 | D20: =IF(B20="","",_xlfn.XLOOKUP(B20, Sites!G:G, Sites!E:E, "N/A")) -> Armel SOKAMBA | E20: =IF(B20="","",_xlfn.XLOOKUP(B20, Sites!G:G, Sites!D:D, "N/A")) -> 3 | F20: =IF(B20="","",_xlfn.XLOOKUP(B20, Sites!G:G, Sites!H:H, "N/A")) -> 0 | G20: =IF(B20="","",_xlfn.XLOOKUP(B20, Sites!G:G, Sites!I:I, "N/A")) | H20: 28 | I20: =H20*7 -> 196 | J20: 46301 | K20: =IF(C20="","",IF(J20="","N/A",+IF(A20=1,(+TODAY())-J20,"N/A"))) -> 9 | L20: 0.75 | P20: 0.25 | R20: =+$I20*L20 -> 147 | S20: =+$I20*M20 -> 0 | T20: =+$I20*N20 -> 0 | U20: =+$I20*O20 -> 0 | V20: =+$I20*P20 -> 49 | W20: =+$I20*Q20 -> 0 | X20: =SUM(R20:W20) -> 196 | Y20: =IF(C20="","",IF(L20+M20+N20+O20+P20+Q20=1,"OK","ERREUR")) -> OK | Z20: =IF(C20="","",IF(H20="","ERREUR","OK")) -> OK | AA20: =IF(D20="","",IF(J20="","ERREUR","OK")) -> OK | AD20: =+X20-I20 -> 0
A21: =+IF(H21>0,1,0) -> 1 | B21: BA fond tié-tié en allant vers voungou | C21: =IF(B21="","",_xlfn.XLOOKUP(B21, Sites!G:G, Sites!F:F, "N/A")) -> PNR-00020 | D21: =IF(B21="","",_xlfn.XLOOKUP(B21, Sites!G:G, Sites!E:E, "N/A")) -> Félix OVOURA | E21: =IF(B21="","",_xlfn.XLOOKUP(B21, Sites!G:G, Sites!D:D, "N/A")) -> 2 | F21: =IF(B21="","",_xlfn.XLOOKUP(B21, Sites!G:G, Sites!H:H, "N/A")) -> 0 | G21: =IF(B21="","",_xlfn.XLOOKUP(B21, Sites!G:G, Sites!I:I, "N/A")) | H21: 36 | I21: =H21*7 -> 252 | J21: 46302 | K21: =IF(C21="","",IF(J21="","N/A",+IF(A21=1,(+TODAY())-J21,"N/A"))) -> 8 | L21: 0.5 | P21: 0.5 | R21: =+$I21*L21 -> 126 | S21: =+$I21*M21 -> 0 | T21: =+$I21*N21 -> 0 | U21: =+$I21*O21 -> 0 | V21: =+$I21*P21 -> 126 | W21: =+$I21*Q21 -> 0 | X21: =SUM(R21:W21) -> 252 | Y21: =IF(C21="","",IF(L21+M21+N21+O21+P21+Q21=1,"OK","ERREUR")) -> OK | Z21: =IF(C21="","",IF(H21="","ERREUR","OK")) -> OK | AA21: =IF(D21="","",IF(J21="","ERREUR","OK")) -> OK | AD21: =+X21-I21 -> 0
A22: =+IF(H22>0,1,0) -> 1 | B22: BA mpaka dalette | C22: =IF(B22="","",_xlfn.XLOOKUP(B22, Sites!G:G, Sites!F:F, "N/A")) -> PNR-00021 | D22: =IF(B22="","",_xlfn.XLOOKUP(B22, Sites!G:G, Sites!E:E, "N/A")) -> Félix OVOURA | E22: =IF(B22="","",_xlfn.XLOOKUP(B22, Sites!G:G, Sites!D:D, "N/A")) -> 2 | F22: =IF(B22="","",_xlfn.XLOOKUP(B22, Sites!G:G, Sites!H:H, "N/A")) -> 0 | G22: =IF(B22="","",_xlfn.XLOOKUP(B22, Sites!G:G, Sites!I:I, "N/A")) | H22: 28 | I22: =H22*7 -> 196 | J22: 46295 | K22: =IF(C22="","",IF(J22="","N/A",+IF(A22=1,(+TODAY())-J22,"N/A"))) -> 15 | L22: 0.5 | Q22: 0.5 | R22: =+$I22*L22 -> 98 | S22: =+$I22*M22 -> 0 | T22: =+$I22*N22 -> 0 | U22: =+$I22*O22 -> 0 | V22: =+$I22*P22 -> 0 | W22: =+$I22*Q22 -> 98 | X22: =SUM(R22:W22) -> 196 | Y22: =IF(C22="","",IF(L22+M22+N22+O22+P22+Q22=1,"OK","ERREUR")) -> OK | Z22: =IF(C22="","",IF(H22="","ERREUR","OK")) -> OK | AA22: =IF(D22="","",IF(J22="","ERREUR","OK")) -> OK | AD22: =+X22-I22 -> 0
A23: =+IF(H23>0,1,0) -> 1 | B23: BA mpaka marché LEWILIS | C23: =IF(B23="","",_xlfn.XLOOKUP(B23, Sites!G:G, Sites!F:F, "N/A")) -> PNR-00022 | D23: =IF(B23="","",_xlfn.XLOOKUP(B23, Sites!G:G, Sites!E:E, "N/A")) -> Félix OVOURA | E23: =IF(B23="","",_xlfn.XLOOKUP(B23, Sites!G:G, Sites!D:D, "N/A")) -> 2 | F23: =IF(B23="","",_xlfn.XLOOKUP(B23, Sites!G:G, Sites!H:H, "N/A")) -> 0 | G23: =IF(B23="","",_xlfn.XLOOKUP(B23, Sites!G:G, Sites!I:I, "N/A")) | H23: 22 | I23: =H23*7 -> 154 | J23: 46295 | K23: =IF(C23="","",IF(J23="","N/A",+IF(A23=1,(+TODAY())-J23,"N/A"))) -> 15 | L23: 0.5 | P23: 0.5 | R23: =+$I23*L23 -> 77 | S23: =+$I23*M23 -> 0 | T23: =+$I23*N23 -> 0 | U23: =+$I23*O23 -> 0 | V23: =+$I23*P23 -> 77 | W23: =+$I23*Q23 -> 0 | X23: =SUM(R23:W23) -> 154 | Y23: =IF(C23="","",IF(L23+M23+N23+O23+P23+Q23=1,"OK","ERREUR")) -> OK | Z23: =IF(C23="","",IF(H23="","ERREUR","OK")) -> OK | AA23: =IF(D23="","",IF(J23="","ERREUR","OK")) -> OK | AD23: =+X23-I23 -> 0
A24: =+IF(H24>0,1,0) -> 1 | B24: BA mvoumvou immigration | C24: =IF(B24="","",_xlfn.XLOOKUP(B24, Sites!G:G, Sites!F:F, "N/A")) -> PNR-00023 | D24: =IF(B24="","",_xlfn.XLOOKUP(B24, Sites!G:G, Sites!E:E, "N/A")) -> Armel SOKAMBA | E24: =IF(B24="","",_xlfn.XLOOKUP(B24, Sites!G:G, Sites!D:D, "N/A")) -> 3 | F24: =IF(B24="","",_xlfn.XLOOKUP(B24, Sites!G:G, Sites!H:H, "N/A")) -> 0 | G24: =IF(B24="","",_xlfn.XLOOKUP(B24, Sites!G:G, Sites!I:I, "N/A")) | H24: 24 | I24: =H24*7 -> 168 | J24: 46294 | K24: =IF(C24="","",IF(J24="","N/A",+IF(A24=1,(+TODAY())-J24,"N/A"))) -> 16 | L24: 0.5 | P24: 0.5 | R24: =+$I24*L24 -> 84 | S24: =+$I24*M24 -> 0 | T24: =+$I24*N24 -> 0 | U24: =+$I24*O24 -> 0 | V24: =+$I24*P24 -> 84 | W24: =+$I24*Q24 -> 0 | X24: =SUM(R24:W24) -> 168 | Y24: =IF(C24="","",IF(L24+M24+N24+O24+P24+Q24=1,"OK","ERREUR")) -> OK | Z24: =IF(C24="","",IF(H24="","ERREUR","OK")) -> OK | AA24: =IF(D24="","",IF(J24="","ERREUR","OK")) -> OK | AD24: =+X24-I24 -> 0
A25: =+IF(H25>0,1,0) -> 1 | B25: BA ngoyo | C25: =IF(B25="","",_xlfn.XLOOKUP(B25, Sites!G:G, Sites!F:F, "N/A")) -> PNR-00024 | D25: =IF(B25="","",_xlfn.XLOOKUP(B25, Sites!G:G, Sites!E:E, "N/A")) -> Armel SOKAMBA | E25: =IF(B25="","",_xlfn.XLOOKUP(B25, Sites!G:G, Sites!D:D, "N/A")) -> 3 | F25: =IF(B25="","",_xlfn.XLOOKUP(B25, Sites!G:G, Sites!H:H, "N/A")) -> 0 | G25: =IF(B25="","",_xlfn.XLOOKUP(B25, Sites!G:G, Sites!I:I, "N/A")) | H25: 22 | I25: =H25*7 -> 154 | J25: 46301 | K25: =IF(C25="","",IF(J25="","N/A",+IF(A25=1,(+TODAY())-J25,"N/A"))) -> 9 | L25: 0.5 | P25: 0.5 | R25: =+$I25*L25 -> 77 | S25: =+$I25*M25 -> 0 | T25: =+$I25*N25 -> 0 | U25: =+$I25*O25 -> 0 | V25: =+$I25*P25 -> 77 | W25: =+$I25*Q25 -> 0 | X25: =SUM(R25:W25) -> 154 | Y25: =IF(C25="","",IF(L25+M25+N25+O25+P25+Q25=1,"OK","ERREUR")) -> OK | Z25: =IF(C25="","",IF(H25="","ERREUR","OK")) -> OK | AA25: =IF(D25="","",IF(J25="","ERREUR","OK")) -> OK | AD25: =+X25-I25 -> 0
A26: =+IF(H26>0,1,0) -> 0 | B26: BA thyster mongo mpoukou | C26: =IF(B26="","",_xlfn.XLOOKUP(B26, Sites!G:G, Sites!F:F, "N/A")) -> PNR-00025 | D26: =IF(B26="","",_xlfn.XLOOKUP(B26, Sites!G:G, Sites!E:E, "N/A")) -> Félix OVOURA | E26: =IF(B26="","",_xlfn.XLOOKUP(B26, Sites!G:G, Sites!D:D, "N/A")) -> 2 | F26: =IF(B26="","",_xlfn.XLOOKUP(B26, Sites!G:G, Sites!H:H, "N/A")) -> 0 | G26: =IF(B26="","",_xlfn.XLOOKUP(B26, Sites!G:G, Sites!I:I, "N/A")) | H26: 0 | I26: =H26*7 -> 0 | J26: 46301 | K26: =IF(C26="","",IF(J26="","N/A",+IF(A26=1,(+TODAY())-J26,"N/A"))) -> N/A | L26: 1 | R26: =+$I26*L26 -> 0 | S26: =+$I26*M26 -> 0 | T26: =+$I26*N26 -> 0 | U26: =+$I26*O26 -> 0 | V26: =+$I26*P26 -> 0 | W26: =+$I26*Q26 -> 0 | X26: =SUM(R26:W26) -> 0 | Y26: =IF(C26="","",IF(L26+M26+N26+O26+P26+Q26=1,"OK","ERREUR")) -> OK | Z26: =IF(C26="","",IF(H26="","ERREUR","OK")) -> OK | AA26: =IF(D26="","",IF(J26="","ERREUR","OK")) -> OK | AD26: =+X26-I26 -> 0
A27: =+IF(H27>0,1,0) -> 1 | B27: BABA.M EX MAKKAH Vindoulou station | C27: =IF(B27="","",_xlfn.XLOOKUP(B27, Sites!G:G, Sites!F:F, "N/A")) -> PNR-00026 | D27: =IF(B27="","",_xlfn.XLOOKUP(B27, Sites!G:G, Sites!E:E, "N/A")) -> 0 | E27: =IF(B27="","",_xlfn.XLOOKUP(B27, Sites!G:G, Sites!D:D, "N/A")) -> 0 | F27: =IF(B27="","",_xlfn.XLOOKUP(B27, Sites!G:G, Sites!H:H, "N/A")) -> 0 | G27: =IF(B27="","",_xlfn.XLOOKUP(B27, Sites!G:G, Sites!I:I, "N/A")) | H27: 26 | I27: =H27*7 -> 182 | J27: 46301 | K27: =IF(C27="","",IF(J27="","N/A",+IF(A27=1,(+TODAY())-J27,"N/A"))) -> 9 | L27: 0.5 | O27: 0.5 | R27: =+$I27*L27 -> 91 | S27: =+$I27*M27 -> 0 | T27: =+$I27*N27 -> 0 | U27: =+$I27*O27 -> 91 | V27: =+$I27*P27 -> 0 | W27: =+$I27*Q27 -> 0 | X27: =SUM(R27:W27) -> 182 | Y27: =IF(C27="","",IF(L27+M27+N27+O27+P27+Q27=1,"OK","ERREUR")) -> OK | Z27: =IF(C27="","",IF(H27="","ERREUR","OK")) -> OK | AA27: =IF(D27="","",IF(J27="","ERREUR","OK")) -> OK | AD27: =+X27-I27 -> 0
A28: =+IF(H28>0,1,0) -> 1 | B28: BABA.M EX MAKKAH marché nkounikou1 | C28: =IF(B28="","",_xlfn.XLOOKUP(B28, Sites!G:G, Sites!F:F, "N/A")) -> PNR-00027 | D28: =IF(B28="","",_xlfn.XLOOKUP(B28, Sites!G:G, Sites!E:E, "N/A")) -> 0 | E28: =IF(B28="","",_xlfn.XLOOKUP(B28, Sites!G:G, Sites!D:D, "N/A")) -> 0 | F28: =IF(B28="","",_xlfn.XLOOKUP(B28, Sites!G:G, Sites!H:H, "N/A")) -> 0 | G28: =IF(B28="","",_xlfn.XLOOKUP(B28, Sites!G:G, Sites!I:I, "N/A")) | H28: 26 | I28: =H28*7 -> 182 | J28: 46295 | K28: =IF(C28="","",IF(J28="","N/A",+IF(A28=1,(+TODAY())-J28,"N/A"))) -> 15 | L28: 0.75 | Q28: 0.25 | R28: =+$I28*L28 -> 136.5 | S28: =+$I28*M28 -> 0 | T28: =+$I28*N28 -> 0 | U28: =+$I28*O28 -> 0 | V28: =+$I28*P28 -> 0 | W28: =+$I28*Q28 -> 45.5 | X28: =SUM(R28:W28) -> 182 | Y28: =IF(C28="","",IF(L28+M28+N28+O28+P28+Q28=1,"OK","ERREUR")) -> OK | Z28: =IF(C28="","",IF(H28="","ERREUR","OK")) -> OK | AA28: =IF(D28="","",IF(J28="","ERREUR","OK")) -> OK | AD28: =+X28-I28 -> 0
A29: =+IF(H29>0,1,0) -> 1 | B29: BAGUETTE D'EXCELLENCE nkouinkou | C29: =IF(B29="","",_xlfn.XLOOKUP(B29, Sites!G:G, Sites!F:F, "N/A")) -> PNR-00028 | D29: =IF(B29="","",_xlfn.XLOOKUP(B29, Sites!G:G, Sites!E:E, "N/A")) -> Armel SOKAMBA | E29: =IF(B29="","",_xlfn.XLOOKUP(B29, Sites!G:G, Sites!D:D, "N/A")) -> 3 | F29: =IF(B29="","",_xlfn.XLOOKUP(B29, Sites!G:G, Sites!H:H, "N/A")) -> 0 | G29: =IF(B29="","",_xlfn.XLOOKUP(B29, Sites!G:G, Sites!I:I, "N/A")) | H29: 28 | I29: =H29*7 -> 196 | J29: 46302 | K29: =IF(C29="","",IF(J29="","N/A",+IF(A29=1,(+TODAY())-J29,"N/A"))) -> 8 | L29: 0.5 | P29: 0.5 | R29: =+$I29*L29 -> 98 | S29: =+$I29*M29 -> 0 | T29: =+$I29*N29 -> 0 | U29: =+$I29*O29 -> 0 | V29: =+$I29*P29 -> 98 | W29: =+$I29*Q29 -> 0 | X29: =SUM(R29:W29) -> 196 | Y29: =IF(C29="","",IF(L29+M29+N29+O29+P29+Q29=1,"OK","ERREUR")) -> OK | Z29: =IF(C29="","",IF(H29="","ERREUR","OK")) -> OK | AA29: =IF(D29="","",IF(J29="","ERREUR","OK")) -> OK | AD29: =+X29-I29 -> 0
A30: =+IF(H30>0,1,0) -> 1 | B30: BAH ex BMM paka maison blanche | C30: =IF(B30="","",_xlfn.XLOOKUP(B30, Sites!G:G, Sites!F:F, "N/A")) -> PNR-00029 | D30: =IF(B30="","",_xlfn.XLOOKUP(B30, Sites!G:G, Sites!E:E, "N/A")) -> Armel SOKAMBA | E30: =IF(B30="","",_xlfn.XLOOKUP(B30, Sites!G:G, Sites!D:D, "N/A")) -> 3 | F30: =IF(B30="","",_xlfn.XLOOKUP(B30, Sites!G:G, Sites!H:H, "N/A")) -> 0 | G30: =IF(B30="","",_xlfn.XLOOKUP(B30, Sites!G:G, Sites!I:I, "N/A")) | H30: 8 | I30: =H30*7 -> 56 | J30: 46302 | K30: =IF(C30="","",IF(J30="","N/A",+IF(A30=1,(+TODAY())-J30,"N/A"))) -> 8 | L30: 0.5 | P30: 0.5 | R30: =+$I30*L30 -> 28 | S30: =+$I30*M30 -> 0 | T30: =+$I30*N30 -> 0 | U30: =+$I30*O30 -> 0 | V30: =+$I30*P30 -> 28 | W30: =+$I30*Q30 -> 0 | X30: =SUM(R30:W30) -> 56 | Y30: =IF(C30="","",IF(L30+M30+N30+O30+P30+Q30=1,"OK","ERREUR")) -> OK | Z30: =IF(C30="","",IF(H30="","ERREUR","OK")) -> OK | AA30: =IF(D30="","",IF(J30="","ERREUR","OK")) -> OK | AD30: =+X30-I30 -> 0
A31: =+IF(H31>0,1,0) -> 1 | B31: BAH ex HACEN fond tié-tié | C31: =IF(B31="","",_xlfn.XLOOKUP(B31, Sites!G:G, Sites!F:F, "N/A")) -> PNR-00030 | D31: =IF(B31="","",_xlfn.XLOOKUP(B31, Sites!G:G, Sites!E:E, "N/A")) -> Armel SOKAMBA | E31: =IF(B31="","",_xlfn.XLOOKUP(B31, Sites!G:G, Sites!D:D, "N/A")) -> 3 | F31: =IF(B31="","",_xlfn.XLOOKUP(B31, Sites!G:G, Sites!H:H, "N/A")) -> 0 | G31: =IF(B31="","",_xlfn.XLOOKUP(B31, Sites!G:G, Sites!I:I, "N/A")) | H31: 20 | I31: =H31*7 -> 140 | J31: 46301 | K31: =IF(C31="","",IF(J31="","N/A",+IF(A31=1,(+TODAY())-J31,"N/A"))) -> 9 | L31: 0.5 | P31: 0.5 | R31: =+$I31*L31 -> 70 | S31: =+$I31*M31 -> 0 | T31: =+$I31*N31 -> 0 | U31: =+$I31*O31 -> 0 | V31: =+$I31*P31 -> 70 | W31: =+$I31*Q31 -> 0 | X31: =SUM(R31:W31) -> 140 | Y31: =IF(C31="","",IF(L31+M31+N31+O31+P31+Q31=1,"OK","ERREUR")) -> OK | Z31: =IF(C31="","",IF(H31="","ERREUR","OK")) -> OK | AA31: =IF(D31="","",IF(J31="","ERREUR","OK")) -> OK | AD31: =+X31-I31 -> 0
A32: =+IF(H32>0,1,0) -> 1 | B32: BAH ex SASI tié tié massola | C32: =IF(B32="","",_xlfn.XLOOKUP(B32, Sites!G:G, Sites!F:F, "N/A")) -> PNR-00031 | D32: =IF(B32="","",_xlfn.XLOOKUP(B32, Sites!G:G, Sites!E:E, "N/A")) -> Félix OVOURA | E32: =IF(B32="","",_xlfn.XLOOKUP(B32, Sites!G:G, Sites!D:D, "N/A")) -> 2 | F32: =IF(B32="","",_xlfn.XLOOKUP(B32, Sites!G:G, Sites!H:H, "N/A")) -> 0 | G32: =IF(B32="","",_xlfn.XLOOKUP(B32, Sites!G:G, Sites!I:I, "N/A")) | H32: 20 | I32: =H32*7 -> 140 | J32: 46293 | K32: =IF(C32="","",IF(J32="","N/A",+IF(A32=1,(+TODAY())-J32,"N/A"))) -> 17 | L32: 0.5 | O32: 0.5 | R32: =+$I32*L32 -> 70 | S32: =+$I32*M32 -> 0 | T32: =+$I32*N32 -> 0 | U32: =+$I32*O32 -> 70 | V32: =+$I32*P32 -> 0 | W32: =+$I32*Q32 -> 0 | X32: =SUM(R32:W32) -> 140 | Y32: =IF(C32="","",IF(L32+M32+N32+O32+P32+Q32=1,"OK","ERREUR")) -> OK | Z32: =IF(C32="","",IF(H32="","ERREUR","OK")) -> OK | AA32: =IF(D32="","",IF(J32="","ERREUR","OK")) -> OK | AD32: =+X32-I32 -> 0
A33: =+IF(H33>0,1,0) -> 1 | B33: BENI EX GORGOL 2 mpaka dalette | C33: =IF(B33="","",_xlfn.XLOOKUP(B33, Sites!G:G, Sites!F:F, "N/A")) -> PNR-00032 | D33: =IF(B33="","",_xlfn.XLOOKUP(B33, Sites!G:G, Sites!E:E, "N/A")) -> Armel SOKAMBA | E33: =IF(B33="","",_xlfn.XLOOKUP(B33, Sites!G:G, Sites!D:D, "N/A")) -> 3 | F33: =IF(B33="","",_xlfn.XLOOKUP(B33, Sites!G:G, Sites!H:H, "N/A")) -> 0 | G33: =IF(B33="","",_xlfn.XLOOKUP(B33, Sites!G:G, Sites!I:I, "N/A")) | H33: 40 | I33: =H33*7 -> 280 | J33: 46300 | K33: =IF(C33="","",IF(J33="","N/A",+IF(A33=1,(+TODAY())-J33,"N/A"))) -> 10 | L33: 0.5 | O33: 0.5 | R33: =+$I33*L33 -> 140 | S33: =+$I33*M33 -> 0 | T33: =+$I33*N33 -> 0 | U33: =+$I33*O33 -> 140 | V33: =+$I33*P33 -> 0 | W33: =+$I33*Q33 -> 0 | X33: =SUM(R33:W33) -> 280 | Y33: =IF(C33="","",IF(L33+M33+N33+O33+P33+Q33=1,"OK","ERREUR")) -> OK | Z33: =IF(C33="","",IF(H33="","ERREUR","OK")) -> OK | AA33: =IF(D33="","",IF(J33="","ERREUR","OK")) -> OK | AD33: =+X33-I33 -> 0
A34: =+IF(H34>0,1,0) -> 1 | B34: BICLE | C34: =IF(B34="","",_xlfn.XLOOKUP(B34, Sites!G:G, Sites!F:F, "N/A")) -> PNR-00033 | D34: =IF(B34="","",_xlfn.XLOOKUP(B34, Sites!G:G, Sites!E:E, "N/A")) -> Alexis MABOUNDA | E34: =IF(B34="","",_xlfn.XLOOKUP(B34, Sites!G:G, Sites!D:D, "N/A")) -> 1 | F34: =IF(B34="","",_xlfn.XLOOKUP(B34, Sites!G:G, Sites!H:H, "N/A")) -> 0 | G34: =IF(B34="","",_xlfn.XLOOKUP(B34, Sites!G:G, Sites!I:I, "N/A")) | H34: 36 | I34: =H34*7 -> 252 | J34: 46300 | K34: =IF(C34="","",IF(J34="","N/A",+IF(A34=1,(+TODAY())-J34,"N/A"))) -> 10 | L34: 0.5 | O34: 0.5 | R34: =+$I34*L34 -> 126 | S34: =+$I34*M34 -> 0 | T34: =+$I34*N34 -> 0 | U34: =+$I34*O34 -> 126 | V34: =+$I34*P34 -> 0 | W34: =+$I34*Q34 -> 0 | X34: =SUM(R34:W34) -> 252 | Y34: =IF(C34="","",IF(L34+M34+N34+O34+P34+Q34=1,"OK","ERREUR")) -> OK | Z34: =IF(C34="","",IF(H34="","ERREUR","OK")) -> OK | AA34: =IF(D34="","",IF(J34="","ERREUR","OK")) -> OK | AD34: =+X34-I34 -> 0
A35: =+IF(H35>0,1,0) -> 1 | B35: BM EX ELKER WENVIR vindoulou arrêt sapin | C35: =IF(B35="","",_xlfn.XLOOKUP(B35, Sites!G:G, Sites!F:F, "N/A")) -> PNR-00034 | D35: =IF(B35="","",_xlfn.XLOOKUP(B35, Sites!G:G, Sites!E:E, "N/A")) -> Félix OVOURA | E35: =IF(B35="","",_xlfn.XLOOKUP(B35, Sites!G:G, Sites!D:D, "N/A")) -> 2 | F35: =IF(B35="","",_xlfn.XLOOKUP(B35, Sites!G:G, Sites!H:H, "N/A")) -> 0 | G35: =IF(B35="","",_xlfn.XLOOKUP(B35, Sites!G:G, Sites!I:I, "N/A")) | H35: 22 | I35: =H35*7 -> 154 | J35: 46293 | K35: =IF(C35="","",IF(J35="","N/A",+IF(A35=1,(+TODAY())-J35,"N/A"))) -> 17 | L35: 0.5 | P35: 0.5 | R35: =+$I35*L35 -> 77 | S35: =+$I35*M35 -> 0 | T35: =+$I35*N35 -> 0 | U35: =+$I35*O35 -> 0 | V35: =+$I35*P35 -> 77 | W35: =+$I35*Q35 -> 0 | X35: =SUM(R35:W35) -> 154 | Y35: =IF(C35="","",IF(L35+M35+N35+O35+P35+Q35=1,"OK","ERREUR")) -> OK | Z35: =IF(C35="","",IF(H35="","ERREUR","OK")) -> OK | AA35: =IF(D35="","",IF(J35="","ERREUR","OK")) -> OK | AD35: =+X35-I35 -> 0
A36: =+IF(H36>0,1,0) -> 1 | B36: BON CHOIX FOND TIE TIE | C36: =IF(B36="","",_xlfn.XLOOKUP(B36, Sites!G:G, Sites!F:F, "N/A")) -> PNR-00035 | D36: =IF(B36="","",_xlfn.XLOOKUP(B36, Sites!G:G, Sites!E:E, "N/A")) -> 0 | E36: =IF(B36="","",_xlfn.XLOOKUP(B36, Sites!G:G, Sites!D:D, "N/A")) -> 0 | F36: =IF(B36="","",_xlfn.XLOOKUP(B36, Sites!G:G, Sites!H:H, "N/A")) -> 0 | G36: =IF(B36="","",_xlfn.XLOOKUP(B36, Sites!G:G, Sites!I:I, "N/A")) | H36: 6 | I36: =H36*7 -> 42 | J36: 46300 | K36: =IF(C36="","",IF(J36="","N/A",+IF(A36=1,(+TODAY())-J36,"N/A"))) -> 10 | L36: 1 | R36: =+$I36*L36 -> 42 | S36: =+$I36*M36 -> 0 | T36: =+$I36*N36 -> 0 | U36: =+$I36*O36 -> 0 | V36: =+$I36*P36 -> 0 | W36: =+$I36*Q36 -> 0 | X36: =SUM(R36:W36) -> 42 | Y36: =IF(C36="","",IF(L36+M36+N36+O36+P36+Q36=1,"OK","ERREUR")) -> OK | Z36: =IF(C36="","",IF(H36="","ERREUR","OK")) -> OK | AA36: =IF(D36="","",IF(J36="","ERREUR","OK")) -> OK | AD36: =+X36-I36 -> 0
A37: =+IF(H37>0,1,0) -> 1 | B37: BON CHOIX ngoyo | C37: =IF(B37="","",_xlfn.XLOOKUP(B37, Sites!G:G, Sites!F:F, "N/A")) -> PNR-00036 | D37: =IF(B37="","",_xlfn.XLOOKUP(B37, Sites!G:G, Sites!E:E, "N/A")) -> Alexis MABOUNDA | E37: =IF(B37="","",_xlfn.XLOOKUP(B37, Sites!G:G, Sites!D:D, "N/A")) -> 1 | F37: =IF(B37="","",_xlfn.XLOOKUP(B37, Sites!G:G, Sites!H:H, "N/A")) -> 0 | G37: =IF(B37="","",_xlfn.XLOOKUP(B37, Sites!G:G, Sites!I:I, "N/A")) | H37: 22 | I37: =H37*7 -> 154 | J37: 46300 | K37: =IF(C37="","",IF(J37="","N/A",+IF(A37=1,(+TODAY())-J37,"N/A"))) -> 10 | O37: 0.5 | Q37: 0.5 | R37: =+$I37*L37 -> 0 | S37: =+$I37*M37 -> 0 | T37: =+$I37*N37 -> 0 | U37: =+$I37*O37 -> 77 | V37: =+$I37*P37 -> 0 | W37: =+$I37*Q37 -> 77 | X37: =SUM(R37:W37) -> 154 | Y37: =IF(C37="","",IF(L37+M37+N37+O37+P37+Q37=1,"OK","ERREUR")) -> OK | Z37: =IF(C37="","",IF(H37="","ERREUR","OK")) -> OK | AA37: =IF(D37="","",IF(J37="","ERREUR","OK")) -> OK | AD37: =+X37-I37 -> 0
A38: =+IF(H38>0,1,0) -> 1 | B38: BON CHOIX ex GAZA 2 km4 | C38: =IF(B38="","",_xlfn.XLOOKUP(B38, Sites!G:G, Sites!F:F, "N/A")) -> PNR-00037 | D38: =IF(B38="","",_xlfn.XLOOKUP(B38, Sites!G:G, Sites!E:E, "N/A")) -> Alexis MABOUNDA | E38: =IF(B38="","",_xlfn.XLOOKUP(B38, Sites!G:G, Sites!D:D, "N/A")) -> 1 | F38: =IF(B38="","",_xlfn.XLOOKUP(B38, Sites!G:G, Sites!H:H, "N/A")) -> 0 | G38: =IF(B38="","",_xlfn.XLOOKUP(B38, Sites!G:G, Sites!I:I, "N/A")) | H38: 10 | I38: =H38*7 -> 70 | J38: 46301 | K38: =IF(C38="","",IF(J38="","N/A",+IF(A38=1,(+TODAY())-J38,"N/A"))) -> 9 | L38: 1 | R38: =+$I38*L38 -> 70 | S38: =+$I38*M38 -> 0 | T38: =+$I38*N38 -> 0 | U38: =+$I38*O38 -> 0 | V38: =+$I38*P38 -> 0 | W38: =+$I38*Q38 -> 0 | X38: =SUM(R38:W38) -> 70 | Y38: =IF(C38="","",IF(L38+M38+N38+O38+P38+Q38=1,"OK","ERREUR")) -> OK | Z38: =IF(C38="","",IF(H38="","ERREUR","OK")) -> OK | AA38: =IF(D38="","",IF(J38="","ERREUR","OK")) -> OK | AD38: =+X38-I38 -> 0
A39: =+IF(H39>0,1,0) -> 1 | B39: BON CHOIX tié tié masola | C39: =IF(B39="","",_xlfn.XLOOKUP(B39, Sites!G:G, Sites!F:F, "N/A")) -> PNR-00038 | D39: =IF(B39="","",_xlfn.XLOOKUP(B39, Sites!G:G, Sites!E:E, "N/A")) -> 0 | E39: =IF(B39="","",_xlfn.XLOOKUP(B39, Sites!G:G, Sites!D:D, "N/A")) -> 0 | F39: =IF(B39="","",_xlfn.XLOOKUP(B39, Sites!G:G, Sites!H:H, "N/A")) -> 0 | G39: =IF(B39="","",_xlfn.XLOOKUP(B39, Sites!G:G, Sites!I:I, "N/A")) | H39: 5 | I39: =H39*7 -> 35 | J39: 46296 | K39: =IF(C39="","",IF(J39="","N/A",+IF(A39=1,(+TODAY())-J39,"N/A"))) -> 14 | L39: 1 | R39: =+$I39*L39 -> 35 | S39: =+$I39*M39 -> 0 | T39: =+$I39*N39 -> 0 | U39: =+$I39*O39 -> 0 | V39: =+$I39*P39 -> 0 | W39: =+$I39*Q39 -> 0 | X39: =SUM(R39:W39) -> 35 | Y39: =IF(C39="","",IF(L39+M39+N39+O39+P39+Q39=1,"OK","ERREUR")) -> OK | Z39: =IF(C39="","",IF(H39="","ERREUR","OK")) -> OK | AA39: =IF(D39="","",IF(J39="","ERREUR","OK")) -> OK | AD39: =+X39-I39 -> 0
A40: =+IF(H40>0,1,0) -> 1 | B40: BOPAIN Tié-tié Congo Malembé | C40: =IF(B40="","",_xlfn.XLOOKUP(B40, Sites!G:G, Sites!F:F, "N/A")) -> PNR-00039 | D40: =IF(B40="","",_xlfn.XLOOKUP(B40, Sites!G:G, Sites!E:E, "N/A")) -> 0 | E40: =IF(B40="","",_xlfn.XLOOKUP(B40, Sites!G:G, Sites!D:D, "N/A")) -> 0 | F40: =IF(B40="","",_xlfn.XLOOKUP(B40, Sites!G:G, Sites!H:H, "N/A")) -> 0 | G40: =IF(B40="","",_xlfn.XLOOKUP(B40, Sites!G:G, Sites!I:I, "N/A")) | H40: 5 | I40: =H40*7 -> 35 | J40: 46294 | K40: =IF(C40="","",IF(J40="","N/A",+IF(A40=1,(+TODAY())-J40,"N/A"))) -> 16 | O40: 1 | R40: =+$I40*L40 -> 0 | S40: =+$I40*M40 -> 0 | T40: =+$I40*N40 -> 0 | U40: =+$I40*O40 -> 35 | V40: =+$I40*P40 -> 0 | W40: =+$I40*Q40 -> 0 | X40: =SUM(R40:W40) -> 35 | Y40: =IF(C40="","",IF(L40+M40+N40+O40+P40+Q40=1,"OK","ERREUR")) -> OK | Z40: =IF(C40="","",IF(H40="","ERREUR","OK")) -> OK | AA40: =IF(D40="","",IF(J40="","ERREUR","OK")) -> OK | AD40: =+X40-I40 -> 0
A41: =+IF(H41>0,1,0) -> 1 | B41: BOUDI mvou-mvou | C41: =IF(B41="","",_xlfn.XLOOKUP(B41, Sites!G:G, Sites!F:F, "N/A")) -> PNR-00040 | D41: =IF(B41="","",_xlfn.XLOOKUP(B41, Sites!G:G, Sites!E:E, "N/A")) -> Armel SOKAMBA | E41: =IF(B41="","",_xlfn.XLOOKUP(B41, Sites!G:G, Sites!D:D, "N/A")) -> 3 | F41: =IF(B41="","",_xlfn.XLOOKUP(B41, Sites!G:G, Sites!H:H, "N/A")) -> 0 | G41: =IF(B41="","",_xlfn.XLOOKUP(B41, Sites!G:G, Sites!I:I, "N/A")) | H41: 13 | I41: =H41*7 -> 91 | J41: 46302 | K41: =IF(C41="","",IF(J41="","N/A",+IF(A41=1,(+TODAY())-J41,"N/A"))) -> 8 | Q41: 1 | R41: =+$I41*L41 -> 0 | S41: =+$I41*M41 -> 0 | T41: =+$I41*N41 -> 0 | U41: =+$I41*O41 -> 0 | V41: =+$I41*P41 -> 0 | W41: =+$I41*Q41 -> 91 | X41: =SUM(R41:W41) -> 91 | Y41: =IF(C41="","",IF(L41+M41+N41+O41+P41+Q41=1,"OK","ERREUR")) -> OK | Z41: =IF(C41="","",IF(H41="","ERREUR","OK")) -> OK | AA41: =IF(D41="","",IF(J41="","ERREUR","OK")) -> OK | AD41: =+X41-I41 -> 0
A42: =+IF(H42>0,1,0) -> 1 | B42: BOULANGERIE 3D | C42: =IF(B42="","",_xlfn.XLOOKUP(B42, Sites!G:G, Sites!F:F, "N/A")) -> PNR-00041 | D42: =IF(B42="","",_xlfn.XLOOKUP(B42, Sites!G:G, Sites!E:E, "N/A")) -> 0 | E42: =IF(B42="","",_xlfn.XLOOKUP(B42, Sites!G:G, Sites!D:D, "N/A")) -> 0 | F42: =IF(B42="","",_xlfn.XLOOKUP(B42, Sites!G:G, Sites!H:H, "N/A")) -> 0 | G42: =IF(B42="","",_xlfn.XLOOKUP(B42, Sites!G:G, Sites!I:I, "N/A")) | H42: 58 | I42: =H42*7 -> 406 | J42: 46301 | K42: =IF(C42="","",IF(J42="","N/A",+IF(A42=1,(+TODAY())-J42,"N/A"))) -> 9 | L42: 0.25 | M42: 0.25 | O42: 0.25 | P42: 0.25 | R42: =+$I42*L42 -> 101.5 | S42: =+$I42*M42 -> 101.5 | T42: =+$I42*N42 -> 0 | U42: =+$I42*O42 -> 101.5 | V42: =+$I42*P42 -> 101.5 | W42: =+$I42*Q42 -> 0 | X42: =SUM(R42:W42) -> 406 | Y42: =IF(C42="","",IF(L42+M42+N42+O42+P42+Q42=1,"OK","ERREUR")) -> OK | Z42: =IF(C42="","",IF(H42="","ERREUR","OK")) -> OK | AA42: =IF(D42="","",IF(J42="","ERREUR","OK")) -> OK | AD42: =+X42-I42 -> 0
A43: =+IF(H43>0,1,0) -> 1 | B43: BOULANGERIE DE LA CITE | C43: =IF(B43="","",_xlfn.XLOOKUP(B43, Sites!G:G, Sites!F:F, "N/A")) -> PNR-00042 | D43: =IF(B43="","",_xlfn.XLOOKUP(B43, Sites!G:G, Sites!E:E, "N/A")) -> 0 | E43: =IF(B43="","",_xlfn.XLOOKUP(B43, Sites!G:G, Sites!D:D, "N/A")) -> 0 | F43: =IF(B43="","",_xlfn.XLOOKUP(B43, Sites!G:G, Sites!H:H, "N/A")) -> 0 | G43: =IF(B43="","",_xlfn.XLOOKUP(B43, Sites!G:G, Sites!I:I, "N/A")) | H43: 46 | I43: =H43*7 -> 322 | J43: 46301 | K43: =IF(C43="","",IF(J43="","N/A",+IF(A43=1,(+TODAY())-J43,"N/A"))) -> 9 | L43: 0.25 | M43: 0.25 | O43: 0.25 | Q43: 0.25 | R43: =+$I43*L43 -> 80.5 | S43: =+$I43*M43 -> 80.5 | T43: =+$I43*N43 -> 0 | U43: =+$I43*O43 -> 80.5 | V43: =+$I43*P43 -> 0 | W43: =+$I43*Q43 -> 80.5 | X43: =SUM(R43:W43) -> 322 | Y43: =IF(C43="","",IF(L43+M43+N43+O43+P43+Q43=1,"OK","ERREUR")) -> OK | Z43: =IF(C43="","",IF(H43="","ERREUR","OK")) -> OK | AA43: =IF(D43="","",IF(J43="","ERREUR","OK")) -> OK | AD43: =+X43-I43 -> 0
A44: =+IF(H44>0,1,0) -> 1 | B44: BOULANGERIE H-J | C44: =IF(B44="","",_xlfn.XLOOKUP(B44, Sites!G:G, Sites!F:F, "N/A")) -> PNR-00043 | D44: =IF(B44="","",_xlfn.XLOOKUP(B44, Sites!G:G, Sites!E:E, "N/A")) -> 0 | E44: =IF(B44="","",_xlfn.XLOOKUP(B44, Sites!G:G, Sites!D:D, "N/A")) -> 0 | F44: =IF(B44="","",_xlfn.XLOOKUP(B44, Sites!G:G, Sites!H:H, "N/A")) -> 0 | G44: =IF(B44="","",_xlfn.XLOOKUP(B44, Sites!G:G, Sites!I:I, "N/A")) | H44: 42 | I44: =H44*7 -> 294 | J44: 46294 | K44: =IF(C44="","",IF(J44="","N/A",+IF(A44=1,(+TODAY())-J44,"N/A"))) -> 16 | L44: 0.5 | Q44: 0.5 | R44: =+$I44*L44 -> 147 | S44: =+$I44*M44 -> 0 | T44: =+$I44*N44 -> 0 | U44: =+$I44*O44 -> 0 | V44: =+$I44*P44 -> 0 | W44: =+$I44*Q44 -> 147 | X44: =SUM(R44:W44) -> 294 | Y44: =IF(C44="","",IF(L44+M44+N44+O44+P44+Q44=1,"OK","ERREUR")) -> OK | Z44: =IF(C44="","",IF(H44="","ERREUR","OK")) -> OK | AA44: =IF(D44="","",IF(J44="","ERREUR","OK")) -> OK | AD44: =+X44-I44 -> 0
A45: =+IF(H45>0,1,0) -> 1 | B45: BOULANGERIE KONATE | C45: =IF(B45="","",_xlfn.XLOOKUP(B45, Sites!G:G, Sites!F:F, "N/A")) -> PNR-00044 | D45: =IF(B45="","",_xlfn.XLOOKUP(B45, Sites!G:G, Sites!E:E, "N/A")) -> 0 | E45: =IF(B45="","",_xlfn.XLOOKUP(B45, Sites!G:G, Sites!D:D, "N/A")) -> 0 | F45: =IF(B45="","",_xlfn.XLOOKUP(B45, Sites!G:G, Sites!H:H, "N/A")) -> 0 | G45: =IF(B45="","",_xlfn.XLOOKUP(B45, Sites!G:G, Sites!I:I, "N/A")) | H45: 20 | I45: =H45*7 -> 140 | J45: 46295 | K45: =IF(C45="","",IF(J45="","N/A",+IF(A45=1,(+TODAY())-J45,"N/A"))) -> 15 | O45: 0.5 | Q45: 0.5 | R45: =+$I45*L45 -> 0 | S45: =+$I45*M45 -> 0 | T45: =+$I45*N45 -> 0 | U45: =+$I45*O45 -> 70 | V45: =+$I45*P45 -> 0 | W45: =+$I45*Q45 -> 70 | X45: =SUM(R45:W45) -> 140 | Y45: =IF(C45="","",IF(L45+M45+N45+O45+P45+Q45=1,"OK","ERREUR")) -> OK | Z45: =IF(C45="","",IF(H45="","ERREUR","OK")) -> OK | AA45: =IF(D45="","",IF(J45="","ERREUR","OK")) -> OK | AD45: =+X45-I45 -> 0
A46: =+IF(H46>0,1,0) -> 1 | B46: Boulangerie la baguette | C46: =IF(B46="","",_xlfn.XLOOKUP(B46, Sites!G:G, Sites!F:F, "N/A")) -> PNR-00045 | D46: =IF(B46="","",_xlfn.XLOOKUP(B46, Sites!G:G, Sites!E:E, "N/A")) -> 0 | E46: =IF(B46="","",_xlfn.XLOOKUP(B46, Sites!G:G, Sites!D:D, "N/A")) -> 0 | F46: =IF(B46="","",_xlfn.XLOOKUP(B46, Sites!G:G, Sites!H:H, "N/A")) -> 0 | G46: =IF(B46="","",_xlfn.XLOOKUP(B46, Sites!G:G, Sites!I:I, "N/A")) | H46: 44 | I46: =H46*7 -> 308 | J46: 46301 | K46: =IF(C46="","",IF(J46="","N/A",+IF(A46=1,(+TODAY())-J46,"N/A"))) -> 9 | L46: 0.5 | P46: 0.25 | Q46: 0.25 | R46: =+$I46*L46 -> 154 | S46: =+$I46*M46 -> 0 | T46: =+$I46*N46 -> 0 | U46: =+$I46*O46 -> 0 | V46: =+$I46*P46 -> 77 | W46: =+$I46*Q46 -> 77 | X46: =SUM(R46:W46) -> 308 | Y46: =IF(C46="","",IF(L46+M46+N46+O46+P46+Q46=1,"OK","ERREUR")) -> OK | Z46: =IF(C46="","",IF(H46="","ERREUR","OK")) -> OK | AA46: =IF(D46="","",IF(J46="","ERREUR","OK")) -> OK | AD46: =+X46-I46 -> 0
A47: =+IF(H47>0,1,0) -> 0 | B47: BOULANGERIE NB VOUNGOU CONTRE RAILS | C47: =IF(B47="","",_xlfn.XLOOKUP(B47, Sites!G:G, Sites!F:F, "N/A")) -> PNR-00046 | D47: =IF(B47="","",_xlfn.XLOOKUP(B47, Sites!G:G, Sites!E:E, "N/A")) -> 0 | E47: =IF(B47="","",_xlfn.XLOOKUP(B47, Sites!G:G, Sites!D:D, "N/A")) -> 0 | F47: =IF(B47="","",_xlfn.XLOOKUP(B47, Sites!G:G, Sites!H:H, "N/A")) -> 0 | G47: =IF(B47="","",_xlfn.XLOOKUP(B47, Sites!G:G, Sites!I:I, "N/A")) | H47: 0 | I47: =H47*7 -> 0 | J47: 46280 | K47: =IF(C47="","",IF(J47="","N/A",+IF(A47=1,(+TODAY())-J47,"N/A"))) -> N/A | L47: 1 | R47: =+$I47*L47 -> 0 | S47: =+$I47*M47 -> 0 | T47: =+$I47*N47 -> 0 | U47: =+$I47*O47 -> 0 | V47: =+$I47*P47 -> 0 | W47: =+$I47*Q47 -> 0 | X47: =SUM(R47:W47) -> 0 | Y47: =IF(C47="","",IF(L47+M47+N47+O47+P47+Q47=1,"OK","ERREUR")) -> OK | Z47: =IF(C47="","",IF(H47="","ERREUR","OK")) -> OK | AA47: =IF(D47="","",IF(J47="","ERREUR","OK")) -> OK | AD47: =+X47-I47 -> 0
A48: =+IF(H48>0,1,0) -> 1 | B48: BOULANGERIE STE | C48: =IF(B48="","",_xlfn.XLOOKUP(B48, Sites!G:G, Sites!F:F, "N/A")) -> PNR-00047 | D48: =IF(B48="","",_xlfn.XLOOKUP(B48, Sites!G:G, Sites!E:E, "N/A")) -> 0 | E48: =IF(B48="","",_xlfn.XLOOKUP(B48, Sites!G:G, Sites!D:D, "N/A")) -> 0 | F48: =IF(B48="","",_xlfn.XLOOKUP(B48, Sites!G:G, Sites!H:H, "N/A")) -> 0 | G48: =IF(B48="","",_xlfn.XLOOKUP(B48, Sites!G:G, Sites!I:I, "N/A")) | H48: 12 | I48: =H48*7 -> 84 | J48: 46300 | K48: =IF(C48="","",IF(J48="","N/A",+IF(A48=1,(+TODAY())-J48,"N/A"))) -> 10 | O48: 0.5 | Q48: 0.5 | R48: =+$I48*L48 -> 0 | S48: =+$I48*M48 -> 0 | T48: =+$I48*N48 -> 0 | U48: =+$I48*O48 -> 42 | V48: =+$I48*P48 -> 0 | W48: =+$I48*Q48 -> 42 | X48: =SUM(R48:W48) -> 84 | Y48: =IF(C48="","",IF(L48+M48+N48+O48+P48+Q48=1,"OK","ERREUR")) -> OK | Z48: =IF(C48="","",IF(H48="","ERREUR","OK")) -> OK | AA48: =IF(D48="","",IF(J48="","ERREUR","OK")) -> OK | AD48: =+X48-I48 -> 0
A49: =+IF(H49>0,1,0) -> 1 | B49: CASA Ets AMITIE ex CONGO2 voungou école primaire | C49: =IF(B49="","",_xlfn.XLOOKUP(B49, Sites!G:G, Sites!F:F, "N/A")) -> PNR-00048 | D49: =IF(B49="","",_xlfn.XLOOKUP(B49, Sites!G:G, Sites!E:E, "N/A")) -> Félix OVOURA | E49: =IF(B49="","",_xlfn.XLOOKUP(B49, Sites!G:G, Sites!D:D, "N/A")) -> 2 | F49: =IF(B49="","",_xlfn.XLOOKUP(B49, Sites!G:G, Sites!H:H, "N/A")) -> 0 | G49: =IF(B49="","",_xlfn.XLOOKUP(B49, Sites!G:G, Sites!I:I, "N/A")) | H49: 24 | I49: =H49*7 -> 168 | J49: 46296 | K49: =IF(C49="","",IF(J49="","N/A",+IF(A49=1,(+TODAY())-J49,"N/A"))) -> 14 | O49: 0.5 | Q49: 0.5 | R49: =+$I49*L49 -> 0 | S49: =+$I49*M49 -> 0 | T49: =+$I49*N49 -> 0 | U49: =+$I49*O49 -> 84 | V49: =+$I49*P49 -> 0 | W49: =+$I49*Q49 -> 84 | X49: =SUM(R49:W49) -> 168 | Y49: =IF(C49="","",IF(L49+M49+N49+O49+P49+Q49=1,"OK","ERREUR")) -> OK | Z49: =IF(C49="","",IF(H49="","ERREUR","OK")) -> OK | AA49: =IF(D49="","",IF(J49="","ERREUR","OK")) -> OK | AD49: =+X49-I49 -> 0
A50: =+IF(H50>0,1,0) -> 1 | B50: CELIA ZOLA VOUNGOU | C50: =IF(B50="","",_xlfn.XLOOKUP(B50, Sites!G:G, Sites!F:F, "N/A")) -> PNR-00049 | D50: =IF(B50="","",_xlfn.XLOOKUP(B50, Sites!G:G, Sites!E:E, "N/A")) -> 0 | E50: =IF(B50="","",_xlfn.XLOOKUP(B50, Sites!G:G, Sites!D:D, "N/A")) -> 0 | F50: =IF(B50="","",_xlfn.XLOOKUP(B50, Sites!G:G, Sites!H:H, "N/A")) -> 0 | G50: =IF(B50="","",_xlfn.XLOOKUP(B50, Sites!G:G, Sites!I:I, "N/A")) | H50: 18 | I50: =H50*7 -> 126 | J50: 46294 | K50: =IF(C50="","",IF(J50="","N/A",+IF(A50=1,(+TODAY())-J50,"N/A"))) -> 16 | O50: 0.5 | Q50: 0.5 | R50: =+$I50*L50 -> 0 | S50: =+$I50*M50 -> 0 | T50: =+$I50*N50 -> 0 | U50: =+$I50*O50 -> 63 | V50: =+$I50*P50 -> 0 | W50: =+$I50*Q50 -> 63 | X50: =SUM(R50:W50) -> 126 | Y50: =IF(C50="","",IF(L50+M50+N50+O50+P50+Q50=1,"OK","ERREUR")) -> OK | Z50: =IF(C50="","",IF(H50="","ERREUR","OK")) -> OK | AA50: =IF(D50="","",IF(J50="","ERREUR","OK")) -> OK | AD50: =+X50-I50 -> 0
A51: =+IF(H51>0,1,0) -> 1 | B51: CHRISTINA kitoko daniel | C51: =IF(B51="","",_xlfn.XLOOKUP(B51, Sites!G:G, Sites!F:F, "N/A")) -> PNR-00050 | D51: =IF(B51="","",_xlfn.XLOOKUP(B51, Sites!G:G, Sites!E:E, "N/A")) -> Félix OVOURA | E51: =IF(B51="","",_xlfn.XLOOKUP(B51, Sites!G:G, Sites!D:D, "N/A")) -> 2 | F51: =IF(B51="","",_xlfn.XLOOKUP(B51, Sites!G:G, Sites!H:H, "N/A")) -> 0 | G51: =IF(B51="","",_xlfn.XLOOKUP(B51, Sites!G:G, Sites!I:I, "N/A")) | H51: 16 | I51: =H51*7 -> 112 | J51: 46295 | K51: =IF(C51="","",IF(J51="","N/A",+IF(A51=1,(+TODAY())-J51,"N/A"))) -> 15 | O51: 0.5 | Q51: 0.5 | R51: =+$I51*L51 -> 0 | S51: =+$I51*M51 -> 0 | T51: =+$I51*N51 -> 0 | U51: =+$I51*O51 -> 56 | V51: =+$I51*P51 -> 0 | W51: =+$I51*Q51 -> 56 | X51: =SUM(R51:W51) -> 112 | Y51: =IF(C51="","",IF(L51+M51+N51+O51+P51+Q51=1,"OK","ERREUR")) -> OK | Z51: =IF(C51="","",IF(H51="","ERREUR","OK")) -> OK | AA51: =IF(D51="","",IF(J51="","ERREUR","OK")) -> OK | AD51: =+X51-I51 -> 0
A52: =+IF(H52>0,1,0) -> 1 | B52: CONGO FUTUR moukondo | C52: =IF(B52="","",_xlfn.XLOOKUP(B52, Sites!G:G, Sites!F:F, "N/A")) -> PNR-00051 | D52: =IF(B52="","",_xlfn.XLOOKUP(B52, Sites!G:G, Sites!E:E, "N/A")) -> Alexis MABOUNDA | E52: =IF(B52="","",_xlfn.XLOOKUP(B52, Sites!G:G, Sites!D:D, "N/A")) -> 1 | F52: =IF(B52="","",_xlfn.XLOOKUP(B52, Sites!G:G, Sites!H:H, "N/A")) -> 0 | G52: =IF(B52="","",_xlfn.XLOOKUP(B52, Sites!G:G, Sites!I:I, "N/A")) | H52: 26 | I52: =H52*7 -> 182 | J52: 46295 | K52: =IF(C52="","",IF(J52="","N/A",+IF(A52=1,(+TODAY())-J52,"N/A"))) -> 15 | O52: 0.5 | Q52: 0.5 | R52: =+$I52*L52 -> 0 | S52: =+$I52*M52 -> 0 | T52: =+$I52*N52 -> 0 | U52: =+$I52*O52 -> 91 | V52: =+$I52*P52 -> 0 | W52: =+$I52*Q52 -> 91 | X52: =SUM(R52:W52) -> 182 | Y52: =IF(C52="","",IF(L52+M52+N52+O52+P52+Q52=1,"OK","ERREUR")) -> OK | Z52: =IF(C52="","",IF(H52="","ERREUR","OK")) -> OK | AA52: =IF(D52="","",IF(J52="","ERREUR","OK")) -> OK | AD52: =+X52-I52 -> 0
A53: =+IF(H53>0,1,0) -> 1 | B53: CONGO FUTUR arrêt manguier | C53: =IF(B53="","",_xlfn.XLOOKUP(B53, Sites!G:G, Sites!F:F, "N/A")) -> PNR-00052 | D53: =IF(B53="","",_xlfn.XLOOKUP(B53, Sites!G:G, Sites!E:E, "N/A")) -> Armel SOKAMBA | E53: =IF(B53="","",_xlfn.XLOOKUP(B53, Sites!G:G, Sites!D:D, "N/A")) -> 3 | F53: =IF(B53="","",_xlfn.XLOOKUP(B53, Sites!G:G, Sites!H:H, "N/A")) -> 0 | G53: =IF(B53="","",_xlfn.XLOOKUP(B53, Sites!G:G, Sites!I:I, "N/A")) | H53: 18 | I53: =H53*7 -> 126 | J53: 46133 | K53: =IF(C53="","",IF(J53="","N/A",+IF(A53=1,(+TODAY())-J53,"N/A"))) -> 177 | L53: 0.5 | P53: 0.5 | R53: =+$I53*L53 -> 63 | S53: =+$I53*M53 -> 0 | T53: =+$I53*N53 -> 0 | U53: =+$I53*O53 -> 0 | V53: =+$I53*P53 -> 63 | W53: =+$I53*Q53 -> 0 | X53: =SUM(R53:W53) -> 126 | Y53: =IF(C53="","",IF(L53+M53+N53+O53+P53+Q53=1,"OK","ERREUR")) -> OK | Z53: =IF(C53="","",IF(H53="","ERREUR","OK")) -> OK | AA53: =IF(D53="","",IF(J53="","ERREUR","OK")) -> OK | AD53: =+X53-I53 -> 0
A54: =+IF(H54>0,1,0) -> 1 | B54: CONGO FUTUR carrefour rafinnerie | C54: =IF(B54="","",_xlfn.XLOOKUP(B54, Sites!G:G, Sites!F:F, "N/A")) -> PNR-00053 | D54: =IF(B54="","",_xlfn.XLOOKUP(B54, Sites!G:G, Sites!E:E, "N/A")) -> Félix OVOURA | E54: =IF(B54="","",_xlfn.XLOOKUP(B54, Sites!G:G, Sites!D:D, "N/A")) -> 2 | F54: =IF(B54="","",_xlfn.XLOOKUP(B54, Sites!G:G, Sites!H:H, "N/A")) -> 0 | G54: =IF(B54="","",_xlfn.XLOOKUP(B54, Sites!G:G, Sites!I:I, "N/A")) | H54: 8 | I54: =H54*7 -> 56 | J54: 46300 | K54: =IF(C54="","",IF(J54="","N/A",+IF(A54=1,(+TODAY())-J54,"N/A"))) -> 10 | O54: 1 | R54: =+$I54*L54 -> 0 | S54: =+$I54*M54 -> 0 | T54: =+$I54*N54 -> 0 | U54: =+$I54*O54 -> 56 | V54: =+$I54*P54 -> 0 | W54: =+$I54*Q54 -> 0 | X54: =SUM(R54:W54) -> 56 | Y54: =IF(C54="","",IF(L54+M54+N54+O54+P54+Q54=1,"OK","ERREUR")) -> OK | Z54: =IF(C54="","",IF(H54="","ERREUR","OK")) -> OK | AA54: =IF(D54="","",IF(J54="","ERREUR","OK")) -> OK | AD54: =+X54-I54 -> 0
A55: =+IF(H55>0,1,0) -> 1 | B55: CONGO FUTUR faubourg | C55: =IF(B55="","",_xlfn.XLOOKUP(B55, Sites!G:G, Sites!F:F, "N/A")) -> PNR-00054 | D55: =IF(B55="","",_xlfn.XLOOKUP(B55, Sites!G:G, Sites!E:E, "N/A")) -> Alexis MABOUNDA | E55: =IF(B55="","",_xlfn.XLOOKUP(B55, Sites!G:G, Sites!D:D, "N/A")) -> 1 | F55: =IF(B55="","",_xlfn.XLOOKUP(B55, Sites!G:G, Sites!H:H, "N/A")) -> 0 | G55: =IF(B55="","",_xlfn.XLOOKUP(B55, Sites!G:G, Sites!I:I, "N/A")) | H55: 30 | I55: =H55*7 -> 210 | J55: 46296 | K55: =IF(C55="","",IF(J55="","N/A",+IF(A55=1,(+TODAY())-J55,"N/A"))) -> 14 | M55: 0.5 | Q55: 0.5 | R55: =+$I55*L55 -> 0 | S55: =+$I55*M55 -> 105 | T55: =+$I55*N55 -> 0 | U55: =+$I55*O55 -> 0 | V55: =+$I55*P55 -> 0 | W55: =+$I55*Q55 -> 105 | X55: =SUM(R55:W55) -> 210 | Y55: =IF(C55="","",IF(L55+M55+N55+O55+P55+Q55=1,"OK","ERREUR")) -> OK | Z55: =IF(C55="","",IF(H55="","ERREUR","OK")) -> OK | AA55: =IF(D55="","",IF(J55="","ERREUR","OK")) -> OK | AD55: =+X55-I55 -> 0
A56: =+IF(H56>0,1,0) -> 1 | B56: CONGO FUTUR fond tié-tié | C56: =IF(B56="","",_xlfn.XLOOKUP(B56, Sites!G:G, Sites!F:F, "N/A")) -> PNR-00055 | D56: =IF(B56="","",_xlfn.XLOOKUP(B56, Sites!G:G, Sites!E:E, "N/A")) -> Armel SOKAMBA | E56: =IF(B56="","",_xlfn.XLOOKUP(B56, Sites!G:G, Sites!D:D, "N/A")) -> 3 | F56: =IF(B56="","",_xlfn.XLOOKUP(B56, Sites!G:G, Sites!H:H, "N/A")) -> 0 | G56: =IF(B56="","",_xlfn.XLOOKUP(B56, Sites!G:G, Sites!I:I, "N/A")) | H56: 38 | I56: =H56*7 -> 266 | J56: 46300 | K56: =IF(C56="","",IF(J56="","N/A",+IF(A56=1,(+TODAY())-J56,"N/A"))) -> 10 | L56: 0.5 | M56: 0.25 | Q56: 0.25 | R56: =+$I56*L56 -> 133 | S56: =+$I56*M56 -> 66.5 | T56: =+$I56*N56 -> 0 | U56: =+$I56*O56 -> 0 | V56: =+$I56*P56 -> 0 | W56: =+$I56*Q56 -> 66.5 | X56: =SUM(R56:W56) -> 266 | Y56: =IF(C56="","",IF(L56+M56+N56+O56+P56+Q56=1,"OK","ERREUR")) -> OK | Z56: =IF(C56="","",IF(H56="","ERREUR","OK")) -> OK | AA56: =IF(D56="","",IF(J56="","ERREUR","OK")) -> OK | AD56: =+X56-I56 -> 0
A57: =+IF(H57>0,1,0) -> 1 | B57: CONGO FUTUR grand marché | C57: =IF(B57="","",_xlfn.XLOOKUP(B57, Sites!G:G, Sites!F:F, "N/A")) -> PNR-00056 | D57: =IF(B57="","",_xlfn.XLOOKUP(B57, Sites!G:G, Sites!E:E, "N/A")) -> Félix OVOURA | E57: =IF(B57="","",_xlfn.XLOOKUP(B57, Sites!G:G, Sites!D:D, "N/A")) -> 2 | F57: =IF(B57="","",_xlfn.XLOOKUP(B57, Sites!G:G, Sites!H:H, "N/A")) -> 0 | G57: =IF(B57="","",_xlfn.XLOOKUP(B57, Sites!G:G, Sites!I:I, "N/A")) | H57: 44 | I57: =H57*7 -> 308 | J57: 46301 | K57: =IF(C57="","",IF(J57="","N/A",+IF(A57=1,(+TODAY())-J57,"N/A"))) -> 9 | M57: 0.5 | O57: 0.25 | P57: 0.25 | R57: =+$I57*L57 -> 0 | S57: =+$I57*M57 -> 154 | T57: =+$I57*N57 -> 0 | U57: =+$I57*O57 -> 77 | V57: =+$I57*P57 -> 77 | W57: =+$I57*Q57 -> 0 | X57: =SUM(R57:W57) -> 308 | Y57: =IF(C57="","",IF(L57+M57+N57+O57+P57+Q57=1,"OK","ERREUR")) -> OK | Z57: =IF(C57="","",IF(H57="","ERREUR","OK")) -> OK | AA57: =IF(D57="","",IF(J57="","ERREUR","OK")) -> OK | AD57: =+X57-I57 -> 0
A58: =+IF(H58>0,1,0) -> 1 | B58: CONGO FUTUR marché culotte | C58: =IF(B58="","",_xlfn.XLOOKUP(B58, Sites!G:G, Sites!F:F, "N/A")) -> PNR-00057 | D58: =IF(B58="","",_xlfn.XLOOKUP(B58, Sites!G:G, Sites!E:E, "N/A")) -> Félix OVOURA | E58: =IF(B58="","",_xlfn.XLOOKUP(B58, Sites!G:G, Sites!D:D, "N/A")) -> 2 | F58: =IF(B58="","",_xlfn.XLOOKUP(B58, Sites!G:G, Sites!H:H, "N/A")) -> 0 | G58: =IF(B58="","",_xlfn.XLOOKUP(B58, Sites!G:G, Sites!I:I, "N/A")) | H58: 20 | I58: =H58*7 -> 140 | J58: 46301 | K58: =IF(C58="","",IF(J58="","N/A",+IF(A58=1,(+TODAY())-J58,"N/A"))) -> 9 | O58: 0.5 | Q58: 0.5 | R58: =+$I58*L58 -> 0 | S58: =+$I58*M58 -> 0 | T58: =+$I58*N58 -> 0 | U58: =+$I58*O58 -> 70 | V58: =+$I58*P58 -> 0 | W58: =+$I58*Q58 -> 70 | X58: =SUM(R58:W58) -> 140 | Y58: =IF(C58="","",IF(L58+M58+N58+O58+P58+Q58=1,"OK","ERREUR")) -> OK | Z58: =IF(C58="","",IF(H58="","ERREUR","OK")) -> OK | AA58: =IF(D58="","",IF(J58="","ERREUR","OK")) -> OK | AD58: =+X58-I58 -> 0
A59: =+IF(H59>0,1,0) -> 1 | B59: CONGO FUTUR paneau 50 | C59: =IF(B59="","",_xlfn.XLOOKUP(B59, Sites!G:G, Sites!F:F, "N/A")) -> PNR-00058 | D59: =IF(B59="","",_xlfn.XLOOKUP(B59, Sites!G:G, Sites!E:E, "N/A")) -> Alexis MABOUNDA | E59: =IF(B59="","",_xlfn.XLOOKUP(B59, Sites!G:G, Sites!D:D, "N/A")) -> 1 | F59: =IF(B59="","",_xlfn.XLOOKUP(B59, Sites!G:G, Sites!H:H, "N/A")) -> 0 | G59: =IF(B59="","",_xlfn.XLOOKUP(B59, Sites!G:G, Sites!I:I, "N/A")) | H59: 16 | I59: =H59*7 -> 112 | J59: 46301 | K59: =IF(C59="","",IF(J59="","N/A",+IF(A59=1,(+TODAY())-J59,"N/A"))) -> 9 | O59: 0.5 | Q59: 0.5 | R59: =+$I59*L59 -> 0 | S59: =+$I59*M59 -> 0 | T59: =+$I59*N59 -> 0 | U59: =+$I59*O59 -> 56 | V59: =+$I59*P59 -> 0 | W59: =+$I59*Q59 -> 56 | X59: =SUM(R59:W59) -> 112 | Y59: =IF(C59="","",IF(L59+M59+N59+O59+P59+Q59=1,"OK","ERREUR")) -> OK | Z59: =IF(C59="","",IF(H59="","ERREUR","OK")) -> OK | AA59: =IF(D59="","",IF(J59="","ERREUR","OK")) -> OK | AD59: =+X59-I59 -> 0
A60: =+IF(H60>0,1,0) -> 1 | B60: CONGO FUTUR rafinerie 1er camp | C60: =IF(B60="","",_xlfn.XLOOKUP(B60, Sites!G:G, Sites!F:F, "N/A")) -> PNR-00059 | D60: =IF(B60="","",_xlfn.XLOOKUP(B60, Sites!G:G, Sites!E:E, "N/A")) -> Alexis MABOUNDA | E60: =IF(B60="","",_xlfn.XLOOKUP(B60, Sites!G:G, Sites!D:D, "N/A")) -> 1 | F60: =IF(B60="","",_xlfn.XLOOKUP(B60, Sites!G:G, Sites!H:H, "N/A")) -> 0 | G60: =IF(B60="","",_xlfn.XLOOKUP(B60, Sites!G:G, Sites!I:I, "N/A")) | H60: 24 | I60: =H60*7 -> 168 | J60: 46302 | K60: =IF(C60="","",IF(J60="","N/A",+IF(A60=1,(+TODAY())-J60,"N/A"))) -> 8 | L60: 0.5 | N60: 0.25 | Q60: 0.25 | R60: =+$I60*L60 -> 84 | S60: =+$I60*M60 -> 0 | T60: =+$I60*N60 -> 42 | U60: =+$I60*O60 -> 0 | V60: =+$I60*P60 -> 0 | W60: =+$I60*Q60 -> 42 | X60: =SUM(R60:W60) -> 168 | Y60: =IF(C60="","",IF(L60+M60+N60+O60+P60+Q60=1,"OK","ERREUR")) -> OK | Z60: =IF(C60="","",IF(H60="","ERREUR","OK")) -> OK | AA60: =IF(D60="","",IF(J60="","ERREUR","OK")) -> OK | AD60: =+X60-I60 -> 0
A61: =+IF(H61>0,1,0) -> 1 | B61: CONGO FUTUR SIAFOUMOU | C61: =IF(B61="","",_xlfn.XLOOKUP(B61, Sites!G:G, Sites!F:F, "N/A")) -> PNR-00060 | D61: =IF(B61="","",_xlfn.XLOOKUP(B61, Sites!G:G, Sites!E:E, "N/A")) -> Félix OVOURA | E61: =IF(B61="","",_xlfn.XLOOKUP(B61, Sites!G:G, Sites!D:D, "N/A")) -> 2 | F61: =IF(B61="","",_xlfn.XLOOKUP(B61, Sites!G:G, Sites!H:H, "N/A")) -> 0 | G61: =IF(B61="","",_xlfn.XLOOKUP(B61, Sites!G:G, Sites!I:I, "N/A")) | H61: 28 | I61: =H61*7 -> 196 | J61: 46301 | K61: =IF(C61="","",IF(J61="","N/A",+IF(A61=1,(+TODAY())-J61,"N/A"))) -> 9 | P61: 0.5 | Q61: 0.5 | R61: =+$I61*L61 -> 0 | S61: =+$I61*M61 -> 0 | T61: =+$I61*N61 -> 0 | U61: =+$I61*O61 -> 0 | V61: =+$I61*P61 -> 98 | W61: =+$I61*Q61 -> 98 | X61: =SUM(R61:W61) -> 196 | Y61: =IF(C61="","",IF(L61+M61+N61+O61+P61+Q61=1,"OK","ERREUR")) -> OK | Z61: =IF(C61="","",IF(H61="","ERREUR","OK")) -> OK | AA61: =IF(D61="","",IF(J61="","ERREUR","OK")) -> OK | AD61: =+X61-I61 -> 0
A62: =+IF(H62>0,1,0) -> 1 | B62: CONGO FUTUR terre jaune | C62: =IF(B62="","",_xlfn.XLOOKUP(B62, Sites!G:G, Sites!F:F, "N/A")) -> PNR-00061 | D62: =IF(B62="","",_xlfn.XLOOKUP(B62, Sites!G:G, Sites!E:E, "N/A")) -> Alexis MABOUNDA | E62: =IF(B62="","",_xlfn.XLOOKUP(B62, Sites!G:G, Sites!D:D, "N/A")) -> 1 | F62: =IF(B62="","",_xlfn.XLOOKUP(B62, Sites!G:G, Sites!H:H, "N/A")) -> 0 | G62: =IF(B62="","",_xlfn.XLOOKUP(B62, Sites!G:G, Sites!I:I, "N/A")) | H62: 36 | I62: =H62*7 -> 252 | J62: 46301 | K62: =IF(C62="","",IF(J62="","N/A",+IF(A62=1,(+TODAY())-J62,"N/A"))) -> 9 | P62: 0.5 | Q62: 0.5 | R62: =+$I62*L62 -> 0 | S62: =+$I62*M62 -> 0 | T62: =+$I62*N62 -> 0 | U62: =+$I62*O62 -> 0 | V62: =+$I62*P62 -> 126 | W62: =+$I62*Q62 -> 126 | X62: =SUM(R62:W62) -> 252 | Y62: =IF(C62="","",IF(L62+M62+N62+O62+P62+Q62=1,"OK","ERREUR")) -> OK | Z62: =IF(C62="","",IF(H62="","ERREUR","OK")) -> OK | AA62: =IF(D62="","",IF(J62="","ERREUR","OK")) -> OK | AD62: =+X62-I62 -> 0
A63: =+IF(H63>0,1,0) -> 1 | B63: CONGO RIM patra | C63: =IF(B63="","",_xlfn.XLOOKUP(B63, Sites!G:G, Sites!F:F, "N/A")) -> PNR-00062 | D63: =IF(B63="","",_xlfn.XLOOKUP(B63, Sites!G:G, Sites!E:E, "N/A")) -> Alexis MABOUNDA | E63: =IF(B63="","",_xlfn.XLOOKUP(B63, Sites!G:G, Sites!D:D, "N/A")) -> 1 | F63: =IF(B63="","",_xlfn.XLOOKUP(B63, Sites!G:G, Sites!H:H, "N/A")) -> 0 | G63: =IF(B63="","",_xlfn.XLOOKUP(B63, Sites!G:G, Sites!I:I, "N/A")) | H63: 26 | I63: =H63*7 -> 182 | J63: 46301 | K63: =IF(C63="","",IF(J63="","N/A",+IF(A63=1,(+TODAY())-J63,"N/A"))) -> 9 | P63: 0.5 | Q63: 0.5 | R63: =+$I63*L63 -> 0 | S63: =+$I63*M63 -> 0 | T63: =+$I63*N63 -> 0 | U63: =+$I63*O63 -> 0 | V63: =+$I63*P63 -> 91 | W63: =+$I63*Q63 -> 91 | X63: =SUM(R63:W63) -> 182 | Y63: =IF(C63="","",IF(L63+M63+N63+O63+P63+Q63=1,"OK","ERREUR")) -> OK | Z63: =IF(C63="","",IF(H63="","ERREUR","OK")) -> OK | AA63: =IF(D63="","",IF(J63="","ERREUR","OK")) -> OK | AD63: =+X63-I63 -> 0
A64: =+IF(H64>0,1,0) -> 1 | B64: CONTINENT | C64: =IF(B64="","",_xlfn.XLOOKUP(B64, Sites!G:G, Sites!F:F, "N/A")) -> PNR-00063 | D64: =IF(B64="","",_xlfn.XLOOKUP(B64, Sites!G:G, Sites!E:E, "N/A")) -> Alexis MABOUNDA | E64: =IF(B64="","",_xlfn.XLOOKUP(B64, Sites!G:G, Sites!D:D, "N/A")) -> 1 | F64: =IF(B64="","",_xlfn.XLOOKUP(B64, Sites!G:G, Sites!H:H, "N/A")) -> 0 | G64: =IF(B64="","",_xlfn.XLOOKUP(B64, Sites!G:G, Sites!I:I, "N/A")) | H64: 24 | I64: =H64*7 -> 168 | J64: 46301 | K64: =IF(C64="","",IF(J64="","N/A",+IF(A64=1,(+TODAY())-J64,"N/A"))) -> 9 | L64: 0.5 | O64: 0.5 | R64: =+$I64*L64 -> 84 | S64: =+$I64*M64 -> 0 | T64: =+$I64*N64 -> 0 | U64: =+$I64*O64 -> 84 | V64: =+$I64*P64 -> 0 | W64: =+$I64*Q64 -> 0 | X64: =SUM(R64:W64) -> 168 | Y64: =IF(C64="","",IF(L64+M64+N64+O64+P64+Q64=1,"OK","ERREUR")) -> OK | Z64: =IF(C64="","",IF(H64="","ERREUR","OK")) -> OK | AA64: =IF(D64="","",IF(J64="","ERREUR","OK")) -> OK | AD64: =+X64-I64 -> 0
A65: =+IF(H65>0,1,0) -> 1 | B65: EL ATIGH mengo péage | C65: =IF(B65="","",_xlfn.XLOOKUP(B65, Sites!G:G, Sites!F:F, "N/A")) -> PNR-00064 | D65: =IF(B65="","",_xlfn.XLOOKUP(B65, Sites!G:G, Sites!E:E, "N/A")) -> Armel SOKAMBA | E65: =IF(B65="","",_xlfn.XLOOKUP(B65, Sites!G:G, Sites!D:D, "N/A")) -> 3 | F65: =IF(B65="","",_xlfn.XLOOKUP(B65, Sites!G:G, Sites!H:H, "N/A")) -> 0 | G65: =IF(B65="","",_xlfn.XLOOKUP(B65, Sites!G:G, Sites!I:I, "N/A")) | H65: 24 | I65: =H65*7 -> 168 | J65: 46300 | K65: =IF(C65="","",IF(J65="","N/A",+IF(A65=1,(+TODAY())-J65,"N/A"))) -> 10 | O65: 0.5 | Q65: 0.5 | R65: =+$I65*L65 -> 0 | S65: =+$I65*M65 -> 0 | T65: =+$I65*N65 -> 0 | U65: =+$I65*O65 -> 84 | V65: =+$I65*P65 -> 0 | W65: =+$I65*Q65 -> 84 | X65: =SUM(R65:W65) -> 168 | Y65: =IF(C65="","",IF(L65+M65+N65+O65+P65+Q65=1,"OK","ERREUR")) -> OK | Z65: =IF(C65="","",IF(H65="","ERREUR","OK")) -> OK | AA65: =IF(D65="","",IF(J65="","ERREUR","OK")) -> OK | AD65: =+X65-I65 -> 0
A66: =+IF(H66>0,1,0) -> 1 | B66: EL HAMDE 2 EX LALA thyster extension | C66: =IF(B66="","",_xlfn.XLOOKUP(B66, Sites!G:G, Sites!F:F, "N/A")) -> PNR-00065 | D66: =IF(B66="","",_xlfn.XLOOKUP(B66, Sites!G:G, Sites!E:E, "N/A")) -> 0 | E66: =IF(B66="","",_xlfn.XLOOKUP(B66, Sites!G:G, Sites!D:D, "N/A")) -> 0 | F66: =IF(B66="","",_xlfn.XLOOKUP(B66, Sites!G:G, Sites!H:H, "N/A")) -> 0 | G66: =IF(B66="","",_xlfn.XLOOKUP(B66, Sites!G:G, Sites!I:I, "N/A")) | H66: 30 | I66: =H66*7 -> 210 | J66: 46302 | K66: =IF(C66="","",IF(J66="","N/A",+IF(A66=1,(+TODAY())-J66,"N/A"))) -> 8 | L66: 0.5 | P66: 0.5 | R66: =+$I66*L66 -> 105 | S66: =+$I66*M66 -> 0 | T66: =+$I66*N66 -> 0 | U66: =+$I66*O66 -> 0 | V66: =+$I66*P66 -> 105 | W66: =+$I66*Q66 -> 0 | X66: =SUM(R66:W66) -> 210 | Y66: =IF(C66="","",IF(L66+M66+N66+O66+P66+Q66=1,"OK","ERREUR")) -> OK | Z66: =IF(C66="","",IF(H66="","ERREUR","OK")) -> OK | AA66: =IF(D66="","",IF(J66="","ERREUR","OK")) -> OK | AD66: =+X66-I66 -> 0
A67: =+IF(H67>0,1,0) -> 1 | B67: EL HAMDE 3 EX LALA thyster extension | C67: =IF(B67="","",_xlfn.XLOOKUP(B67, Sites!G:G, Sites!F:F, "N/A")) -> PNR-00066 | D67: =IF(B67="","",_xlfn.XLOOKUP(B67, Sites!G:G, Sites!E:E, "N/A")) -> 0 | E67: =IF(B67="","",_xlfn.XLOOKUP(B67, Sites!G:G, Sites!D:D, "N/A")) -> 0 | F67: =IF(B67="","",_xlfn.XLOOKUP(B67, Sites!G:G, Sites!H:H, "N/A")) -> 0 | G67: =IF(B67="","",_xlfn.XLOOKUP(B67, Sites!G:G, Sites!I:I, "N/A")) | H67: 22 | I67: =H67*7 -> 154 | J67: 46300 | K67: =IF(C67="","",IF(J67="","N/A",+IF(A67=1,(+TODAY())-J67,"N/A"))) -> 10 | O67: 1 | R67: =+$I67*L67 -> 0 | S67: =+$I67*M67 -> 0 | T67: =+$I67*N67 -> 0 | U67: =+$I67*O67 -> 154 | V67: =+$I67*P67 -> 0 | W67: =+$I67*Q67 -> 0 | X67: =SUM(R67:W67) -> 154 | Y67: =IF(C67="","",IF(L67+M67+N67+O67+P67+Q67=1,"OK","ERREUR")) -> OK | Z67: =IF(C67="","",IF(H67="","ERREUR","OK")) -> OK | AA67: =IF(D67="","",IF(J67="","ERREUR","OK")) -> OK | AD67: =+X67-I67 -> 0
A68: =+IF(H68>0,1,0) -> 1 | B68: EL HAMDE EX LALA thyster | C68: =IF(B68="","",_xlfn.XLOOKUP(B68, Sites!G:G, Sites!F:F, "N/A")) -> PNR-00067 | D68: =IF(B68="","",_xlfn.XLOOKUP(B68, Sites!G:G, Sites!E:E, "N/A")) -> 0 | E68: =IF(B68="","",_xlfn.XLOOKUP(B68, Sites!G:G, Sites!D:D, "N/A")) -> 0 | F68: =IF(B68="","",_xlfn.XLOOKUP(B68, Sites!G:G, Sites!H:H, "N/A")) -> 0 | G68: =IF(B68="","",_xlfn.XLOOKUP(B68, Sites!G:G, Sites!I:I, "N/A")) | H68: 24 | I68: =H68*7 -> 168 | J68: 46296 | K68: =IF(C68="","",IF(J68="","N/A",+IF(A68=1,(+TODAY())-J68,"N/A"))) -> 14 | L68: 0.5 | P68: 0.5 | R68: =+$I68*L68 -> 84 | S68: =+$I68*M68 -> 0 | T68: =+$I68*N68 -> 0 | U68: =+$I68*O68 -> 0 | V68: =+$I68*P68 -> 84 | W68: =+$I68*Q68 -> 0 | X68: =SUM(R68:W68) -> 168 | Y68: =IF(C68="","",IF(L68+M68+N68+O68+P68+Q68=1,"OK","ERREUR")) -> OK | Z68: =IF(C68="","",IF(H68="","ERREUR","OK")) -> OK | AA68: =IF(D68="","",IF(J68="","ERREUR","OK")) -> OK | AD68: =+X68-I68 -> 0
A69: =+IF(H69>0,1,0) -> 1 | B69: EL MONA fond tié-tié | C69: =IF(B69="","",_xlfn.XLOOKUP(B69, Sites!G:G, Sites!F:F, "N/A")) -> PNR-00068 | D69: =IF(B69="","",_xlfn.XLOOKUP(B69, Sites!G:G, Sites!E:E, "N/A")) -> Alexis MABOUNDA | E69: =IF(B69="","",_xlfn.XLOOKUP(B69, Sites!G:G, Sites!D:D, "N/A")) -> 1 | F69: =IF(B69="","",_xlfn.XLOOKUP(B69, Sites!G:G, Sites!H:H, "N/A")) -> 0 | G69: =IF(B69="","",_xlfn.XLOOKUP(B69, Sites!G:G, Sites!I:I, "N/A")) | H69: 22 | I69: =H69*7 -> 154 | J69: 46300 | K69: =IF(C69="","",IF(J69="","N/A",+IF(A69=1,(+TODAY())-J69,"N/A"))) -> 10 | P69: 0.5 | Q69: 0.5 | R69: =+$I69*L69 -> 0 | S69: =+$I69*M69 -> 0 | T69: =+$I69*N69 -> 0 | U69: =+$I69*O69 -> 0 | V69: =+$I69*P69 -> 77 | W69: =+$I69*Q69 -> 77 | X69: =SUM(R69:W69) -> 154 | Y69: =IF(C69="","",IF(L69+M69+N69+O69+P69+Q69=1,"OK","ERREUR")) -> OK | Z69: =IF(C69="","",IF(H69="","ERREUR","OK")) -> OK | AA69: =IF(D69="","",IF(J69="","ERREUR","OK")) -> OK | AD69: =+X69-I69 -> 0
A70: =+IF(H70>0,1,0) -> 1 | B70: EL MONA tié tié masola | C70: =IF(B70="","",_xlfn.XLOOKUP(B70, Sites!G:G, Sites!F:F, "N/A")) -> PNR-00069 | D70: =IF(B70="","",_xlfn.XLOOKUP(B70, Sites!G:G, Sites!E:E, "N/A")) -> Félix OVOURA | E70: =IF(B70="","",_xlfn.XLOOKUP(B70, Sites!G:G, Sites!D:D, "N/A")) -> 2 | F70: =IF(B70="","",_xlfn.XLOOKUP(B70, Sites!G:G, Sites!H:H, "N/A")) -> 0 | G70: =IF(B70="","",_xlfn.XLOOKUP(B70, Sites!G:G, Sites!I:I, "N/A")) | H70: 22 | I70: =H70*7 -> 154 | J70: 46296 | K70: =IF(C70="","",IF(J70="","N/A",+IF(A70=1,(+TODAY())-J70,"N/A"))) -> 14 | L70: 0.5 | Q70: 0.5 | R70: =+$I70*L70 -> 77 | S70: =+$I70*M70 -> 0 | T70: =+$I70*N70 -> 0 | U70: =+$I70*O70 -> 0 | V70: =+$I70*P70 -> 0 | W70: =+$I70*Q70 -> 77 | X70: =SUM(R70:W70) -> 154 | Y70: =IF(C70="","",IF(L70+M70+N70+O70+P70+Q70=1,"OK","ERREUR")) -> OK | Z70: =IF(C70="","",IF(H70="","ERREUR","OK")) -> OK | AA70: =IF(D70="","",IF(J70="","ERREUR","OK")) -> OK | AD70: =+X70-I70 -> 0
A71: =+IF(H71>0,1,0) -> 1 | B71: EL WAVA vindoulou | C71: =IF(B71="","",_xlfn.XLOOKUP(B71, Sites!G:G, Sites!F:F, "N/A")) -> PNR-00070 | D71: =IF(B71="","",_xlfn.XLOOKUP(B71, Sites!G:G, Sites!E:E, "N/A")) -> Félix OVOURA | E71: =IF(B71="","",_xlfn.XLOOKUP(B71, Sites!G:G, Sites!D:D, "N/A")) -> 2 | F71: =IF(B71="","",_xlfn.XLOOKUP(B71, Sites!G:G, Sites!H:H, "N/A")) -> 0 | G71: =IF(B71="","",_xlfn.XLOOKUP(B71, Sites!G:G, Sites!I:I, "N/A")) | H71: 22 | I71: =H71*7 -> 154 | J71: 46300 | K71: =IF(C71="","",IF(J71="","N/A",+IF(A71=1,(+TODAY())-J71,"N/A"))) -> 10 | P71: 1 | R71: =+$I71*L71 -> 0 | S71: =+$I71*M71 -> 0 | T71: =+$I71*N71 -> 0 | U71: =+$I71*O71 -> 0 | V71: =+$I71*P71 -> 154 | W71: =+$I71*Q71 -> 0 | X71: =SUM(R71:W71) -> 154 | Y71: =IF(C71="","",IF(L71+M71+N71+O71+P71+Q71=1,"OK","ERREUR")) -> OK | Z71: =IF(C71="","",IF(H71="","ERREUR","OK")) -> OK | AA71: =IF(D71="","",IF(J71="","ERREUR","OK")) -> OK | AD71: =+X71-I71 -> 0
A72: =+IF(H72>0,1,0) -> 1 | B72: ELKOUZ marché faubourg | C72: =IF(B72="","",_xlfn.XLOOKUP(B72, Sites!G:G, Sites!F:F, "N/A")) -> PNR-00071 | D72: =IF(B72="","",_xlfn.XLOOKUP(B72, Sites!G:G, Sites!E:E, "N/A")) -> Armel SOKAMBA | E72: =IF(B72="","",_xlfn.XLOOKUP(B72, Sites!G:G, Sites!D:D, "N/A")) -> 3 | F72: =IF(B72="","",_xlfn.XLOOKUP(B72, Sites!G:G, Sites!H:H, "N/A")) -> 0 | G72: =IF(B72="","",_xlfn.XLOOKUP(B72, Sites!G:G, Sites!I:I, "N/A")) | H72: 22 | I72: =H72*7 -> 154 | J72: 46301 | K72: =IF(C72="","",IF(J72="","N/A",+IF(A72=1,(+TODAY())-J72,"N/A"))) -> 9 | N72: 0.5 | O72: 0.5 | R72: =+$I72*L72 -> 0 | S72: =+$I72*M72 -> 0 | T72: =+$I72*N72 -> 77 | U72: =+$I72*O72 -> 77 | V72: =+$I72*P72 -> 0 | W72: =+$I72*Q72 -> 0 | X72: =SUM(R72:W72) -> 154 | Y72: =IF(C72="","",IF(L72+M72+N72+O72+P72+Q72=1,"OK","ERREUR")) -> OK | Z72: =IF(C72="","",IF(H72="","ERREUR","OK")) -> OK | AA72: =IF(D72="","",IF(J72="","ERREUR","OK")) -> OK | AD72: =+X72-I72 -> 0
A73: =+IF(H73>0,1,0) -> 1 | B73: ELVETH/ EX CONGO RIM patra | C73: =IF(B73="","",_xlfn.XLOOKUP(B73, Sites!G:G, Sites!F:F, "N/A")) -> PNR-00072 | D73: =IF(B73="","",_xlfn.XLOOKUP(B73, Sites!G:G, Sites!E:E, "N/A")) -> 0 | E73: =IF(B73="","",_xlfn.XLOOKUP(B73, Sites!G:G, Sites!D:D, "N/A")) -> 0 | F73: =IF(B73="","",_xlfn.XLOOKUP(B73, Sites!G:G, Sites!H:H, "N/A")) -> 0 | G73: =IF(B73="","",_xlfn.XLOOKUP(B73, Sites!G:G, Sites!I:I, "N/A")) | H73: 22 | I73: =H73*7 -> 154 | J73: 46296 | K73: =IF(C73="","",IF(J73="","N/A",+IF(A73=1,(+TODAY())-J73,"N/A"))) -> 14 | L73: 0.5 | O73: 0.5 | R73: =+$I73*L73 -> 77 | S73: =+$I73*M73 -> 0 | T73: =+$I73*N73 -> 0 | U73: =+$I73*O73 -> 77 | V73: =+$I73*P73 -> 0 | W73: =+$I73*Q73 -> 0 | X73: =SUM(R73:W73) -> 154 | Y73: =IF(C73="","",IF(L73+M73+N73+O73+P73+Q73=1,"OK","ERREUR")) -> OK | Z73: =IF(C73="","",IF(H73="","ERREUR","OK")) -> OK | AA73: =IF(D73="","",IF(J73="","ERREUR","OK")) -> OK | AD73: =+X73-I73 -> 0
A74: =+IF(H74>0,1,0) -> 1 | B74: ELVOZ INCHALLA mbota | C74: =IF(B74="","",_xlfn.XLOOKUP(B74, Sites!G:G, Sites!F:F, "N/A")) -> PNR-00073 | D74: =IF(B74="","",_xlfn.XLOOKUP(B74, Sites!G:G, Sites!E:E, "N/A")) -> Armel SOKAMBA | E74: =IF(B74="","",_xlfn.XLOOKUP(B74, Sites!G:G, Sites!D:D, "N/A")) -> 3 | F74: =IF(B74="","",_xlfn.XLOOKUP(B74, Sites!G:G, Sites!H:H, "N/A")) -> 0 | G74: =IF(B74="","",_xlfn.XLOOKUP(B74, Sites!G:G, Sites!I:I, "N/A")) | H74: 22 | I74: =H74*7 -> 154 | J74: 46300 | K74: =IF(C74="","",IF(J74="","N/A",+IF(A74=1,(+TODAY())-J74,"N/A"))) -> 10 | L74: 0.5 | P74: 0.5 | R74: =+$I74*L74 -> 77 | S74: =+$I74*M74 -> 0 | T74: =+$I74*N74 -> 0 | U74: =+$I74*O74 -> 0 | V74: =+$I74*P74 -> 77 | W74: =+$I74*Q74 -> 0 | X74: =SUM(R74:W74) -> 154 | Y74: =IF(C74="","",IF(L74+M74+N74+O74+P74+Q74=1,"OK","ERREUR")) -> OK | Z74: =IF(C74="","",IF(H74="","ERREUR","OK")) -> OK | AA74: =IF(D74="","",IF(J74="","ERREUR","OK")) -> OK | AD74: =+X74-I74 -> 0
A75: =+IF(H75>0,1,0) -> 1 | B75: EMEL 2 | C75: =IF(B75="","",_xlfn.XLOOKUP(B75, Sites!G:G, Sites!F:F, "N/A")) -> PNR-00074 | D75: =IF(B75="","",_xlfn.XLOOKUP(B75, Sites!G:G, Sites!E:E, "N/A")) -> 0 | E75: =IF(B75="","",_xlfn.XLOOKUP(B75, Sites!G:G, Sites!D:D, "N/A")) -> 0 | F75: =IF(B75="","",_xlfn.XLOOKUP(B75, Sites!G:G, Sites!H:H, "N/A")) -> 0 | G75: =IF(B75="","",_xlfn.XLOOKUP(B75, Sites!G:G, Sites!I:I, "N/A")) | H75: 26 | I75: =H75*7 -> 182 | J75: 46300 | K75: =IF(C75="","",IF(J75="","N/A",+IF(A75=1,(+TODAY())-J75,"N/A"))) -> 10 | P75: 1 | R75: =+$I75*L75 -> 0 | S75: =+$I75*M75 -> 0 | T75: =+$I75*N75 -> 0 | U75: =+$I75*O75 -> 0 | V75: =+$I75*P75 -> 182 | W75: =+$I75*Q75 -> 0 | X75: =SUM(R75:W75) -> 182 | Y75: =IF(C75="","",IF(L75+M75+N75+O75+P75+Q75=1,"OK","ERREUR")) -> OK | Z75: =IF(C75="","",IF(H75="","ERREUR","OK")) -> OK | AA75: =IF(D75="","",IF(J75="","ERREUR","OK")) -> OK | AD75: =+X75-I75 -> 0
A76: =+IF(H76>0,1,0) -> 1 | B76: ESPACE DE LA PROMESSE | C76: =IF(B76="","",_xlfn.XLOOKUP(B76, Sites!G:G, Sites!F:F, "N/A")) -> PNR-00075 | D76: =IF(B76="","",_xlfn.XLOOKUP(B76, Sites!G:G, Sites!E:E, "N/A")) -> Alexis MABOUNDA | E76: =IF(B76="","",_xlfn.XLOOKUP(B76, Sites!G:G, Sites!D:D, "N/A")) -> 1 | F76: =IF(B76="","",_xlfn.XLOOKUP(B76, Sites!G:G, Sites!H:H, "N/A")) -> 0 | G76: =IF(B76="","",_xlfn.XLOOKUP(B76, Sites!G:G, Sites!I:I, "N/A")) | H76: 22 | I76: =H76*7 -> 154 | J76: 46300 | K76: =IF(C76="","",IF(J76="","N/A",+IF(A76=1,(+TODAY())-J76,"N/A"))) -> 10 | L76: 0.25 | O76: 0.25 | P76: 0.5 | R76: =+$I76*L76 -> 38.5 | S76: =+$I76*M76 -> 0 | T76: =+$I76*N76 -> 0 | U76: =+$I76*O76 -> 38.5 | V76: =+$I76*P76 -> 77 | W76: =+$I76*Q76 -> 0 | X76: =SUM(R76:W76) -> 154 | Y76: =IF(C76="","",IF(L76+M76+N76+O76+P76+Q76=1,"OK","ERREUR")) -> OK | Z76: =IF(C76="","",IF(H76="","ERREUR","OK")) -> OK | AA76: =IF(D76="","",IF(J76="","ERREUR","OK")) -> OK | AD76: =+X76-I76 -> 0
A77: =+IF(H77>0,1,0) -> 1 | B77: ETOILE D'OR grand marché resto gaspard | C77: =IF(B77="","",_xlfn.XLOOKUP(B77, Sites!G:G, Sites!F:F, "N/A")) -> PNR-00076 | D77: =IF(B77="","",_xlfn.XLOOKUP(B77, Sites!G:G, Sites!E:E, "N/A")) -> Félix OVOURA | E77: =IF(B77="","",_xlfn.XLOOKUP(B77, Sites!G:G, Sites!D:D, "N/A")) -> 2 | F77: =IF(B77="","",_xlfn.XLOOKUP(B77, Sites!G:G, Sites!H:H, "N/A")) -> 0 | G77: =IF(B77="","",_xlfn.XLOOKUP(B77, Sites!G:G, Sites!I:I, "N/A")) | H77: 10 | I77: =H77*7 -> 70 | J77: 46301 | K77: =IF(C77="","",IF(J77="","N/A",+IF(A77=1,(+TODAY())-J77,"N/A"))) -> 9 | O77: 0.5 | Q77: 0.5 | R77: =+$I77*L77 -> 0 | S77: =+$I77*M77 -> 0 | T77: =+$I77*N77 -> 0 | U77: =+$I77*O77 -> 35 | V77: =+$I77*P77 -> 0 | W77: =+$I77*Q77 -> 35 | X77: =SUM(R77:W77) -> 70 | Y77: =IF(C77="","",IF(L77+M77+N77+O77+P77+Q77=1,"OK","ERREUR")) -> OK | Z77: =IF(C77="","",IF(H77="","ERREUR","OK")) -> OK | AA77: =IF(D77="","",IF(J77="","ERREUR","OK")) -> OK | AD77: =+X77-I77 -> 0
A78: =+IF(H78>0,1,0) -> 1 | B78: ETOILE DU CONGO DE MBOTA ROCK | C78: =IF(B78="","",_xlfn.XLOOKUP(B78, Sites!G:G, Sites!F:F, "N/A")) -> PNR-00077 | D78: =IF(B78="","",_xlfn.XLOOKUP(B78, Sites!G:G, Sites!E:E, "N/A")) -> 0 | E78: =IF(B78="","",_xlfn.XLOOKUP(B78, Sites!G:G, Sites!D:D, "N/A")) -> 0 | F78: =IF(B78="","",_xlfn.XLOOKUP(B78, Sites!G:G, Sites!H:H, "N/A")) -> 0 | G78: =IF(B78="","",_xlfn.XLOOKUP(B78, Sites!G:G, Sites!I:I, "N/A")) | H78: 24 | I78: =H78*7 -> 168 | J78: 46133 | K78: =IF(C78="","",IF(J78="","N/A",+IF(A78=1,(+TODAY())-J78,"N/A"))) -> 177 | L78: 0.5 | Q78: 0.5 | R78: =+$I78*L78 -> 84 | S78: =+$I78*M78 -> 0 | T78: =+$I78*N78 -> 0 | U78: =+$I78*O78 -> 0 | V78: =+$I78*P78 -> 0 | W78: =+$I78*Q78 -> 84 | X78: =SUM(R78:W78) -> 168 | Y78: =IF(C78="","",IF(L78+M78+N78+O78+P78+Q78=1,"OK","ERREUR")) -> OK | Z78: =IF(C78="","",IF(H78="","ERREUR","OK")) -> OK | AA78: =IF(D78="","",IF(J78="","ERREUR","OK")) -> OK | AD78: =+X78-I78 -> 0
A79: =+IF(H79>0,1,0) -> 1 | B79: ETOILE DU CONGO GAZ GAZ | C79: =IF(B79="","",_xlfn.XLOOKUP(B79, Sites!G:G, Sites!F:F, "N/A")) -> PNR-00078 | D79: =IF(B79="","",_xlfn.XLOOKUP(B79, Sites!G:G, Sites!E:E, "N/A")) -> 0 | E79: =IF(B79="","",_xlfn.XLOOKUP(B79, Sites!G:G, Sites!D:D, "N/A")) -> 0 | F79: =IF(B79="","",_xlfn.XLOOKUP(B79, Sites!G:G, Sites!H:H, "N/A")) -> 0 | G79: =IF(B79="","",_xlfn.XLOOKUP(B79, Sites!G:G, Sites!I:I, "N/A")) | H79: 6 | I79: =H79*7 -> 42 | J79: 46300 | K79: =IF(C79="","",IF(J79="","N/A",+IF(A79=1,(+TODAY())-J79,"N/A"))) -> 10 | L79: 0.5 | Q79: 0.5 | R79: =+$I79*L79 -> 21 | S79: =+$I79*M79 -> 0 | T79: =+$I79*N79 -> 0 | U79: =+$I79*O79 -> 0 | V79: =+$I79*P79 -> 0 | W79: =+$I79*Q79 -> 21 | X79: =SUM(R79:W79) -> 42 | Y79: =IF(C79="","",IF(L79+M79+N79+O79+P79+Q79=1,"OK","ERREUR")) -> OK | Z79: =IF(C79="","",IF(H79="","ERREUR","OK")) -> OK | AA79: =IF(D79="","",IF(J79="","ERREUR","OK")) -> OK | AD79: =+X79-I79 -> 0
A80: =+IF(H80>0,1,0) -> 1 | B80: ETOILE DU CONGO mbota | C80: =IF(B80="","",_xlfn.XLOOKUP(B80, Sites!G:G, Sites!F:F, "N/A")) -> PNR-00079 | D80: =IF(B80="","",_xlfn.XLOOKUP(B80, Sites!G:G, Sites!E:E, "N/A")) -> Félix OVOURA | E80: =IF(B80="","",_xlfn.XLOOKUP(B80, Sites!G:G, Sites!D:D, "N/A")) -> 2 | F80: =IF(B80="","",_xlfn.XLOOKUP(B80, Sites!G:G, Sites!H:H, "N/A")) -> 0 | G80: =IF(B80="","",_xlfn.XLOOKUP(B80, Sites!G:G, Sites!I:I, "N/A")) | H80: 30 | I80: =H80*7 -> 210 | J80: 46295 | K80: =IF(C80="","",IF(J80="","N/A",+IF(A80=1,(+TODAY())-J80,"N/A"))) -> 15 | L80: 0.75 | O80: 0.25 | R80: =+$I80*L80 -> 157.5 | S80: =+$I80*M80 -> 0 | T80: =+$I80*N80 -> 0 | U80: =+$I80*O80 -> 52.5 | V80: =+$I80*P80 -> 0 | W80: =+$I80*Q80 -> 0 | X80: =SUM(R80:W80) -> 210 | Y80: =IF(C80="","",IF(L80+M80+N80+O80+P80+Q80=1,"OK","ERREUR")) -> OK | Z80: =IF(C80="","",IF(H80="","ERREUR","OK")) -> OK | AA80: =IF(D80="","",IF(J80="","ERREUR","OK")) -> OK | AD80: =+X80-I80 -> 0
A81: =+IF(H81>0,1,0) -> 1 | B81: ETOILE DU CONGO Ngofo | C81: =IF(B81="","",_xlfn.XLOOKUP(B81, Sites!G:G, Sites!F:F, "N/A")) -> PNR-00080 | D81: =IF(B81="","",_xlfn.XLOOKUP(B81, Sites!G:G, Sites!E:E, "N/A")) -> Alexis MABOUNDA | E81: =IF(B81="","",_xlfn.XLOOKUP(B81, Sites!G:G, Sites!D:D, "N/A")) -> 1 | F81: =IF(B81="","",_xlfn.XLOOKUP(B81, Sites!G:G, Sites!H:H, "N/A")) -> 0 | G81: =IF(B81="","",_xlfn.XLOOKUP(B81, Sites!G:G, Sites!I:I, "N/A")) | H81: 12 | I81: =H81*7 -> 84 | J81: 46301 | K81: =IF(C81="","",IF(J81="","N/A",+IF(A81=1,(+TODAY())-J81,"N/A"))) -> 9 | O81: 1 | R81: =+$I81*L81 -> 0 | S81: =+$I81*M81 -> 0 | T81: =+$I81*N81 -> 0 | U81: =+$I81*O81 -> 84 | V81: =+$I81*P81 -> 0 | W81: =+$I81*Q81 -> 0 | X81: =SUM(R81:W81) -> 84 | Y81: =IF(C81="","",IF(L81+M81+N81+O81+P81+Q81=1,"OK","ERREUR")) -> OK | Z81: =IF(C81="","",IF(H81="","ERREUR","OK")) -> OK | AA81: =IF(D81="","",IF(J81="","ERREUR","OK")) -> OK | AD81: =+X81-I81 -> 0
A82: =+IF(H82>0,1,0) -> 1 | B82: ETOILE DU MATIN VOUNGOU | C82: =IF(B82="","",_xlfn.XLOOKUP(B82, Sites!G:G, Sites!F:F, "N/A")) -> PNR-00081 | D82: =IF(B82="","",_xlfn.XLOOKUP(B82, Sites!G:G, Sites!E:E, "N/A")) -> 0 | E82: =IF(B82="","",_xlfn.XLOOKUP(B82, Sites!G:G, Sites!D:D, "N/A")) -> 0 | F82: =IF(B82="","",_xlfn.XLOOKUP(B82, Sites!G:G, Sites!H:H, "N/A")) -> 0 | G82: =IF(B82="","",_xlfn.XLOOKUP(B82, Sites!G:G, Sites!I:I, "N/A")) | H82: 20 | I82: =H82*7 -> 140 | J82: 46302 | K82: =IF(C82="","",IF(J82="","N/A",+IF(A82=1,(+TODAY())-J82,"N/A"))) -> 8 | N82: 0.25 | O82: 0.25 | Q82: 0.5 | R82: =+$I82*L82 -> 0 | S82: =+$I82*M82 -> 0 | T82: =+$I82*N82 -> 35 | U82: =+$I82*O82 -> 35 | V82: =+$I82*P82 -> 0 | W82: =+$I82*Q82 -> 70 | X82: =SUM(R82:W82) -> 140 | Y82: =IF(C82="","",IF(L82+M82+N82+O82+P82+Q82=1,"OK","ERREUR")) -> OK | Z82: =IF(C82="","",IF(H82="","ERREUR","OK")) -> OK | AA82: =IF(D82="","",IF(J82="","ERREUR","OK")) -> OK | AD82: =+X82-I82 -> 0
A83: =+IF(H83>0,1,0) -> 1 | B83: Ets AMITIE ex BAGDAD1 grand marché révolution | C83: =IF(B83="","",_xlfn.XLOOKUP(B83, Sites!G:G, Sites!F:F, "N/A")) -> PNR-00082 | D83: =IF(B83="","",_xlfn.XLOOKUP(B83, Sites!G:G, Sites!E:E, "N/A")) -> Armel SOKAMBA | E83: =IF(B83="","",_xlfn.XLOOKUP(B83, Sites!G:G, Sites!D:D, "N/A")) -> 3 | F83: =IF(B83="","",_xlfn.XLOOKUP(B83, Sites!G:G, Sites!H:H, "N/A")) -> 0 | G83: =IF(B83="","",_xlfn.XLOOKUP(B83, Sites!G:G, Sites!I:I, "N/A")) | H83: 30 | I83: =H83*7 -> 210 | J83: 46300 | K83: =IF(C83="","",IF(J83="","N/A",+IF(A83=1,(+TODAY())-J83,"N/A"))) -> 10 | O83: 0.5 | Q83: 0.5 | R83: =+$I83*L83 -> 0 | S83: =+$I83*M83 -> 0 | T83: =+$I83*N83 -> 0 | U83: =+$I83*O83 -> 105 | V83: =+$I83*P83 -> 0 | W83: =+$I83*Q83 -> 105 | X83: =SUM(R83:W83) -> 210 | Y83: =IF(C83="","",IF(L83+M83+N83+O83+P83+Q83=1,"OK","ERREUR")) -> OK | Z83: =IF(C83="","",IF(H83="","ERREUR","OK")) -> OK | AA83: =IF(D83="","",IF(J83="","ERREUR","OK")) -> OK | AD83: =+X83-I83 -> 0
A84: =+IF(H84>0,1,0) -> 1 | B84: Ets AMITIE ex BAGDAD2 Rex grand marché | C84: =IF(B84="","",_xlfn.XLOOKUP(B84, Sites!G:G, Sites!F:F, "N/A")) -> PNR-00083 | D84: =IF(B84="","",_xlfn.XLOOKUP(B84, Sites!G:G, Sites!E:E, "N/A")) -> Armel SOKAMBA | E84: =IF(B84="","",_xlfn.XLOOKUP(B84, Sites!G:G, Sites!D:D, "N/A")) -> 3 | F84: =IF(B84="","",_xlfn.XLOOKUP(B84, Sites!G:G, Sites!H:H, "N/A")) -> 0 | G84: =IF(B84="","",_xlfn.XLOOKUP(B84, Sites!G:G, Sites!I:I, "N/A")) | H84: 28 | I84: =H84*7 -> 196 | J84: 46296 | K84: =IF(C84="","",IF(J84="","N/A",+IF(A84=1,(+TODAY())-J84,"N/A"))) -> 14 | O84: 1 | R84: =+$I84*L84 -> 0 | S84: =+$I84*M84 -> 0 | T84: =+$I84*N84 -> 0 | U84: =+$I84*O84 -> 196 | V84: =+$I84*P84 -> 0 | W84: =+$I84*Q84 -> 0 | X84: =SUM(R84:W84) -> 196 | Y84: =IF(C84="","",IF(L84+M84+N84+O84+P84+Q84=1,"OK","ERREUR")) -> OK | Z84: =IF(C84="","",IF(H84="","ERREUR","OK")) -> OK | AA84: =IF(D84="","",IF(J84="","ERREUR","OK")) -> OK | AD84: =+X84-I84 -> 0
A85: =+IF(H85>0,1,0) -> 1 | B85: Ets AMITIE ex BONNE CHANCE nkouinkou dénisia | C85: =IF(B85="","",_xlfn.XLOOKUP(B85, Sites!G:G, Sites!F:F, "N/A")) -> PNR-00084 | D85: =IF(B85="","",_xlfn.XLOOKUP(B85, Sites!G:G, Sites!E:E, "N/A")) -> Armel SOKAMBA | E85: =IF(B85="","",_xlfn.XLOOKUP(B85, Sites!G:G, Sites!D:D, "N/A")) -> 3 | F85: =IF(B85="","",_xlfn.XLOOKUP(B85, Sites!G:G, Sites!H:H, "N/A")) -> 0 | G85: =IF(B85="","",_xlfn.XLOOKUP(B85, Sites!G:G, Sites!I:I, "N/A")) | H85: 24 | I85: =H85*7 -> 168 | J85: 46297 | K85: =IF(C85="","",IF(J85="","N/A",+IF(A85=1,(+TODAY())-J85,"N/A"))) -> 13 | Q85: 1 | R85: =+$I85*L85 -> 0 | S85: =+$I85*M85 -> 0 | T85: =+$I85*N85 -> 0 | U85: =+$I85*O85 -> 0 | V85: =+$I85*P85 -> 0 | W85: =+$I85*Q85 -> 168 | X85: =SUM(R85:W85) -> 168 | Y85: =IF(C85="","",IF(L85+M85+N85+O85+P85+Q85=1,"OK","ERREUR")) -> OK | Z85: =IF(C85="","",IF(H85="","ERREUR","OK")) -> OK | AA85: =IF(D85="","",IF(J85="","ERREUR","OK")) -> OK | AD85: =+X85-I85 -> 0
A86: =+IF(H86>0,1,0) -> 1 | B86: Ets AMITIE ex CONGO1 kitoko daniel | C86: =IF(B86="","",_xlfn.XLOOKUP(B86, Sites!G:G, Sites!F:F, "N/A")) -> PNR-00085 | D86: =IF(B86="","",_xlfn.XLOOKUP(B86, Sites!G:G, Sites!E:E, "N/A")) -> Alexis MABOUNDA | E86: =IF(B86="","",_xlfn.XLOOKUP(B86, Sites!G:G, Sites!D:D, "N/A")) -> 1 | F86: =IF(B86="","",_xlfn.XLOOKUP(B86, Sites!G:G, Sites!H:H, "N/A")) -> 0 | G86: =IF(B86="","",_xlfn.XLOOKUP(B86, Sites!G:G, Sites!I:I, "N/A")) | H86: 25 | I86: =H86*7 -> 175 | J86: 46297 | K86: =IF(C86="","",IF(J86="","N/A",+IF(A86=1,(+TODAY())-J86,"N/A"))) -> 13 | Q86: 1 | R86: =+$I86*L86 -> 0 | S86: =+$I86*M86 -> 0 | T86: =+$I86*N86 -> 0 | U86: =+$I86*O86 -> 0 | V86: =+$I86*P86 -> 0 | W86: =+$I86*Q86 -> 175 | X86: =SUM(R86:W86) -> 175 | Y86: =IF(C86="","",IF(L86+M86+N86+O86+P86+Q86=1,"OK","ERREUR")) -> OK | Z86: =IF(C86="","",IF(H86="","ERREUR","OK")) -> OK | AA86: =IF(D86="","",IF(J86="","ERREUR","OK")) -> OK | AD86: =+X86-I86 -> 0
A87: =+IF(H87>0,1,0) -> 1 | B87: ETS SEMAH VOUNGOU ARRET ECOLE | C87: =IF(B87="","",_xlfn.XLOOKUP(B87, Sites!G:G, Sites!F:F, "N/A")) -> PNR-00086 | D87: =IF(B87="","",_xlfn.XLOOKUP(B87, Sites!G:G, Sites!E:E, "N/A")) -> 0 | E87: =IF(B87="","",_xlfn.XLOOKUP(B87, Sites!G:G, Sites!D:D, "N/A")) -> 0 | F87: =IF(B87="","",_xlfn.XLOOKUP(B87, Sites!G:G, Sites!H:H, "N/A")) -> 0 | G87: =IF(B87="","",_xlfn.XLOOKUP(B87, Sites!G:G, Sites!I:I, "N/A")) | H87: 22 | I87: =H87*7 -> 154 | J87: 46297 | K87: =IF(C87="","",IF(J87="","N/A",+IF(A87=1,(+TODAY())-J87,"N/A"))) -> 13 | Q87: 1 | R87: =+$I87*L87 -> 0 | S87: =+$I87*M87 -> 0 | T87: =+$I87*N87 -> 0 | U87: =+$I87*O87 -> 0 | V87: =+$I87*P87 -> 0 | W87: =+$I87*Q87 -> 154 | X87: =SUM(R87:W87) -> 154 | Y87: =IF(C87="","",IF(L87+M87+N87+O87+P87+Q87=1,"OK","ERREUR")) -> OK | Z87: =IF(C87="","",IF(H87="","ERREUR","OK")) -> OK | AA87: =IF(D87="","",IF(J87="","ERREUR","OK")) -> OK | AD87: =+X87-I87 -> 0
A88: =+IF(H88>0,1,0) -> 1 | B88: FALL 2 avant marche mbota | C88: =IF(B88="","",_xlfn.XLOOKUP(B88, Sites!G:G, Sites!F:F, "N/A")) -> PNR-00087 | D88: =IF(B88="","",_xlfn.XLOOKUP(B88, Sites!G:G, Sites!E:E, "N/A")) -> 0 | E88: =IF(B88="","",_xlfn.XLOOKUP(B88, Sites!G:G, Sites!D:D, "N/A")) -> 0 | F88: =IF(B88="","",_xlfn.XLOOKUP(B88, Sites!G:G, Sites!H:H, "N/A")) -> 0 | G88: =IF(B88="","",_xlfn.XLOOKUP(B88, Sites!G:G, Sites!I:I, "N/A")) | H88: 26 | I88: =H88*7 -> 182 | J88: 46293 | K88: =IF(C88="","",IF(J88="","N/A",+IF(A88=1,(+TODAY())-J88,"N/A"))) -> 17 | O88: 0.5 | Q88: 0.5 | R88: =+$I88*L88 -> 0 | S88: =+$I88*M88 -> 0 | T88: =+$I88*N88 -> 0 | U88: =+$I88*O88 -> 91 | V88: =+$I88*P88 -> 0 | W88: =+$I88*Q88 -> 91 | X88: =SUM(R88:W88) -> 182 | Y88: =IF(C88="","",IF(L88+M88+N88+O88+P88+Q88=1,"OK","ERREUR")) -> OK | Z88: =IF(C88="","",IF(H88="","ERREUR","OK")) -> OK | AA88: =IF(D88="","",IF(J88="","ERREUR","OK")) -> OK | AD88: =+X88-I88 -> 0
A89: =+IF(H89>0,1,0) -> 1 | B89: FALL 2 ex elemele2 | C89: =IF(B89="","",_xlfn.XLOOKUP(B89, Sites!G:G, Sites!F:F, "N/A")) -> PNR-00088 | D89: =IF(B89="","",_xlfn.XLOOKUP(B89, Sites!G:G, Sites!E:E, "N/A")) -> Félix OVOURA | E89: =IF(B89="","",_xlfn.XLOOKUP(B89, Sites!G:G, Sites!D:D, "N/A")) -> 2 | F89: =IF(B89="","",_xlfn.XLOOKUP(B89, Sites!G:G, Sites!H:H, "N/A")) -> 0 | G89: =IF(B89="","",_xlfn.XLOOKUP(B89, Sites!G:G, Sites!I:I, "N/A")) | H89: 32 | I89: =H89*7 -> 224 | J89: 46302 | K89: =IF(C89="","",IF(J89="","N/A",+IF(A89=1,(+TODAY())-J89,"N/A"))) -> 8 | O89: 0.5 | P89: 0.5 | R89: =+$I89*L89 -> 0 | S89: =+$I89*M89 -> 0 | T89: =+$I89*N89 -> 0 | U89: =+$I89*O89 -> 112 | V89: =+$I89*P89 -> 112 | W89: =+$I89*Q89 -> 0 | X89: =SUM(R89:W89) -> 224 | Y89: =IF(C89="","",IF(L89+M89+N89+O89+P89+Q89=1,"OK","ERREUR")) -> OK | Z89: =IF(C89="","",IF(H89="","ERREUR","OK")) -> OK | AA89: =IF(D89="","",IF(J89="","ERREUR","OK")) -> OK | AD89: =+X89-I89 -> 0
A90: =+IF(H90>0,1,0) -> 1 | B90: FALL paka pascal | C90: =IF(B90="","",_xlfn.XLOOKUP(B90, Sites!G:G, Sites!F:F, "N/A")) -> PNR-00089 | D90: =IF(B90="","",_xlfn.XLOOKUP(B90, Sites!G:G, Sites!E:E, "N/A")) -> Armel SOKAMBA | E90: =IF(B90="","",_xlfn.XLOOKUP(B90, Sites!G:G, Sites!D:D, "N/A")) -> 3 | F90: =IF(B90="","",_xlfn.XLOOKUP(B90, Sites!G:G, Sites!H:H, "N/A")) -> 0 | G90: =IF(B90="","",_xlfn.XLOOKUP(B90, Sites!G:G, Sites!I:I, "N/A")) | H90: 20 | I90: =H90*7 -> 140 | J90: 46297 | K90: =IF(C90="","",IF(J90="","N/A",+IF(A90=1,(+TODAY())-J90,"N/A"))) -> 13 | O90: 0.25 | P90: 0.25 | Q90: 0.5 | R90: =+$I90*L90 -> 0 | S90: =+$I90*M90 -> 0 | T90: =+$I90*N90 -> 0 | U90: =+$I90*O90 -> 35 | V90: =+$I90*P90 -> 35 | W90: =+$I90*Q90 -> 70 | X90: =SUM(R90:W90) -> 140 | Y90: =IF(C90="","",IF(L90+M90+N90+O90+P90+Q90=1,"OK","ERREUR")) -> OK | Z90: =IF(C90="","",IF(H90="","ERREUR","OK")) -> OK | AA90: =IF(D90="","",IF(J90="","ERREUR","OK")) -> OK | AD90: =+X90-I90 -> 0
A91: =+IF(H91>0,1,0) -> 1 | B91: FAVEUR NGOYO CENTRAL 2 | C91: =IF(B91="","",_xlfn.XLOOKUP(B91, Sites!G:G, Sites!F:F, "N/A")) -> PNR-00090 | D91: =IF(B91="","",_xlfn.XLOOKUP(B91, Sites!G:G, Sites!E:E, "N/A")) -> 0 | E91: =IF(B91="","",_xlfn.XLOOKUP(B91, Sites!G:G, Sites!D:D, "N/A")) -> 0 | F91: =IF(B91="","",_xlfn.XLOOKUP(B91, Sites!G:G, Sites!H:H, "N/A")) -> 0 | G91: =IF(B91="","",_xlfn.XLOOKUP(B91, Sites!G:G, Sites!I:I, "N/A")) | H91: 20 | I91: =H91*7 -> 140 | J91: 46300 | K91: =IF(C91="","",IF(J91="","N/A",+IF(A91=1,(+TODAY())-J91,"N/A"))) -> 10 | O91: 0.5 | P91: 0.5 | R91: =+$I91*L91 -> 0 | S91: =+$I91*M91 -> 0 | T91: =+$I91*N91 -> 0 | U91: =+$I91*O91 -> 70 | V91: =+$I91*P91 -> 70 | W91: =+$I91*Q91 -> 0 | X91: =SUM(R91:W91) -> 140 | Y91: =IF(C91="","",IF(L91+M91+N91+O91+P91+Q91=1,"OK","ERREUR")) -> OK | Z91: =IF(C91="","",IF(H91="","ERREUR","OK")) -> OK | AA91: =IF(D91="","",IF(J91="","ERREUR","OK")) -> OK | AD91: =+X91-I91 -> 0
A92: =+IF(H92>0,1,0) -> 1 | B92: FAVEUR NGOYO LA FERME | C92: =IF(B92="","",_xlfn.XLOOKUP(B92, Sites!G:G, Sites!F:F, "N/A")) -> PNR-00091 | D92: =IF(B92="","",_xlfn.XLOOKUP(B92, Sites!G:G, Sites!E:E, "N/A")) -> 0 | E92: =IF(B92="","",_xlfn.XLOOKUP(B92, Sites!G:G, Sites!D:D, "N/A")) -> 0 | F92: =IF(B92="","",_xlfn.XLOOKUP(B92, Sites!G:G, Sites!H:H, "N/A")) -> 0 | G92: =IF(B92="","",_xlfn.XLOOKUP(B92, Sites!G:G, Sites!I:I, "N/A")) | H92: 28 | I92: =H92*7 -> 196 | J92: 46294 | K92: =IF(C92="","",IF(J92="","N/A",+IF(A92=1,(+TODAY())-J92,"N/A"))) -> 16 | Q92: 1 | R92: =+$I92*L92 -> 0 | S92: =+$I92*M92 -> 0 | T92: =+$I92*N92 -> 0 | U92: =+$I92*O92 -> 0 | V92: =+$I92*P92 -> 0 | W92: =+$I92*Q92 -> 196 | X92: =SUM(R92:W92) -> 196 | Y92: =IF(C92="","",IF(L92+M92+N92+O92+P92+Q92=1,"OK","ERREUR")) -> OK | Z92: =IF(C92="","",IF(H92="","ERREUR","OK")) -> OK | AA92: =IF(D92="","",IF(J92="","ERREUR","OK")) -> OK | AD92: =+X92-I92 -> 0
A93: =+IF(H93>0,1,0) -> 1 | B93: FAVEUR2 loandjili | C93: =IF(B93="","",_xlfn.XLOOKUP(B93, Sites!G:G, Sites!F:F, "N/A")) -> PNR-00092 | D93: =IF(B93="","",_xlfn.XLOOKUP(B93, Sites!G:G, Sites!E:E, "N/A")) -> 0 | E93: =IF(B93="","",_xlfn.XLOOKUP(B93, Sites!G:G, Sites!D:D, "N/A")) -> 0 | F93: =IF(B93="","",_xlfn.XLOOKUP(B93, Sites!G:G, Sites!H:H, "N/A")) -> 0 | G93: =IF(B93="","",_xlfn.XLOOKUP(B93, Sites!G:G, Sites!I:I, "N/A")) | H93: 20 | I93: =H93*7 -> 140 | J93: 46301 | K93: =IF(C93="","",IF(J93="","N/A",+IF(A93=1,(+TODAY())-J93,"N/A"))) -> 9 | L93: 0.5 | N93: 0.25 | P93: 0.25 | R93: =+$I93*L93 -> 70 | S93: =+$I93*M93 -> 0 | T93: =+$I93*N93 -> 35 | U93: =+$I93*O93 -> 0 | V93: =+$I93*P93 -> 35 | W93: =+$I93*Q93 -> 0 | X93: =SUM(R93:W93) -> 140 | Y93: =IF(C93="","",IF(L93+M93+N93+O93+P93+Q93=1,"OK","ERREUR")) -> OK | Z93: =IF(C93="","",IF(H93="","ERREUR","OK")) -> OK | AA93: =IF(D93="","",IF(J93="","ERREUR","OK")) -> OK | AD93: =+X93-I93 -> 0
A94: =+IF(H94>0,1,0) -> 1 | B94: FAVEUR2 NKOUIKOU | C94: =IF(B94="","",_xlfn.XLOOKUP(B94, Sites!G:G, Sites!F:F, "N/A")) -> PNR-00093 | D94: =IF(B94="","",_xlfn.XLOOKUP(B94, Sites!G:G, Sites!E:E, "N/A")) -> 0 | E94: =IF(B94="","",_xlfn.XLOOKUP(B94, Sites!G:G, Sites!D:D, "N/A")) -> 0 | F94: =IF(B94="","",_xlfn.XLOOKUP(B94, Sites!G:G, Sites!H:H, "N/A")) -> 0 | G94: =IF(B94="","",_xlfn.XLOOKUP(B94, Sites!G:G, Sites!I:I, "N/A")) | H94: 36 | I94: =H94*7 -> 252 | J94: 46294 | K94: =IF(C94="","",IF(J94="","N/A",+IF(A94=1,(+TODAY())-J94,"N/A"))) -> 16 | O94: 0.5 | P94: 0.5 | R94: =+$I94*L94 -> 0 | S94: =+$I94*M94 -> 0 | T94: =+$I94*N94 -> 0 | U94: =+$I94*O94 -> 126 | V94: =+$I94*P94 -> 126 | W94: =+$I94*Q94 -> 0 | X94: =SUM(R94:W94) -> 252 | Y94: =IF(C94="","",IF(L94+M94+N94+O94+P94+Q94=1,"OK","ERREUR")) -> OK | Z94: =IF(C94="","",IF(H94="","ERREUR","OK")) -> OK | AA94: =IF(D94="","",IF(J94="","ERREUR","OK")) -> OK | AD94: =+X94-I94 -> 0
A95: =+IF(H95>0,1,0) -> 1 | B95: GANGA tié-tié coumapan | C95: =IF(B95="","",_xlfn.XLOOKUP(B95, Sites!G:G, Sites!F:F, "N/A")) -> PNR-00094 | D95: =IF(B95="","",_xlfn.XLOOKUP(B95, Sites!G:G, Sites!E:E, "N/A")) -> 0 | E95: =IF(B95="","",_xlfn.XLOOKUP(B95, Sites!G:G, Sites!D:D, "N/A")) -> 0 | F95: =IF(B95="","",_xlfn.XLOOKUP(B95, Sites!G:G, Sites!H:H, "N/A")) -> 0 | G95: =IF(B95="","",_xlfn.XLOOKUP(B95, Sites!G:G, Sites!I:I, "N/A")) | H95: 3 | I95: =H95*7 -> 21 | J95: 46301 | K95: =IF(C95="","",IF(J95="","N/A",+IF(A95=1,(+TODAY())-J95,"N/A"))) -> 9 | O95: 1 | R95: =+$I95*L95 -> 0 | S95: =+$I95*M95 -> 0 | T95: =+$I95*N95 -> 0 | U95: =+$I95*O95 -> 21 | V95: =+$I95*P95 -> 0 | W95: =+$I95*Q95 -> 0 | X95: =SUM(R95:W95) -> 21 | Y95: =IF(C95="","",IF(L95+M95+N95+O95+P95+Q95=1,"OK","ERREUR")) -> OK | Z95: =IF(C95="","",IF(H95="","ERREUR","OK")) -> OK | AA95: =IF(D95="","",IF(J95="","ERREUR","OK")) -> OK | AD95: =+X95-I95 -> 0
A96: =+IF(H96>0,1,0) -> 1 | B96: GATEAUX D'ANNIVERSAIRE STE tchialli | C96: =IF(B96="","",_xlfn.XLOOKUP(B96, Sites!G:G, Sites!F:F, "N/A")) -> PNR-00095 | D96: =IF(B96="","",_xlfn.XLOOKUP(B96, Sites!G:G, Sites!E:E, "N/A")) -> 0 | E96: =IF(B96="","",_xlfn.XLOOKUP(B96, Sites!G:G, Sites!D:D, "N/A")) -> 0 | F96: =IF(B96="","",_xlfn.XLOOKUP(B96, Sites!G:G, Sites!H:H, "N/A")) -> 0 | G96: =IF(B96="","",_xlfn.XLOOKUP(B96, Sites!G:G, Sites!I:I, "N/A")) | H96: 3 | I96: =H96*7 -> 21 | J96: 46300 | K96: =IF(C96="","",IF(J96="","N/A",+IF(A96=1,(+TODAY())-J96,"N/A"))) -> 10 | O96: 1 | R96: =+$I96*L96 -> 0 | S96: =+$I96*M96 -> 0 | T96: =+$I96*N96 -> 0 | U96: =+$I96*O96 -> 21 | V96: =+$I96*P96 -> 0 | W96: =+$I96*Q96 -> 0 | X96: =SUM(R96:W96) -> 21 | Y96: =IF(C96="","",IF(L96+M96+N96+O96+P96+Q96=1,"OK","ERREUR")) -> OK | Z96: =IF(C96="","",IF(H96="","ERREUR","OK")) -> OK | AA96: =IF(D96="","",IF(J96="","ERREUR","OK")) -> OK | AD96: =+X96-I96 -> 0
A97: =+IF(H97>0,1,0) -> 1 | B97: GIRMA | C97: =IF(B97="","",_xlfn.XLOOKUP(B97, Sites!G:G, Sites!F:F, "N/A")) -> PNR-00096 | D97: =IF(B97="","",_xlfn.XLOOKUP(B97, Sites!G:G, Sites!E:E, "N/A")) -> Armel SOKAMBA | E97: =IF(B97="","",_xlfn.XLOOKUP(B97, Sites!G:G, Sites!D:D, "N/A")) -> 3 | F97: =IF(B97="","",_xlfn.XLOOKUP(B97, Sites!G:G, Sites!H:H, "N/A")) -> 0 | G97: =IF(B97="","",_xlfn.XLOOKUP(B97, Sites!G:G, Sites!I:I, "N/A")) | H97: 26 | I97: =H97*7 -> 182 | J97: 46301 | K97: =IF(C97="","",IF(J97="","N/A",+IF(A97=1,(+TODAY())-J97,"N/A"))) -> 9 | L97: 0.75 | P97: 0.25 | R97: =+$I97*L97 -> 136.5 | S97: =+$I97*M97 -> 0 | T97: =+$I97*N97 -> 0 | U97: =+$I97*O97 -> 0 | V97: =+$I97*P97 -> 45.5 | W97: =+$I97*Q97 -> 0 | X97: =SUM(R97:W97) -> 182 | Y97: =IF(C97="","",IF(L97+M97+N97+O97+P97+Q97=1,"OK","ERREUR")) -> OK | Z97: =IF(C97="","",IF(H97="","ERREUR","OK")) -> OK | AA97: =IF(D97="","",IF(J97="","ERREUR","OK")) -> OK | AD97: =+X97-I97 -> 0
A98: =+IF(H98>0,1,0) -> 1 | B98: GORGOL 2 mpaka dalette | C98: =IF(B98="","",_xlfn.XLOOKUP(B98, Sites!G:G, Sites!F:F, "N/A")) -> PNR-00097 | D98: =IF(B98="","",_xlfn.XLOOKUP(B98, Sites!G:G, Sites!E:E, "N/A")) -> Alexis MABOUNDA | E98: =IF(B98="","",_xlfn.XLOOKUP(B98, Sites!G:G, Sites!D:D, "N/A")) -> 1 | F98: =IF(B98="","",_xlfn.XLOOKUP(B98, Sites!G:G, Sites!H:H, "N/A")) -> 0 | G98: =IF(B98="","",_xlfn.XLOOKUP(B98, Sites!G:G, Sites!I:I, "N/A")) | H98: 12 | I98: =H98*7 -> 84 | J98: 46294 | K98: =IF(C98="","",IF(J98="","N/A",+IF(A98=1,(+TODAY())-J98,"N/A"))) -> 16 | L98: 1 | R98: =+$I98*L98 -> 84 | S98: =+$I98*M98 -> 0 | T98: =+$I98*N98 -> 0 | U98: =+$I98*O98 -> 0 | V98: =+$I98*P98 -> 0 | W98: =+$I98*Q98 -> 0 | X98: =SUM(R98:W98) -> 84 | Y98: =IF(C98="","",IF(L98+M98+N98+O98+P98+Q98=1,"OK","ERREUR")) -> OK | Z98: =IF(C98="","",IF(H98="","ERREUR","OK")) -> OK | AA98: =IF(D98="","",IF(J98="","ERREUR","OK")) -> OK | AD98: =+X98-I98 -> 0
A99: =+IF(H99>0,1,0) -> 1 | B99: GORGOL1 ngoyo | C99: =IF(B99="","",_xlfn.XLOOKUP(B99, Sites!G:G, Sites!F:F, "N/A")) -> PNR-00098 | D99: =IF(B99="","",_xlfn.XLOOKUP(B99, Sites!G:G, Sites!E:E, "N/A")) -> Alexis MABOUNDA | E99: =IF(B99="","",_xlfn.XLOOKUP(B99, Sites!G:G, Sites!D:D, "N/A")) -> 1 | F99: =IF(B99="","",_xlfn.XLOOKUP(B99, Sites!G:G, Sites!H:H, "N/A")) -> 0 | G99: =IF(B99="","",_xlfn.XLOOKUP(B99, Sites!G:G, Sites!I:I, "N/A")) | H99: 8 | I99: =H99*7 -> 56 | J99: 46301 | K99: =IF(C99="","",IF(J99="","N/A",+IF(A99=1,(+TODAY())-J99,"N/A"))) -> 9 | L99: 1 | R99: =+$I99*L99 -> 56 | S99: =+$I99*M99 -> 0 | T99: =+$I99*N99 -> 0 | U99: =+$I99*O99 -> 0 | V99: =+$I99*P99 -> 0 | W99: =+$I99*Q99 -> 0 | X99: =SUM(R99:W99) -> 56 | Y99: =IF(C99="","",IF(L99+M99+N99+O99+P99+Q99=1,"OK","ERREUR")) -> OK | Z99: =IF(C99="","",IF(H99="","ERREUR","OK")) -> OK | AA99: =IF(D99="","",IF(J99="","ERREUR","OK")) -> OK | AD99: =+X99-I99 -> 0
A100: =+IF(H100>0,1,0) -> 1 | B100: GORGOL1 ngoyo | C100: =IF(B100="","",_xlfn.XLOOKUP(B100, Sites!G:G, Sites!F:F, "N/A")) -> PNR-00098 | D100: =IF(B100="","",_xlfn.XLOOKUP(B100, Sites!G:G, Sites!E:E, "N/A")) -> Alexis MABOUNDA | E100: =IF(B100="","",_xlfn.XLOOKUP(B100, Sites!G:G, Sites!D:D, "N/A")) -> 1 | F100: =IF(B100="","",_xlfn.XLOOKUP(B100, Sites!G:G, Sites!H:H, "N/A")) -> 0 | G100: =IF(B100="","",_xlfn.XLOOKUP(B100, Sites!G:G, Sites!I:I, "N/A")) | H100: 10 | I100: =H100*7 -> 70 | J100: 46294 | K100: =IF(C100="","",IF(J100="","N/A",+IF(A100=1,(+TODAY())-J100,"N/A"))) -> 16 | Q100: 1 | R100: =+$I100*L100 -> 0 | S100: =+$I100*M100 -> 0 | T100: =+$I100*N100 -> 0 | U100: =+$I100*O100 -> 0 | V100: =+$I100*P100 -> 0 | W100: =+$I100*Q100 -> 70 | X100: =SUM(R100:W100) -> 70 | Y100: =IF(C100="","",IF(L100+M100+N100+O100+P100+Q100=1,"OK","ERREUR")) -> OK | Z100: =IF(C100="","",IF(H100="","ERREUR","OK")) -> OK | AA100: =IF(D100="","",IF(J100="","ERREUR","OK")) -> OK | AD100: =+X100-I100 -> 0
...

Sheet PDM 2026
A1: Week | B1: Minoco | C1: Fanta | D1: GMPN | E1: GMK | F1: SGMP | G1: MFB | H1: GMC
A2: 1 | B2: {=IFERROR(INDIRECT("'WEEK " & A2 & "'!O183"),0)} -> 0 | C2: {=IFERROR(INDIRECT("'WEEK " & A2 & "'!P183"),0)} -> 0 | D2: =SUM(B2:C2) -> 0 | E2: {=IFERROR(INDIRECT("'WEEK " & A2 & "'!R183"),0)} -> 0 | F2: {=IFERROR(INDIRECT("'WEEK " & A2 & "'!S183"),0)} -> 0 | G2: {=IFERROR(INDIRECT("'WEEK " & A2 & "'!T183"),0)} -> 0 | H2: {=IFERROR(INDIRECT("'WEEK " & A2 & "'!U183"),0)} -> 0 | I2: =+D2+E2+F2+G2+H2 -> 0
A3: 2 | B3: {=IFERROR(INDIRECT("'WEEK " & A3 & "'!O183"),0)} -> 0 | C3: {=IFERROR(INDIRECT("'WEEK " & A3 & "'!P183"),0)} -> 0 | D3: =SUM(B3:C3) -> 0 | E3: {=IFERROR(INDIRECT("'WEEK " & A3 & "'!R183"),0)} -> 0 | F3: {=IFERROR(INDIRECT("'WEEK " & A3 & "'!S183"),0)} -> 0 | G3: {=IFERROR(INDIRECT("'WEEK " & A3 & "'!T183"),0)} -> 0 | H3: {=IFERROR(INDIRECT("'WEEK " & A3 & "'!U183"),0)} -> 0 | I3: =+D3+E3+F3+G3+H3 -> 0
A4: 3 | B4: {=IFERROR(INDIRECT("'WEEK " & A4 & "'!O183"),0)} -> 0 | C4: {=IFERROR(INDIRECT("'WEEK " & A4 & "'!P183"),0)} -> 0 | D4: =SUM(B4:C4) -> 0 | E4: {=IFERROR(INDIRECT("'WEEK " & A4 & "'!R183"),0)} -> 0 | F4: {=IFERROR(INDIRECT("'WEEK " & A4 & "'!S183"),0)} -> 0 | G4: {=IFERROR(INDIRECT("'WEEK " & A4 & "'!T183"),0)} -> 0 | H4: {=IFERROR(INDIRECT("'WEEK " & A4 & "'!U183"),0)} -> 0 | I4: =+D4+E4+F4+G4+H4 -> 0
A5: 4 | B5: {=IFERROR(INDIRECT("'WEEK " & A5 & "'!O183"),0)} -> 0 | C5: {=IFERROR(INDIRECT("'WEEK " & A5 & "'!P183"),0)} -> 0 | D5: =SUM(B5:C5) -> 0 | E5: {=IFERROR(INDIRECT("'WEEK " & A5 & "'!R183"),0)} -> 0 | F5: {=IFERROR(INDIRECT("'WEEK " & A5 & "'!S183"),0)} -> 0 | G5: {=IFERROR(INDIRECT("'WEEK " & A5 & "'!T183"),0)} -> 0 | H5: {=IFERROR(INDIRECT("'WEEK " & A5 & "'!U183"),0)} -> 0 | I5: =+D5+E5+F5+G5+H5 -> 0
A6: 5 | B6: {=IFERROR(INDIRECT("'WEEK " & A6 & "'!O183"),0)} -> 0 | C6: {=IFERROR(INDIRECT("'WEEK " & A6 & "'!P183"),0)} -> 0 | D6: =SUM(B6:C6) -> 0 | E6: {=IFERROR(INDIRECT("'WEEK " & A6 & "'!R183"),0)} -> 0 | F6: {=IFERROR(INDIRECT("'WEEK " & A6 & "'!S183"),0)} -> 0 | G6: {=IFERROR(INDIRECT("'WEEK " & A6 & "'!T183"),0)} -> 0 | H6: {=IFERROR(INDIRECT("'WEEK " & A6 & "'!U183"),0)} -> 0 | I6: =+D6+E6+F6+G6+H6 -> 0
A7: 6 | B7: {=IFERROR(INDIRECT("'WEEK " & A7 & "'!O183"),0)} -> 0 | C7: {=IFERROR(INDIRECT("'WEEK " & A7 & "'!P183"),0)} -> 0 | D7: =SUM(B7:C7) -> 0 | E7: {=IFERROR(INDIRECT("'WEEK " & A7 & "'!R183"),0)} -> 0 | F7: {=IFERROR(INDIRECT("'WEEK " & A7 & "'!S183"),0)} -> 0 | G7: {=IFERROR(INDIRECT("'WEEK " & A7 & "'!T183"),0)} -> 0 | H7: {=IFERROR(INDIRECT("'WEEK " & A7 & "'!U183"),0)} -> 0 | I7: =+D7+E7+F7+G7+H7 -> 0
A8: 7 | B8: {=IFERROR(INDIRECT("'WEEK " & A8 & "'!O183"),0)} -> 0 | C8: {=IFERROR(INDIRECT("'WEEK " & A8 & "'!P183"),0)} -> 0 | D8: =SUM(B8:C8) -> 0 | E8: {=IFERROR(INDIRECT("'WEEK " & A8 & "'!R183"),0)} -> 0 | F8: {=IFERROR(INDIRECT("'WEEK " & A8 & "'!S183"),0)} -> 0 | G8: {=IFERROR(INDIRECT("'WEEK " & A8 & "'!T183"),0)} -> 0 | H8: {=IFERROR(INDIRECT("'WEEK " & A8 & "'!U183"),0)} -> 0 | I8: =+D8+E8+F8+G8+H8 -> 0
A9: 8 | B9: {=IFERROR(INDIRECT("'WEEK " & A9 & "'!O183"),0)} -> 0 | C9: {=IFERROR(INDIRECT("'WEEK " & A9 & "'!P183"),0)} -> 0 | D9: =SUM(B9:C9) -> 0 | E9: {=IFERROR(INDIRECT("'WEEK " & A9 & "'!R183"),0)} -> 0 | F9: {=IFERROR(INDIRECT("'WEEK " & A9 & "'!S183"),0)} -> 0 | G9: {=IFERROR(INDIRECT("'WEEK " & A9 & "'!T183"),0)} -> 0 | H9: {=IFERROR(INDIRECT("'WEEK " & A9 & "'!U183"),0)} -> 0 | I9: =+D9+E9+F9+G9+H9 -> 0
A10: 9 | B10: {=IFERROR(INDIRECT("'WEEK " & A10 & "'!O183"),0)} -> 0 | C10: {=IFERROR(INDIRECT("'WEEK " & A10 & "'!P183"),0)} -> 0 | D10: =SUM(B10:C10) -> 0 | E10: {=IFERROR(INDIRECT("'WEEK " & A10 & "'!R183"),0)} -> 0 | F10: {=IFERROR(INDIRECT("'WEEK " & A10 & "'!S183"),0)} -> 0 | G10: {=IFERROR(INDIRECT("'WEEK " & A10 & "'!T183"),0)} -> 0 | H10: {=IFERROR(INDIRECT("'WEEK " & A10 & "'!U183"),0)} -> 0 | I10: =+D10+E10+F10+G10+H10 -> 0
A11: 10 | B11: {=IFERROR(INDIRECT("'WEEK " & A11 & "'!O183"),0)} -> 0 | C11: {=IFERROR(INDIRECT("'WEEK " & A11 & "'!P183"),0)} -> 0 | D11: =SUM(B11:C11) -> 0 | E11: {=IFERROR(INDIRECT("'WEEK " & A11 & "'!R183"),0)} -> 0 | F11: {=IFERROR(INDIRECT("'WEEK " & A11 & "'!S183"),0)} -> 0 | G11: {=IFERROR(INDIRECT("'WEEK " & A11 & "'!T183"),0)} -> 0 | H11: {=IFERROR(INDIRECT("'WEEK " & A11 & "'!U183"),0)} -> 0 | I11: =+D11+E11+F11+G11+H11 -> 0
A12: 11 | B12: {=IFERROR(INDIRECT("'WEEK " & A12 & "'!O183"),0)} -> 0 | C12: {=IFERROR(INDIRECT("'WEEK " & A12 & "'!P183"),0)} -> 0 | D12: =SUM(B12:C12) -> 0 | E12: {=IFERROR(INDIRECT("'WEEK " & A12 & "'!R183"),0)} -> 0 | F12: {=IFERROR(INDIRECT("'WEEK " & A12 & "'!S183"),0)} -> 0 | G12: {=IFERROR(INDIRECT("'WEEK " & A12 & "'!T183"),0)} -> 0 | H12: {=IFERROR(INDIRECT("'WEEK " & A12 & "'!U183"),0)} -> 0 | I12: =+D12+E12+F12+G12+H12 -> 0
A13: 12 | B13: {=IFERROR(INDIRECT("'WEEK " & A13 & "'!O183"),0)} -> 0 | C13: {=IFERROR(INDIRECT("'WEEK " & A13 & "'!P183"),0)} -> 0 | D13: =SUM(B13:C13) -> 0 | E13: {=IFERROR(INDIRECT("'WEEK " & A13 & "'!R183"),0)} -> 0 | F13: {=IFERROR(INDIRECT("'WEEK " & A13 & "'!S183"),0)} -> 0 | G13: {=IFERROR(INDIRECT("'WEEK " & A13 & "'!T183"),0)} -> 0 | H13: {=IFERROR(INDIRECT("'WEEK " & A13 & "'!U183"),0)} -> 0 | I13: =+D13+E13+F13+G13+H13 -> 0
... A27: 26 | B27: {=IFERROR(INDIRECT("'WEEK " & A27 & "'!O183"),0)} -> 0 | C27: {=IFERROR(INDIRECT("'WEEK " & A27 & "'!P183"),0)} -> 0 | D27: =SUM(B27:C27) -> 0 | E27: {=IFERROR(INDIRECT("'WEEK " & A27 & "'!R183"),0)} -> 0 | F27: {=IFERROR(INDIRECT("'WEEK " & A27 & "'!S183"),0)} -> 0 | G27: {=IFERROR(INDIRECT("'WEEK " & A27 & "'!T183"),0)} -> 0 | H27: {=IFERROR(INDIRECT("'WEEK " & A27 & "'!U183"),0)} -> 0 | I27: =+D27+E27+F27+G27+H27 -> 0
A28: 27 | B28: {=IFERROR(INDIRECT("'WEEK " & A28 & "'!O183"),0)} -> 0 | C28: {=IFERROR(INDIRECT("'WEEK " & A28 & "'!P183"),0)} -> 0 | D28: =SUM(B28:C28) -> 0 | E28: {=IFERROR(INDIRECT("'WEEK " & A28 & "'!R183"),0)} -> 0 | F28: {=IFERROR(INDIRECT("'WEEK " & A28 & "'!S183"),0)} -> 0 | G28: {=IFERROR(INDIRECT("'WEEK " & A28 & "'!T183"),0)} -> 0 | H28: {=IFERROR(INDIRECT("'WEEK " & A28 & "'!U183"),0)} -> 0 | I28: =+D28+E28+F28+G28+H28 -> 0 | L28: IL FAUT RECONNECTER LE TABLEAU ET ENSUITE EFFACER CE MESSAGE.
A29: 28 | B29: {=IFERROR(INDIRECT("'WEEK " & A29 & "'!O183"),0)} -> 0 | C29: {=IFERROR(INDIRECT("'WEEK " & A29 & "'!P183"),0)} -> 0 | D29: =SUM(B29:C29) -> 0 | E29: {=IFERROR(INDIRECT("'WEEK " & A29 & "'!R183"),0)} -> 0 | F29: {=IFERROR(INDIRECT("'WEEK " & A29 & "'!S183"),0)} -> 0 | G29: {=IFERROR(INDIRECT("'WEEK " & A29 & "'!T183"),0)} -> 0 | H29: {=IFERROR(INDIRECT("'WEEK " & A29 & "'!U183"),0)} -> 0 | I29: =+D29+E29+F29+G29+H29 -> 0
A30: 29 | B30: {=IFERROR(INDIRECT("'WEEK " & A30 & "'!O183"),0)} -> 0 | C30: {=IFERROR(INDIRECT("'WEEK " & A30 & "'!P183"),0)} -> 0 | D30: =SUM(B30:C30) -> 0 | E30: {=IFERROR(INDIRECT("'WEEK " & A30 & "'!R183"),0)} -> 0 | F30: {=IFERROR(INDIRECT("'WEEK " & A30 & "'!S183"),0)} -> 0 | G30: {=IFERROR(INDIRECT("'WEEK " & A30 & "'!T183"),0)} -> 0 | H30: {=IFERROR(INDIRECT("'WEEK " & A30 & "'!U183"),0)} -> 0 | I30: =+D30+E30+F30+G30+H30 -> 0
A31: 30 | B31: {=IFERROR(INDIRECT("'WEEK " & A31 & "'!O183"),0)} -> 0 | C31: {=IFERROR(INDIRECT("'WEEK " & A31 & "'!P183"),0)} -> 0 | D31: =SUM(B31:C31) -> 0 | E31: {=IFERROR(INDIRECT("'WEEK " & A31 & "'!R183"),0)} -> 0 | F31: {=IFERROR(INDIRECT("'WEEK " & A31 & "'!S183"),0)} -> 0 | G31: {=IFERROR(INDIRECT("'WEEK " & A31 & "'!T183"),0)} -> 0 | H31: {=IFERROR(INDIRECT("'WEEK " & A31 & "'!U183"),0)} -> 0 | I31: =+D31+E31+F31+G31+H31 -> 0
A32: 31 | B32: {=IFERROR(INDIRECT("'WEEK " & A32 & "'!O183"),0)} -> 0 | C32: {=IFERROR(INDIRECT("'WEEK " & A32 & "'!P183"),0)} -> 0 | D32: =SUM(B32:C32) -> 0 | E32: {=IFERROR(INDIRECT("'WEEK " & A32 & "'!R183"),0)} -> 0 | F32: {=IFERROR(INDIRECT("'WEEK " & A32 & "'!S183"),0)} -> 0 | G32: {=IFERROR(INDIRECT("'WEEK " & A32 & "'!T183"),0)} -> 0 | H32: {=IFERROR(INDIRECT("'WEEK " & A32 & "'!U183"),0)} -> 0 | I32: =+D32+E32+F32+G32+H32 -> 0
A33: 32 | B33: {=IFERROR(INDIRECT("'WEEK " & A33 & "'!O183"),0)} -> 0 | C33: {=IFERROR(INDIRECT("'WEEK " & A33 & "'!P183"),0)} -> 0 | D33: =SUM(B33:C33) -> 0 | E33: {=IFERROR(INDIRECT("'WEEK " & A33 & "'!R183"),0)} -> 0 | F33: {=IFERROR(INDIRECT("'WEEK " & A33 & "'!S183"),0)} -> 0 | G33: {=IFERROR(INDIRECT("'WEEK " & A33 & "'!T183"),0)} -> 0 | H33: {=IFERROR(INDIRECT("'WEEK " & A33 & "'!U183"),0)} -> 0 | I33: =+D33+E33+F33+G33+H33 -> 0
A34: 33 | B34: {=IFERROR(INDIRECT("'WEEK " & A34 & "'!O183"),0)} -> 0 | C34: {=IFERROR(INDIRECT("'WEEK " & A34 & "'!P183"),0)} -> 0 | D34: =SUM(B34:C34) -> 0 | E34: {=IFERROR(INDIRECT("'WEEK " & A34 & "'!R183"),0)} -> 0 | F34: {=IFERROR(INDIRECT("'WEEK " & A34 & "'!S183"),0)} -> 0 | G34: {=IFERROR(INDIRECT("'WEEK " & A34 & "'!T183"),0)} -> 0 | H34: {=IFERROR(INDIRECT("'WEEK " & A34 & "'!U183"),0)} -> 0 | I34: =+D34+E34+F34+G34+H34 -> 0
A35: 34 | B35: {=IFERROR(INDIRECT("'WEEK " & A35 & "'!O183"),0)} -> 0 | C35: {=IFERROR(INDIRECT("'WEEK " & A35 & "'!P183"),0)} -> 0 | D35: =SUM(B35:C35) -> 0 | E35: {=IFERROR(INDIRECT("'WEEK " & A35 & "'!R183"),0)} -> 0 | F35: {=IFERROR(INDIRECT("'WEEK " & A35 & "'!S183"),0)} -> 0 | G35: {=IFERROR(INDIRECT("'WEEK " & A35 & "'!T183"),0)} -> 0 | H35: {=IFERROR(INDIRECT("'WEEK " & A35 & "'!U183"),0)} -> 0 | I35: =+D35+E35+F35+G35+H35 -> 0
A36: 35 | B36: {=IFERROR(INDIRECT("'WEEK " & A36 & "'!O183"),0)} -> 0 | C36: {=IFERROR(INDIRECT("'WEEK " & A36 & "'!P183"),0)} -> 0 | D36: =SUM(B36:C36) -> 0 | E36: {=IFERROR(INDIRECT("'WEEK " & A36 & "'!R183"),0)} -> 0 | F36: {=IFERROR(INDIRECT("'WEEK " & A36 & "'!S183"),0)} -> 0 | G36: {=IFERROR(INDIRECT("'WEEK " & A36 & "'!T183"),0)} -> 0 | H36: {=IFERROR(INDIRECT("'WEEK " & A36 & "'!U183"),0)} -> 0 | I36: =+D36+E36+F36+G36+H36 -> 0
A37: 36 | B37: {=IFERROR(INDIRECT("'WEEK " & A37 & "'!O183"),0)} -> 0 | C37: {=IFERROR(INDIRECT("'WEEK " & A37 & "'!P183"),0)} -> 0 | D37: =SUM(B37:C37) -> 0 | E37: {=IFERROR(INDIRECT("'WEEK " & A37 & "'!R183"),0)} -> 0 | F37: {=IFERROR(INDIRECT("'WEEK " & A37 & "'!S183"),0)} -> 0 | G37: {=IFERROR(INDIRECT("'WEEK " & A37 & "'!T183"),0)} -> 0 | H37: {=IFERROR(INDIRECT("'WEEK " & A37 & "'!U183"),0)} -> 0 | I37: =+D37+E37+F37+G37+H37 -> 0
A38: 37 | B38: {=IFERROR(INDIRECT("'WEEK " & A38 & "'!O183"),0)} -> 0 | C38: {=IFERROR(INDIRECT("'WEEK " & A38 & "'!P183"),0)} -> 0 | D38: =SUM(B38:C38) -> 0 | E38: {=IFERROR(INDIRECT("'WEEK " & A38 & "'!R183"),0)} -> 0 | F38: {=IFERROR(INDIRECT("'WEEK " & A38 & "'!S183"),0)} -> 0 | G38: {=IFERROR(INDIRECT("'WEEK " & A38 & "'!T183"),0)} -> 0 | H38: {=IFERROR(INDIRECT("'WEEK " & A38 & "'!U183"),0)} -> 0 | I38: =+D38+E38+F38+G38+H38 -> 0
A39: 38 | B39: {=IFERROR(INDIRECT("'WEEK " & A39 & "'!O183"),0)} -> 0 | C39: {=IFERROR(INDIRECT("'WEEK " & A39 & "'!P183"),0)} -> 0 | D39: =SUM(B39:C39) -> 0 | E39: {=IFERROR(INDIRECT("'WEEK " & A39 & "'!R183"),0)} -> 0 | F39: {=IFERROR(INDIRECT("'WEEK " & A39 & "'!S183"),0)} -> 0 | G39: {=IFERROR(INDIRECT("'WEEK " & A39 & "'!T183"),0)} -> 0 | H39: {=IFERROR(INDIRECT("'WEEK " & A39 & "'!U183"),0)} -> 0 | I39: =+D39+E39+F39+G39+H39 -> 0
A40: 39 | B40: {=IFERROR(INDIRECT("'WEEK " & A40 & "'!O183"),0)} -> 0 | C40: {=IFERROR(INDIRECT("'WEEK " & A40 & "'!P183"),0)} -> 0 | D40: =SUM(B40:C40) -> 0 | E40: {=IFERROR(INDIRECT("'WEEK " & A40 & "'!R183"),0)} -> 0 | F40: {=IFERROR(INDIRECT("'WEEK " & A40 & "'!S183"),0)} -> 0 | G40: {=IFERROR(INDIRECT("'WEEK " & A40 & "'!T183"),0)} -> 0 | H40: {=IFERROR(INDIRECT("'WEEK " & A40 & "'!U183"),0)} -> 0 | I40: =+D40+E40+F40+G40+H40 -> 0
... A54: 53 | B54: {=IFERROR(INDIRECT("'WEEK " & A54 & "'!O183"),0)} -> 0 | C54: {=IFERROR(INDIRECT("'WEEK " & A54 & "'!P183"),0)} -> 0 | D54: =SUM(B54:C54) -> 0 | E54: {=IFERROR(INDIRECT("'WEEK " & A54 & "'!R183"),0)} -> 0 | F54: {=IFERROR(INDIRECT("'WEEK " & A54 & "'!S183"),0)} -> 0 | G54: {=IFERROR(INDIRECT("'WEEK " & A54 & "'!T183"),0)} -> 0 | H54: {=IFERROR(INDIRECT("'WEEK " & A54 & "'!U183"),0)} -> 0 | I54: =+D54+E54+F54+G54+H54 -> 0

Sheet Sites
A1: Index | B1: Actif | C1: Type | D1: Secteur | E1: Technico Commercial | F1: ID site | G1: Site | H1: Client | I1: ID client | J1: Latitude | K1: Longitude | L1: Commentaire | M1: TBD | N1: TBD | O1: TBD | P1: TBD | Q1: TBD | R1: TBD | S1: TBD | T1: TBD | U1: TBD
A2: 1 | B2: Oui | C2: cash | D2: 2 | E2: =_xlfn.XLOOKUP(D2, Secteurs!A:A, Secteurs!C:C, "N/A") -> Félix OVOURA | F2: PNR-00001 | G2: AFRICAINE1 nkouikou nzango | H2: CLIENT 7 | I2: =IF(G2="","",IF(H2="","",_xlfn.XLOOKUP(H2, Clients!D:D, Clients!C:C, "N/A"))) -> REF-00007 | J2: -4.760972 | K2: 11.894225
A3: 2 | B3: Oui | C3: cash | D3: 2 | E3: =_xlfn.XLOOKUP(D3, Secteurs!A:A, Secteurs!C:C, "N/A") -> Félix OVOURA | F3: PNR-00002 | G3: AFRICAINE2 nkouinkou vonvon | H3: CLIENT 1 | I3: =IF(G3="","",IF(H3="","",_xlfn.XLOOKUP(H3, Clients!D:D, Clients!C:C, "N/A"))) -> REF-00001 | J3: -4.7653793 | K3: 11.888867
A4: 3 | B4: Oui | C4: cash | D4: 2 | E4: =_xlfn.XLOOKUP(D4, Secteurs!A:A, Secteurs!C:C, "N/A") -> Félix OVOURA | F4: PNR-00003 | G4: AFRICAINE3 tchialli | H4: CLIENT 3 | I4: =IF(G4="","",IF(H4="","",_xlfn.XLOOKUP(H4, Clients!D:D, Clients!C:C, "N/A"))) -> REF-00003 | J4: -4.740813 | K4: 11.872248
A5: 4 | B5: Oui | C5: cash | D5: 1 | E5: =_xlfn.XLOOKUP(D5, Secteurs!A:A, Secteurs!C:C, "N/A") -> Alexis MABOUNDA | F5: PNR-00004 | G5: AFRICAINE4 la fontaine | I5: =IF(G5="","",IF(H5="","",_xlfn.XLOOKUP(H5, Clients!D:D, Clients!C:C, "N/A"))) | J5: -4.7847704 | K5: 11.890808
A6: 5 | B6: Oui | C6: cash | D6: 1 | E6: =_xlfn.XLOOKUP(D6, Secteurs!A:A, Secteurs!C:C, "N/A") -> Alexis MABOUNDA | F6: PNR-00005 | G6: AFRICAINE5 ngoyo avenue taty loutard | I6: =IF(G6="","",IF(H6="","",_xlfn.XLOOKUP(H6, Clients!D:D, Clients!C:C, "N/A"))) | J6: -4.8459595 | K6: 11.90738
A7: 6 | B7: Oui | C7: cash | D7: 3 | E7: =_xlfn.XLOOKUP(D7, Secteurs!A:A, Secteurs!C:C, "N/A") -> Armel SOKAMBA | F7: PNR-00006 | G7: AFRICAINE6 ngoyo central | I7: =IF(G7="","",IF(H7="","",_xlfn.XLOOKUP(H7, Clients!D:D, Clients!C:C, "N/A"))) | J7: -4.8559791 | K7: 11.913618
A8: 7 | B8: Oui | C8: cash | D8: 2 | E8: =_xlfn.XLOOKUP(D8, Secteurs!A:A, Secteurs!C:C, "N/A") -> Félix OVOURA | F8: PNR-00007 | G8: AFRICAINE7 nzassi | I8: =IF(G8="","",IF(H8="","",_xlfn.XLOOKUP(H8, Clients!D:D, Clients!C:C, "N/A")))
A9: 8 | B9: Oui | C9: cash | D9: 3 | E9: =_xlfn.XLOOKUP(D9, Secteurs!A:A, Secteurs!C:C, "N/A") -> Armel SOKAMBA | F9: PNR-00008 | G9: AL MONA rond point sogolo | I9: =IF(G9="","",IF(H9="","",_xlfn.XLOOKUP(H9, Clients!D:D, Clients!C:C, "N/A"))) | J9: -4.763584 | K9: 11.86124
A10: 9 | B10: Oui | E10: =_xlfn.XLOOKUP(D10, Secteurs!A:A, Secteurs!C:C, "N/A") -> 0 | F10: PNR-00009 | G10: AMOUR DE MPAKA | I10: =IF(G10="","",IF(H10="","",_xlfn.XLOOKUP(H10, Clients!D:D, Clients!C:C, "N/A"))) | J10: -4.8042877 | K10: 11.921242
A11: 10 | B11: Oui | E11: =_xlfn.XLOOKUP(D11, Secteurs!A:A, Secteurs!C:C, "N/A") -> 0 | F11: PNR-00010 | G11: ARC EN CIEL EX LISA ngoyo péage | I11: =IF(G11="","",IF(H11="","",_xlfn.XLOOKUP(H11, Clients!D:D, Clients!C:C, "N/A"))) | J11: -4.885089 | K11: 11.928425
A12: 11 | B12: Oui | C12: cash | D12: 3 | E12: =_xlfn.XLOOKUP(D12, Secteurs!A:A, Secteurs!C:C, "N/A") -> Armel SOKAMBA | F12: PNR-00011 | G12: ARDOSSON 1 | I12: =IF(G12="","",IF(H12="","",_xlfn.XLOOKUP(H12, Clients!D:D, Clients!C:C, "N/A"))) | L12: Il y a combien d'ardosson?
A13: 12 | B13: Oui | C13: cash | D13: 2 | E13: =_xlfn.XLOOKUP(D13, Secteurs!A:A, Secteurs!C:C, "N/A") -> Félix OVOURA | F13: PNR-00012 | G13: ARDOSSON 2 | I13: =IF(G13="","",IF(H13="","",_xlfn.XLOOKUP(H13, Clients!D:D, Clients!C:C, "N/A"))) | L13: Il y a combien d'ardosson?
A14: 13 | B14: Oui | C14: cash | D14: 1 | E14: =_xlfn.XLOOKUP(D14, Secteurs!A:A, Secteurs!C:C, "N/A") -> Alexis MABOUNDA | F14: PNR-00013 | G14: ATAKAHYR mayinga | I14: =IF(G14="","",IF(H14="","",_xlfn.XLOOKUP(H14, Clients!D:D, Clients!C:C, "N/A"))) | J14: -4.8393837 | K14: 11.895826
A15: 14 | B15: Oui | C15: cash | D15: 2 | E15: =_xlfn.XLOOKUP(D15, Secteurs!A:A, Secteurs!C:C, "N/A") -> Félix OVOURA | F15: PNR-00014 | G15: ATAKALKHAYR fouks | I15: =IF(G15="","",IF(H15="","",_xlfn.XLOOKUP(H15, Clients!D:D, Clients!C:C, "N/A"))) | J15: -4.783137 | K15: 11.882978
A16: 15 | B16: Oui | C16: cash | D16: 2 | E16: =_xlfn.XLOOKUP(D16, Secteurs!A:A, Secteurs!C:C, "N/A") -> Félix OVOURA | F16: PNR-00015 | G16: ATAKALKHAYR loandjili | I16: =IF(G16="","",IF(H16="","",_xlfn.XLOOKUP(H16, Clients!D:D, Clients!C:C, "N/A"))) | J16: -4.762534 | K16: 11.873727
A17: 16 | B17: Oui | C17: cash | D17: 2 | E17: =_xlfn.XLOOKUP(D17, Secteurs!A:A, Secteurs!C:C, "N/A") -> Félix OVOURA | F17: PNR-00016 | G17: AYA fond -tié-tié | I17: =IF(G17="","",IF(H17="","",_xlfn.XLOOKUP(H17, Clients!D:D, Clients!C:C, "N/A"))) | J17: -4.8069357 | K17: 11.900482
A18: 17 | B18: Oui | E18: =_xlfn.XLOOKUP(D18, Secteurs!A:A, Secteurs!C:C, "N/A") -> 0 | F18: PNR-00017 | G18: AYOUNE MAKAYABOU | I18: =IF(G18="","",IF(H18="","",_xlfn.XLOOKUP(H18, Clients!D:D, Clients!C:C, "N/A"))) | J18: -4.7570185 | K18: 11.883769
A19: 18 | B19: Oui | C19: crédit | D19: 1 | E19: =_xlfn.XLOOKUP(D19, Secteurs!A:A, Secteurs!C:C, "N/A") -> Alexis MABOUNDA | F19: PNR-00018 | G19: AZALAYE makulungulu | I19: =IF(G19="","",IF(H19="","",_xlfn.XLOOKUP(H19, Clients!D:D, Clients!C:C, "N/A"))) | J19: -4.7677697 | K19: 11.894995
A20: 19 | B20: Oui | C20: cash | D20: 3 | E20: =_xlfn.XLOOKUP(D20, Secteurs!A:A, Secteurs!C:C, "N/A") -> Armel SOKAMBA | F20: PNR-00019 | G20: BA fond tié-tié gare | I20: =IF(G20="","",IF(H20="","",_xlfn.XLOOKUP(H20, Clients!D:D, Clients!C:C, "N/A"))) | J20: -4.8037731 | K20: 11.897428
A21: 20 | B21: Oui | C21: cash | D21: 2 | E21: =_xlfn.XLOOKUP(D21, Secteurs!A:A, Secteurs!C:C, "N/A") -> Félix OVOURA | F21: PNR-00020 | G21: BA fond tié-tié en allant vers voungou | I21: =IF(G21="","",IF(H21="","",_xlfn.XLOOKUP(H21, Clients!D:D, Clients!C:C, "N/A"))) | J21: -4.8020165 | K21: 11.899555
A22: 21 | B22: Oui | C22: cash | D22: 2 | E22: =_xlfn.XLOOKUP(D22, Secteurs!A:A, Secteurs!C:C, "N/A") -> Félix OVOURA | F22: PNR-00021 | G22: BA mpaka dalette | I22: =IF(G22="","",IF(H22="","",_xlfn.XLOOKUP(H22, Clients!D:D, Clients!C:C, "N/A"))) | J22: -4.8240881 | K22: 11.907605
A23: 22 | B23: Oui | C23: cash | D23: 2 | E23: =_xlfn.XLOOKUP(D23, Secteurs!A:A, Secteurs!C:C, "N/A") -> Félix OVOURA | F23: PNR-00022 | G23: BA mpaka marché LEWILIS | I23: =IF(G23="","",IF(H23="","",_xlfn.XLOOKUP(H23, Clients!D:D, Clients!C:C, "N/A"))) | J23: -4.8170914 | K23: 11.911328
A24: 23 | B24: Oui | C24: cash | D24: 3 | E24: =_xlfn.XLOOKUP(D24, Secteurs!A:A, Secteurs!C:C, "N/A") -> Armel SOKAMBA | F24: PNR-00023 | G24: BA mvoumvou immigration | I24: =IF(G24="","",IF(H24="","",_xlfn.XLOOKUP(H24, Clients!D:D, Clients!C:C, "N/A"))) | J24: -4.778628 | K24: 11.867432
A25: 24 | B25: Oui | C25: cash | D25: 3 | E25: =_xlfn.XLOOKUP(D25, Secteurs!A:A, Secteurs!C:C, "N/A") -> Armel SOKAMBA | F25: PNR-00024 | G25: BA ngoyo | I25: =IF(G25="","",IF(H25="","",_xlfn.XLOOKUP(H25, Clients!D:D, Clients!C:C, "N/A"))) | J25: -4.8608653 | K25: 11.981989
A26: 25 | B26: Oui | C26: cash | D26: 2 | E26: =_xlfn.XLOOKUP(D26, Secteurs!A:A, Secteurs!C:C, "N/A") -> Félix OVOURA | F26: PNR-00025 | G26: BA thyster mongo mpoukou | I26: =IF(G26="","",IF(H26="","",_xlfn.XLOOKUP(H26, Clients!D:D, Clients!C:C, "N/A"))) | J26: -4.7495164 | K26: 11.904749
A27: 26 | B27: Oui | E27: =_xlfn.XLOOKUP(D27, Secteurs!A:A, Secteurs!C:C, "N/A") -> 0 | F27: PNR-00026 | G27: BABA.M EX MAKKAH Vindoulou station | I27: =IF(G27="","",IF(H27="","",_xlfn.XLOOKUP(H27, Clients!D:D, Clients!C:C, "N/A"))) | J27: -4.7438044 | K27: 11.909114
A28: 27 | B28: Oui | E28: =_xlfn.XLOOKUP(D28, Secteurs!A:A, Secteurs!C:C, "N/A") -> 0 | F28: PNR-00027 | G28: BABA.M EX MAKKAH marché nkounikou1 | I28: =IF(G28="","",IF(H28="","",_xlfn.XLOOKUP(H28, Clients!D:D, Clients!C:C, "N/A"))) | J28: -4.764176 | K28: 11.884369
A29: 28 | B29: Oui | C29: crédit | D29: 3 | E29: =_xlfn.XLOOKUP(D29, Secteurs!A:A, Secteurs!C:C, "N/A") -> Armel SOKAMBA | F29: PNR-00028 | G29: BAGUETTE D'EXCELLENCE nkouinkou | I29: =IF(G29="","",IF(H29="","",_xlfn.XLOOKUP(H29, Clients!D:D, Clients!C:C, "N/A"))) | J29: -4.7648739 | K29: 11.889282
A30: 29 | B30: Oui | C30: cash | D30: 3 | E30: =_xlfn.XLOOKUP(D30, Secteurs!A:A, Secteurs!C:C, "N/A") -> Armel SOKAMBA | F30: PNR-00029 | G30: BAH ex BMM paka maison blanche | I30: =IF(G30="","",IF(H30="","",_xlfn.XLOOKUP(H30, Clients!D:D, Clients!C:C, "N/A"))) | J30: -4.8140059 | K30: 11.908191
A31: 30 | B31: Oui | C31: cash | D31: 3 | E31: =_xlfn.XLOOKUP(D31, Secteurs!A:A, Secteurs!C:C, "N/A") -> Armel SOKAMBA | F31: PNR-00030 | G31: BAH ex HACEN fond tié-tié | I31: =IF(G31="","",IF(H31="","",_xlfn.XLOOKUP(H31, Clients!D:D, Clients!C:C, "N/A"))) | J31: -4.8022432 | K31: 11.895797
A32: 31 | B32: Oui | C32: cash | D32: 2 | E32: =_xlfn.XLOOKUP(D32, Secteurs!A:A, Secteurs!C:C, "N/A") -> Félix OVOURA | F32: PNR-00031 | G32: BAH ex SASI tié tié massola | I32: =IF(G32="","",IF(H32="","",_xlfn.XLOOKUP(H32, Clients!D:D, Clients!C:C, "N/A"))) | J32: -4.792651 | K32: 11.885542
A33: 32 | B33: Oui | C33: cash | D33: 3 | E33: =_xlfn.XLOOKUP(D33, Secteurs!A:A, Secteurs!C:C, "N/A") -> Armel SOKAMBA | F33: PNR-00032 | G33: BENI EX GORGOL 2 mpaka dalette | I33: =IF(G33="","",IF(H33="","",_xlfn.XLOOKUP(H33, Clients!D:D, Clients!C:C, "N/A"))) | J33: -4.8225801 | K33: 11.904747
A34: 33 | B34: Oui | C34: cash | D34: 1 | E34: =_xlfn.XLOOKUP(D34, Secteurs!A:A, Secteurs!C:C, "N/A") -> Alexis MABOUNDA | F34: PNR-00033 | G34: BICLE | I34: =IF(G34="","",IF(H34="","",_xlfn.XLOOKUP(H34, Clients!D:D, Clients!C:C, "N/A"))) | J34: -4.8447844 | K34: 11.898438
A35: 34 | B35: Oui | C35: crédit | D35: 2 | E35: =_xlfn.XLOOKUP(D35, Secteurs!A:A, Secteurs!C:C, "N/A") -> Félix OVOURA | F35: PNR-00034 | G35: BM EX ELKER WENVIR vindoulou arrêt sapin | I35: =IF(G35="","",IF(H35="","",_xlfn.XLOOKUP(H35, Clients!D:D, Clients!C:C, "N/A"))) | J35: -4.7404305 | K35: 11.911613
A36: 35 | B36: Oui | E36: =_xlfn.XLOOKUP(D36, Secteurs!A:A, Secteurs!C:C, "N/A") -> 0 | F36: PNR-00035 | G36: BON CHOIX FOND TIE TIE | I36: =IF(G36="","",IF(H36="","",_xlfn.XLOOKUP(H36, Clients!D:D, Clients!C:C, "N/A"))) | J36: -4.8039516 | K36: 11.894482
A37: 36 | B37: Oui | C37: crédit | D37: 1 | E37: =_xlfn.XLOOKUP(D37, Secteurs!A:A, Secteurs!C:C, "N/A") -> Alexis MABOUNDA | F37: PNR-00036 | G37: BON CHOIX ngoyo | I37: =IF(G37="","",IF(H37="","",_xlfn.XLOOKUP(H37, Clients!D:D, Clients!C:C, "N/A"))) | J37: -4.8642673 | K37: 11.922325
A38: 37 | B38: Oui | C38: crédit | D38: 1 | E38: =_xlfn.XLOOKUP(D38, Secteurs!A:A, Secteurs!C:C, "N/A") -> Alexis MABOUNDA | F38: PNR-00037 | G38: BON CHOIX ex GAZA 2 km4 | I38: =IF(G38="","",IF(H38="","",_xlfn.XLOOKUP(H38, Clients!D:D, Clients!C:C, "N/A")))
A39: 38 | B39: Oui | E39: =_xlfn.XLOOKUP(D39, Secteurs!A:A, Secteurs!C:C, "N/A") -> 0 | F39: PNR-00038 | G39: BON CHOIX tié tié masola | I39: =IF(G39="","",IF(H39="","",_xlfn.XLOOKUP(H39, Clients!D:D, Clients!C:C, "N/A"))) | J39: -4.7899 | K39: 11.882686
A40: 39 | B40: Oui | E40: =_xlfn.XLOOKUP(D40, Secteurs!A:A, Secteurs!C:C, "N/A") -> 0 | F40: PNR-00039 | G40: BOPAIN Tié-tié Congo Malembé | I40: =IF(G40="","",IF(H40="","",_xlfn.XLOOKUP(H40, Clients!D:D, Clients!C:C, "N/A"))) | J40: -4.7948189 | K40: 11.887858
A41: 40 | B41: Oui | C41: crédit | D41: 3 | E41: =_xlfn.XLOOKUP(D41, Secteurs!A:A, Secteurs!C:C, "N/A") -> Armel SOKAMBA | F41: PNR-00040 | G41: BOUDI mvou-mvou | I41: =IF(G41="","",IF(H41="","",_xlfn.XLOOKUP(H41, Clients!D:D, Clients!C:C, "N/A"))) | J41: -4.780934 | K41: 11.866353
A42: 41 | B42: Oui | E42: =_xlfn.XLOOKUP(D42, Secteurs!A:A, Secteurs!C:C, "N/A") -> 0 | F42: PNR-00041 | G42: BOULANGERIE 3D | I42: =IF(G42="","",IF(H42="","",_xlfn.XLOOKUP(H42, Clients!D:D, Clients!C:C, "N/A"))) | J42: -4.7095744 | K42: 11.854424
A43: 42 | B43: Oui | E43: =_xlfn.XLOOKUP(D43, Secteurs!A:A, Secteurs!C:C, "N/A") -> 0 | F43: PNR-00042 | G43: BOULANGERIE DE LA CITE | I43: =IF(G43="","",IF(H43="","",_xlfn.XLOOKUP(H43, Clients!D:D, Clients!C:C, "N/A"))) | J43: -4.761913 | K43: 11.91831
A44: 43 | B44: Oui | E44: =_xlfn.XLOOKUP(D44, Secteurs!A:A, Secteurs!C:C, "N/A") -> 0 | F44: PNR-00043 | G44: BOULANGERIE H-J | I44: =IF(G44="","",IF(H44="","",_xlfn.XLOOKUP(H44, Clients!D:D, Clients!C:C, "N/A"))) | J44: -4.7549132 | K44: 11.856564
A45: 44 | B45: Oui | E45: =_xlfn.XLOOKUP(D45, Secteurs!A:A, Secteurs!C:C, "N/A") -> 0 | F45: PNR-00044 | G45: BOULANGERIE KONATE | I45: =IF(G45="","",IF(H45="","",_xlfn.XLOOKUP(H45, Clients!D:D, Clients!C:C, "N/A"))) | J45: -4.7532579 | K45: 11.873755
A46: 45 | B46: Oui | E46: =_xlfn.XLOOKUP(D46, Secteurs!A:A, Secteurs!C:C, "N/A") -> 0 | F46: PNR-00045 | G46: Boulangerie la baguette | I46: =IF(G46="","",IF(H46="","",_xlfn.XLOOKUP(H46, Clients!D:D, Clients!C:C, "N/A")))
A47: 46 | B47: Oui | E47: =_xlfn.XLOOKUP(D47, Secteurs!A:A, Secteurs!C:C, "N/A") -> 0 | F47: PNR-00046 | G47: BOULANGERIE NB VOUNGOU CONTRE RAILS | I47: =IF(G47="","",IF(H47="","",_xlfn.XLOOKUP(H47, Clients!D:D, Clients!C:C, "N/A")))
A48: 47 | B48: Oui | E48: =_xlfn.XLOOKUP(D48, Secteurs!A:A, Secteurs!C:C, "N/A") -> 0 | F48: PNR-00047 | G48: BOULANGERIE STE | I48: =IF(G48="","",IF(H48="","",_xlfn.XLOOKUP(H48, Clients!D:D, Clients!C:C, "N/A"))) | J48: -4.7464032 | K48: 11.907258
A49: 48 | B49: Oui | C49: cash | D49: 2 | E49: =_xlfn.XLOOKUP(D49, Secteurs!A:A, Secteurs!C:C, "N/A") -> Félix OVOURA | F49: PNR-00048 | G49: CASA Ets AMITIE ex CONGO2 voungou école primaire | I49: =IF(G49="","",IF(H49="","",_xlfn.XLOOKUP(H49, Clients!D:D, Clients!C:C, "N/A"))) | J49: -4.7873 | K49: 11.892714
A50: 49 | B50: Oui | E50: =_xlfn.XLOOKUP(D50, Secteurs!A:A, Secteurs!C:C, "N/A") -> 0 | F50: PNR-00049 | G50: CELIA ZOLA VOUNGOU | I50: =IF(G50="","",IF(H50="","",_xlfn.XLOOKUP(H50, Clients!D:D, Clients!C:C, "N/A"))) | J50: -4.786407 | K50: 11.915386
A51: 50 | B51: Oui | C51: cash | D51: 2 | E51: =_xlfn.XLOOKUP(D51, Secteurs!A:A, Secteurs!C:C, "N/A") -> Félix OVOURA | F51: PNR-00050 | G51: CHRISTINA kitoko daniel | I51: =IF(G51="","",IF(H51="","",_xlfn.XLOOKUP(H51, Clients!D:D, Clients!C:C, "N/A"))) | J51: -4.776782 | K51: 11.871675
A52: 51 | B52: Oui | C52: crédit | D52: 1 | E52: =_xlfn.XLOOKUP(D52, Secteurs!A:A, Secteurs!C:C, "N/A") -> Alexis MABOUNDA | F52: PNR-00051 | G52: CONGO FUTUR moukondo | I52: =IF(G52="","",IF(H52="","",_xlfn.XLOOKUP(H52, Clients!D:D, Clients!C:C, "N/A"))) | J52: -4.7051616 | K52: 11.853695
A53: 52 | B53: Oui | C53: crédit | D53: 3 | E53: =_xlfn.XLOOKUP(D53, Secteurs!A:A, Secteurs!C:C, "N/A") -> Armel SOKAMBA | F53: PNR-00052 | G53: CONGO FUTUR arrêt manguier | I53: =IF(G53="","",IF(H53="","",_xlfn.XLOOKUP(H53, Clients!D:D, Clients!C:C, "N/A"))) | J53: -4.73598 | K53: 11.863253
A54: 53 | B54: Oui | C54: crédit | D54: 2 | E54: =_xlfn.XLOOKUP(D54, Secteurs!A:A, Secteurs!C:C, "N/A") -> Félix OVOURA | F54: PNR-00053 | G54: CONGO FUTUR carrefour rafinnerie | I54: =IF(G54="","",IF(H54="","",_xlfn.XLOOKUP(H54, Clients!D:D, Clients!C:C, "N/A"))) | J54: -4.7479533 | K54: 11.862246
A55: 54 | B55: Oui | C55: crédit | D55: 1 | E55: =_xlfn.XLOOKUP(D55, Secteurs!A:A, Secteurs!C:C, "N/A") -> Alexis MABOUNDA | F55: PNR-00054 | G55: CONGO FUTUR faubourg | I55: =IF(G55="","",IF(H55="","",_xlfn.XLOOKUP(H55, Clients!D:D, Clients!C:C, "N/A"))) | J55: -4.756273 | K55: 11.866667
A56: 55 | B56: Oui | C56: crédit | D56: 3 | E56: =_xlfn.XLOOKUP(D56, Secteurs!A:A, Secteurs!C:C, "N/A") -> Armel SOKAMBA | F56: PNR-00055 | G56: CONGO FUTUR fond tié-tié | I56: =IF(G56="","",IF(H56="","",_xlfn.XLOOKUP(H56, Clients!D:D, Clients!C:C, "N/A"))) | J56: -4.8028686 | K56: 11.896475
A57: 56 | B57: Oui | C57: crédit | D57: 2 | E57: =_xlfn.XLOOKUP(D57, Secteurs!A:A, Secteurs!C:C, "N/A") -> Félix OVOURA | F57: PNR-00056 | G57: CONGO FUTUR grand marché | I57: =IF(G57="","",IF(H57="","",_xlfn.XLOOKUP(H57, Clients!D:D, Clients!C:C, "N/A"))) | J57: -4.785817 | K57: 11.865093
A58: 57 | B58: Oui | C58: cash | D58: 2 | E58: =_xlfn.XLOOKUP(D58, Secteurs!A:A, Secteurs!C:C, "N/A") -> Félix OVOURA | F58: PNR-00057 | G58: CONGO FUTUR marché culotte | I58: =IF(G58="","",IF(H58="","",_xlfn.XLOOKUP(H58, Clients!D:D, Clients!C:C, "N/A"))) | J58: -4.7731618 | K58: 11.8862
A59: 58 | B59: Oui | C59: cash | D59: 1 | E59: =_xlfn.XLOOKUP(D59, Secteurs!A:A, Secteurs!C:C, "N/A") -> Alexis MABOUNDA | F59: PNR-00058 | G59: CONGO FUTUR paneau 50 | I59: =IF(G59="","",IF(H59="","",_xlfn.XLOOKUP(H59, Clients!D:D, Clients!C:C, "N/A"))) | J59: -4.7112807 | K59: 11.856924
A60: 59 | B60: Oui | C60: crédit | D60: 1 | E60: =_xlfn.XLOOKUP(D60, Secteurs!A:A, Secteurs!C:C, "N/A") -> Alexis MABOUNDA | F60: PNR-00059 | G60: CONGO FUTUR rafinerie 1er camp | I60: =IF(G60="","",IF(H60="","",_xlfn.XLOOKUP(H60, Clients!D:D, Clients!C:C, "N/A"))) | J60: -4.7464592 | K60: 11.859286
A61: 60 | B61: Oui | C61: cash | D61: 2 | E61: =_xlfn.XLOOKUP(D61, Secteurs!A:A, Secteurs!C:C, "N/A") -> Félix OVOURA | F61: PNR-00060 | G61: CONGO FUTUR SIAFOUMOU | I61: =IF(G61="","",IF(H61="","",_xlfn.XLOOKUP(H61, Clients!D:D, Clients!C:C, "N/A"))) | J61: -4.7427911 | K61: 11.862233
A62: 61 | B62: Oui | C62: crédit | D62: 1 | E62: =_xlfn.XLOOKUP(D62, Secteurs!A:A, Secteurs!C:C, "N/A") -> Alexis MABOUNDA | F62: PNR-00061 | G62: CONGO FUTUR terre jaune | I62: =IF(G62="","",IF(H62="","",_xlfn.XLOOKUP(H62, Clients!D:D, Clients!C:C, "N/A"))) | J62: -4.7181693 | K62: 11.862637
A63: 62 | B63: Oui | C63: cash | D63: 1 | E63: =_xlfn.XLOOKUP(D63, Secteurs!A:A, Secteurs!C:C, "N/A") -> Alexis MABOUNDA | F63: PNR-00062 | G63: CONGO RIM patra | I63: =IF(G63="","",IF(H63="","",_xlfn.XLOOKUP(H63, Clients!D:D, Clients!C:C, "N/A")))
A64: 63 | B64: Oui | C64: cash | D64: 1 | E64: =_xlfn.XLOOKUP(D64, Secteurs!A:A, Secteurs!C:C, "N/A") -> Alexis MABOUNDA | F64: PNR-00063 | G64: CONTINENT | I64: =IF(G64="","",IF(H64="","",_xlfn.XLOOKUP(H64, Clients!D:D, Clients!C:C, "N/A"))) | J64: -4.788731 | K64: 11.87708
A65: 64 | B65: Oui | C65: cash | D65: 3 | E65: =_xlfn.XLOOKUP(D65, Secteurs!A:A, Secteurs!C:C, "N/A") -> Armel SOKAMBA | F65: PNR-00064 | G65: EL ATIGH mengo péage | I65: =IF(G65="","",IF(H65="","",_xlfn.XLOOKUP(H65, Clients!D:D, Clients!C:C, "N/A"))) | J65: -4.6894536 | K65: 11.942171
A66: 65 | B66: Oui | E66: =_xlfn.XLOOKUP(D66, Secteurs!A:A, Secteurs!C:C, "N/A") -> 0 | F66: PNR-00065 | G66: EL HAMDE 2 EX LALA thyster extension | I66: =IF(G66="","",IF(H66="","",_xlfn.XLOOKUP(H66, Clients!D:D, Clients!C:C, "N/A"))) | J66: -4.7514265 | K66: 11.903611
A67: 66 | B67: Oui | E67: =_xlfn.XLOOKUP(D67, Secteurs!A:A, Secteurs!C:C, "N/A") -> 0 | F67: PNR-00066 | G67: EL HAMDE 3 EX LALA thyster extension | I67: =IF(G67="","",IF(H67="","",_xlfn.XLOOKUP(H67, Clients!D:D, Clients!C:C, "N/A"))) | J67: -4.7683404 | K67: 11.908729
A68: 67 | B68: Oui | E68: =_xlfn.XLOOKUP(D68, Secteurs!A:A, Secteurs!C:C, "N/A") -> 0 | F68: PNR-00067 | G68: EL HAMDE EX LALA thyster | I68: =IF(G68="","",IF(H68="","",_xlfn.XLOOKUP(H68, Clients!D:D, Clients!C:C, "N/A"))) | J68: -4.7507876 | K68: 11.903307
A69: 68 | B69: Oui | C69: crédit | D69: 1 | E69: =_xlfn.XLOOKUP(D69, Secteurs!A:A, Secteurs!C:C, "N/A") -> Alexis MABOUNDA | F69: PNR-00068 | G69: EL MONA fond tié-tié | I69: =IF(G69="","",IF(H69="","",_xlfn.XLOOKUP(H69, Clients!D:D, Clients!C:C, "N/A")))
A70: 69 | B70: Oui | C70: crédit | D70: 2 | E70: =_xlfn.XLOOKUP(D70, Secteurs!A:A, Secteurs!C:C, "N/A") -> Félix OVOURA | F70: PNR-00069 | G70: EL MONA tié tié masola | I70: =IF(G70="","",IF(H70="","",_xlfn.XLOOKUP(H70, Clients!D:D, Clients!C:C, "N/A")))
A71: 70 | B71: Oui | C71: cash | D71: 2 | E71: =_xlfn.XLOOKUP(D71, Secteurs!A:A, Secteurs!C:C, "N/A") -> Félix OVOURA | F71: PNR-00070 | G71: EL WAVA vindoulou | I71: =IF(G71="","",IF(H71="","",_xlfn.XLOOKUP(H71, Clients!D:D, Clients!C:C, "N/A"))) | J71: -4.734468 | K71: 11.916984
A72: 71 | B72: Oui | C72: cash | D72: 3 | E72: =_xlfn.XLOOKUP(D72, Secteurs!A:A, Secteurs!C:C, "N/A") -> Armel SOKAMBA | F72: PNR-00071 | G72: ELKOUZ marché faubourg | I72: =IF(G72="","",IF(H72="","",_xlfn.XLOOKUP(H72, Clients!D:D, Clients!C:C, "N/A"))) | J72: -4.75445 | K72: 11.864156
A73: 72 | B73: Oui | E73: =_xlfn.XLOOKUP(D73, Secteurs!A:A, Secteurs!C:C, "N/A") -> 0 | F73: PNR-00072 | G73: ELVETH/ EX CONGO RIM patra | I73: =IF(G73="","",IF(H73="","",_xlfn.XLOOKUP(H73, Clients!D:D, Clients!C:C, "N/A"))) | J73: -4.8420881 | K73: 11.92181
A74: 73 | B74: Oui | C74: crédit | D74: 3 | E74: =_xlfn.XLOOKUP(D74, Secteurs!A:A, Secteurs!C:C, "N/A") -> Armel SOKAMBA | F74: PNR-00073 | G74: ELVOZ INCHALLA mbota | I74: =IF(G74="","",IF(H74="","",_xlfn.XLOOKUP(H74, Clients!D:D, Clients!C:C, "N/A"))) | J74: -4.7877822 | K74: 11.895793
A75: 74 | B75: Oui | E75: =_xlfn.XLOOKUP(D75, Secteurs!A:A, Secteurs!C:C, "N/A") -> 0 | F75: PNR-00074 | G75: EMEL 2 | I75: =IF(G75="","",IF(H75="","",_xlfn.XLOOKUP(H75, Clients!D:D, Clients!C:C, "N/A"))) | J75: -4.8084655 | K75: 11.899104
A76: 75 | B76: Oui | C76: cash | D76: 1 | E76: =_xlfn.XLOOKUP(D76, Secteurs!A:A, Secteurs!C:C, "N/A") -> Alexis MABOUNDA | F76: PNR-00075 | G76: ESPACE DE LA PROMESSE | I76: =IF(G76="","",IF(H76="","",_xlfn.XLOOKUP(H76, Clients!D:D, Clients!C:C, "N/A"))) | J76: -4.7440703 | K76: 11.90877
A77: 76 | B77: Oui | C77: crédit | D77: 2 | E77: =_xlfn.XLOOKUP(D77, Secteurs!A:A, Secteurs!C:C, "N/A") -> Félix OVOURA | F77: PNR-00076 | G77: ETOILE D'OR grand marché resto gaspard | I77: =IF(G77="","",IF(H77="","",_xlfn.XLOOKUP(H77, Clients!D:D, Clients!C:C, "N/A"))) | J77: -4.787098 | K77: 11.870992
A78: 77 | B78: Oui | E78: =_xlfn.XLOOKUP(D78, Secteurs!A:A, Secteurs!C:C, "N/A") -> 0 | F78: PNR-00077 | G78: ETOILE DU CONGO DE MBOTA ROCK | I78: =IF(G78="","",IF(H78="","",_xlfn.XLOOKUP(H78, Clients!D:D, Clients!C:C, "N/A"))) | J78: -4.784374 | K78: 11.877182
A79: 78 | B79: Oui | E79: =_xlfn.XLOOKUP(D79, Secteurs!A:A, Secteurs!C:C, "N/A") -> 0 | F79: PNR-00078 | G79: ETOILE DU CONGO GAZ GAZ | I79: =IF(G79="","",IF(H79="","",_xlfn.XLOOKUP(H79, Clients!D:D, Clients!C:C, "N/A"))) | J79: -4.780182 | K79: 11.882291
A80: 79 | B80: Oui | C80: crédit | D80: 2 | E80: =_xlfn.XLOOKUP(D80, Secteurs!A:A, Secteurs!C:C, "N/A") -> Félix OVOURA | F80: PNR-00079 | G80: ETOILE DU CONGO mbota | I80: =IF(G80="","",IF(H80="","",_xlfn.XLOOKUP(H80, Clients!D:D, Clients!C:C, "N/A")))
A81: 80 | B81: Oui | C81: cash | D81: 1 | E81: =_xlfn.XLOOKUP(D81, Secteurs!A:A, Secteurs!C:C, "N/A") -> Alexis MABOUNDA | F81: PNR-00080 | G81: ETOILE DU CONGO Ngofo | I81: =IF(G81="","",IF(H81="","",_xlfn.XLOOKUP(H81, Clients!D:D, Clients!C:C, "N/A")))
A82: 81 | B82: Oui | E82: =_xlfn.XLOOKUP(D82, Secteurs!A:A, Secteurs!C:C, "N/A") -> 0 | F82: PNR-00081 | G82: ETOILE DU MATIN VOUNGOU | I82: =IF(G82="","",IF(H82="","",_xlfn.XLOOKUP(H82, Clients!D:D, Clients!C:C, "N/A"))) | J82: -4.750124 | K82: 11.990544
A83: 82 | B83: Oui | C83: cash | D83: 3 | E83: =_xlfn.XLOOKUP(D83, Secteurs!A:A, Secteurs!C:C, "N/A") -> Armel SOKAMBA | F83: PNR-00082 | G83: Ets AMITIE ex BAGDAD1 grand marché révolution | I83: =IF(G83="","",IF(H83="","",_xlfn.XLOOKUP(H83, Clients!D:D, Clients!C:C, "N/A"))) | J83: -4.788413 | K83: 11.870759
A84: 83 | B84: Oui | C84: cash | D84: 3 | E84: =_xlfn.XLOOKUP(D84, Secteurs!A:A, Secteurs!C:C, "N/A") -> Armel SOKAMBA | F84: PNR-00083 | G84: Ets AMITIE ex BAGDAD2 Rex grand marché | I84: =IF(G84="","",IF(H84="","",_xlfn.XLOOKUP(H84, Clients!D:D, Clients!C:C, "N/A"))) | J84: -4.7862261 | K84: 11.874066
A85: 84 | B85: Oui | C85: cash | D85: 3 | E85: =_xlfn.XLOOKUP(D85, Secteurs!A:A, Secteurs!C:C, "N/A") -> Armel SOKAMBA | F85: PNR-00084 | G85: Ets AMITIE ex BONNE CHANCE nkouinkou dénisia | I85: =IF(G85="","",IF(H85="","",_xlfn.XLOOKUP(H85, Clients!D:D, Clients!C:C, "N/A"))) | J85: -4.7632402 | K85: 11.89273
A86: 85 | B86: Oui | C86: cash | D86: 1 | E86: =_xlfn.XLOOKUP(D86, Secteurs!A:A, Secteurs!C:C, "N/A") -> Alexis MABOUNDA | F86: PNR-00085 | G86: Ets AMITIE ex CONGO1 kitoko daniel | I86: =IF(G86="","",IF(H86="","",_xlfn.XLOOKUP(H86, Clients!D:D, Clients!C:C, "N/A"))) | J86: -4.779261 | K86: 11.87011
A87: 86 | B87: Oui | E87: =_xlfn.XLOOKUP(D87, Secteurs!A:A, Secteurs!C:C, "N/A") -> 0 | F87: PNR-00086 | G87: ETS SEMAH VOUNGOU ARRET ECOLE | I87: =IF(G87="","",IF(H87="","",_xlfn.XLOOKUP(H87, Clients!D:D, Clients!C:C, "N/A")))
A88: 87 | B88: Oui | E88: =_xlfn.XLOOKUP(D88, Secteurs!A:A, Secteurs!C:C, "N/A") -> 0 | F88: PNR-00087 | G88: FALL 2 avant marche mbota | I88: =IF(G88="","",IF(H88="","",_xlfn.XLOOKUP(H88, Clients!D:D, Clients!C:C, "N/A"))) | J88: -4.7822329 | K88: 11.891075
A89: 88 | B89: Oui | C89: crédit | D89: 2 | E89: =_xlfn.XLOOKUP(D89, Secteurs!A:A, Secteurs!C:C, "N/A") -> Félix OVOURA | F89: PNR-00088 | G89: FALL 2 ex elemele2 | I89: =IF(G89="","",IF(H89="","",_xlfn.XLOOKUP(H89, Clients!D:D, Clients!C:C, "N/A")))
A90: 89 | B90: Oui | C90: cash | D90: 3 | E90: =_xlfn.XLOOKUP(D90, Secteurs!A:A, Secteurs!C:C, "N/A") -> Armel SOKAMBA | F90: PNR-00089 | G90: FALL paka pascal | I90: =IF(G90="","",IF(H90="","",_xlfn.XLOOKUP(H90, Clients!D:D, Clients!C:C, "N/A"))) | J90: -4.8117532 | K90: 11.907045
A91: 90 | B91: Oui | E91: =_xlfn.XLOOKUP(D91, Secteurs!A:A, Secteurs!C:C, "N/A") -> 0 | F91: PNR-00090 | G91: FAVEUR NGOYO CENTRAL 2 | I91: =IF(G91="","",IF(H91="","",_xlfn.XLOOKUP(H91, Clients!D:D, Clients!C:C, "N/A")))
A92: 91 | B92: Oui | E92: =_xlfn.XLOOKUP(D92, Secteurs!A:A, Secteurs!C:C, "N/A") -> 0 | F92: PNR-00091 | G92: FAVEUR NGOYO LA FERME | I92: =IF(G92="","",IF(H92="","",_xlfn.XLOOKUP(H92, Clients!D:D, Clients!C:C, "N/A"))) | J92: -4.8606314 | K92: 11.913956
A93: 92 | B93: Oui | E93: =_xlfn.XLOOKUP(D93, Secteurs!A:A, Secteurs!C:C, "N/A") -> 0 | F93: PNR-00092 | G93: FAVEUR2 loandjili | I93: =IF(G93="","",IF(H93="","",_xlfn.XLOOKUP(H93, Clients!D:D, Clients!C:C, "N/A"))) | J93: -4.7691007 | K93: 11.876518
A94: 93 | B94: Oui | E94: =_xlfn.XLOOKUP(D94, Secteurs!A:A, Secteurs!C:C, "N/A") -> 0 | F94: PNR-00093 | G94: FAVEUR2 NKOUIKOU | I94: =IF(G94="","",IF(H94="","",_xlfn.XLOOKUP(H94, Clients!D:D, Clients!C:C, "N/A"))) | J94: -4.7702984 | K94: 11.883479
A95: 94 | B95: Oui | E95: =_xlfn.XLOOKUP(D95, Secteurs!A:A, Secteurs!C:C, "N/A") -> 0 | F95: PNR-00094 | G95: GANGA tié-tié coumapan | I95: =IF(G95="","",IF(H95="","",_xlfn.XLOOKUP(H95, Clients!D:D, Clients!C:C, "N/A"))) | J95: -4.795329 | K95: 11.893607
A96: 95 | B96: Oui | E96: =_xlfn.XLOOKUP(D96, Secteurs!A:A, Secteurs!C:C, "N/A") -> 0 | F96: PNR-00095 | G96: GATEAUX D'ANNIVERSAIRE STE tchialli | I96: =IF(G96="","",IF(H96="","",_xlfn.XLOOKUP(H96, Clients!D:D, Clients!C:C, "N/A"))) | J96: -4.7433086 | K96: 11.869976
A97: 96 | B97: Oui | C97: cash | D97: 3 | E97: =_xlfn.XLOOKUP(D97, Secteurs!A:A, Secteurs!C:C, "N/A") -> Armel SOKAMBA | F97: PNR-00096 | G97: GIRMA | I97: =IF(G97="","",IF(H97="","",_xlfn.XLOOKUP(H97, Clients!D:D, Clients!C:C, "N/A"))) | J97: -4.799857 | K97: 11.85463
A98: 97 | B98: Oui | C98: crédit | D98: 1 | E98: =_xlfn.XLOOKUP(D98, Secteurs!A:A, Secteurs!C:C, "N/A") -> Alexis MABOUNDA | F98: PNR-00097 | G98: GORGOL 2 mpaka dalette | I98: =IF(G98="","",IF(H98="","",_xlfn.XLOOKUP(H98, Clients!D:D, Clients!C:C, "N/A")))
A99: 98 | B99: Oui | C99: crédit | D99: 1 | E99: =_xlfn.XLOOKUP(D99, Secteurs!A:A, Secteurs!C:C, "N/A") -> Alexis MABOUNDA | F99: PNR-00098 | G99: GORGOL1 ngoyo | I99: =IF(G99="","",IF(H99="","",_xlfn.XLOOKUP(H99, Clients!D:D, Clients!C:C, "N/A"))) | J99: -4.8503812 | K99: 11.905885
A100: 99 | B100: Oui | E100: =_xlfn.XLOOKUP(D100, Secteurs!A:A, Secteurs!C:C, "N/A") -> 0 | F100: PNR-00099 | G100: GORGOL1 ngoyo | I100: =IF(G100="","",IF(H100="","",_xlfn.XLOOKUP(H100, Clients!D:D, Clients!C:C, "N/A"))) | J100: -4.8503812 | K100: 11.905885
...

Sheet Clients
A1: Index | B1: Actif | C1: ID client | D1: Client | E1: Commentaire | F1: TBD | G1: TBD | H1: TBD
A2: 1 | B2: Oui | C2: REF-00001 | D2: CLIENT 1
A3: 2 | B3: Oui | C3: REF-00002 | D3: CLIENT 2
A4: 3 | B4: Oui | C4: REF-00003 | D4: CLIENT 3
A5: 4 | B5: Oui | C5: REF-00004 | D5: CLIENT 4
A6: 5 | B6: Oui | C6: REF-00005 | D6: CLIENT 5
A7: 6 | B7: Oui | C7: REF-00006 | D7: CLIENT 6
A8: 7 | B8: Oui | C8: REF-00007 | D8: CLIENT 7
A9: 8 | B9: Oui | C9: REF-00008 | D9: CLIENT 8
A10: 9 | B10: Oui | C10: REF-00009 | D10: CLIENT 9
A11: 10 | B11: Oui | C11: REF-00010 | D11: CLIENT 10
A12: 11 | B12: Oui | C12: REF-00011 | D12: CLIENT 11
A13: 12 | B13: Oui | C13: REF-00012 | D13: CLIENT 12
... A39: 38 | B39: Oui | C39: REF-00038 | D39: CLIENT 38
A40: 39 | B40: Non | C40: REF-00039
A41: 40 | B41: Non | C41: REF-00040
A42: 41 | B42: Non | C42: REF-00041
A43: 42 | B43: Non | C43: REF-00042
A44: 43 | B44: Non | C44: REF-00043
A45: 44 | B45: Non | C45: REF-00044
A46: 45 | B46: Non | C46: REF-00045
A47: 46 | B47: Non | C47: REF-00046
A48: 47 | B48: Non | C48: REF-00047
A49: 48 | B49: Non | C49: REF-00048
A50: 49 | B50: Non | C50: REF-00049
A51: 50 | B51: Non | C51: REF-00050
... A401: 400 | B401: Non | C401: REF-00400

Sheet Data
A1: Rajouter les nouveaux clients dans l'onglet "Clients". | L1: Location | M1: Actif/Inactif
L2: PNR | M2: Oui
M3: Non
A5: Choisir le client dans le menu déroulant de la semaine
