Workbook
Name ActifInactif: OFFSET(Data!$M$1,1,0,COUNTA(Data!$M:$M)-1,1)
Name clientList: OFFSET(Clients!$D$1,1,0,COUNTA(Clients!$D:$D)-1,1)
Name siteList: OFFSET(Sites!$G$1,1,0,COUNTA(Sites!$G:$G)-1,1)

Sheet Secteurs
A1: N° | B1: Zone | C1: Technico-Commercial
A2: 1 | B2: Nord | C2: Alexis MABOUNDA
A3: 2 | B3: Centre | C3: Félix OVOURA
A4: 3 | B4: Sud | C4: Armel SOKAMBA

Sheet WEEK 42
A1: N° | B1: Site | C1: ID site | D1: Commercial | E1: Secteur | F1: Client | G1: ID client | H1: Cons/j | I1: C° heb | J1: Date Dernière Visite | K1: Période sans visite | L1: MINOCO% | M1: FANTA% | N1: GMK% | O1: SGMP% | P1: MFB% | Q1: GMC% | R1: MINOCO | S1: FANTA | T1: GMK | U1: SGMP | V1: MFB | W1: GMC | X1: Total conso | Y1: verif % | Z1: verif conso | AA1: verif date | AB1: verif 4 | AC1: COMMENTAIRES
A2: =+IF(H2>0,1,0) -> 1 | B2: AFRICAINE1 nkouikou nzango | C2: =IF(B2="","",_xlfn.XLOOKUP(B2, Sites!G:G, Sites!F:F, "N/A")) -> PNR-00001 | D2: =IF(B2="","",_xlfn.XLOOKUP(B2, Sites!G:G, Sites!E:E, "N/A")) -> Félix OVOURA | E2: =IF(B2="","",_xlfn.XLOOKUP(B2, Sites!G:G, Sites!D:D, "N/A")) -> 2 | F2: =IF(B2="","",_xlfn.XLOOKUP(B2, Sites!G:G, Sites!H:H, "N/A")) -> CLIENT 7 | G2: =IF(B2="","",_xlfn.XLOOKUP(B2, Sites!G:G, Sites!I:I, "N/A")) -> REF-00007 | H2: 14 | I2: =H2*7 -> 98 | J2: 46297 | K2: =IF(C2="","",IF(J2="","N/A",+IF(A2=1,(+TODAY())-J2,"N/A"))) -> 13 | Q2: 1 | R2: =+$I2*L2 -> 0 | S2: =+$I2*M2 -> 0 | T2: =+$I2*N2 -> 0 | U2: =+$I2*O2 -> 0 | V2: =+$I2*P2 -> 0 | W2: =+$I2*Q2 -> 98 | X2: =SUM(R2:W2) -> 98 | Y2: =IF(C2="","",IF(L2+M2+N2+O2+P2+Q2=1,"OK","ERREUR")) -> OK | Z2: =IF(C2="","",IF(H2="","ERREUR","OK")) -> OK | AA2: =IF(D2="","",IF(J2="","ERREUR","OK")) -> OK | AD2: =+X2-I2 -> 0 | AF2: Week | AG2: Minoco | AH2: Fanta | AI2: GMPN | AJ2: GMK | AK2: SGMP | AL2: MFB | AM2: GMC
A3: =+IF(H3>0,1,0) -> 1 | B3: AFRICAINE2 nkouinkou vonvon | C3: =IF(B3="","",_xlfn.XLOOKUP(B3, Sites!G:G, Sites!F:F, "N/A")) -> PNR-00002 | D3: =IF(B3="","",_xlfn.XLOOKUP(B3, Sites!G:G, Sites!E:E, "N/A")) -> Félix OVOURA | E3: =IF(B3="","",_xlfn.XLOOKUP(B3, Sites!G:G, Sites!D:D, "N/A")) -> 2 | F3: =IF(B3="","",_xlfn.XLOOKUP(B3, Sites!G:G, Sites!H:H, "N/A")) -> CLIENT 1 | G3: =IF(B3="","",_xlfn.XLOOKUP(B3, Sites!G:G, Sites!I:I, "N/A")) -> REF-00001 | H3: 34 | I3: =H3*7 -> 238 | J3: 46302 | K3: =IF(C3="","",IF(J3="","N/A",+IF(A3=1,(+TODAY())-J3,"N/A"))) -> 8 | N3: 0.5 | P3: 0.5 | R3: =+$I3*L3 -> 0 | S3: =+$I3*M3 -> 0 | T3: =+$I3*N3 -> 119 | U3: =+$I3*O3 -> 0 | V3: =+$I3*P3 -> 119 | W3: =+$I3*Q3 -> 0 | X3: =SUM(R3:W3) -> 238 | Y3: =IF(C3="","",IF(L3+M3+N3+O3+P3+Q3=1,"OK","ERREUR")) -> OK | Z3: =IF(C3="","",IF(H3="","ERREUR","OK")) -> OK | AA3: =IF(D3="","",IF(J3="","ERREUR","OK")) -> OK | AD3: =+X3-I3 -> 0 | AF3: 39 | AG3: 0.28 | AH3: 0.07 | AI3: =+AG3+AH3 -> 0.35 | AJ3: 0.19 | AK3: 0.12 | AL3: 0.15 | AM3: 0.19 | AN3: =SUM(AI3:AM3) -> 1
A4: =+IF(H4>0,1,0) -> 1 | B4: AFRICAINE3 tchialli | C4: =IF(B4="","",_xlfn.XLOOKUP(B4, Sites!G:G, Sites!F:F, "N/A")) -> PNR-00003 | D4: =IF(B4="","",_xlfn.XLOOKUP(B4, Sites!G:G, Sites!E:E, "N/A")) -> Félix OVOURA | E4: =IF(B4="","",_xlfn.XLOOKUP(B4, Sites!G:G, Sites!D:D, "N/A")) -> 2 | F4: =IF(B4="","",_xlfn.XLOOKUP(B4, Sites!G:G, Sites!H:H, "N/A")) -> CLIENT 3 | G4: =IF(B4="","",_xlfn.XLOOKUP(B4, Sites!G:G, Sites!I:I, "N/A")) -> REF-00003 | H4: 26 | I4: =H4*7 -> 182 | J4: 46296 | K4: =IF(C4="","",IF(J4="","N/A",+IF(A4=1,(+TODAY())-J4,"N/A"))) -> 14 | L4: 0.5 | P4: 0.5 | R4: =+$I4*L4 -> 91 | S4: =+$I4*M4 -> 0 | T4: =+$I4*N4 -> 0 | U4: =+$I4*O4 -> 0 | V4: =+$I4*P4 -> 91 | W4: =+$I4*Q4 -> 0 | X4: =SUM(R4:W4) -> 182 | Y4: =IF(C4="","",IF(L4+M4+N4+O4+P4+Q4=1,"OK","ERREUR")) -> OK | Z4: =IF(C4="","",IF(H4="","ERREUR","OK")) -> OK | AA4: =IF(D4="","",IF(J4="","ERREUR","OK")) -> OK | AD4: =+X4-I4 -> 0 | AF4: 40 | AG4: 0.33 | AH4: 0.09 | AI4: =+AG4+AH4 -> 0.42 | AJ4: 0.15 | AK4: 0.12 | AL4: 0.11 | AM4: 0.2 | AN4: =SUM(AI4:AM4) -> 1
A5: =+IF(H5>0,1,0) -> 1 | B5: AFRICAINE4 la fontaine | C5: =IF(B5="","",_xlfn.XLOOKUP(B5, Sites!G:G, Sites!F:F, "N/A")) -> PNR-00004 | D5: =IF(B5="","",_xlfn.XLOOKUP(B5, Sites!G:G, Sites!E:E, "N/A")) -> Alexis MABOUNDA | E5: =IF(B5="","",_xlfn.XLOOKUP(B5, Sites!G:G, Sites!D:D, "N/A")) -> 1 | F5: =IF(B5="","",_xlfn.XLOOKUP(B5, Sites!G:G, Sites!H:H, "N/A")) -> 0 | G5: =IF(B5="","",_xlfn.XLOOKUP(B5, Sites!G:G, Sites!I:I, "N/A")) | H5: 24 | I5: =H5*7 -> 168 | J5: 46294 | K5: =IF(C5="","",IF(J5="","N/A",+IF(A5=1,(+TODAY())-J5,"N/A"))) -> 16 | L5: 0.5 | P5: 0.5 | R5: =+$I5*L5 -> 84 | S5: =+$I5*M5 -> 0 | T5: =+$I5*N5 -> 0 | U5: =+$I5*O5 -> 0 | V5: =+$I5*P5 -> 84 | W5: =+$I5*Q5 -> 0 | X5: =SUM(R5:W5) -> 168 | Y5: =IF(C5="","",IF(L5+M5+N5+O5+P5+Q5=1,"OK","ERREUR")) -> OK | Z5: =IF(C5="","",IF(H5="","ERREUR","OK")) -> OK | AA5: =IF(D5="","",IF(J5="","ERREUR","OK")) -> OK | AD5: =+X5-I5 -> 0 | AF5: 41 | AG5: 0.331901 | AH5: 0.084393262 | AI5: =+AG5+AH5 -> 0.41629426 | AJ5: 0.15520798 | AK5: 0.11816776 | AL5: 0.11112066 | AM5: 0.19920935 | AN5: =SUM(AI5:AM5) -> 1
A6: =+IF(H6>0,1,0) -> 1 | B6: AFRICAINE5 ngoyo avenue taty loutard | C6: =IF(B6="","",_xlfn.XLOOKUP(B6, Sites!G:G, Sites!F:F, "N/A")) -> PNR-00005 | D6: =IF(B6="","",_xlfn.XLOOKUP(B6, Sites!G:G, Sites!E:E, "N/A")) -> Alexis MABOUNDA | E6: =IF(B6="","",_xlfn.XLOOKUP(B6, Sites!G:G, Sites!D:D, "N/A")) -> 1 | F6: =IF(B6="","",_xlfn.XLOOKUP(B6, Sites!G:G, Sites!H:H, "N/A")) -> 0 | G6: =IF(B6="","",_xlfn.XLOOKUP(B6, Sites!G:G, Sites!I:I, "N/A")) | H6: 7 | I6: =H6*7 -> 49 | J6: 46301 | K6: =IF(C6="","",IF(J6="","N/A",+IF(A6=1,(+TODAY())-J6,"N/A"))) -> 9 | L6: 0.5 | P6: 0.5 | R6: =+$I6*L6 -> 24.5 | S6: =+$I6*M6 -> 0 | T6: =+$I6*N6 -> 0 | U6: =+$I6*O6 -> 0 | V6: =+$I6*P6 -> 24.5 | W6: =+$I6*Q6 -> 0 | X6: =SUM(R6:W6) -> 49 | Y6: =IF(C6="","",IF(L6+M6+N6+O6+P6+Q6=1,"OK","ERREUR")) -> OK | Z6: =IF(C6="","",IF(H6="","ERREUR","OK")) -> OK | AA6: =IF(D6="","",IF(J6="","ERREUR","OK")) -> OK | AD6: =+X6-I6 -> 0 | AF6: 42 | AG6: =R173 -> 0.22812846 | AH6: =S173 -> 0.097083795 | AI6: =+AG6+AH6 -> 0.32521226 | AJ6: =T173 -> 0.062200074 | AK6: =U173 -> 0.20985604 | AL6: =V173 -> 0.1947213 | AM6: =W173 -> 0.20801034 | AN6: =SUM(AI6:AM6) -> 1
A7: =+IF(H7>0,1,0) -> 1 | B7: AFRICAINE6 ngoyo central | C7: =IF(B7="","",_xlfn.XLOOKUP(B7, Sites!G:G, Sites!F:F, "N/A")) -> PNR-00006 | D7: =IF(B7="","",_xlfn.XLOOKUP(B7, Sites!G:G, Sites!E:E, "N/A")) -> Armel SOKAMBA | E7: =IF(B7="","",_xlfn.XLOOKUP(B7, Sites!G:G, Sites!D:D, "N/A")) -> 3 | F7: =IF(B7="","",_xlfn.XLOOKUP(B7, Sites!G:G, Sites!H:H, "N/A")) -> 0 | G7: =IF(B7="","",_xlfn.XLOOKUP(B7, Sites!G:G, Sites!I:I, "N/A")) | H7: 36 | I7: =H7*7 -> 252 | J7: 46295 | K7: =IF(C7="","",IF(J7="","N/A",+IF(A7=1,(+TODAY())-J7,"N/A"))) -> 15 | L7: 0.25 | M7: 0.5 | P7: 0.25 | R7: =+$I7*L7 -> 63 | S7: =+$I7*M7 -> 126 | T7: =+$I7*N7 -> 0 | U7: =+$I7*O7 -> 0 | V7: =+$I7*P7 -> 63 | W7: =+$I7*Q7 -> 0 | X7: =SUM(R7:W7) -> 252 | Y7: =IF(C7="","",IF(L7+M7+N7+O7+P7+Q7=1,"OK","ERREUR")) -> OK | Z7: =IF(C7="","",IF(H7="","ERREUR","OK")) -> OK | AA7: =IF(D7="","",IF(J7="","ERREUR","OK")) -> OK | AD7: =+X7-I7 -> 0 | AF7: Variation
A8: =+IF(H8>0,1,0) -> 1 | B8: AFRICAINE7 nzassi | C8: =IF(B8="","",_xlfn.XLOOKUP(B8, Sites!G:G, Sites!F:F, "N/A")) -> PNR-00007 | D8: =IF(B8="","",_xlfn.XLOOKUP(B8, Sites!G:G, Sites!E:E, "N/A")) -> Félix OVOURA | E8: =IF(B8="","",_xlfn.XLOOKUP(B8, Sites!G:G, Sites!D:D, "N/A")) -> 2 | F8: =IF(B8="","",_xlfn.XLOOKUP(B8, Sites!G:G, Sites!H:H, "N/A")) -> 0 | G8: =IF(B8="","",_xlfn.XLOOKUP(B8, Sites!G:G, Sites!I:I, "N/A")) | H8: 26 | I8: =H8*7 -> 182 | J8: 46294 | K8: =IF(C8="","",IF(J8="","N/A",+IF(A8=1,(+TODAY())-J8,"N/A"))) -> 16 | L8: 0.5 | P8: 0.5 | R8: =+$I8*L8 -> 91 | S8: =+$I8*M8 -> 0 | T8: =+$I8*N8 -> 0 | U8: =+$I8*O8 -> 0 | V8: =+$I8*P8 -> 91 | W8: =+$I8*Q8 -> 0 | X8: =SUM(R8:W8) -> 182 | Y8: =IF(C8="","",IF(L8+M8+N8+O8+P8+Q8=1,"OK","ERREUR")) -> OK | Z8: =IF(C8="","",IF(H8="","ERREUR","OK")) -> OK | AA8: =IF(D8="","",IF(J8="","ERREUR","OK")) -> OK | AD8: =+X8-I8 -> 0
A9: =+IF(H9>0,1,0) -> 1 | B9: AL MONA rond point sogolo | C9: =IF(B9="","",_xlfn.XLOOKUP(B9, Sites!G:G, Sites!F:F, "N/A")) -> PNR-00008 | D9: =IF(B9="","",_xlfn.XLOOKUP(B9, Sites!G:G, Sites!E:E, "N/A")) -> Armel SOKAMBA | E9: =IF(B9="","",_xlfn.XLOOKUP(B9, Sites!G:G, Sites!D:D, "N/A")) -> 3 | F9: =IF(B9="","",_xlfn.XLOOKUP(B9, Sites!G:G, Sites!H:H, "N/A")) -> 0 | G9: =IF(B9="","",_xlfn.XLOOKUP(B9, Sites!G:G, Sites!I:I, "N/A")) | H9: 20 | I9: =H9*7 -> 140 | J9: 46300 | K9: =IF(C9="","",IF(J9="","N/A",+IF(A9=1,(+TODAY())-J9,"N/A"))) -> 10 | L9: 0.75 | P9: 0.25 | R9: =+$I9*L9 -> 105 | S9: =+$I9*M9 -> 0 | T9: =+$I9*N9 -> 0 | U9: =+$I9*O9 -> 0 | V9: =+$I9*P9 -> 35 | W9: =+$I9*Q9 -> 0 | X9: =SUM(R9:W9) -> 140 | Y9: =IF(C9="","",IF(L9+M9+N9+O9+P9+Q9=1,"OK","ERREUR")) -> OK | Z9: =IF(C9="","",IF(H9="","ERREUR","OK")) -> OK | AA9: =IF(D9="","",IF(J9="","ERREUR","OK")) -> OK | AD9: =+X9-I9 -> 0
A10: =+IF(H10>0,1,0) -> 1 | B10: AMOUR DE MPAKA | C10: =IF(B10="","",_xlfn.XLOOKUP(B10, Sites!G:G, Sites!F:F, "N/A")) -> PNR-00009 | D10: =IF(B10="","",_xlfn.XLOOKUP(B10, Sites!G:G, Sites!E:E, "N/A")) -> 0 | E10: =IF(B10="","",_xlfn.XLOOKUP(B10, Sites!G:G, Sites!D:D, "N/A")) -> 0 | F10: =IF(B10="","",_xlfn.XLOOKUP(B10, Sites!G:G, Sites!H:H, "N/A")) -> 0 | G10: =IF(B10="","",_xlfn.XLOOKUP(B10, Sites!G:G, Sites!I:I, "N/A")) | H10: 24 | I10: =H10*7 -> 168 | J10: 46300 | K10: =IF(C10="","",IF(J10="","N/A",+IF(A10=1,(+TODAY())-J10,"N/A"))) -> 10 | L10: 0.5 | P10: 0.5 | R10: =+$I10*L10 -> 84 | S10: =+$I10*M10 -> 0 | T10: =+$I10*N10 -> 0 | U10: =+$I10*O10 -> 0 | V10: =+$I10*P10 -> 84 | W10: =+$I10*Q10 -> 0 | X10: =SUM(R10:W10) -> 168 | Y10: =IF(C10="","",IF(L10+M10+N10+O10+P10+Q10=1,"OK","ERREUR")) -> OK | Z10: =IF(C10="","",IF(H10="","ERREUR","OK")) -> OK | AA10: =IF(D10="","",IF(J10="","ERREUR","OK")) -> OK | AD10: =+X10-I10 -> 0
A11: =+IF(H11>0,1,0) -> 1 | B11: ARC EN CIEL EX LISA ngoyo péage | C11: =IF(B11="","",_xlfn.XLOOKUP(B11, Sites!G:G, Sites!F:F, "N/A")) -> PNR-00010 | D11: =IF(B11="","",_xlfn.XLOOKUP(B11, Sites!G:G, Sites!E:E, "N/A")) -> 0 | E11: =IF(B11="","",_xlfn.XLOOKUP(B11, Sites!G:G, Sites!D:D, "N/A")) -> 0 | F11: =IF(B11="","",_xlfn.XLOOKUP(B11, Sites!G:G, Sites!H:H, "N/A")) -> 0 | G11: =IF(B11="","",_xlfn.XLOOKUP(B11, Sites!G:G, Sites!I:I, "N/A")) | H11: 24 | I11: =H11*7 -> 168 | J11: 46294 | K11: =IF(C11="","",IF(J11="","N/A",+IF(A11=1,(+TODAY())-J11,"N/A"))) -> 16 | L11: 0.5 | P11: 0.5 | R11: =+$I11*L11 -> 84 | S11: =+$I11*M11 -> 0 | T11: =+$I11*N11 -> 0 | U11: =+$I11*O11 -> 0 | V11: =+$I11*P11 -> 84 | W11: =+$I11*Q11 -> 0 | X11: =SUM(R11:W11) -> 168 | Y11: =IF(C11="","",IF(L11+M11+N11+O11+P11+Q11=1,"OK","ERREUR")) -> OK | Z11: =IF(C11="","",IF(H11="","ERREUR","OK")) -> OK | AA11: =IF(D11="","",IF(J11="","ERREUR","OK")) -> OK | AD11: =+X11-I11 -> 0
A12: =+IF(H12>0,1,0) -> 1 | B12: ARDOSSON 1 | C12: =IF(B12="","",_xlfn.XLOOKUP(B12, Sites!G:G, Sites!F:F, "N/A")) -> PNR-00011 | D12: =IF(B12="","",_xlfn.XLOOKUP(B12, Sites!G:G, Sites!E:E, "N/A")) -> Armel SOKAMBA | E12: =IF(B12="","",_xlfn.XLOOKUP(B12, Sites!G:G, Sites!D:D, "N/A")) -> 3 | F12: =IF(B12="","",_xlfn.XLOOKUP(B12, Sites!G:G, Sites!H:H, "N/A")) -> 0 | G12: =IF(B12="","",_xlfn.XLOOKUP(B12, Sites!G:G, Sites!I:I, "N/A")) | H12: 24 | I12: =H12*7 -> 168 | J12: 46301 | K12: =IF(C12="","",IF(J12="","N/A",+IF(A12=1,(+TODAY())-J12,"N/A"))) -> 9 | L12: 0.5 | P12: 0.5 | R12: =+$I12*L12 -> 84 | S12: =+$I12*M12 -> 0 | T12: =+$I12*N12 -> 0 | U12: =+$I12*O12 -> 0 | V12: =+$I12*P12 -> 84 | W12: =+$I12*Q12 -> 0 | X12: =SUM(R12:W12) -> 168 | Y12: =IF(C12="","",IF(L12+M12+N12+O12+P12+Q12=1,"OK","ERREUR")) -> OK | Z12: =IF(C12="","",IF(H12="","ERREUR","OK")) -> OK | AA12: =IF(D12="","",IF(J12="","ERREUR","OK")) -> OK | AD12: =+X12-I12 -> 0
A13: =+IF(H13>0,1,0) -> 1 | B13: ARDOSSON 2 | C13: =IF(B13="","",_xlfn.XLOOKUP(B13, Sites!G:G, Sites!F:F, "N/A")) -> PNR-00012 | D13: =IF(B13="","",_xlfn.XLOOKUP(B13, Sites!G:G, Sites!E:E, "N/A")) -> Félix OVOURA | E13: =IF(B13="","",_xlfn.XLOOKUP(B13, Sites!G:G, Sites!D:D, "N/A")) -> 2 | F13: =IF(B13="","",_xlfn.XLOOKUP(B13, Sites!G:G, Sites!H:H, "N/A")) -> 0 | G13: =IF(B13="","",_xlfn.XLOOKUP(B13, Sites!G:G, Sites!I:I, "N/A")) | H13: 36 | I13: =H13*7 -> 252 | J13: 46302 | K13: =IF(C13="","",IF(J13="","N/A",+IF(A13=1,(+TODAY())-J13,"N/A"))) -> 8 | P13: 0.5 | Q13: 0.5 | R13: =+$I13*L13 -> 0 | S13: =+$I13*M13 -> 0 | T13: =+$I13*N13 -> 0 | U13: =+$I13*O13 -> 0 | V13: =+$I13*P13 -> 126 | W13: =+$I13*Q13 -> 126 | X13: =SUM(R13:W13) -> 252 | Y13: =IF(C13="","",IF(L13+M13+N13+O13+P13+Q13=1,"OK","ERREUR")) -> OK | Z13: =IF(C13="","",IF(H13="","ERREUR","OK")) -> OK | AA13: =IF(D13="","",IF(J13="","ERREUR","OK")) -> OK | AD13: =+X13-I13 -> 0
A14: =+IF(H14>0,1,0) -> 1 | B14: ATAKAHYR mayinga | C14: =IF(B14="","",_xlfn.XLOOKUP(B14, Sites!G:G, Sites!F:F, "N/A")) -> PNR-00013 | D14: =IF(B14="","",_xlfn.XLOOKUP(B14, Sites!G:G, Sites!E:E, "N/A")) -> Alexis MABOUNDA | E14: =IF(B14="","",_xlfn.XLOOKUP(B14, Sites!G:G, Sites!D:D, "N/A")) -> 1 | F14: =IF(B14="","",_xlfn.XLOOKUP(B14, Sites!G:G, Sites!H:H, "N/A")) -> 0 | G14: =IF(B14="","",_xlfn.XLOOKUP(B14, Sites!G:G, Sites!I:I, "N/A")) | H14: 20 | I14: =H14*7 -> 140 | J14: 46294 | K14: =IF(C14="","",IF(J14="","N/A",+IF(A14=1,(+TODAY())-J14,"N/A"))) -> 16 | O14: 0.5 | Q14: 0.5 | R14: =+$I14*L14 -> 0 | S14: =+$I14*M14 -> 0 | T14: =+$I14*N14 -> 0 | U14: =+$I14*O14 -> 70 | V14: =+$I14*P14 -> 0 | W14: =+$I14*Q14 -> 70 | X14: =SUM(R14:W14) -> 140 | Y14: =IF(C14="","",IF(L14+M14+N14+O14+P14+Q14=1,"OK","ERREUR")) -> OK | Z14: =IF(C14="","",IF(H14="","ERREUR","OK")) -> OK | AA14: =IF(D14="","",IF(J14="","ERREUR","OK")) -> OK | AD14: =+X14-I14 -> 0
A15: =+IF(H15>0,1,0) -> 1 | B15: ATAKALKHAYR fouks | C15: =IF(B15="","",_xlfn.XLOOKUP(B15, Sites!G:G, Sites!F:F, "N/A")) -> PNR-00014 | D15: =IF(B15="","",_xlfn.XLOOKUP(B15, Sites!G:G, Sites!E:E, "N/A")) -> Félix OVOURA | E15: =IF(B15="","",_xlfn.XLOOKUP(B15, Sites!G:G, Sites!D:D, "N/A")) -> 2 | F15: =IF(B15="","",_xlfn.XLOOKUP(B15, Sites!G:G, Sites!H:H, "N/A")) -> 0 | G15: =IF(B15="","",_xlfn.XLOOKUP(B15, Sites!G:G, Sites!I:I, "N/A")) | H15: 10 | I15: =H15*7 -> 70 | J15: 46300 | K15: =IF(C15="","",IF(J15="","N/A",+IF(A15=1,(+TODAY())-J15,"N/A"))) -> 10 | P15: 0.5 | Q15: 0.5 | R15: =+$I15*L15 -> 0 | S15: =+$I15*M15 -> 0 | T15: =+$I15*N15 -> 0 | U15: =+$I15*O15 -> 0 | V15: =+$I15*P15 -> 35 | W15: =+$I15*Q15 -> 35 | X15: =SUM(R15:W15) -> 70 | Y15: =IF(C15="","",IF(L15+M15+N15+O15+P15+Q15=1,"OK","ERREUR")) -> OK | Z15: =IF(C15="","",IF(H15="","ERREUR","OK")) -> OK | AA15: =IF(D15="","",IF(J15="","ERREUR","OK")) -> OK | AD15: =+X15-I15 -> 0
A16: =+IF(H16>0,1,0) -> 1 | B16: ATAKALKHAYR loandjili | C16: =IF(B16="","",_xlfn.XLOOKUP(B16, Sites!G:G, Sites!F:F, "N/A")) -> PNR-00015 | D16: =IF(B16="","",_xlfn.XLOOKUP(B16, Sites!G:G, Sites!E:E, "N/A")) -> Félix OVOURA | E16: =IF(B16="","",_xlfn.XLOOKUP(B16, Sites!G:G, Sites!D:D, "N/A")) -> 2 | F16: =IF(B16="","",_xlfn.XLOOKUP(B16, Sites!G:G, Sites!H:H, "N/A")) -> 0 | G16: =IF(B16="","",_xlfn.XLOOKUP(B16, Sites!G:G, Sites!I:I, "N/A")) | H16: 26 | I16: =H16*7 -> 182 | J16: 46300 | K16: =IF(C16="","",IF(J16="","N/A",+IF(A16=1,(+TODAY())-J16,"N/A"))) -> 10 | L16: 0.5 | P16: 0.5 | R16: =+$I16*L16 -> 91 | S16: =+$I16*M16 -> 0 | T16: =+$I16*N16 -> 0 | U16: =+$I16*O16 -> 0 | V16: =+$I16*P16 -> 91 | W16: =+$I16*Q16 -> 0 | X16: =SUM(R16:W16) -> 182 | Y16: =IF(C16="","",IF(L16+M16+N16+O16+P16+Q16=1,"OK","ERREUR")) -> OK | Z16: =IF(C16="","",IF(H16="","ERREUR","OK")) -> OK | AA16: =IF(D16="","",IF(J16="","ERREUR","OK")) -> OK | AD16: =+X16-I16 -> 0
A17: =+IF(H17>0,1,0) -> 1 | B17: AYA fond -tié-tié | C17: =IF(B17="","",_xlfn.XLOOKUP(B17, Sites!G:G, Sites!F:F, "N/A")) -> PNR-00016 | D17: =IF(B17="","",_xlfn.XLOOKUP(B17, Sites!G:G, Sites!E:E, "N/A")) -> Félix OVOURA | E17: =IF(B17="","",_xlfn.XLOOKUP(B17, Sites!G:G, Sites!D:D, "N/A")) -> 2 | F17: =IF(B17="","",_xlfn.XLOOKUP(B17, Sites!G:G, Sites!H:H, "N/A")) -> 0 | G17: =IF(B17="","",_xlfn.XLOOKUP(B17, Sites!G:G, Sites!I:I, "N/A")) | H17: 26 | I17: =H17*7 -> 182 | J17: 46302 | K17: =IF(C17="","",IF(J17="","N/A",+IF(A17=1,(+TODAY())-J17,"N/A"))) -> 8 | N17: 0.5 | P17: 0.5 | R17: =+$I17*L17 -> 0 | S17: =+$I17*M17 -> 0 | T17: =+$I17*N17 -> 91 | U17: =+$I17*O17 -> 0 | V17: =+$I17*P17 -> 91 | W17: =+$I17*Q17 -> 0 | X17: =SUM(R17:W17) -> 182 | Y17: =IF(C17="","",IF(L17+M17+N17+O17+P17+Q17=1,"OK","ERREUR")) -> OK | Z17: =IF(C17="","",IF(H17="","ERREUR","OK")) -> OK | AA17: =IF(D17="","",IF(J17="","ERREUR","OK")) -> OK | AD17: =+X17-I17 -> 0
A18: =+IF(H18>0,1,0) -> 1 | B18: AYOUNE MAKAYABOU | C18: =IF(B18="","",_xlfn.XLOOKUP(B18, Sites!G:G, Sites!F:F, "N/A")) -> PNR-00017 | D18: =IF(B18="","",_xlfn.XLOOKUP(B18, Sites!G:G, Sites!E:E, "N/A")) -> 0 | E18: =IF(B18="","",_xlfn.XLOOKUP(B18, Sites!G:G, Sites!D:D, "N/A")) -> 0 | F18: =IF(B18="","",_xlfn.XLOOKUP(B18, Sites!G:G, Sites!H:H, "N/A")) -> 0 | G18: =IF(B18="","",_xlfn.XLOOKUP(B18, Sites!G:G, Sites!I:I, "N/A")) | H18: 24 | I18: =H18*7 -> 168 | J18: 46300 | K18: =IF(C18="","",IF(J18="","N/A",+IF(A18=1,(+TODAY())-J18,"N/A"))) -> 10 | L18: 0.5 | P18: 0.5 | R18: =+$I18*L18 -> 84 | S18: =+$I18*M18 -> 0 | T18: =+$I18*N18 -> 0 | U18: =+$I18*O18 -> 0 | V18: =+$I18*P18 -> 84 | W18: =+$I18*Q18 -> 0 | X18: =SUM(R18:W18) -> 168 | Y18: =IF(C18="","",IF(L18+M18+N18+O18+P18+Q18=1,"OK","ERREUR")) -> OK | Z18: =IF(C18="","",IF(H18="","ERREUR","OK")) -> OK | AA18: =IF(D18="","",IF(J18="","ERREUR","OK")) -> OK | AD18: =+X18-I18 -> 0
A19: =+IF(H19>0,1,0) -> 1 | B19: AZALAYE makulungulu | C19: =IF(B19="","",_xlfn.XLOOKUP(B19, Sites!G:G, Sites!F:F, "N/A")) -> PNR-00018 | D19: =IF(B19="","",_xlfn.XLOOKUP(B19, Sites!G:G, Sites!E:E, "N/A")) -> Alexis MABOUNDA | E19: =IF(B19="","",_xlfn.XLOOKUP(B19, Sites!G:G, Sites!D:D, "N/A")) -> 1 | F19: =IF(B19="","",_xlfn.XLOOKUP(B19, Sites!G:G, Sites!H:H, "N/A")) -> 0 | G19: =IF(B19="","",_xlfn.XLOOKUP(B19, Sites!G:G, Sites!I:I, "N/A")) | H19: 36 | I19: =H19*7 -> 252 | J19: 46301 | K19: =IF(C19="","",IF(J19="","N/A",+IF(A19=1,(+TODAY())-J19,"N/A"))) -> 9 | L19: 0.5 | P19: 0.5 | R19: =+$I19*L19 -> 126 | S19: =+$I19*M19 -> 0 | T19: =+$I19*N19 -> 0 | U19: =+$I19*O19 -> 0 | V19: =+$I19*P19 -> 126 | W19: =+$I19*Q19 -> 0 | X19: =SUM(R19:W19) -> 252 | Y19: =IF(C19="","",IF(L19+M19+N19+O19+P19+Q19=1,"OK","ERREUR")) -> OK | Z19: =IF(C19="","",IF(H19="","ERREUR","OK")) -> OK | AA19: =IF(D19="","",IF(J19="","ERREUR","OK")) -> OK | AD19: =+X19-I19 -> 0
A20: =+IF(H20>0,1,0) -> 1 | B20: BA fond tié-tié gare | C20: =IF(B20="","",_xlfn.XLOOKUP(B20, Sites!G:G, Sites!F:F, "N/A")) -> PNR-00019 | D20: =IF(B20="","",_xlfn.XLOOKUP(B20, Sites!G:G, Sites!E:E, "N/A")) -> Armel SOKAMBA | E20: =IF(B20="","",_xlfn.XLOOKUP(B20, Sites!G:G, Sites!D:D, "N/A")) -> 3 | F20: =IF(B20="","",_xlfn.XLOOKUP(B20, Sites!G:G, Sites!H:H, "N/A")) -> 0 | G20: =IF(B20="","",_xlfn.XLOOKUP(B20, Sites!G:G, Sites!I:I, "N/A")) | H20: 28 | I20: =H20*7 -> 196 | J20: 46301 | K20: =IF(C20="","",IF(J20="","N/A",+IF(A20=1,(+TODAY())-J20,"N/A"))) -> 9 | L20: 0.75 | P20: 0.25 | R20: =+$I20*L20 -> 147 | S20: =+$I20*M20 -> 0 | T20: =+$I20*N20 -> 0 | U20: =+$I20*O20 -> 0 | V20: =+$I20*P20 -> 49 | W20: =+$I20*Q20 -> 0 | X20: =SUM(R20:W20) -> 196 | Y20: =IF(C20="","",IF(L20+M20+N20+O20+P20+Q20=1,"OK","ERREUR")) -> OK | Z20: =IF(C20="","",IF(H20="","ERREUR","OK")) -> OK | AA20: =IF(D20="","",IF(J20="","ERREUR","OK")) -> OK | AD20: =+X20-I20 -> 0
A21: =+IF(H21>0,1,0) -> 1 | B21: BA fond tié-tié en allant vers voungou | C21: =IF(B21="","",_xlfn.XLOOKUP(B21, Sites!G:G, Sites!F:F, "N/A")) -> PNR-00020 | D21: =IF(B21="","",_xlfn.XLOOKUP(B21, Sites!G:G, Sites!E:E, "N/A")) -> Félix OVOURA | E21: =IF(B21="","",_xlfn.XLOOKUP(B21, Sites!G:G, Sites!D:D, "N/A")) -> 2 | F21: =IF(B21="","",_xlfn.XLOOKUP(B21, Sites!G:G, Sites!H:H, "N/A")) -> 0 | G21: =IF(B21="","",_xlfn.XLOOKUP(B21, Sites!G:G, Sites!I:I, "N/A")) | H21: 36 | I21: =H21*7 -> 252 | J21: 46302 | K21: =IF(C21="","",IF(J21="","N/A",+IF(A21=1,(+TODAY())-J21,"N/A"))) -> 8 | L21: 0.5 | P21: 0.5 | R21: =+$I21*L21 -> 126 | S21: =+$I21*M21 -> 0 | T21: =+$I21*N21 -> 0 | U21: =+$I21*O21 -> 0 | V21: =+$I21*P21 -> 126 | W21: =+$I21*Q21 -> 0 | X21: =SUM(R21:W21) -> 252 | Y21: =IF(C21="","",IF(L21+M21+N21+O21+P21+Q21=1,"OK","ERREUR")) -> OK | Z21: =IF(C21="","",IF(H21="","ERREUR","OK")) -> OK | AA21: =IF(D21="","",IF(J21="","ERREUR","OK")) -> OK | AD21: =+X21-I21 -> 0
A22: =+IF(H22>0,1,0) -> 1 | B22: BA mpaka dalette | C22: =IF(B22="","",_xlfn.XLOOKUP(B22, Sites!G:G, Sites!F:F, "N/A")) -> PNR-00021 | D22: =IF(B22="","",_xlfn.XLOOKUP(B22, Sites!G:G, Sites!E:E, "N/A")) -> Félix OVOURA | E22: =IF(B22="","",_xlfn.XLOOKUP(B22, Sites!G:G, Sites!D:D, "N/A")) -> 2 | F22: =IF(B22="","",_xlfn.XLOOKUP(B22, Sites!G:G, Sites!H:H, "N/A")) -> 0 | G22: =IF(B22="","",_xlfn.XLOOKUP(B22, Sites!G:G, Sites!I:I, "N/A")) | H22: 28 | I22: =H22*7 -> 196 | J22: 46295 | K22: =IF(C22="","",IF(J22="","N/A",+IF(A22=1,(+TODAY())-J22,"N/A"))) -> 15 | L22: 0.5 | Q22: 0.5 | R22: =+$I22*L22 -> 98 | S22: =+$I22*M22 -> 0 | T22: =+$I22*N22 -> 0 | U22: =+$I22*O22 -> 0 | V22: =+$I22*P22 -> 0 | W22: =+$I22*Q22 -> 98 | X22: =SUM(R22:W22) -> 196 | Y22: =IF(C22="","",IF(L22+M22+N22+O22+P22+Q22=1,"OK","ERREUR")) -> OK | Z22: =IF(C22="","",IF(H22="","ERREUR","OK")) -> OK | AA22: =IF(D22="","",IF(J22="","ERREUR","OK")) -> OK | AD22: =+X22-I22 -> 0
A23: =+IF(H23>0,1,0) -> 1 | B23: BA mpaka marché LEWILIS | C23: =IF(B23="","",_xlfn.XLOOKUP(B23, Sites!G:G, Sites!F:F, "N/A")) -> PNR-00022 | D23: =IF(B23="","",_xlfn.XLOOKUP(B23, Sites!G:G, Sites!E:E, "N/A")) -> Félix OVOURA | E23: =IF(B23="","",_xlfn.XLOOKUP(B23, Sites!G:G, Sites!D:D, "N/A")) -> 2 | F23: =IF(B23="","",_xlfn.XLOOKUP(B23, Sites!G:G, Sites!H:H, "N/A")) -> 0 | G23: =IF(B23="","",_xlfn.XLOOKUP(B23, Sites!G:G, Sites!I:I, "N/A")) | H23: 22 | I23: =H23*7 -> 154 | J23: 46295 | K23: =IF(C23="","",IF(J23="","N/A",+IF(A23=1,(+TODAY())-J23,"N/A"))) -> 15 | L23: 0.5 | P23: 0.5 | R23: =+$I23*L23 -> 77 | S23: =+$I23*M23 -> 0 | T23: =+$I23*N23 -> 0 | U23: =+$I23*O23 -> 0 | V23: =+$I23*P23 -> 77 | W23: =+$I23*Q23 -> 0 | X23: =SUM(R23:W23) -> 154 | Y23: =IF(C23="","",IF(L23+M23+N23+O23+P23+Q23=1,"OK","ERREUR")) -> OK | Z23: =IF(C23="","",IF(H23="","ERREUR","OK")) -> OK | AA23: =IF(D23="","",IF(J23="","ERREUR","OK")) -> OK | AD23: =+X23-I23 -> 0
A24: =+IF(H24>0,1,0) -> 1 | B24: BA mvoumvou immigration | C24: =IF(B24="","",_xlfn.XLOOKUP(B24, Sites!G:G, Sites!F:F, "N/A")) -> PNR-00023 | D24: =IF(B24="","",_xlfn.XLOOKUP(B24, Sites!G:G, Sites!E:E, "N/A")) -> Armel SOKAMBA | E24: =IF(B24="","",_xlfn.XLOOKUP(B24, Sites!G:G, Sites!D:D, "N/A")) -> 3 | F24: =IF(B24="","",_xlfn.XLOOKUP(B24, Sites!G:G, Sites!H:H, "N/A")) -> 0 | G24: =IF(B24="","",_xlfn.XLOOKUP(B24, Sites!G:G, Sites!I:I, "N/A")) | H24: 24 | I24: =H24*7 -> 168 | J24: 46294 | K24: =IF(C24="","",IF(J24="","N/A",+IF(A24=1,(+TODAY())-J24,"N/A"))) -> 16 | L24: 0.5 | P24: 0.5 | R24: =+$I24*L24 -> 84 | S24: =+$I24*M24 -> 0 | T24: =+$I24*N24 -> 0 | U24: =+$I24*O24 -> 0 | V24: =+$I24*P24 -> 84 | W24: =+$I24*Q24 -> 0 | X24: =SUM(R24:W24) -> 168 | Y24: =IF(C24="","",IF(L24+M24+N24+O24+P24+Q24=1,"OK","ERREUR")) -> OK | Z24: =IF(C24="","",IF(H24="","ERREUR","OK")) -> OK | AA24: =IF(D24="","",IF(J24="","ERREUR","OK")) -> OK | AD24: =+X24-I24 -> 0
A25: =+IF(H25>0,1,0) -> 1 | B25: BA ngoyo | C25: =IF(B25="","",_xlfn.XLOOKUP(B25, Sites!G:G, Sites!F:F, "N/A")) -> PNR-00024 | D25: =IF(B25="","",_xlfn.XLOOKUP(B25, Sites!G:G, Sites!E:E, "N/A")) -> Armel SOKAMBA | E25: =IF(B25="","",_xlfn.XLOOKUP(B25, Sites!G:G, Sites!D:D, "N/A")) -> 3 | F25: =IF(B25="","",_xlfn.XLOOKUP(B25, Sites!G:G, Sites!H:H, "N/A")) -> 0 | G25: =IF(B25="","",_xlfn.XLOOKUP(B25, Sites!G:G, Sites!I:I, "N/A")) | H25: 22 | I25: =H25*7 -> 154 | J25: 46301 | K25: =IF(C25="","",IF(J25="","N/A",+IF(A25=1,(+TODAY())-J25,"N/A"))) -> 9 | L25: 0.5 | P25: 0.5 | R25: =+$I25*L25 -> 77 | S25: =+$I25*M25 -> 0 | T25: =+$I25*N25 -> 0 | U25: =+$I25*O25 -> 0 | V25: =+$I25*P25 -> 77 | W25: =+$I25*Q25 -> 0 | X25: =SUM(R25:W25) -> 154 | Y25: =IF(C25="","",IF(L25+M25+N25+O25+P25+Q25=1,"OK","ERREUR")) -> OK | Z25: =IF(C25="","",IF(H25="","ERREUR","OK")) -> OK | AA25: =IF(D25="","",IF(J25="","ERREUR","OK")) -> OK | AD25: =+X25-I25 -> 0
A26: =+IF(H26>0,1,0) -> 0 | B26: BA thyster mongo mpoukou | C26: =IF(B26="","",_xlfn.XLOOKUP(B26, Sites!G:G, Sites!F:F, "N/A")) -> PNR-00025 | D26: =IF(B26="","",_xlfn.XLOOKUP(B26, Sites!G:G, Sites!E:E, "N/A")) -> Félix OVOURA | E26: =IF(B26="","",_xlfn.XLOOKUP(B26, Sites!G:G, Sites!D:D, "N/A")) -> 2 | F26: =IF(B26="","",_xlfn.XLOOKUP(B26, Sites!G:G, Sites!H:H, "N/A")) -> 0 | G26: =IF(B26="","",_xlfn.XLOOKUP(B26, Sites!G:G, Sites!I:I, "N/A")) | H26: 0 | I26: =H26*7 -> 0 | J26: 46301 | K26: =IF(C26="","",IF(J26="","N/A",+IF(A26=1,(+TODAY())-J26,"N/A"))) -> N/A | L26: 1 | R26: =+$I26*L26 -> 0 | S26: =+$I26*M26 -> 0 | T26: =+$I26*N26 -> 0 | U26: =+$I26*O26 -> 0 | V26: =+$I26*P26 -> 0 | W26: =+$I26*Q26 -> 0 | X26: =SUM(R26:W26) -> 0 | Y26: =IF(C26="","",IF(L26+M26+N26+O26+P26+Q26=1,"OK","ERREUR")) -> OK | Z26: =IF(C26="","",IF(H26="","ERREUR","OK")) -> OK | AA26: =IF(D26="","",IF(J26="","ERREUR","OK")) -> OK | AD26: =+X26-I26 -> 0
A27: =+IF(H27>0,1,0) -> 1 | B27: BABA.M EX MAKKAH Vindoulou station | C27: =IF(B27="","",_xlfn.XLOOKUP(B27, Sites!G:G, Sites!F:F, "N/A")) -> PNR-00026 | D27: =IF(B27="","",_xlfn.XLOOKUP(B27, Sites!G:G, Sites!E:E, "N/A")) -> 0 | E27: =IF(B27="","",_xlfn.XLOOKUP(B27, Sites!G:G, Sites!D:D, "N/A")) -> 0 | F27: =IF(B27="","",_xlfn.XLOOKUP(B27, Sites!G:G, Sites!H:H, "N/A")) -> 0 | G27: =IF(B27="","",_xlfn.XLOOKUP(B27, Sites!G:G, Sites!I:I, "N/A")) | H27: 26 | I27: =H27*7 -> 182 | J27: 46301 | K27: =IF(C27="","",IF(J27="","N/A",+IF(A27=1,(+TODAY())-J27,"N/A"))) -> 9 | L27: 0.5 | O27: 0.5 | R27: =+$I27*L27 -> 91 | S27: =+$I27*M27 -> 0 | T27: =+$I27*N27 -> 0 | U27: =+$I27*O27 -> 91 | V27: =+$I27*P27 -> 0 | W27: =+$I27*Q27 -> 0 | X27: =SUM(R27:W27) -> 182 | Y27: =IF(C27="","",IF(L27+M27+N27+O27+P27+Q27=1,"OK","ERREUR")) -> OK | Z27: =IF(C27="","",IF(H27="","ERREUR","OK")) -> OK | AA27: =IF(D27="","",IF(J27="","ERREUR","OK")) -> OK | AD27: =+X27-I27 -> 0
A28: =+IF(H28>0,1,0) -> 1 | B28: BABA.M EX MAKKAH marché nkounikou1 | C28: =IF(B28="","",_xlfn.XLOOKUP(B28, Sites!G:G, Sites!F:F, "N/A")) -> PNR-00027 | D28: =IF(B28="","",_xlfn.XLOOKUP(B28, Sites!G:G, Sites!E:E, "N/A")) -> 0 | E28: =IF(B28="","",_xlfn.XLOOKUP(B28, Sites!G:G, Sites!D:D, "N/A")) -> 0 | F28: =IF(B28="","",_xlfn.XLOOKUP(B28, Sites!G:G, Sites!H:H, "N/A")) -> 0 | G28: =IF(B28="","",_xlfn.XLOOKUP(B28, Sites!G:G, Sites!I:I, "N/A")) | H28: 26 | I28: =H28*7 -> 182 | J28: 46295 | K28: =IF(C28="","",IF(J28="","N/A",+IF(A28=1,(+TODAY())-J28,"N/A"))) -> 15 | L28: 0.75 | Q28: 0.25 | R28: =+$I28*L28 -> 136.5 | S28: =+$I28*M28 -> 0 | T28: =+$I28*N28 -> 0 | U28: =+$I28*O28 -> 0 | V28: =+$I28*P28 -> 0 | W28: =+$I28*Q28 -> 45.5 | X28: =SUM(R28:W28) -> 182 | Y28: =IF(C28="","",IF(L28+M28+N28+O28+P28+Q28=1,"OK","ERREUR")) -> OK | Z28: =IF(C28="","",IF(H28="","ERREUR","OK")) -> OK | AA28: =IF(D28="","",IF(J28="","ERREUR","OK")) -> OK | AD28: =+X28-I28 -> 0
A29: =+IF(H29>0,1,0) -> 1 | B29: BAGUETTE D'EXCELLENCE nkouinkou | C29: =IF(B29="","",_xlfn.XLOOKUP(B29, Sites!G:G, Sites!F:F, "N/A")) -> PNR-00028 | D29: =IF(B29="","",_xlfn.XLOOKUP(B29, Sites!G:G, Sites!E:E, "N/A")) -> Armel SOKAMBA | E29: =IF(B29="","",_xlfn.XLOOKUP(B29, Sites!G:G, Sites!D:D, "N/A")) -> 3 | F29: =IF(B29="","",_xlfn.XLOOKUP(B29, Sites!G:G, Sites!H:H, "N/A")) -> 0 | G29: =IF(B29="","",_xlfn.XLOOKUP(B29, Sites!G:G, Sites!I:I, "N/A")) | H29: 28 | I29: =H29*7 -> 196 | J29: 46302 | K29: =IF(C29="","",IF(J29="","N/A",+IF(A29=1,(+TODAY())-J29,"N/A"))) -> 8 | L29: 0.5 | P29: 0.5 | R29: =+$I29*L29 -> 98 | S29: =+$I29*M29 -> 0 | T29: =+$I29*N29 -> 0 | U29: =+$I29*O29 -> 0 | V29: =+$I29*P29 -> 98 | W29: =+$I29*Q29 -> 0 | X29: =SUM(R29:W29) -> 196 | Y29: =IF(C29="","",IF(L29+M29+N29+O29+P29+Q29=1,"OK","ERREUR")) -> OK | Z29: =IF(C29="","",IF(H29="","ERREUR","OK")) -> OK | AA29: =IF(D29="","",IF(J29="","ERREUR","OK")) -> OK | AD29: =+X29-I29 -> 0
A30: =+IF(H30>0,1,0) -> 1 | B30: BAH ex BMM paka maison blanche | C30: =IF(B30="","",_xlfn.XLOOKUP(B30, Sites!G:G, Sites!F:F, "N/A")) -> PNR-00029 | D30: =IF(B30="","",_xlfn.XLOOKUP(B30, Sites!G:G, Sites!E:E, "N/A")) -> Armel SOKAMBA | E30: =IF(B30="","",_xlfn.XLOOKUP(B30, Sites!G:G, Sites!D:D, "N/A")) -> 3 | F30: =IF(B30="","",_xlfn.XLOOKUP(B30, Sites!G:G, Sites!H:H, "N/A")) -> 0 | G30: =IF(B30="","",_xlfn.XLOOKUP(B30, Sites!G:G, Sites!I:I, "N/A")) | H30: 8 | I30: =H30*7 -> 56 | J30: 46302 | K30: =IF(C30="","",IF(J30="","N/A",+IF(A30=1,(+TODAY())-J30,"N/A"))) -> 8 | L30: 0.5 | P30: 0.5 | R30: =+$I30*L30 -> 28 | S30: =+$I30*M30 -> 0 | T30: =+$I30*N30 -> 0 | U30: =+$I30*O30 -> 0 | V30: =+$I30*P30 -> 28 | W30: =+$I30*Q30 -> 0 | X30: =SUM(R30:W30) -> 56 | Y30: =IF(C30="","",IF(L30+M30+N30+O30+P30+Q30=1,"OK","ERREUR")) -> OK | Z30: =IF(C30="","",IF(H30="","ERREUR","OK")) -> OK | AA30: =IF(D30="","",IF(J30="","ERREUR","OK")) -> OK | AD30: =+X30-I30 -> 0
A31: =+IF(H31>0,1,0) -> 1 | B31: BAH ex HACEN fond tié-tié | C31: =IF(B31="","",_xlfn.XLOOKUP(B31, Sites!G:G, Sites!F:F, "N/A")) -> PNR-00030 | D31: =IF(B31="","",_xlfn.XLOOKUP(B31, Sites!G:G, Sites!E:E, "N/A")) -> Armel SOKAMBA | E31: =IF(B31="","",_xlfn.XLOOKUP(B31, Sites!G:G, Sites!D:D, "N/A")) -> 3 | F31: =IF(B31="","",_xlfn.XLOOKUP(B31, Sites!G:G, Sites!H:H, "N/A")) -> 0 | G31: =IF(B31="","",_xlfn.XLOOKUP(B31, Sites!G:G, Sites!I:I, "N/A")) | H31: 20 | I31: =H31*7 -> 140 | J31: 46301 | K31: =IF(C31="","",IF(J31="","N/A",+IF(A31=1,(+TODAY())-J31,"N/A"))) -> 9 | L31: 0.5 | P31: 0.5 | R31: =+$I31*L31 -> 70 | S31: =+$I31*M31 -> 0 | T31: =+$I31*N31 -> 0 | U31: =+$I31*O31 -> 0 | V31: =+$I31*P31 -> 70 | W31: =+$I31*Q31 -> 0 | X31: =SUM(R31:W31) -> 140 | Y31: =IF(C31="","",IF(L31+M31+N31+O31+P31+Q31=1,"OK","ERREUR")) -> OK | Z31: =IF(C31="","",IF(H31="","ERREUR","OK")) -> OK | AA31: =IF(D31="","",IF(J31="","ERREUR","OK")) -> OK | AD31: =+X31-I31 -> 0
A32: =+IF(H32>0,1,0) -> 1 | B32: BAH ex SASI tié tié massola | C32: =IF(B32="","",_xlfn.XLOOKUP(B32, Sites!G:G, Sites!F:F, "N/A")) -> PNR-00031 | D32: =IF(B32="","",_xlfn.XLOOKUP(B32, Sites!G:G, Sites!E:E, "N/A")) -> Félix OVOURA | E32: =IF(B32="","",_xlfn.XLOOKUP(B32, Sites!G:G, Sites!D:D, "N/A")) -> 2 | F32: =IF(B32="","",_xlfn.XLOOKUP(B32, Sites!G:G, Sites!H:H, "N/A")) -> 0 | G32: =IF(B32="","",_xlfn.XLOOKUP(B32, Sites!G:G, Sites!I:I, "N/A")) | H32: 20 | I32: =H32*7 -> 140 | J32: 46293 | K32: =IF(C32="","",IF(J32="","N/A",+IF(A32=1,(+TODAY())-J32,"N/A"))) -> 17 | L32: 0.5 | O32: 0.5 | R32: =+$I32*L32 -> 70 | S32: =+$I32*M32 -> 0 | T32: =+$I32*N32 -> 0 | U32: =+$I32*O32 -> 70 | V32: =+$I32*P32 -> 0 | W32: =+$I32*Q32 -> 0 | X32: =SUM(R32:W32) -> 140 | Y32: =IF(C32="","",IF(L32+M32+N32+O32+P32+Q32=1,"OK","ERREUR")) -> OK | Z32: =IF(C32="","",IF(H32="","ERREUR","OK")) -> OK | AA32: =IF(D32="","",IF(J32="","ERREUR","OK")) -> OK | AD32: =+X32-I32 -> 0
A33: =+IF(H33>0,1,0) -> 1 | B33: BENI EX GORGOL 2 mpaka dalette | C33: =IF(B33="","",_xlfn.XLOOKUP(B33, Sites!G:G, Sites!F:F, "N/A")) -> PNR-00032 | D33: =IF(B33="","",_xlfn.XLOOKUP(B33, Sites!G:G, Sites!E:E, "N/A")) -> Armel SOKAMBA | E33: =IF(B33="","",_xlfn.XLOOKUP(B33, Sites!G:G, Sites!D:D, "N/A")) -> 3 | F33: =IF(B33="","",_xlfn.XLOOKUP(B33, Sites!G:G, Sites!H:H, "N/A")) -> 0 | G33: =IF(B33="","",_xlfn.XLOOKUP(B33, Sites!G:G, Sites!I:I, "N/A")) | H33: 40 | I33: =H33*7 -> 280 | J33: 46300 | K33: =IF(C33="","",IF(J33="","N/A",+IF(A33=1,(+TODAY())-J33,"N/A"))) -> 10 | L33: 0.5 | O33: 0.5 | R33: =+$I33*L33 -> 140 | S33: =+$I33*M33 -> 0 | T33: =+$I33*N33 -> 0 | U33: =+$I33*O33 -> 140 | V33: =+$I33*P33 -> 0 | W33: =+$I33*Q33 -> 0 | X33: =SUM(R33:W33) -> 280 | Y33: =IF(C33="","",IF(L33+M33+N33+O33+P33+Q33=1,"OK","ERREUR")) -> OK | Z33: =IF(C33="","",IF(H33="","ERREUR","OK")) -> OK | AA33: =IF(D33="","",IF(J33="","ERREUR","OK")) -> OK | AD33: =+X33-I33 -> 0
A34: =+IF(H34>0,1,0) -> 1 | B34: BICLE | C34: =IF(B34="","",_xlfn.XLOOKUP(B34, Sites!G:G, Sites!F:F, "N/A")) -> PNR-00033 | D34: =IF(B34="","",_xlfn.XLOOKUP(B34, Sites!G:G, Sites!E:E, "N/A")) -> Alexis MABOUNDA | E34: =IF(B34="","",_xlfn.XLOOKUP(B34, Sites!G:G, Sites!D:D, "N/A")) -> 1 | F34: =IF(B34="","",_xlfn.XLOOKUP(B34, Sites!G:G, Sites!H:H, "N/A")) -> 0 | G34: =IF(B34="","",_xlfn.XLOOKUP(B34, Sites!G:G, Sites!I:I, "N/A")) | H34: 36 | I34: =H34*7 -> 252 | J34: 46300 | K34: =IF(C34="","",IF(J34="","N/A",+IF(A34=1,(+TODAY())-J34,"N/A"))) -> 10 | L34: 0.5 | O34: 0.5 | R34: =+$I34*L34 -> 126 | S34: =+$I34*M34 -> 0 | T34: =+$I34*N34 -> 0 | U34: =+$I34*O34 -> 126 | V34: =+$I34*P34 -> 0 | W34: =+$I34*Q34 -> 0 | X34: =SUM(R34:W34) -> 252 | Y34: =IF(C34="","",IF(L34+M34+N34+O34+P34+Q34=1,"OK","ERREUR")) -> OK | Z34: =IF(C34="","",IF(H34="","ERREUR","OK")) -> OK | AA34: =IF(D34="","",IF(J34="","ERREUR","OK")) -> OK | AD34: =+X34-I34 -> 0
A35: =+IF(H35>0,1,0) -> 1 | B35: BM EX ELKER WENVIR vindoulou arrêt sapin | C35: =IF(B35="","",_xlfn.XLOOKUP(B35, Sites!G:G, Sites!F:F, "N/A")) -> PNR-00034 | D35: =IF(B35="","",_xlfn.XLOOKUP(B35, Sites!G:G, Sites!E:E, "N/A")) -> Félix OVOURA | E35: =IF(B35="","",_xlfn.XLOOKUP(B35, Sites!G:G, Sites!D:D, "N/A")) -> 2 | F35: =IF(B35="","",_xlfn.XLOOKUP(B35, Sites!G:G, Sites!H:H, "N/A")) -> 0 | G35: =IF(B35="","",_xlfn.XLOOKUP(B35, Sites!G:G, Sites!I:I, "N/A")) | H35: 22 | I35: =H35*7 -> 154 | J35: 46293 | K35: =IF(C35="","",IF(J35="","N/A",+IF(A35=1,(+TODAY())-J35,"N/A"))) -> 17 | L35: 0.5 | P35: 0.5 | R35: =+$I35*L35 -> 77 | S35: =+$I35*M35 -> 0 | T35: =+$I35*N35 -> 0 | U35: =+$I35*O35 -> 0 | V35: =+$I35*P35 -> 77 | W35: =+$I35*Q35 -> 0 | X35: =SUM(R35:W35) -> 154 | Y35: =IF(C35="","",IF(L35+M35+N35+O35+P35+Q35=1,"OK","ERREUR")) -> OK | Z35: =IF(C35="","",IF(H35="","ERREUR","OK")) -> OK | AA35: =IF(D35="","",IF(J35="","ERREUR","OK")) -> OK | AD35: =+X35-I35 -> 0
A36: =+IF(H36>0,1,0) -> 1 | B36: BON CHOIX FOND TIE TIE | C36: =IF(B36="","",_xlfn.XLOOKUP(B36, Sites!G:G, Sites!F:F, "N/A")) -> PNR-00035 | D36: =IF(B36="","",_xlfn.XLOOKUP(B36, Sites!G:G, Sites!E:E, "N/A")) -> 0 | E36: =IF(B36="","",_xlfn.XLOOKUP(B36, Sites!G:G, Sites!D:D, "N/A")) -> 0 | F36: =IF(B36="","",_xlfn.XLOOKUP(B36, Sites!G:G, Sites!H:H, "N/A")) -> 0 | G36: =IF(B36="","",_xlfn.XLOOKUP(B36, Sites!G:G, Sites!I:I, "N/A")) | H36: 6 | I36: =H36*7 -> 42 | J36: 46300 | K36: =IF(C36="","",IF(J36="","N/A",+IF(A36=1,(+TODAY())-J36,"N/A"))) -> 10 | L36: 1 | R36: =+$I36*L36 -> 42 | S36: =+$I36*M36 -> 0 | T36: =+$I36*N36 -> 0 | U36: =+$I36*O36 -> 0 | V36: =+$I36*P36 -> 0 | W36: =+$I36*Q36 -> 0 | X36: =SUM(R36:W36) -> 42 | Y36: =IF(C36="","",IF(L36+M36+N36+O36+P36+Q36=1,"OK","ERREUR")) -> OK | Z36: =IF(C36="","",IF(H36="","ERREUR","OK")) -> OK | AA36: =IF(D36="","",IF(J36="","ERREUR","OK")) -> OK | AD36: =+X36-I36 -> 0
A37: =+IF(H37>0,1,0) -> 1 | B37: BON CHOIX ngoyo | C37: =IF(B37="","",_xlfn.XLOOKUP(B37, Sites!G:G, Sites!F:F, "N/A")) -> PNR-00036 | D37: =IF(B37="","",_xlfn.XLOOKUP(B37, Sites!G:G, Sites!E:E, "N/A")) -> Alexis MABOUNDA | E37: =IF(B37="","",_xlfn.XLOOKUP(B37, Sites!G:G, Sites!D:D, "N/A")) -> 1 | F37: =IF(B37="","",_xlfn.XLOOKUP(B37, Sites!G:G, Sites!H:H, "N/A")) -> 0 | G37: =IF(B37="","",_xlfn.XLOOKUP(B37, Sites!G:G, Sites!I:I, "N/A")) | H37: 22 | I37: =H37*7 -> 154 | J37: 46300 | K37: =IF(C37="","",IF(J37="","N/A",+IF(A37=1,(+TODAY())-J37,"N/A"))) -> 10 | O37: 0.5 | Q37: 0.5 | R37: =+$I37*L37 -> 0 | S37: =+$I37*M37 -> 0 | T37: =+$I37*N37 -> 0 | U37: =+$I37*O37 -> 77 | V37: =+$I37*P37 -> 0 | W37: =+$I37*Q37 -> 77 | X37: =SUM(R37:W37) -> 154 | Y37: =IF(C37="","",IF(L37+M37+N37+O37+P37+Q37=1,"OK","ERREUR")) -> OK | Z37: =IF(C37="","",IF(H37="","ERREUR","OK")) -> OK | AA37: =IF(D37="","",IF(J37="","ERREUR","OK")) -> OK | AD37: =+X37-I37 -> 0
A38: =+IF(H38>0,1,0) -> 1 | B38: BON CHOIX ex GAZA 2 km4 | C38: =IF(B38="","",_xlfn.XLOOKUP(B38, Sites!G:G, Sites!F:F, "N/A")) -> PNR-00037 | D38: =IF(B38="","",_xlfn.XLOOKUP(B38, Sites!G:G, Sites!E:E, "N/A")) -> Alexis MABOUNDA | E38: =IF(B38="","",_xlfn.XLOOKUP(B38, Sites!G:G, Sites!D:D, "N/A")) -> 1 | F38: =IF(B38="","",_xlfn.XLOOKUP(B38, Sites!G:G, Sites!H:H, "N/A")) -> 0 | G38: =IF(B38="","",_xlfn.XLOOKUP(B38, Sites!G:G, Sites!I:I, "N/A")) | H38: 10 | I38: =H38*7 -> 70 | J38: 46301 | K38: =IF(C38="","",IF(J38="","N/A",+IF(A38=1,(+TODAY())-J38,"N/A"))) -> 9 | L38: 1 | R38: =+$I38*L38 -> 70 | S38: =+$I38*M38 -> 0 | T38: =+$I38*N38 -> 0 | U38: =+$I38*O38 -> 0 | V38: =+$I38*P38 -> 0 | W38: =+$I38*Q38 -> 0 | X38: =SUM(R38:W38) -> 70 | Y38: =IF(C38="","",IF(L38+M38+N38+O38+P38+Q38=1,"OK","ERREUR")) -> OK | Z38: =IF(C38="","",IF(H38="","ERREUR","OK")) -> OK | AA38: =IF(D38="","",IF(J38="","ERREUR","OK")) -> OK | AD38: =+X38-I38 -> 0
A39: =+IF(H39>0,1,0) -> 1 | B39: BON CHOIX tié tié masola | C39: =IF(B39="","",_xlfn.XLOOKUP(B39, Sites!G:G, Sites!F:F, "N/A")) -> PNR-00038 | D39: =IF(B39="","",_xlfn.XLOOKUP(B39, Sites!G:G, Sites!E:E, "N/A")) -> 0 | E39: =IF(B39="","",_xlfn.XLOOKUP(B39, Sites!G:G, Sites!D:D, "N/A")) -> 0 | F39: =IF(B39="","",_xlfn.XLOOKUP(B39, Sites!G:G, Sites!H:H, "N/A")) -> 0 | G39: =IF(B39="","",_xlfn.XLOOKUP(B39, Sites!G:G, Sites!I:I, "N/A")) | H39: 5 | I39: =H39*7 -> 35 | J39: 46296 | K39: =IF(C39="","",IF(J39="","N/A",+IF(A39=1,(+TODAY())-J39,"N/A"))) -> 14 | L39: 1 | R39: =+$I39*L39 -> 35 | S39: =+$I39*M39 -> 0 | T39: =+$I39*N39 -> 0 | U39: =+$I39*O39 -> 0 | V39: =+$I39*P39 -> 0 | W39: =+$I39*Q39 -> 0 | X39: =SUM(R39:W39) -> 35 | Y39: =IF(C39="","",IF(L39+M39+N39+O39+P39+Q39=1,"OK","ERREUR")) -> OK | Z39: =IF(C39="","",IF(H39="","ERREUR","OK")) -> OK | AA39: =IF(D39="","",IF(J39="","ERREUR","OK")) -> OK | AD39: =+X39-I39 -> 0
A40: =+IF(H40>0,1,0) -> 1 | B40: BOPAIN Tié-tié Congo Malembé | C40: =IF(B40="","",_xlfn.XLOOKUP(B40, Sites!G:G, Sites!F:F, "N/A")) -> PNR-00039 | D40: =IF(B40="","",_xlfn.XLOOKUP(B40, Sites!G:G, Sites!E:E, "N/A")) -> 0 | E40: =IF(B40="","",_xlfn.XLOOKUP(B40, Sites!G:G, Sites!D:D, "N/A")) -> 0 | F40: =IF(B40="","",_xlfn.XLOOKUP(B40, Sites!G:G, Sites!H:H, "N/A")) -> 0 | G40: =IF(B40="","",_xlfn.XLOOKUP(B40, Sites!G:G, Sites!I:I, "N/A")) | H40: 5 | I40: =H40*7 -> 35 | J40: 46294 | K40: =IF(C40="","",IF(J40="","N/A",+IF(A40=1,(+TODAY())-J40,"N/A"))) -> 16 | O40: 1 | R40: =+$I40*L40 -> 0 | S40: =+$I40*M40 -> 0 | T40: =+$I40*N40 -> 0 | U40: =+$I40*O40 -> 35 | V40: =+$I40*P40 -> 0 | W40: =+$I40*Q40 -> 0 | X40: =SUM(R40:W40) -> 35 | Y40: =IF(C40="","",IF(L40+M40+N40+O40+P40+Q40=1,"OK","ERREUR")) -> OK | Z40: =IF(C40="","",IF(H40="","ERREUR","OK")) -> OK | AA40: =IF(D40="","",IF(J40="","ERREUR","OK")) -> OK | AD40: =+X40-I40 -> 0
...

Sheet PDM 2026
A1: Week | B1: Minoco | C1: Fanta | D1: GMPN | E1: GMK | F1: SGMP | G1: MFB | H1: GMC
A2: 1 | B2: {=IFERROR(INDIRECT("'WEEK " & A2 & "'!O183"),0)} -> 0 | C2: {=IFERROR(INDIRECT("'WEEK " & A2 & "'!P183"),0)} -> 0 | D2: =SUM(B2:C2) -> 0 | E2: {=IFERROR(INDIRECT("'WEEK " & A2 & "'!R183"),0)} -> 0 | F2: {=IFERROR(INDIRECT("'WEEK " & A2 & "'!S183"),0)} -> 0 | G2: {=IFERROR(INDIRECT("'WEEK " & A2 & "'!T183"),0)} -> 0 | H2: {=IFERROR(INDIRECT("'WEEK " & A2 & "'!U183"),0)} -> 0 | I2: =+D2+E2+F2+G2+H2 -> 0
A3: 2 | B3: {=IFERROR(INDIRECT("'WEEK " & A3 & "'!O183"),0)} -> 0 | C3: {=IFERROR(INDIRECT("'WEEK " & A3 & "'!P183"),0)} -> 0 | D3: =SUM(B3:C3) -> 0 | E3: {=IFERROR(INDIRECT("'WEEK " & A3 & "'!R183"),0)} -> 0 | F3: {=IFERROR(INDIRECT("'WEEK " & A3 & "'!S183"),0)} -> 0 | G3: {=IFERROR(INDIRECT("'WEEK " & A3 & "'!T183"),0)} -> 0 | H3: {=IFERROR(INDIRECT("'WEEK " & A3 & "'!U183"),0)} -> 0 | I3: =+D3+E3+F3+G3+H3 -> 0
A4: 3 | B4: {=IFERROR(INDIRECT("'WEEK " & A4 & "'!O183"),0)} -> 0 | C4: {=IFERROR(INDIRECT("'WEEK " & A4 & "'!P183"),0)} -> 0 | D4: =SUM(B4:C4) -> 0 | E4: {=IFERROR(INDIRECT("'WEEK " & A4 & "'!R183"),0)} -> 0 | F4: {=IFERROR(INDIRECT("'WEEK " & A4 & "'!S183"),0)} -> 0 | G4: {=IFERROR(INDIRECT("'WEEK " & A4 & "'!T183"),0)} -> 0 | H4: {=IFERROR(INDIRECT("'WEEK " & A4 & "'!U183"),0)} -> 0 | I4: =+D4+E4+F4+G4+H4 -> 0
A5: 4 | B5: {=IFERROR(INDIRECT("'WEEK " & A5 & "'!O183"),0)} -> 0 | C5: {=IFERROR(INDIRECT("'WEEK " & A5 & "'!P183"),0)} -> 0 | D5: =SUM(B5:C5) -> 0 | E5: {=IFERROR(INDIRECT("'WEEK " & A5 & "'!R183"),0)} -> 0 | F5: {=IFERROR(INDIRECT("'WEEK " & A5 & "'!S183"),0)} -> 0 | G5: {=IFERROR(INDIRECT("'WEEK " & A5 & "'!T183"),0)} -> 0 | H5: {=IFERROR(INDIRECT("'WEEK " & A5 & "'!U183"),0)} -> 0 | I5: =+D5+E5+F5+G5+H5 -> 0
A6: 5 | B6: {=IFERROR(INDIRECT("'WEEK " & A6 & "'!O183"),0)} -> 0 | C6: {=IFERROR(INDIRECT("'WEEK " & A6 & "'!P183"),0)} -> 0 | D6: =SUM(B6:C6) -> 0 | E6: {=IFERROR(INDIRECT("'WEEK " & A6 & "'!R183"),0)} -> 0 | F6: {=IFERROR(INDIRECT("'WEEK " & A6 & "'!S183"),0)} -> 0 | G6: {=IFERROR(INDIRECT("'WEEK " & A6 & "'!T183"),0)} -> 0 | H6: {=IFERROR(INDIRECT("'WEEK " & A6 & "'!U183"),0)} -> 0 | I6: =+D6+E6+F6+G6+H6 -> 0
A7: 6 | B7: {=IFERROR(INDIRECT("'WEEK " & A7 & "'!O183"),0)} -> 0 | C7: {=IFERROR(INDIRECT("'WEEK " & A7 & "'!P183"),0)} -> 0 | D7: =SUM(B7:C7) -> 0 | E7: {=IFERROR(INDIRECT("'WEEK " & A7 & "'!R183"),0)} -> 0 | F7: {=IFERROR(INDIRECT("'WEEK " & A7 & "'!S183"),0)} -> 0 | G7: {=IFERROR(INDIRECT("'WEEK " & A7 & "'!T183"),0)} -> 0 | H7: {=IFERROR(INDIRECT("'WEEK " & A7 & "'!U183"),0)} -> 0 | I7: =+D7+E7+F7+G7+H7 -> 0
A8: 7 | B8: {=IFERROR(INDIRECT("'WEEK " & A8 & "'!O183"),0)} -> 0 | C8: {=IFERROR(INDIRECT("'WEEK " & A8 & "'!P183"),0)} -> 0 | D8: =SUM(B8:C8) -> 0 | E8: {=IFERROR(INDIRECT("'WEEK " & A8 & "'!R183"),0)} -> 0 | F8: {=IFERROR(INDIRECT("'WEEK " & A8 & "'!S183"),0)} -> 0 | G8: {=IFERROR(INDIRECT("'WEEK " & A8 & "'!T183"),0)} -> 0 | H8: {=IFERROR(INDIRECT("'WEEK " & A8 & "'!U183"),0)} -> 0 | I8: =+D8+E8+F8+G8+H8 -> 0
A9: 8 | B9: {=IFERROR(INDIRECT("'WEEK " & A9 & "'!O183"),0)} -> 0 | C9: {=IFERROR(INDIRECT("'WEEK " & A9 & "'!P183"),0)} -> 0 | D9: =SUM(B9:C9) -> 0 | E9: {=IFERROR(INDIRECT("'WEEK " & A9 & "'!R183"),0)} -> 0 | F9: {=IFERROR(INDIRECT("'WEEK " & A9 & "'!S183"),0)} -> 0 | G9: {=IFERROR(INDIRECT("'WEEK " & A9 & "'!T183"),0)} -> 0 | H9: {=IFERROR(INDIRECT("'WEEK " & A9 & "'!U183"),0)} -> 0 | I9: =+D9+E9+F9+G9+H9 -> 0
A10: 9 | B10: {=IFERROR(INDIRECT("'WEEK " & A10 & "'!O183"),0)} -> 0 | C10: {=IFERROR(INDIRECT("'WEEK " & A10 & "'!P183"),0)} -> 0 | D10: =SUM(B10:C10) -> 0 | E10: {=IFERROR(INDIRECT("'WEEK " & A10 & "'!R183"),0)} -> 0 | F10: {=IFERROR(INDIRECT("'WEEK " & A10 & "'!S183"),0)} -> 0 | G10: {=IFERROR(INDIRECT("'WEEK " & A10 & "'!T183"),0)} -> 0 | H10: {=IFERROR(INDIRECT("'WEEK " & A10 & "'!U183"),0)} -> 0 | I10: =+D10+E10+F10+G10+H10 -> 0
A11: 10 | B11: {=IFERROR(INDIRECT("'WEEK " & A11 & "'!O183"),0)} -> 0 | C11: {=IFERROR(INDIRECT("'WEEK " & A11 & "'!P183"),0)} -> 0 | D11: =SUM(B11:C11) -> 0 | E11: {=IFERROR(INDIRECT("'WEEK " & A11 & "'!R183"),0)} -> 0 | F11: {=IFERROR(INDIRECT("'WEEK " & A11 & "'!S183"),0)} -> 0 | G11: {=IFERROR(INDIRECT("'WEEK " & A11 & "'!T183"),0)} -> 0 | H11: {=IFERROR(INDIRECT("'WEEK " & A11 & "'!U183"),0)} -> 0 | I11: =+D11+E11+F11+G11+H11 -> 0
A12: 11 | B12: {=IFERROR(INDIRECT("'WEEK " & A12 & "'!O183"),0)} -> 0 | C12: {=IFERROR(INDIRECT("'WEEK " & A12 & "'!P183"),0)} -> 0 | D12: =SUM(B12:C12) -> 0 | E12: {=IFERROR(INDIRECT("'WEEK " & A12 & "'!R183"),0)} -> 0 | F12: {=IFERROR(INDIRECT("'WEEK " & A12 & "'!S183"),0)} -> 0 | G12: {=IFERROR(INDIRECT("'WEEK " & A12 & "'!T183"),0)} -> 0 | H12: {=IFERROR(INDIRECT("'WEEK " & A12 & "'!U183"),0)} -> 0 | I12: =+D12+E12+F12+G12+H12 -> 0
A13: 12 | B13: {=IFERROR(INDIRECT("'WEEK " & A13 & "'!O183"),0)} -> 0 | C13: {=IFERROR(INDIRECT("'WEEK " & A13 & "'!P183"),0)} -> 0 | D13: =SUM(B13:C13) -> 0 | E13: {=IFERROR(INDIRECT("'WEEK " & A13 & "'!R183"),0)} -> 0 | F13: {=IFERROR(INDIRECT("'WEEK " & A13 & "'!S183"),0)} -> 0 | G13: {=IFERROR(INDIRECT("'WEEK " & A13 & "'!T183"),0)} -> 0 | H13: {=IFERROR(INDIRECT("'WEEK " & A13 & "'!U183"),0)} -> 0 | I13: =+D13+E13+F13+G13+H13 -> 0
... A27: 26 | B27: {=IFERROR(INDIRECT("'WEEK " & A27 & "'!O183"),0)} -> 0 | C27: {=IFERROR(INDIRECT("'WEEK " & A27 & "'!P183"),0)} -> 0 | D27: =SUM(B27:C27) -> 0 | E27: {=IFERROR(INDIRECT("'WEEK " & A27 & "'!R183"),0)} -> 0 | F27: {=IFERROR(INDIRECT("'WEEK " & A27 & "'!S183"),0)} -> 0 | G27: {=IFERROR(INDIRECT("'WEEK " & A27 & "'!T183"),0)} -> 0 | H27: {=IFERROR(INDIRECT("'WEEK " & A27 & "'!U183"),0)} -> 0 | I27: =+D27+E27+F27+G27+H27 -> 0
A28: 27 | B28: {=IFERROR(INDIRECT("'WEEK " & A28 & "'!O183"),0)} -> 0 | C28: {=IFERROR(INDIRECT("'WEEK " & A28 & "'!P183"),0)} -> 0 | D28: =SUM(B28:C28) -> 0 | E28: {=IFERROR(INDIRECT("'WEEK " & A28 & "'!R183"),0)} -> 0 | F28: {=IFERROR(INDIRECT("'WEEK " & A28 & "'!S183"),0)} -> 0 | G28: {=IFERROR(INDIRECT("'WEEK " & A28 & "'!T183"),0)} -> 0 | H28: {=IFERROR(INDIRECT("'WEEK " & A28 & "'!U183"),0)} -> 0 | I28: =+D28+E28+F28+G28+H28 -> 0 | L28: IL FAUT RECONNECTER LE TABLEAU ET ENSUITE EFFACER CE MESSAGE.
A29: 28 | B29: {=IFERROR(INDIRECT("'WEEK " & A29 & "'!O183"),0)} -> 0 | C29: {=IFERROR(INDIRECT("'WEEK " & A29 & "'!P183"),0)} -> 0 | D29: =SUM(B29:C29) -> 0 | E29: {=IFERROR(INDIRECT("'WEEK " & A29 & "'!R183"),0)} -> 0 | F29: {=IFERROR(INDIRECT("'WEEK " & A29 & "'!S183"),0)} -> 0 | G29: {=IFERROR(INDIRECT("'WEEK " & A29 & "'!T183"),0)} -> 0 | H29: {=IFERROR(INDIRECT("'WEEK " & A29 & "'!U183"),0)} -> 0 | I29: =+D29+E29+F29+G29+H29 -> 0
A30: 29 | B30: {=IFERROR(INDIRECT("'WEEK " & A30 & "'!O183"),0)} -> 0 | C30: {=IFERROR(INDIRECT("'WEEK " & A30 & "'!P183"),0)} -> 0 | D30: =SUM(B30:C30) -> 0 | E30: {=IFERROR(INDIRECT("'WEEK " & A30 & "'!R183"),0)} -> 0 | F30: {=IFERROR(INDIRECT("'WEEK " & A30 & "'!S183"),0)} -> 0 | G30: {=IFERROR(INDIRECT("'WEEK " & A30 & "'!T183"),0)} -> 0 | H30: {=IFERROR(INDIRECT("'WEEK " & A30 & "'!U183"),0)} -> 0 | I30: =+D30+E30+F30+G30+H30 -> 0
A31: 30 | B31: {=IFERROR(INDIRECT("'WEEK " & A31 & "'!O183"),0)} -> 0 | C31: {=IFERROR(INDIRECT("'WEEK " & A31 & "'!P183"),0)} -> 0 | D31: =SUM(B31:C31) -> 0 | E31: {=IFERROR(INDIRECT("'WEEK " & A31 & "'!R183"),0)} -> 0 | F31: {=IFERROR(INDIRECT("'WEEK " & A31 & "'!S183"),0)} -> 0 | G31: {=IFERROR(INDIRECT("'WEEK " & A31 & "'!T183"),0)} -> 0 | H31: {=IFERROR(INDIRECT("'WEEK " & A31 & "'!U183"),0)} -> 0 | I31: =+D31+E31+F31+G31+H31 -> 0
A32: 31 | B32: {=IFERROR(INDIRECT("'WEEK " & A32 & "'!O183"),0)} -> 0 | C32: {=IFERROR(INDIRECT("'WEEK " & A32 & "'!P183"),0)} -> 0 | D32: =SUM(B32:C32) -> 0 | E32: {=IFERROR(INDIRECT("'WEEK " & A32 & "'!R183"),0)} -> 0 | F32: {=IFERROR(INDIRECT("'WEEK " & A32 & "'!S183"),0)} -> 0 | G32: {=IFERROR(INDIRECT("'WEEK " & A32 & "'!T183"),0)} -> 0 | H32: {=IFERROR(INDIRECT("'WEEK " & A32 & "'!U183"),0)} -> 0 | I32: =+D32+E32+F32+G32+H32 -> 0
A33: 32 | B33: {=IFERROR(INDIRECT("'WEEK " & A33 & "'!O183"),0)} -> 0 | C33: {=IFERROR(INDIRECT("'WEEK " & A33 & "'!P183"),0)} -> 0 | D33: =SUM(B33:C33) -> 0 | E33: {=IFERROR(INDIRECT("'WEEK " & A33 & "'!R183"),0)} -> 0 | F33: {=IFERROR(INDIRECT("'WEEK " & A33 & "'!S183"),0)} -> 0 | G33: {=IFERROR(INDIRECT("'WEEK " & A33 & "'!T183"),0)} -> 0 | H33: {=IFERROR(INDIRECT("'WEEK " & A33 & "'!U183"),0)} -> 0 | I33: =+D33+E33+F33+G33+H33 -> 0
A34: 33 | B34: {=IFERROR(INDIRECT("'WEEK " & A34 & "'!O183"),0)} -> 0 | C34: {=IFERROR(INDIRECT("'WEEK " & A34 & "'!P183"),0)} -> 0 | D34: =SUM(B34:C34) -> 0 | E34: {=IFERROR(INDIRECT("'WEEK " & A34 & "'!R183"),0)} -> 0 | F34: {=IFERROR(INDIRECT("'WEEK " & A34 & "'!S183"),0)} -> 0 | G34: {=IFERROR(INDIRECT("'WEEK " & A34 & "'!T183"),0)} -> 0 | H34: {=IFERROR(INDIRECT("'WEEK " & A34 & "'!U183"),0)} -> 0 | I34: =+D34+E34+F34+G34+H34 -> 0
A35: 34 | B35: {=IFERROR(INDIRECT("'WEEK " & A35 & "'!O183"),0)} -> 0 | C35: {=IFERROR(INDIRECT("'WEEK " & A35 & "'!P183"),0)} -> 0 | D35: =SUM(B35:C35) -> 0 | E35: {=IFERROR(INDIRECT("'WEEK " & A35 & "'!R183"),0)} -> 0 | F35: {=IFERROR(INDIRECT("'WEEK " & A35 & "'!S183"),0)} -> 0 | G35: {=IFERROR(INDIRECT("'WEEK " & A35 & "'!T183"),0)} -> 0 | H35: {=IFERROR(INDIRECT("'WEEK " & A35 & "'!U183"),0)} -> 0 | I35: =+D35+E35+F35+G35+H35 -> 0
A36: 35 | B36: {=IFERROR(INDIRECT("'WEEK " & A36 & "'!O183"),0)} -> 0 | C36: {=IFERROR(INDIRECT("'WEEK " & A36 & "'!P183"),0)} -> 0 | D36: =SUM(B36:C36) -> 0 | E36: {=IFERROR(INDIRECT("'WEEK " & A36 & "'!R183"),0)} -> 0 | F36: {=IFERROR(INDIRECT("'WEEK " & A36 & "'!S183"),0)} -> 0 | G36: {=IFERROR(INDIRECT("'WEEK " & A36 & "'!T183"),0)} -> 0 | H36: {=IFERROR(INDIRECT("'WEEK " & A36 & "'!U183"),0)} -> 0 | I36: =+D36+E36+F36+G36+H36 -> 0
A37: 36 | B37: {=IFERROR(INDIRECT("'WEEK " & A37 & "'!O183"),0)} -> 0 | C37: {=IFERROR(INDIRECT("'WEEK " & A37 & "'!P183"),0)} -> 0 | D37: =SUM(B37:C37) -> 0 | E37: {=IFERROR(INDIRECT("'WEEK " & A37 & "'!R183"),0)} -> 0 | F37: {=IFERROR(INDIRECT("'WEEK " & A37 & "'!S183"),0)} -> 0 | G37: {=IFERROR(INDIRECT("'WEEK " & A37 & "'!T183"),0)} -> 0 | H37: {=IFERROR(INDIRECT("'WEEK " & A37 & "'!U183"),0)} -> 0 | I37: =+D37+E37+F37+G37+H37 -> 0
A38: 37 | B38: {=IFERROR(INDIRECT("'WEEK " & A38 & "'!O183"),0)} -> 0 | C38: {=IFERROR(INDIRECT("'WEEK " & A38 & "'!P183"),0)} -> 0 | D38: =SUM(B38:C38) -> 0 | E38: {=IFERROR(INDIRECT("'WEEK " & A38 & "'!R183"),0)} -> 0 | F38: {=IFERROR(INDIRECT("'WEEK " & A38 & "'!S183"),0)} -> 0 | G38: {=IFERROR(INDIRECT("'WEEK " & A38 & "'!T183"),0)} -> 0 | H38: {=IFERROR(INDIRECT("'WEEK " & A38 & "'!U183"),0)} -> 0 | I38: =+D38+E38+F38+G38+H38 -> 0
A39: 38 | B39: {=IFERROR(INDIRECT("'WEEK " & A39 & "'!O183"),0)} -> 0 | C39: {=IFERROR(INDIRECT("'WEEK " & A39 & "'!P183"),0)} -> 0 | D39: =SUM(B39:C39) -> 0 | E39: {=IFERROR(INDIRECT("'WEEK " & A39 & "'!R183"),0)} -> 0 | F39: {=IFERROR(INDIRECT("'WEEK " & A39 & "'!S183"),0)} -> 0 | G39: {=IFERROR(INDIRECT("'WEEK " & A39 & "'!T183"),0)} -> 0 | H39: {=IFERROR(INDIRECT("'WEEK " & A39 & "'!U183"),0)} -> 0 | I39: =+D39+E39+F39+G39+H39 -> 0
A40: 39 | B40: {=IFERROR(INDIRECT("'WEEK " & A40 & "'!O183"),0)} -> 0 | C40: {=IFERROR(INDIRECT("'WEEK " & A40 & "'!P183"),0)} -> 0 | D40: =SUM(B40:C40) -> 0 | E40: {=IFERROR(INDIRECT("'WEEK " & A40 & "'!R183"),0)} -> 0 | F40: {=IFERROR(INDIRECT("'WEEK " & A40 & "'!S183"),0)} -> 0 | G40: {=IFERROR(INDIRECT("'WEEK " & A40 & "'!T183"),0)} -> 0 | H40: {=IFERROR(INDIRECT("'WEEK " & A40 & "'!U183"),0)} -> 0 | I40: =+D40+E40+F40+G40+H40 -> 0
... A54: 53 | B54: {=IFERROR(INDIRECT("'WEEK " & A54 & "'!O183"),0)} -> 0 | C54: {=IFERROR(INDIRECT("'WEEK " & A54 & "'!P183"),0)} -> 0 | D54: =SUM(B54:C54) -> 0 | E54: {=IFERROR(INDIRECT("'WEEK " & A54 & "'!R183"),0)} -> 0 | F54: {=IFERROR(INDIRECT("'WEEK " & A54 & "'!S183"),0)} -> 0 | G54: {=IFERROR(INDIRECT("'WEEK " & A54 & "'!T183"),0)} -> 0 | H54: {=IFERROR(INDIRECT("'WEEK " & A54 & "'!U183"),0)} -> 0 | I54: =+D54+E54+F54+G54+H54 -> 0

Sheet Sites
A1: Index | B1: Actif | C1: Type | D1: Secteur | E1: Technico Commercial | F1: ID site | G1: Site | H1: Client | I1: ID client | J1: Latitude | K1: Longitude | L1: Commentaire | M1: TBD | N1: TBD | O1: TBD | P1: TBD | Q1: TBD | R1: TBD | S1: TBD | T1: TBD | U1: TBD
A2: 1 | B2: Oui | C2: cash | D2: 2 | E2: =_xlfn.XLOOKUP(D2, Secteurs!A:A, Secteurs!C:C, "N/A") -> Félix OVOURA | F2: PNR-00001 | G2: AFRICAINE1 nkouikou nzango | H2: CLIENT 7 | I2: =IF(G2="","",IF(H2="","",_xlfn.XLOOKUP(H2, Clients!D:D, Clients!C:C, "N/A"))) -> REF-00007 | J2: -4.760972 | K2: 11.894225
A3: 2 | B3: Oui | C3: cash | D3: 2 | E3: =_xlfn.XLOOKUP(D3, Secteurs!A:A, Secteurs!C:C, "N/A") -> Félix OVOURA | F3: PNR-00002 | G3: AFRICAINE2 nkouinkou vonvon | H3: CLIENT 1 | I3: =IF(G3="","",IF(H3="","",_xlfn.XLOOKUP(H3, Clients!D:D, Clients!C:C, "N/A"))) -> REF-00001 | J3: -4.7653793 | K3: 11.888867
A4: 3 | B4: Oui | C4: cash | D4: 2 | E4: =_xlfn.XLOOKUP(D4, Secteurs!A:A, Secteurs!C:C, "N/A") -> Félix OVOURA | F4: PNR-00003 | G4: AFRICAINE3 tchialli | H4: CLIENT 3 | I4: =IF(G4="","",IF(H4="","",_xlfn.XLOOKUP(H4, Clients!D:D, Clients!C:C, "N/A"))) -> REF-00003 | J4: -4.740813 | K4: 11.872248
A5: 4 | B5: Oui | C5: cash | D5: 1 | E5: =_xlfn.XLOOKUP(D5, Secteurs!A:A, Secteurs!C:C, "N/A") -> Alexis MABOUNDA | F5: PNR-00004 | G5: AFRICAINE4 la fontaine | I5: =IF(G5="","",IF(H5="","",_xlfn.XLOOKUP(H5, Clients!D:D, Clients!C:C, "N/A"))) | J5: -4.7847704 | K5: 11.890808
A6: 5 | B6: Oui | C6: cash | D6: 1 | E6: =_xlfn.XLOOKUP(D6, Secteurs!A:A, Secteurs!C:C, "N/A") -> Alexis MABOUNDA | F6: PNR-00005 | G6: AFRICAINE5 ngoyo avenue taty loutard | I6: =IF(G6="","",IF(H6="","",_xlfn.XLOOKUP(H6, Clients!D:D, Clients!C:C, "N/A"))) | J6: -4.8459595 | K6: 11.90738
A7: 6 | B7: Oui | C7: cash | D7: 3 | E7: =_xlfn.XLOOKUP(D7, Secteurs!A:A, Secteurs!C:C, "N/A") -> Armel SOKAMBA | F7: PNR-00006 | G7: AFRICAINE6 ngoyo central | I7: =IF(G7="","",IF(H7="","",_xlfn.XLOOKUP(H7, Clients!D:D, Clients!C:C, "N/A"))) | J7: -4.8559791 | K7: 11.913618
A8: 7 | B8: Oui | C8: cash | D8: 2 | E8: =_xlfn.XLOOKUP(D8, Secteurs!A:A, Secteurs!C:C, "N/A") -> Félix OVOURA | F8: PNR-00007 | G8: AFRICAINE7 nzassi | I8: =IF(G8="","",IF(H8="","",_xlfn.XLOOKUP(H8, Clients!D:D, Clients!C:C, "N/A")))
A9: 8 | B9: Oui | C9: cash | D9: 3 | E9: =_xlfn.XLOOKUP(D9, Secteurs!A:A, Secteurs!C:C, "N/A") -> Armel SOKAMBA | F9: PNR-00008 | G9: AL MONA rond point sogolo | I9: =IF(G9="","",IF(H9="","",_xlfn.XLOOKUP(H9, Clients!D:D, Clients!C:C, "N/A"))) | J9: -4.763584 | K9: 11.86124
A10: 9 | B10: Oui | E10: =_xlfn.XLOOKUP(D10, Secteurs!A:A, Secteurs!C:C, "N/A") -> 0 | F10: PNR-00009 | G10: AMOUR DE MPAKA | I10: =IF(G10="","",IF(H10="","",_xlfn.XLOOKUP(H10, Clients!D:D, Clients!C:C, "N/A"))) | J10: -4.8042877 | K10: 11.921242
A11: 10 | B11: Oui | E11: =_xlfn.XLOOKUP(D11, Secteurs!A:A, Secteurs!C:C, "N/A") -> 0 | F11: PNR-00010 | G11: ARC EN CIEL EX LISA ngoyo péage | I11: =IF(G11="","",IF(H11="","",_xlfn.XLOOKUP(H11, Clients!D:D, Clients!C:C, "N/A"))) | J11: -4.885089 | K11: 11.928425
A12: 11 | B12: Oui | C12: cash | D12: 3 | E12: =_xlfn.XLOOKUP(D12, Secteurs!A:A, Secteurs!C:C, "N/A") -> Armel SOKAMBA | F12: PNR-00011 | G12: ARDOSSON 1 | I12: =IF(G12="","",IF(H12="","",_xlfn.XLOOKUP(H12, Clients!D:D, Clients!C:C, "N/A"))) | L12: Il y a combien d'ardosson?
A13: 12 | B13: Oui | C13: cash | D13: 2 | E13: =_xlfn.XLOOKUP(D13, Secteurs!A:A, Secteurs!C:C, "N/A") -> Félix OVOURA | F13: PNR-00012 | G13: ARDOSSON 2 | I13: =IF(G13="","",IF(H13="","",_xlfn.XLOOKUP(H13, Clients!D:D, Clients!C:C, "N/A"))) | L13: Il y a combien d'ardosson?
A14: 13 | B14: Oui | C14: cash | D14: 1 | E14: =_xlfn.XLOOKUP(D14, Secteurs!A:A, Secteurs!C:C, "N/A") -> Alexis MABOUNDA | F14: PNR-00013 | G14: ATAKAHYR mayinga | I14: =IF(G14="","",IF(H14="","",_xlfn.XLOOKUP(H14, Clients!D:D, Clients!C:C, "N/A"))) | J14: -4.8393837 | K14: 11.895826
A15: 14 | B15: Oui | C15: cash | D15: 2 | E15: =_xlfn.XLOOKUP(D15, Secteurs!A:A, Secteurs!C:C, "N/A") -> Félix OVOURA | F15: PNR-00014 | G15: ATAKALKHAYR fouks | I15: =IF(G15="","",IF(H15="","",_xlfn.XLOOKUP(H15, Clients!D:D, Clients!C:C, "N/A"))) | J15: -4.783137 | K15: 11.882978
A16: 15 | B16: Oui | C16: cash | D16: 2 | E16: =_xlfn.XLOOKUP(D16, Secteurs!A:A, Secteurs!C:C, "N/A") -> Félix OVOURA | F16: PNR-00015 | G16: ATAKALKHAYR loandjili | I16: =IF(G16="","",IF(H16="","",_xlfn.XLOOKUP(H16, Clients!D:D, Clients!C:C, "N/A"))) | J16: -4.762534 | K16: 11.873727
A17: 16 | B17: Oui | C17: cash | D17: 2 | E17: =_xlfn.XLOOKUP(D17, Secteurs!A:A, Secteurs!C:C, "N/A") -> Félix OVOURA | F17: PNR-00016 | G17: AYA fond -tié-tié | I17: =IF(G17="","",IF(H17="","",_xlfn.XLOOKUP(H17, Clients!D:D, Clients!C:C, "N/A"))) | J17: -4.8069357 | K17: 11.900482
A18: 17 | B18: Oui | E18: =_xlfn.XLOOKUP(D18, Secteurs!A:A, Secteurs!C:C, "N/A") -> 0 | F18: PNR-00017 | G18: AYOUNE MAKAYABOU | I18: =IF(G18="","",IF(H18="","",_xlfn.XLOOKUP(H18, Clients!D:D, Clients!C:C, "N/A"))) | J18: -4.7570185 | K18: 11.883769
A19: 18 | B19: Oui | C19: crédit | D19: 1 | E19: =_xlfn.XLOOKUP(D19, Secteurs!A:A, Secteurs!C:C, "N/A") -> Alexis MABOUNDA | F19: PNR-00018 | G19: AZALAYE makulungulu | I19: =IF(G19="","",IF(H19="","",_xlfn.XLOOKUP(H19, Clients!D:D, Clients!C:C, "N/A"))) | J19: -4.7677697 | K19: 11.894995
A20: 19 | B20: Oui | C20: cash | D20: 3 | E20: =_xlfn.XLOOKUP(D20, Secteurs!A:A, Secteurs!C:C, "N/A") -> Armel SOKAMBA | F20: PNR-00019 | G20: BA fond tié-tié gare | I20: =IF(G20="","",IF(H20="","",_xlfn.XLOOKUP(H20, Clients!D:D, Clients!C:C, "N/A"))) | J20: -4.8037731 | K20: 11.897428
A21: 20 | B21: Oui | C21: cash | D21: 2 | E21: =_xlfn.XLOOKUP(D21, Secteurs!A:A, Secteurs!C:C, "N/A") -> Félix OVOURA | F21: PNR-00020 | G21: BA fond tié-tié en allant vers voungou | I21: =IF(G21="","",IF(H21="","",_xlfn.XLOOKUP(H21, Clients!D:D, Clients!C:C, "N/A"))) | J21: -4.8020165 | K21: 11.899555
A22: 21 | B22: Oui | C22: cash | D22: 2 | E22: =_xlfn.XLOOKUP(D22, Secteurs!A:A, Secteurs!C:C, "N/A") -> Félix OVOURA | F22: PNR-00021 | G22: BA mpaka dalette | I22: =IF(G22="","",IF(H22="","",_xlfn.XLOOKUP(H22, Clients!D:D, Clients!C:C, "N/A"))) | J22: -4.8240881 | K22: 11.907605
A23: 22 | B23: Oui | C23: cash | D23: 2 | E23: =_xlfn.XLOOKUP(D23, Secteurs!A:A, Secteurs!C:C, "N/A") -> Félix OVOURA | F23: PNR-00022 | G23: BA mpaka marché LEWILIS | I23: =IF(G23="","",IF(H23="","",_xlfn.XLOOKUP(H23, Clients!D:D, Clients!C:C, "N/A"))) | J23: -4.8170914 | K23: 11.911328
A24: 23 | B24: Oui | C24: cash | D24: 3 | E24: =_xlfn.XLOOKUP(D24, Secteurs!A:A, Secteurs!C:C, "N/A") -> Armel SOKAMBA | F24: PNR-00023 | G24: BA mvoumvou immigration | I24: =IF(G24="","",IF(H24="","",_xlfn.XLOOKUP(H24, Clients!D:D, Clients!C:C, "N/A"))) | J24: -4.778628 | K24: 11.867432
A25: 24 | B25: Oui | C25: cash | D25: 3 | E25: =_xlfn.XLOOKUP(D25, Secteurs!A:A, Secteurs!C:C, "N/A") -> Armel SOKAMBA | F25: PNR-00024 | G25: BA ngoyo | I25: =IF(G25="","",IF(H25="","",_xlfn.XLOOKUP(H25, Clients!D:D, Clients!C:C, "N/A"))) | J25: -4.8608653 | K25: 11.981989
A26: 25 | B26: Oui | C26: cash | D26: 2 | E26: =_xlfn.XLOOKUP(D26, Secteurs!A:A, Secteurs!C:C, "N/A") -> Félix OVOURA | F26: PNR-00025 | G26: BA thyster mongo mpoukou | I26: =IF(G26="","",IF(H26="","",_xlfn.XLOOKUP(H26, Clients!D:D, Clients!C:C, "N/A"))) | J26: -4.7495164 | K26: 11.904749
A27: 26 | B27: Oui | E27: =_xlfn.XLOOKUP(D27, Secteurs!A:A, Secteurs!C:C, "N/A") -> 0 | F27: PNR-00026 | G27: BABA.M EX MAKKAH Vindoulou station | I27: =IF(G27="","",IF(H27="","",_xlfn.XLOOKUP(H27, Clients!D:D, Clients!C:C, "N/A"))) | J27: -4.7438044 | K27: 11.909114
A28: 27 | B28: Oui | E28: =_xlfn.XLOOKUP(D28, Secteurs!A:A, Secteurs!C:C, "N/A") -> 0 | F28: PNR-00027 | G28: BABA.M EX MAKKAH marché nkounikou1 | I28: =IF(G28="","",IF(H28="","",_xlfn.XLOOKUP(H28, Clients!D:D, Clients!C:C, "N/A"))) | J28: -4.764176 | K28: 11.884369
A29: 28 | B29: Oui | C29: crédit | D29: 3 | E29: =_xlfn.XLOOKUP(D29, Secteurs!A:A, Secteurs!C:C, "N/A") -> Armel SOKAMBA | F29: PNR-00028 | G29: BAGUETTE D'EXCELLENCE nkouinkou | I29: =IF(G29="","",IF(H29="","",_xlfn.XLOOKUP(H29, Clients!D:D, Clients!C:C, "N/A"))) | J29: -4.7648739 | K29: 11.889282
A30: 29 | B30: Oui | C30: cash | D30: 3 | E30: =_xlfn.XLOOKUP(D30, Secteurs!A:A, Secteurs!C:C, "N/A") -> Armel SOKAMBA | F30: PNR-00029 | G30: BAH ex BMM paka maison blanche | I30: =IF(G30="","",IF(H30="","",_xlfn.XLOOKUP(H30, Clients!D:D, Clients!C:C, "N/A"))) | J30: -4.8140059 | K30: 11.908191
A31: 30 | B31: Oui | C31: cash | D31: 3 | E31: =_xlfn.XLOOKUP(D31, Secteurs!A:A, Secteurs!C:C, "N/A") -> Armel SOKAMBA | F31: PNR-00030 | G31: BAH ex HACEN fond tié-tié | I31: =IF(G31="","",IF(H31="","",_xlfn.XLOOKUP(H31, Clients!D:D, Clients!C:C, "N/A"))) | J31: -4.8022432 | K31: 11.895797
A32: 31 | B32: Oui | C32: cash | D32: 2 | E32: =_xlfn.XLOOKUP(D32, Secteurs!A:A, Secteurs!C:C, "N/A") -> Félix OVOURA | F32: PNR-00031 | G32: BAH ex SASI tié tié massola | I32: =IF(G32="","",IF(H32="","",_xlfn.XLOOKUP(H32, Clients!D:D, Clients!C:C, "N/A"))) | J32: -4.792651 | K32: 11.885542
A33: 32 | B33: Oui | C33: cash | D33: 3 | E33: =_xlfn.XLOOKUP(D33, Secteurs!A:A, Secteurs!C:C, "N/A") -> Armel SOKAMBA | F33: PNR-00032 | G33: BENI EX GORGOL 2 mpaka dalette | I33: =IF(G33="","",IF(H33="","",_xlfn.XLOOKUP(H33, Clients!D:D, Clients!C:C, "N/A"))) | J33: -4.8225801 | K33: 11.904747
A34: 33 | B34: Oui | C34: cash | D34: 1 | E34: =_xlfn.XLOOKUP(D34, Secteurs!A:A, Secteurs!C:C, "N/A") -> Alexis MABOUNDA | F34: PNR-00033 | G34: BICLE | I34: =IF(G34="","",IF(H34="","",_xlfn.XLOOKUP(H34, Clients!D:D, Clients!C:C, "N/A"))) | J34: -4.8447844 | K34: 11.898438
